{"text_format":"1","workbook":"xlsx","n_sheets":7,"sheets":["Critérios","Dados","Propostas","Parâmetros","Pontuação","Ordenada","Posição"],"not_rendered":{"charts":0,"images":1,"macros":1,"external_links":0,"defined_names":1,"comments":0,"pivot_tables":0},"unopened":[],"bounds":{"document_bytes":16777216,"sheet_cells":100000,"rows_first":2000,"rows_last":500,"rows_between":2000,"halvings":0,"cell_chars":16384,"cell_head_chars":4096},"cells_cut":0,"cells_raw":0,"read":"whole","date_system":"1900"}

{"sheet":"Critérios","index":0,"n_rows":35,"n_cols":11,"rows_kept":35,"cut":false,"hidden":false,"merged":[]}
[]
[null,null,"DADOS DE CHAMADAS PÚBLICAS DE PROJETO"]
[]
[null,null,"Distribuidora"]
[]
[null,null,"Chamada Pública"]
[]
[null,null,"Tipologia"]
[]
[null,"Critério","Subcritério","Descrição","Mínimo","Máximo","Escolhido","Pontuação",null,"Uso final","Pontos"]
[null,"A",null,"Relação custo-benefício",30,40,32,null,null,"Iluminação",1]
[null,null,"A1","Relação custo-benefício proporcional",0.75,0.75,0.75,{"$f":"ROUND(G12*$G$11,0)","v":24},null,"Fontes Incentivadas",10]
[null,null,"A2","Relação custo-benefício ordenada",0.25,0.25,0.25,{"$f":"G11-H12","v":8},null,"Ar Comprimido",5]
[null,"B",null,"Peso do investimento em equipamentos no custo total",5,10,5,{"$f":"G14","v":5},null,"Bombas",4]
[null,"C",null,"Impacto direto dos benefícios energéticos",10,20,13,null,null,"Bombas de vácuo",3]
[null,null,"C1","Impacto direto na economia de energia",0.5,0.7,0.6,{"$f":"ROUND(G16*G15,0)","v":8},null,"Cond. Ambiental",4]
[null,null,"C2","Impacto direto na redução de demanda na ponta",0.3,0.5,0.4,{"$f":"G15-H16","v":5},null,"Equip. hospitalar",5]
[null,"D",null,"Qualidade do projeto",8,15,12,null,null,"Motores",8]
[null,null,"D1","Qualidade global do projeto",0.2,0.3,0.25,{"$f":"ROUND(G19*$G$18,0)","v":3},null,"Outros",7]
[null,null,"D2","Bases da proposta",0.2,0.3,0.2,{"$f":"ROUND(G20*$G$18,0)","v":2},null,"Refrigeração",6]
[null,null,"D3","Consistência do cronograma apresentado",0.2,0.3,0.25,3,null,"Sistemas motrizes",5]
[null,null,"D4","Estratégia de M&V",0.3,0.4,0.3,{"$f":"G18-SUM(H19:H21)","v":4},null,"Sopradores de Ar",4]
[null,"E",null,"Capacidade para superar barreiras de mercado e efeito multiplicador",0,5,3,null,null,"Aquecimento Solar",8]
[null,null,"E1","Eficácia na quebra de barreiras de mercado",0,1,0.4,{"$f":"ROUND(G24*$G$23,0)","v":1}]
[null,null,"E2","Induz comportamentos de uso eficiente da energia",0,1,0.5,{"$f":"ROUND(G25*$G$23,0)","v":2}]
[null,null,"E3","Destina-se a segmentos com barreiras mais relevantes",0,1,0.1,{"$f":"G23-SUM(H24:H25)","v":0}]
[null,"F",null,"Experiência em projetos semelhantes",10,20,15]
[null,null,"F1","Experiência nos usos finais propostos",0.3,0.4,0.4,{"$f":"ROUND(G28*$G$27,0)","v":6}]
[null,null,"F2","Experiência no PEE",0.2,0.3,0.2,{"$f":"ROUND(G29*$G$27,0)","v":3}]
[null,null,"F3","Certificação CMVP da EVO",0.2,0.3,0.2,{"$f":"G27-SUM(H28:H29,H31)","v":3}]
[null,null,"F4","Outras certificações pertinentes",0.2,0.3,0.2,3]
[null,"G",null,"Contrapartida",10,20,10,{"$f":"G32","v":10}]
[null,"H",null,"Diversidade e priorização de usos finais",5,10,5,{"$f":"G33","v":5}]
[null,"I",null,"Ações educacionais, divulgação e gestão",5,10,5,{"$f":"100-SUM(H11:H33)","v":5}]
[null,null,null,null,null,null,null,{"$f":"SUM(H11:H34)","v":100}]

{"sheet":"Dados","index":1,"n_rows":21,"n_cols":4,"rows_kept":21,"cut":false,"hidden":false,"merged":[]}
[]
[]
[null,null,"DADOS QUALITATIVOS DAS PROPOSTAS"]
[]
[]
[]
[]
[]
[]
[]
["Proposta","Uso final 1","Uso final 2","Uso final 3"]
["P1","Iluminação"]
["P2","Iluminação","Cond. Ambiental"]
["P3","Iluminação"]
["P4","Iluminação"]
["P5","Iluminação"]
["P6","Iluminação"]
["P7","Iluminação"]
["P8","Cond. Ambiental","Sistemas motrizes"]
["P9","Bombas","Sistemas motrizes"]
["P10","Iluminação"]

{"sheet":"Propostas","index":2,"n_rows":21,"n_cols":24,"rows_kept":21,"cut":false,"hidden":false,"merged":[]}
[]
[]
[null,null,null,"DADOS QUANTITATIVOS DAS PROPOSTAS"]
[]
[]
[]
[]
[]
[]
[]
["Proposta","Investimento total\n[mil R$]","Investimento PEE\n[mil R$]","Benefício PEE\n[mil R$]","Custo fixo\n[mil R$]","Investimento em equipamentos\n[mil R$]","Energia economizada\n[MWh/ano]","Redução na ponta\n[kW]","Qualidade global\n[%]","Bases da proposta\n[%]","Cronograma\n[%]","Estratégia de M&V\n[%]","Quebra de barreiras\n[%]","Induz comportamentos eficientes\n[%]","Segmentos com barreiras\n[%]","Experiência nos usos finais propostos\n[%]","Experiência no PEE\n[%]","Certificação CMVP da EVO\n[%]","Outras certificações pertinentes\n[%]","Uso final 1\n[mil R$]","Uso final 2\n[mil R$]","Uso final 3\n[mil R$]","Investimento em treinamento\n[mil R$]","Investimento em SGE\n[mil R$]"]
["P1",939.06259,939.06259,1703.3463475325232,18.78125,701.46011000000021,463.58,162.26,0.75,0.75,0.75,0.75,0.75,0.5,0.75,1,1,1,1,939.06258673469404,"","",2.5,1.25]
["P2",1052.35706,834.55706000000009,1486.096837334527,29.106341224489796,573.95896999999991,691.29,179.79,0.75,0.75,0.75,0.75,0.75,0.5,0.75,1,1,1,1,773.15309662022742,58.21896460426219,null,17.2,8.6]
["P3",201.22857000000002,193.70217000000002,360.26287419410028,4.024571428571428,148.10559999999998,224.51,24.44,0.5,0.75,0.75,0.75,0.75,0.5,0.75,1,1,1,1,193.7021714285714,"","",2.5,1.25]
["P4",620.96755000000007,545.85755000000006,867.66637646733159,20.478551020408165,444.47,349.57,79.92,1,0.75,0.75,0.75,0.75,0.75,0.75,1,1,1,1,545.85755102040821,"","",5,2.5]
["P5",1146.4787699999999,947.92376999999999,1312.4940116273929,53.361575306122454,794.28619000000003,448.49,150.46,0.75,0.75,0.75,0.75,0.75,0.75,0.75,1,1,1,1,947.9237653061225,"","",10.92,5.46]
["P6",2217.0040800000002,2217.0040800000002,3495.3157503119064,52.399281632653071,1662.96,1102.51,121.61,1,0.75,0.75,0.75,0.75,1,1,1,1,1,1,2217.0040816326532,"","",6.32,3.16]
["P7",1705.3316299999999,1355.3316299999999,1935.898060767775,34.106632653061226,1241.2,601.23,174.02,0.75,0.75,0.75,0.75,0.75,0.5,0.75,1,1,1,1,1355.3316326530612,"","",7.5,3.75]
["P8",652.24929000000009,623.35928999999999,929.71122826802718,21.725785714285713,452.55,372.44,79.540000000000006,1,0.75,0.75,0.75,0.75,0.75,0.5,1,1,1,1,340.37581696498893,282.98346874929678,"",10.92,5.46]
["P9",484.56644,444.56644,730.47800338003628,17.649728775510205,309.06921,263.27,61.09,1,0.75,0.75,0.75,0.75,0.75,0.5,1,1,1,1,353.42448357330278,91.141955202207413,"",10.92,5.46]
["P10",192.88801000000001,192.88801000000001,265.9579969242829,11.967360204081633,130.36566999999999,83.74,31.68,0.75,0.75,0.75,0.75,0.75,0.75,0.75,1,1,1,1,192.88801020408164,"","",2.2000000000000002,1.1000000000000001]

{"sheet":"Parâmetros","index":3,"n_rows":115,"n_cols":17,"rows_kept":115,"cut":false,"hidden":false,"merged":[[0,8,0,15],[1,8,1,15]]}
[null,null,"A1","A2","B","C1","C2","G","H",null,null,null,null,null,null,null,"I"]
[null,null,"RCB proporcional","RCB ordenada","Equipamentos","Economia de  energia","Redução de demanda na ponta","Contrapartida","Diversidade e priorização de usos finais",null,null,null,null,null,null,null,"Ações educacionais"]
[null,"Cálculo dos parâmetros","RCB","Posição RCB","IK","IE","ID","PI","Média uso final","Ordem\nUF1","Ordem\nUF2","Ordem\nUF3","DUF1","DUF2","DUF3","DUF","PT"]
[null,"Min/máx",{"$f":"MIN(C5:C200)","v":0.53766897417144999},null,{"$f":"MAX(E5:E200)","v":0.91579062461635319},{"$f":"MAX(Propostas!G12:G221)","v":1102.51},{"$f":"MAX(Propostas!H12:H221)","v":179.79},{"$f":"MAX(H5:H200)","v":0.20696397475586845},"mil R$",null,null,null,null,null,null,{"$f":"MAX(P5:P200)","v":12.884960622849238},{"$f":"MAX(Q5:Q200)","v":3.3803414037505364E-2}]
[null,{"$f":"IF(ISTEXT(Propostas!A12),Propostas!A12,\"\")","v":"P1"},{"$f":"IFERROR(Propostas!C12/Propostas!D12,\"\")","v":0.55130454904860138},{"$f":"IF($C5=\"\",\"\",RANK(C5,$C$5:$C$200,0))","v":9},{"$f":"IF($C5=\"\",\"\",Propostas!F12/Propostas!C12)","v":0.74697908048919315},{"$f":"IF($C5=\"\",\"\",Propostas!G12/Parâmetros!$F$4)","v":0.42047691177404284},{"$f":"IF($C5=\"\",\"\",Propostas!H12/Parâmetros!$G$4)","v":0.90249735802881137},{"$f":"IF($C5=\"\",\"\",MIN(1,(Propostas!B12-Propostas!C12)/Propostas!B12))","v":0},{"$f":"IF($C5=\"\",\"\",AVERAGE(Propostas!T12:V12))","v":939.06258673469404},{"$f":"IF(Propostas!T12=\"\",\"\",_xlfn.RANK.EQ(Propostas!T12,Propostas!$T12:$V12,1))","v":1},{"$f":"IF(Propostas!U12=\"\",\"\",_xlfn.RANK.EQ(Propostas!U12,Propostas!$T12:$V12,1))","v":""},{"$f":"IF(Propostas!V12=\"\",\"\",_xlfn.RANK.EQ(Propostas!V12,Propostas!$T12:$V12,1))","v":""},{"$f":"IF(Propostas!T12=\"\",\"\",Parâmetros!J5*(1+(Propostas!T12-Parâmetros!$I5)/SUM(Propostas!$T12:$V12))*VLOOKUP(Dados!B12,Uso_final[],2,0))","v":1},{"$f":"IF(Propostas!U12=\"\",\"\",Parâmetros!K5*(1+(Propostas!U12-Parâmetros!$I5)/SUM(Propostas!$T12:$V12))*VLOOKUP(Dados!C12,Uso_final[],2,0))","v":""},{"$f":"IF(Propostas!V12=\"\",\"\",Parâmetros!L5*(1+(Propostas!V12-Parâmetros!$I5)/SUM(Propostas!$T12:$V12))*VLOOKUP(Dados!D12,Uso_final[],2,0))","v":""},{"$f":"IF(C5=\"\",\"\",SUM(M5:O5)-1)","v":0},{"$f":"IF($C5=\"\",\"\",MIN(1,(Propostas!W12+Propostas!X12)/Propostas!B12))","v":3.9933440432335827E-3}]
[null,{"$f":"IF(ISTEXT(Propostas!A13),Propostas!A13,\"\")","v":"P2"},{"$f":"IFERROR(Propostas!C13/Propostas!D13,\"\")","v":0.5615764996155076},{"$f":"IF($C6=\"\",\"\",RANK(C6,$C$5:$C$200,0))","v":8},{"$f":"IF($C6=\"\",\"\",Propostas!F13/Propostas!C13)","v":0.68774083583931322},{"$f":"IF($C6=\"\",\"\",Propostas!G13/Parâmetros!$F$4)","v":0.62701472095491195},{"$f":"IF($C6=\"\",\"\",Propostas!H13/Parâmetros!$G$4)","v":1},{"$f":"IF($C6=\"\",\"\",MIN(1,(Propostas!B13-Propostas!C13)/Propostas!B13))","v":0.20696397475586845},{"$f":"IF($C6=\"\",\"\",AVERAGE(Propostas!T13:V13))","v":415.68603061224479},{"$f":"IF(Propostas!T13=\"\",\"\",_xlfn.RANK.EQ(Propostas!T13,Propostas!$T13:$V13,1))","v":2},{"$f":"IF(Propostas!U13=\"\",\"\",_xlfn.RANK.EQ(Propostas!U13,Propostas!$T13:$V13,1))","v":1},{"$f":"IF(Propostas!V13=\"\",\"\",_xlfn.RANK.EQ(Propostas!V13,Propostas!$T13:$V13,1))","v":""},{"$f":"IF(Propostas!T13=\"\",\"\",Parâmetros!J6*(1+(Propostas!T13-Parâmetros!$I6)/SUM(Propostas!$T13:$V13))*VLOOKUP(Dados!B13,Uso_final[],2,0))","v":2.8599448614654812},{"$f":"IF(Propostas!U13=\"\",\"\",Parâmetros!K6*(1+(Propostas!U13-Parâmetros!$I6)/SUM(Propostas!$T13:$V13))*VLOOKUP(Dados!C13,Uso_final[],2,0))","v":2.2801102770690376},{"$f":"IF(Propostas!V13=\"\",\"\",Parâmetros!L6*(1+(Propostas!V13-Parâmetros!$I6)/SUM(Propostas!$T13:$V13))*VLOOKUP(Dados!D13,Uso_final[],2,0))","v":""},4.1400551385345192,{"$f":"IF($C6=\"\",\"\",MIN(1,(Propostas!W13+Propostas!X13)/Propostas!B13))","v":2.4516393703863208E-2}]
[null,{"$f":"IF(ISTEXT(Propostas!A14),Propostas!A14,\"\")","v":"P3"},{"$f":"IFERROR(Propostas!C14/Propostas!D14,\"\")","v":0.53766897417144999},10,{"$f":"IF($C7=\"\",\"\",Propostas!F14/Propostas!C14)","v":0.76460475378257231},{"$f":"IF($C7=\"\",\"\",Propostas!G14/Parâmetros!$F$4)","v":0.20363534117604376},{"$f":"IF($C7=\"\",\"\",Propostas!H14/Parâmetros!$G$4)","v":0.1359363702096891},{"$f":"IF($C7=\"\",\"\",MIN(1,(Propostas!B14-Propostas!C14)/Propostas!B14))","v":3.7402243627731362E-2},{"$f":"IF($C7=\"\",\"\",AVERAGE(Propostas!T14:V14))","v":193.7021714285714},{"$f":"IF(Propostas!T14=\"\",\"\",_xlfn.RANK.EQ(Propostas!T14,Propostas!$T14:$V14,1))","v":1},{"$f":"IF(Propostas!U14=\"\",\"\",_xlfn.RANK.EQ(Propostas!U14,Propostas!$T14:$V14,1))","v":""},{"$f":"IF(Propostas!V14=\"\",\"\",_xlfn.RANK.EQ(Propostas!V14,Propostas!$T14:$V14,1))","v":""},{"$f":"IF(Propostas!T14=\"\",\"\",Parâmetros!J7*(1+(Propostas!T14-Parâmetros!$I7)/SUM(Propostas!$T14:$V14))*VLOOKUP(Dados!B14,Uso_final[],2,0))","v":1},{"$f":"IF(Propostas!U14=\"\",\"\",Parâmetros!K7*(1+(Propostas!U14-Parâmetros!$I7)/SUM(Propostas!$T14:$V14))*VLOOKUP(Dados!C14,Uso_final[],2,0))","v":""},{"$f":"IF(Propostas!V14=\"\",\"\",Parâmetros!L7*(1+(Propostas!V14-Parâmetros!$I7)/SUM(Propostas!$T14:$V14))*VLOOKUP(Dados!D14,Uso_final[],2,0))","v":""},0,{"$f":"IF($C7=\"\",\"\",MIN(1,(Propostas!W14+Propostas!X14)/Propostas!B14))","v":1.8635524766686954E-2}]
[null,{"$f":"IF(ISTEXT(Propostas!A15),Propostas!A15,\"\")","v":"P4"},{"$f":"IFERROR(Propostas!C15/Propostas!D15,\"\")","v":0.62910994917474716},6,{"$f":"IF($C8=\"\",\"\",Propostas!F15/Propostas!C15)","v":0.81426005740875063},{"$f":"IF($C8=\"\",\"\",Propostas!G15/Parâmetros!$F$4)","v":0.31706741888962459},{"$f":"IF($C8=\"\",\"\",Propostas!H15/Parâmetros!$G$4)","v":0.44451860503921242},{"$f":"IF($C8=\"\",\"\",MIN(1,(Propostas!B15-Propostas!C15)/Propostas!B15))","v":0.1209564010228876},{"$f":"IF($C8=\"\",\"\",AVERAGE(Propostas!T15:V15))","v":545.85755102040821},{"$f":"IF(Propostas!T15=\"\",\"\",_xlfn.RANK.EQ(Propostas!T15,Propostas!$T15:$V15,1))","v":1},{"$f":"IF(Propostas!U15=\"\",\"\",_xlfn.RANK.EQ(Propostas!U15,Propostas!$T15:$V15,1))","v":""},{"$f":"IF(Propostas!V15=\"\",\"\",_xlfn.RANK.EQ(Propostas!V15,Propostas!$T15:$V15,1))","v":""},{"$f":"IF(Propostas!T15=\"\",\"\",Parâmetros!J8*(1+(Propostas!T15-Parâmetros!$I8)/SUM(Propostas!$T15:$V15))*VLOOKUP(Dados!B15,Uso_final[],2,0))","v":1},{"$f":"IF(Propostas!U15=\"\",\"\",Parâmetros!K8*(1+(Propostas!U15-Parâmetros!$I8)/SUM(Propostas!$T15:$V15))*VLOOKUP(Dados!C15,Uso_final[],2,0))","v":""},{"$f":"IF(Propostas!V15=\"\",\"\",Parâmetros!L8*(1+(Propostas!V15-Parâmetros!$I8)/SUM(Propostas!$T15:$V15))*VLOOKUP(Dados!D15,Uso_final[],2,0))","v":""},0,{"$f":"IF($C8=\"\",\"\",MIN(1,(Propostas!W15+Propostas!X15)/Propostas!B15))","v":1.2077925811099146E-2}]
[null,{"$f":"IF(ISTEXT(Propostas!A16),Propostas!A16,\"\")","v":"P5"},{"$f":"IFERROR(Propostas!C16/Propostas!D16,\"\")","v":0.72223092951460144},2,{"$f":"IF($C9=\"\",\"\",Propostas!F16/Propostas!C16)","v":0.83792200927718063},{"$f":"IF($C9=\"\",\"\",Propostas!G16/Parâmetros!$F$4)","v":0.40678996108878834},{"$f":"IF($C9=\"\",\"\",Propostas!H16/Parâmetros!$G$4)","v":0.83686523165915794},{"$f":"IF($C9=\"\",\"\",MIN(1,(Propostas!B16-Propostas!C16)/Propostas!B16))","v":0.17318680920711682},{"$f":"IF($C9=\"\",\"\",AVERAGE(Propostas!T16:V16))","v":947.9237653061225},{"$f":"IF(Propostas!T16=\"\",\"\",_xlfn.RANK.EQ(Propostas!T16,Propostas!$T16:$V16,1))","v":1},{"$f":"IF(Propostas!U16=\"\",\"\",_xlfn.RANK.EQ(Propostas!U16,Propostas!$T16:$V16,1))","v":""},{"$f":"IF(Propostas!V16=\"\",\"\",_xlfn.RANK.EQ(Propostas!V16,Propostas!$T16:$V16,1))","v":""},{"$f":"IF(Propostas!T16=\"\",\"\",Parâmetros!J9*(1+(Propostas!T16-Parâmetros!$I9)/SUM(Propostas!$T16:$V16))*VLOOKUP(Dados!B16,Uso_final[],2,0))","v":1},{"$f":"IF(Propostas!U16=\"\",\"\",Parâmetros!K9*(1+(Propostas!U16-Parâmetros!$I9)/SUM(Propostas!$T16:$V16))*VLOOKUP(Dados!C16,Uso_final[],2,0))","v":""},{"$f":"IF(Propostas!V16=\"\",\"\",Parâmetros!L9*(1+(Propostas!V16-Parâmetros!$I9)/SUM(Propostas!$T16:$V16))*VLOOKUP(Dados!D16,Uso_final[],2,0))","v":""},0,{"$f":"IF($C9=\"\",\"\",MIN(1,(Propostas!W16+Propostas!X16)/Propostas!B16))","v":1.42872248737759E-2}]
[null,{"$f":"IF(ISTEXT(Propostas!A17),Propostas!A17,\"\")","v":"P6"},{"$f":"IFERROR(Propostas!C17/Propostas!D17,\"\")","v":0.63427862841923921},5,{"$f":"IF($C10=\"\",\"\",Propostas!F17/Propostas!C17)","v":0.75009334218275314},{"$f":"IF($C10=\"\",\"\",Propostas!G17/Parâmetros!$F$4)","v":1},{"$f":"IF($C10=\"\",\"\",Propostas!H17/Parâmetros!$G$4)","v":0.67640024472996274},{"$f":"IF($C10=\"\",\"\",MIN(1,(Propostas!B17-Propostas!C17)/Propostas!B17))","v":0},{"$f":"IF($C10=\"\",\"\",AVERAGE(Propostas!T17:V17))","v":2217.0040816326532},{"$f":"IF(Propostas!T17=\"\",\"\",_xlfn.RANK.EQ(Propostas!T17,Propostas!$T17:$V17,1))","v":1},{"$f":"IF(Propostas!U17=\"\",\"\",_xlfn.RANK.EQ(Propostas!U17,Propostas!$T17:$V17,1))","v":""},{"$f":"IF(Propostas!V17=\"\",\"\",_xlfn.RANK.EQ(Propostas!V17,Propostas!$T17:$V17,1))","v":""},{"$f":"IF(Propostas!T17=\"\",\"\",Parâmetros!J10*(1+(Propostas!T17-Parâmetros!$I10)/SUM(Propostas!$T17:$V17))*VLOOKUP(Dados!B17,Uso_final[],2,0))","v":1},{"$f":"IF(Propostas!U17=\"\",\"\",Parâmetros!K10*(1+(Propostas!U17-Parâmetros!$I10)/SUM(Propostas!$T17:$V17))*VLOOKUP(Dados!C17,Uso_final[],2,0))","v":""},{"$f":"IF(Propostas!V17=\"\",\"\",Parâmetros!L10*(1+(Propostas!V17-Parâmetros!$I10)/SUM(Propostas!$T17:$V17))*VLOOKUP(Dados!D17,Uso_final[],2,0))","v":""},0,{"$f":"IF($C10=\"\",\"\",MIN(1,(Propostas!W17+Propostas!X17)/Propostas!B17))","v":4.2760408451751695E-3}]
[null,{"$f":"IF(ISTEXT(Propostas!A18),Propostas!A18,\"\")","v":"P7"},{"$f":"IFERROR(Propostas!C18/Propostas!D18,\"\")","v":0.70010485441701253},3,{"$f":"IF($C11=\"\",\"\",Propostas!F18/Propostas!C18)","v":0.91579062461635319},{"$f":"IF($C11=\"\",\"\",Propostas!G18/Parâmetros!$F$4)","v":0.54532838704410846},{"$f":"IF($C11=\"\",\"\",Propostas!H18/Parâmetros!$G$4)","v":0.96790700261416107},{"$f":"IF($C11=\"\",\"\",MIN(1,(Propostas!B18-Propostas!C18)/Propostas!B18))","v":0.20523867255074604},{"$f":"IF($C11=\"\",\"\",AVERAGE(Propostas!T18:V18))","v":1355.3316326530612},{"$f":"IF(Propostas!T18=\"\",\"\",_xlfn.RANK.EQ(Propostas!T18,Propostas!$T18:$V18,1))","v":1},{"$f":"IF(Propostas!U18=\"\",\"\",_xlfn.RANK.EQ(Propostas!U18,Propostas!$T18:$V18,1))","v":""},{"$f":"IF(Propostas!V18=\"\",\"\",_xlfn.RANK.EQ(Propostas!V18,Propostas!$T18:$V18,1))","v":""},{"$f":"IF(Propostas!T18=\"\",\"\",Parâmetros!J11*(1+(Propostas!T18-Parâmetros!$I11)/SUM(Propostas!$T18:$V18))*VLOOKUP(Dados!B18,Uso_final[],2,0))","v":1},{"$f":"IF(Propostas!U18=\"\",\"\",Parâmetros!K11*(1+(Propostas!U18-Parâmetros!$I11)/SUM(Propostas!$T18:$V18))*VLOOKUP(Dados!C18,Uso_final[],2,0))","v":""},{"$f":"IF(Propostas!V18=\"\",\"\",Parâmetros!L11*(1+(Propostas!V18-Parâmetros!$I11)/SUM(Propostas!$T18:$V18))*VLOOKUP(Dados!D18,Uso_final[],2,0))","v":""},0,{"$f":"IF($C11=\"\",\"\",MIN(1,(Propostas!W18+Propostas!X18)/Propostas!B18))","v":6.5969573319882655E-3}]
[null,{"$f":"IF(ISTEXT(Propostas!A19),Propostas!A19,\"\")","v":"P8"},{"$f":"IFERROR(Propostas!C19/Propostas!D19,\"\")","v":0.67048699751778329},4,{"$f":"IF($C12=\"\",\"\",Propostas!F19/Propostas!C19)","v":0.72598581148922958},{"$f":"IF($C12=\"\",\"\",Propostas!G19/Parâmetros!$F$4)","v":0.33781099491161076},{"$f":"IF($C12=\"\",\"\",Propostas!H19/Parâmetros!$G$4)","v":0.44240502808832532},{"$f":"IF($C12=\"\",\"\",MIN(1,(Propostas!B19-Propostas!C19)/Propostas!B19))","v":4.4292880717432585E-2},{"$f":"IF($C12=\"\",\"\",AVERAGE(Propostas!T19:V19))","v":311.67964285714288},{"$f":"IF(Propostas!T19=\"\",\"\",_xlfn.RANK.EQ(Propostas!T19,Propostas!$T19:$V19,1))","v":2},{"$f":"IF(Propostas!U19=\"\",\"\",_xlfn.RANK.EQ(Propostas!U19,Propostas!$T19:$V19,1))","v":1},{"$f":"IF(Propostas!V19=\"\",\"\",_xlfn.RANK.EQ(Propostas!V19,Propostas!$T19:$V19,1))","v":""},{"$f":"IF(Propostas!T19=\"\",\"\",Parâmetros!J12*(1+(Propostas!T19-Parâmetros!$I12)/SUM(Propostas!$T19:$V19))*VLOOKUP(Dados!B19,Uso_final[],2,0))","v":8.3682778104439599},{"$f":"IF(Propostas!U19=\"\",\"\",Parâmetros!K12*(1+(Propostas!U19-Parâmetros!$I12)/SUM(Propostas!$T19:$V19))*VLOOKUP(Dados!C19,Uso_final[],2,0))","v":4.7698263684725237},{"$f":"IF(Propostas!V19=\"\",\"\",Parâmetros!L12*(1+(Propostas!V19-Parâmetros!$I12)/SUM(Propostas!$T19:$V19))*VLOOKUP(Dados!D19,Uso_final[],2,0))","v":""},12.138104178916484,{"$f":"IF($C12=\"\",\"\",MIN(1,(Propostas!W19+Propostas!X19)/Propostas!B19))","v":2.5113097478419635E-2}]
[null,{"$f":"IF(ISTEXT(Propostas!A20),Propostas!A20,\"\")","v":"P9"},{"$f":"IFERROR(Propostas!C20/Propostas!D20,\"\")","v":0.60859661474119875},7,{"$f":"IF($C13=\"\",\"\",Propostas!F20/Propostas!C20)","v":0.69521489296403027},{"$f":"IF($C13=\"\",\"\",Propostas!G20/Parâmetros!$F$4)","v":0.23879148488449084},{"$f":"IF($C13=\"\",\"\",Propostas!H20/Parâmetros!$G$4)","v":0.33978530507814675},{"$f":"IF($C13=\"\",\"\",MIN(1,(Propostas!B20-Propostas!C20)/Propostas!B20))","v":8.2548019627607716E-2},{"$f":"IF($C13=\"\",\"\",AVERAGE(Propostas!T20:V20))","v":222.28321938775508},{"$f":"IF(Propostas!T20=\"\",\"\",_xlfn.RANK.EQ(Propostas!T20,Propostas!$T20:$V20,1))","v":2},{"$f":"IF(Propostas!U20=\"\",\"\",_xlfn.RANK.EQ(Propostas!U20,Propostas!$T20:$V20,1))","v":1},{"$f":"IF(Propostas!V20=\"\",\"\",_xlfn.RANK.EQ(Propostas!V20,Propostas!$T20:$V20,1))","v":""},{"$f":"IF(Propostas!T20=\"\",\"\",Parâmetros!J13*(1+(Propostas!T20-Parâmetros!$I13)/SUM(Propostas!$T20:$V20))*VLOOKUP(Dados!B20,Uso_final[],2,0))","v":10.359894994264636},{"$f":"IF(Propostas!U20=\"\",\"\",Parâmetros!K13*(1+(Propostas!U20-Parâmetros!$I13)/SUM(Propostas!$T20:$V20))*VLOOKUP(Dados!C20,Uso_final[],2,0))","v":3.5250656285846036},{"$f":"IF(Propostas!V20=\"\",\"\",Parâmetros!L13*(1+(Propostas!V20-Parâmetros!$I13)/SUM(Propostas!$T20:$V20))*VLOOKUP(Dados!D20,Uso_final[],2,0))","v":""},12.884960622849238,{"$f":"IF($C13=\"\",\"\",MIN(1,(Propostas!W20+Propostas!X20)/Propostas!B20))","v":3.3803414037505364E-2}]
[null,{"$f":"IF(ISTEXT(Propostas!A21),Propostas!A21,\"\")","v":"P10"},{"$f":"IFERROR(Propostas!C21/Propostas!D21,\"\")","v":0.72525741745195349},1,{"$f":"IF($C14=\"\",\"\",Propostas!F21/Propostas!C21)","v":0.67586196778120111},{"$f":"IF($C14=\"\",\"\",Propostas!G21/Parâmetros!$F$4)","v":7.5953959601273449E-2},{"$f":"IF($C14=\"\",\"\",Propostas!H21/Parâmetros!$G$4)","v":0.17620557316869681},{"$f":"IF($C14=\"\",\"\",MIN(1,(Propostas!B21-Propostas!C21)/Propostas!B21))","v":0},{"$f":"IF($C14=\"\",\"\",AVERAGE(Propostas!T21:V21))","v":192.88801020408164},{"$f":"IF(Propostas!T21=\"\",\"\",_xlfn.RANK.EQ(Propostas!T21,Propostas!$T21:$V21,1))","v":1},{"$f":"IF(Propostas!U21=\"\",\"\",_xlfn.RANK.EQ(Propostas!U21,Propostas!$T21:$V21,1))","v":""},{"$f":"IF(Propostas!V21=\"\",\"\",_xlfn.RANK.EQ(Propostas!V21,Propostas!$T21:$V21,1))","v":""},{"$f":"IF(Propostas!T21=\"\",\"\",Parâmetros!J14*(1+(Propostas!T21-Parâmetros!$I14)/SUM(Propostas!$T21:$V21))*VLOOKUP(Dados!B21,Uso_final[],2,0))","v":1},{"$f":"IF(Propostas!U21=\"\",\"\",Parâmetros!K14*(1+(Propostas!U21-Parâmetros!$I14)/SUM(Propostas!$T21:$V21))*VLOOKUP(Dados!C21,Uso_final[],2,0))","v":""},{"$f":"IF(Propostas!V21=\"\",\"\",Parâmetros!L14*(1+(Propostas!V21-Parâmetros!$I14)/SUM(Propostas!$T21:$V21))*VLOOKUP(Dados!D21,Uso_final[],2,0))","v":""},0,{"$f":"IF($C14=\"\",\"\",MIN(1,(Propostas!W21+Propostas!X21)/Propostas!B21))","v":1.7108372884348799E-2}]
[null,{"$f":"IF(ISTEXT(Propostas!A22),Propostas!A22,\"\")","v":""},{"$f":"IFERROR(Propostas!C22/Propostas!D22,\"\")","v":""},"",{"$f":"IF($C15=\"\",\"\",Propostas!F22/Propostas!C22)","v":""},{"$f":"IF($C15=\"\",\"\",Propostas!G22/Parâmetros!$F$4)","v":""},{"$f":"IF($C15=\"\",\"\",Propostas!H22/Parâmetros!$G$4)","v":""},{"$f":"IF($C15=\"\",\"\",MIN(1,(Propostas!B22-Propostas!C22)/Propostas!B22))","v":""},{"$f":"IF($C15=\"\",\"\",AVERAGE(Propostas!T22:V22))","v":""},{"$f":"IF(Propostas!T22=\"\",\"\",_xlfn.RANK.EQ(Propostas!T22,Propostas!$T22:$V22,1))","v":""},{"$f":"IF(Propostas!U22=\"\",\"\",_xlfn.RANK.EQ(Propostas!U22,Propostas!$T22:$V22,1))","v":""},{"$f":"IF(Propostas!V22=\"\",\"\",_xlfn.RANK.EQ(Propostas!V22,Propostas!$T22:$V22,1))","v":""},{"$f":"IF(Propostas!T22=\"\",\"\",Parâmetros!J15*(1+(Propostas!T22-Parâmetros!$I15)/SUM(Propostas!$T22:$V22))*VLOOKUP(Dados!B22,Uso_final[],2,0))","v":""},{"$f":"IF(Propostas!U22=\"\",\"\",Parâmetros!K15*(1+(Propostas!U22-Parâmetros!$I15)/SUM(Propostas!$T22:$V22))*VLOOKUP(Dados!C22,Uso_final[],2,0))","v":""},{"$f":"IF(Propostas!V22=\"\",\"\",Parâmetros!L15*(1+(Propostas!V22-Parâmetros!$I15)/SUM(Propostas!$T22:$V22))*VLOOKUP(Dados!D22,Uso_final[],2,0))","v":""},"",{"$f":"IF($C15=\"\",\"\",MIN(1,(Propostas!W22+Propostas!X22)/Propostas!B22))","v":""}]
[null,{"$f":"IF(ISTEXT(Propostas!A23),Propostas!A23,\"\")","v":""},{"$f":"IFERROR(Propostas!C23/Propostas!D23,\"\")","v":""},"",{"$f":"IF($C16=\"\",\"\",Propostas!F23/Propostas!C23)","v":""},{"$f":"IF($C16=\"\",\"\",Propostas!G23/Parâmetros!$F$4)","v":""},{"$f":"IF($C16=\"\",\"\",Propostas!H23/Parâmetros!$G$4)","v":""},{"$f":"IF($C16=\"\",\"\",MIN(1,(Propostas!B23-Propostas!C23)/Propostas!B23))","v":""},{"$f":"IF($C16=\"\",\"\",AVERAGE(Propostas!T23:V23))","v":""},{"$f":"IF(Propostas!T23=\"\",\"\",_xlfn.RANK.EQ(Propostas!T23,Propostas!$T23:$V23,1))","v":""},{"$f":"IF(Propostas!U23=\"\",\"\",_xlfn.RANK.EQ(Propostas!U23,Propostas!$T23:$V23,1))","v":""},{"$f":"IF(Propostas!V23=\"\",\"\",_xlfn.RANK.EQ(Propostas!V23,Propostas!$T23:$V23,1))","v":""},{"$f":"IF(Propostas!T23=\"\",\"\",Parâmetros!J16*(1+(Propostas!T23-Parâmetros!$I16)/SUM(Propostas!$T23:$V23))*VLOOKUP(Dados!B23,Uso_final[],2,0))","v":""},{"$f":"IF(Propostas!U23=\"\",\"\",Parâmetros!K16*(1+(Propostas!U23-Parâmetros!$I16)/SUM(Propostas!$T23:$V23))*VLOOKUP(Dados!C23,Uso_final[],2,0))","v":""},{"$f":"IF(Propostas!V23=\"\",\"\",Parâmetros!L16*(1+(Propostas!V23-Parâmetros!$I16)/SUM(Propostas!$T23:$V23))*VLOOKUP(Dados!D23,Uso_final[],2,0))","v":""},"",{"$f":"IF($C16=\"\",\"\",MIN(1,(Propostas!W23+Propostas!X23)/Propostas!B23))","v":""}]
[null,{"$f":"IF(ISTEXT(Propostas!A24),Propostas!A24,\"\")","v":""},{"$f":"IFERROR(Propostas!C24/Propostas!D24,\"\")","v":""},"",{"$f":"IF($C17=\"\",\"\",Propostas!F24/Propostas!C24)","v":""},{"$f":"IF($C17=\"\",\"\",Propostas!G24/Parâmetros!$F$4)","v":""},{"$f":"IF($C17=\"\",\"\",Propostas!H24/Parâmetros!$G$4)","v":""},{"$f":"IF($C17=\"\",\"\",MIN(1,(Propostas!B24-Propostas!C24)/Propostas!B24))","v":""},{"$f":"IF($C17=\"\",\"\",AVERAGE(Propostas!T24:V24))","v":""},{"$f":"IF(Propostas!T24=\"\",\"\",_xlfn.RANK.EQ(Propostas!T24,Propostas!$T24:$V24,1))","v":""},{"$f":"IF(Propostas!U24=\"\",\"\",_xlfn.RANK.EQ(Propostas!U24,Propostas!$T24:$V24,1))","v":""},{"$f":"IF(Propostas!V24=\"\",\"\",_xlfn.RANK.EQ(Propostas!V24,Propostas!$T24:$V24,1))","v":""},{"$f":"IF(Propostas!T24=\"\",\"\",Parâmetros!J17*(1+(Propostas!T24-Parâmetros!$I17)/SUM(Propostas!$T24:$V24))*VLOOKUP(Dados!B24,Uso_final[],2,0))","v":""},{"$f":"IF(Propostas!U24=\"\",\"\",Parâmetros!K17*(1+(Propostas!U24-Parâmetros!$I17)/SUM(Propostas!$T24:$V24))*VLOOKUP(Dados!C24,Uso_final[],2,0))","v":""},{"$f":"IF(Propostas!V24=\"\",\"\",Parâmetros!L17*(1+(Propostas!V24-Parâmetros!$I17)/SUM(Propostas!$T24:$V24))*VLOOKUP(Dados!D24,Uso_final[],2,0))","v":""},"",{"$f":"IF($C17=\"\",\"\",MIN(1,(Propostas!W24+Propostas!X24)/Propostas!B24))","v":""}]
[null,{"$f":"IF(ISTEXT(Propostas!A25),Propostas!A25,\"\")","v":""},{"$f":"IFERROR(Propostas!C25/Propostas!D25,\"\")","v":""},"",{"$f":"IF($C18=\"\",\"\",Propostas!F25/Propostas!C25)","v":""},{"$f":"IF($C18=\"\",\"\",Propostas!G25/Parâmetros!$F$4)","v":""},{"$f":"IF($C18=\"\",\"\",Propostas!H25/Parâmetros!$G$4)","v":""},{"$f":"IF($C18=\"\",\"\",MIN(1,(Propostas!B25-Propostas!C25)/Propostas!B25))","v":""},{"$f":"IF($C18=\"\",\"\",AVERAGE(Propostas!T25:V25))","v":""},{"$f":"IF(Propostas!T25=\"\",\"\",_xlfn.RANK.EQ(Propostas!T25,Propostas!$T25:$V25,1))","v":""},{"$f":"IF(Propostas!U25=\"\",\"\",_xlfn.RANK.EQ(Propostas!U25,Propostas!$T25:$V25,1))","v":""},{"$f":"IF(Propostas!V25=\"\",\"\",_xlfn.RANK.EQ(Propostas!V25,Propostas!$T25:$V25,1))","v":""},{"$f":"IF(Propostas!T25=\"\",\"\",Parâmetros!J18*(1+(Propostas!T25-Parâmetros!$I18)/SUM(Propostas!$T25:$V25))*VLOOKUP(Dados!B25,Uso_final[],2,0))","v":""},{"$f":"IF(Propostas!U25=\"\",\"\",Parâmetros!K18*(1+(Propostas!U25-Parâmetros!$I18)/SUM(Propostas!$T25:$V25))*VLOOKUP(Dados!C25,Uso_final[],2,0))","v":""},{"$f":"IF(Propostas!V25=\"\",\"\",Parâmetros!L18*(1+(Propostas!V25-Parâmetros!$I18)/SUM(Propostas!$T25:$V25))*VLOOKUP(Dados!D25,Uso_final[],2,0))","v":""},"",{"$f":"IF($C18=\"\",\"\",MIN(1,(Propostas!W25+Propostas!X25)/Propostas!B25))","v":""}]
[null,{"$f":"IF(ISTEXT(Propostas!A26),Propostas!A26,\"\")","v":""},{"$f":"IFERROR(Propostas!C26/Propostas!D26,\"\")","v":""},"",{"$f":"IF($C19=\"\",\"\",Propostas!F26/Propostas!C26)","v":""},{"$f":"IF($C19=\"\",\"\",Propostas!G26/Parâmetros!$F$4)","v":""},{"$f":"IF($C19=\"\",\"\",Propostas!H26/Parâmetros!$G$4)","v":""},{"$f":"IF($C19=\"\",\"\",MIN(1,(Propostas!B26-Propostas!C26)/Propostas!B26))","v":""},{"$f":"IF($C19=\"\",\"\",AVERAGE(Propostas!T26:V26))","v":""},{"$f":"IF(Propostas!T26=\"\",\"\",_xlfn.RANK.EQ(Propostas!T26,Propostas!$T26:$V26,1))","v":""},{"$f":"IF(Propostas!U26=\"\",\"\",_xlfn.RANK.EQ(Propostas!U26,Propostas!$T26:$V26,1))","v":""},{"$f":"IF(Propostas!V26=\"\",\"\",_xlfn.RANK.EQ(Propostas!V26,Propostas!$T26:$V26,1))","v":""},{"$f":"IF(Propostas!T26=\"\",\"\",Parâmetros!J19*(1+(Propostas!T26-Parâmetros!$I19)/SUM(Propostas!$T26:$V26))*VLOOKUP(Dados!B26,Uso_final[],2,0))","v":""},{"$f":"IF(Propostas!U26=\"\",\"\",Parâmetros!K19*(1+(Propostas!U26-Parâmetros!$I19)/SUM(Propostas!$T26:$V26))*VLOOKUP(Dados!C26,Uso_final[],2,0))","v":""},{"$f":"IF(Propostas!V26=\"\",\"\",Parâmetros!L19*(1+(Propostas!V26-Parâmetros!$I19)/SUM(Propostas!$T26:$V26))*VLOOKUP(Dados!D26,Uso_final[],2,0))","v":""},"",{"$f":"IF($C19=\"\",\"\",MIN(1,(Propostas!W26+Propostas!X26)/Propostas!B26))","v":""}]
[null,{"$f":"IF(ISTEXT(Propostas!A27),Propostas!A27,\"\")","v":""},{"$f":"IFERROR(Propostas!C27/Propostas!D27,\"\")","v":""},"",{"$f":"IF($C20=\"\",\"\",Propostas!F27/Propostas!C27)","v":""},{"$f":"IF($C20=\"\",\"\",Propostas!G27/Parâmetros!$F$4)","v":""},{"$f":"IF($C20=\"\",\"\",Propostas!H27/Parâmetros!$G$4)","v":""},{"$f":"IF($C20=\"\",\"\",MIN(1,(Propostas!B27-Propostas!C27)/Propostas!B27))","v":""},{"$f":"IF($C20=\"\",\"\",AVERAGE(Propostas!T27:V27))","v":""},{"$f":"IF(Propostas!T27=\"\",\"\",_xlfn.RANK.EQ(Propostas!T27,Propostas!$T27:$V27,1))","v":""},{"$f":"IF(Propostas!U27=\"\",\"\",_xlfn.RANK.EQ(Propostas!U27,Propostas!$T27:$V27,1))","v":""},{"$f":"IF(Propostas!V27=\"\",\"\",_xlfn.RANK.EQ(Propostas!V27,Propostas!$T27:$V27,1))","v":""},{"$f":"IF(Propostas!T27=\"\",\"\",Parâmetros!J20*(1+(Propostas!T27-Parâmetros!$I20)/SUM(Propostas!$T27:$V27))*VLOOKUP(Dados!B27,Uso_final[],2,0))","v":""},{"$f":"IF(Propostas!U27=\"\",\"\",Parâmetros!K20*(1+(Propostas!U27-Parâmetros!$I20)/SUM(Propostas!$T27:$V27))*VLOOKUP(Dados!C27,Uso_final[],2,0))","v":""},{"$f":"IF(Propostas!V27=\"\",\"\",Parâmetros!L20*(1+(Propostas!V27-Parâmetros!$I20)/SUM(Propostas!$T27:$V27))*VLOOKUP(Dados!D27,Uso_final[],2,0))","v":""},"",{"$f":"IF($C20=\"\",\"\",MIN(1,(Propostas!W27+Propostas!X27)/Propostas!B27))","v":""}]
[null,{"$f":"IF(ISTEXT(Propostas!A28),Propostas!A28,\"\")","v":""},{"$f":"IFERROR(Propostas!C28/Propostas!D28,\"\")","v":""},"",{"$f":"IF($C21=\"\",\"\",Propostas!F28/Propostas!C28)","v":""},{"$f":"IF($C21=\"\",\"\",Propostas!G28/Parâmetros!$F$4)","v":""},{"$f":"IF($C21=\"\",\"\",Propostas!H28/Parâmetros!$G$4)","v":""},{"$f":"IF($C21=\"\",\"\",MIN(1,(Propostas!B28-Propostas!C28)/Propostas!B28))","v":""},{"$f":"IF($C21=\"\",\"\",AVERAGE(Propostas!T28:V28))","v":""},{"$f":"IF(Propostas!T28=\"\",\"\",_xlfn.RANK.EQ(Propostas!T28,Propostas!$T28:$V28,1))","v":""},{"$f":"IF(Propostas!U28=\"\",\"\",_xlfn.RANK.EQ(Propostas!U28,Propostas!$T28:$V28,1))","v":""},{"$f":"IF(Propostas!V28=\"\",\"\",_xlfn.RANK.EQ(Propostas!V28,Propostas!$T28:$V28,1))","v":""},{"$f":"IF(Propostas!T28=\"\",\"\",Parâmetros!J21*(1+(Propostas!T28-Parâmetros!$I21)/SUM(Propostas!$T28:$V28))*VLOOKUP(Dados!B28,Uso_final[],2,0))","v":""},{"$f":"IF(Propostas!U28=\"\",\"\",Parâmetros!K21*(1+(Propostas!U28-Parâmetros!$I21)/SUM(Propostas!$T28:$V28))*VLOOKUP(Dados!C28,Uso_final[],2,0))","v":""},{"$f":"IF(Propostas!V28=\"\",\"\",Parâmetros!L21*(1+(Propostas!V28-Parâmetros!$I21)/SUM(Propostas!$T28:$V28))*VLOOKUP(Dados!D28,Uso_final[],2,0))","v":""},"",{"$f":"IF($C21=\"\",\"\",MIN(1,(Propostas!W28+Propostas!X28)/Propostas!B28))","v":""}]
[null,{"$f":"IF(ISTEXT(Propostas!A29),Propostas!A29,\"\")","v":""},{"$f":"IFERROR(Propostas!C29/Propostas!D29,\"\")","v":""},"",{"$f":"IF($C22=\"\",\"\",Propostas!F29/Propostas!C29)","v":""},{"$f":"IF($C22=\"\",\"\",Propostas!G29/Parâmetros!$F$4)","v":""},{"$f":"IF($C22=\"\",\"\",Propostas!H29/Parâmetros!$G$4)","v":""},{"$f":"IF($C22=\"\",\"\",MIN(1,(Propostas!B29-Propostas!C29)/Propostas!B29))","v":""},{"$f":"IF($C22=\"\",\"\",AVERAGE(Propostas!T29:V29))","v":""},{"$f":"IF(Propostas!T29=\"\",\"\",_xlfn.RANK.EQ(Propostas!T29,Propostas!$T29:$V29,1))","v":""},{"$f":"IF(Propostas!U29=\"\",\"\",_xlfn.RANK.EQ(Propostas!U29,Propostas!$T29:$V29,1))","v":""},{"$f":"IF(Propostas!V29=\"\",\"\",_xlfn.RANK.EQ(Propostas!V29,Propostas!$T29:$V29,1))","v":""},{"$f":"IF(Propostas!T29=\"\",\"\",Parâmetros!J22*(1+(Propostas!T29-Parâmetros!$I22)/SUM(Propostas!$T29:$V29))*VLOOKUP(Dados!B29,Uso_final[],2,0))","v":""},{"$f":"IF(Propostas!U29=\"\",\"\",Parâmetros!K22*(1+(Propostas!U29-Parâmetros!$I22)/SUM(Propostas!$T29:$V29))*VLOOKUP(Dados!C29,Uso_final[],2,0))","v":""},{"$f":"IF(Propostas!V29=\"\",\"\",Parâmetros!L22*(1+(Propostas!V29-Parâmetros!$I22)/SUM(Propostas!$T29:$V29))*VLOOKUP(Dados!D29,Uso_final[],2,0))","v":""},"",{"$f":"IF($C22=\"\",\"\",MIN(1,(Propostas!W29+Propostas!X29)/Propostas!B29))","v":""}]
[null,{"$f":"IF(ISTEXT(Propostas!A30),Propostas!A30,\"\")","v":""},{"$f":"IFERROR(Propostas!C30/Propostas!D30,\"\")","v":""},"",{"$f":"IF($C23=\"\",\"\",Propostas!F30/Propostas!C30)","v":""},{"$f":"IF($C23=\"\",\"\",Propostas!G30/Parâmetros!$F$4)","v":""},{"$f":"IF($C23=\"\",\"\",Propostas!H30/Parâmetros!$G$4)","v":""},{"$f":"IF($C23=\"\",\"\",MIN(1,(Propostas!B30-Propostas!C30)/Propostas!B30))","v":""},{"$f":"IF($C23=\"\",\"\",AVERAGE(Propostas!T30:V30))","v":""},{"$f":"IF(Propostas!T30=\"\",\"\",_xlfn.RANK.EQ(Propostas!T30,Propostas!$T30:$V30,1))","v":""},{"$f":"IF(Propostas!U30=\"\",\"\",_xlfn.RANK.EQ(Propostas!U30,Propostas!$T30:$V30,1))","v":""},{"$f":"IF(Propostas!V30=\"\",\"\",_xlfn.RANK.EQ(Propostas!V30,Propostas!$T30:$V30,1))","v":""},{"$f":"IF(Propostas!T30=\"\",\"\",Parâmetros!J23*(1+(Propostas!T30-Parâmetros!$I23)/SUM(Propostas!$T30:$V30))*VLOOKUP(Dados!B30,Uso_final[],2,0))","v":""},{"$f":"IF(Propostas!U30=\"\",\"\",Parâmetros!K23*(1+(Propostas!U30-Parâmetros!$I23)/SUM(Propostas!$T30:$V30))*VLOOKUP(Dados!C30,Uso_final[],2,0))","v":""},{"$f":"IF(Propostas!V30=\"\",\"\",Parâmetros!L23*(1+(Propostas!V30-Parâmetros!$I23)/SUM(Propostas!$T30:$V30))*VLOOKUP(Dados!D30,Uso_final[],2,0))","v":""},"",{"$f":"IF($C23=\"\",\"\",MIN(1,(Propostas!W30+Propostas!X30)/Propostas!B30))","v":""}]
[null,{"$f":"IF(ISTEXT(Propostas!A31),Propostas!A31,\"\")","v":""},{"$f":"IFERROR(Propostas!C31/Propostas!D31,\"\")","v":""},"",{"$f":"IF($C24=\"\",\"\",Propostas!F31/Propostas!C31)","v":""},{"$f":"IF($C24=\"\",\"\",Propostas!G31/Parâmetros!$F$4)","v":""},{"$f":"IF($C24=\"\",\"\",Propostas!H31/Parâmetros!$G$4)","v":""},{"$f":"IF($C24=\"\",\"\",MIN(1,(Propostas!B31-Propostas!C31)/Propostas!B31))","v":""},{"$f":"IF($C24=\"\",\"\",AVERAGE(Propostas!T31:V31))","v":""},{"$f":"IF(Propostas!T31=\"\",\"\",_xlfn.RANK.EQ(Propostas!T31,Propostas!$T31:$V31,1))","v":""},{"$f":"IF(Propostas!U31=\"\",\"\",_xlfn.RANK.EQ(Propostas!U31,Propostas!$T31:$V31,1))","v":""},{"$f":"IF(Propostas!V31=\"\",\"\",_xlfn.RANK.EQ(Propostas!V31,Propostas!$T31:$V31,1))","v":""},{"$f":"IF(Propostas!T31=\"\",\"\",Parâmetros!J24*(1+(Propostas!T31-Parâmetros!$I24)/SUM(Propostas!$T31:$V31))*VLOOKUP(Dados!B31,Uso_final[],2,0))","v":""},{"$f":"IF(Propostas!U31=\"\",\"\",Parâmetros!K24*(1+(Propostas!U31-Parâmetros!$I24)/SUM(Propostas!$T31:$V31))*VLOOKUP(Dados!C31,Uso_final[],2,0))","v":""},{"$f":"IF(Propostas!V31=\"\",\"\",Parâmetros!L24*(1+(Propostas!V31-Parâmetros!$I24)/SUM(Propostas!$T31:$V31))*VLOOKUP(Dados!D31,Uso_final[],2,0))","v":""},"",{"$f":"IF($C24=\"\",\"\",MIN(1,(Propostas!W31+Propostas!X31)/Propostas!B31))","v":""}]
[null,{"$f":"IF(ISTEXT(Propostas!A32),Propostas!A32,\"\")","v":""},{"$f":"IFERROR(Propostas!C32/Propostas!D32,\"\")","v":""},"",{"$f":"IF($C25=\"\",\"\",Propostas!F32/Propostas!C32)","v":""},{"$f":"IF($C25=\"\",\"\",Propostas!G32/Parâmetros!$F$4)","v":""},{"$f":"IF($C25=\"\",\"\",Propostas!H32/Parâmetros!$G$4)","v":""},{"$f":"IF($C25=\"\",\"\",MIN(1,(Propostas!B32-Propostas!C32)/Propostas!B32))","v":""},{"$f":"IF($C25=\"\",\"\",AVERAGE(Propostas!T32:V32))","v":""},{"$f":"IF(Propostas!T32=\"\",\"\",_xlfn.RANK.EQ(Propostas!T32,Propostas!$T32:$V32,1))","v":""},{"$f":"IF(Propostas!U32=\"\",\"\",_xlfn.RANK.EQ(Propostas!U32,Propostas!$T32:$V32,1))","v":""},{"$f":"IF(Propostas!V32=\"\",\"\",_xlfn.RANK.EQ(Propostas!V32,Propostas!$T32:$V32,1))","v":""},{"$f":"IF(Propostas!T32=\"\",\"\",Parâmetros!J25*(1+(Propostas!T32-Parâmetros!$I25)/SUM(Propostas!$T32:$V32))*VLOOKUP(Dados!B32,Uso_final[],2,0))","v":""},{"$f":"IF(Propostas!U32=\"\",\"\",Parâmetros!K25*(1+(Propostas!U32-Parâmetros!$I25)/SUM(Propostas!$T32:$V32))*VLOOKUP(Dados!C32,Uso_final[],2,0))","v":""},{"$f":"IF(Propostas!V32=\"\",\"\",Parâmetros!L25*(1+(Propostas!V32-Parâmetros!$I25)/SUM(Propostas!$T32:$V32))*VLOOKUP(Dados!D32,Uso_final[],2,0))","v":""},"",{"$f":"IF($C25=\"\",\"\",MIN(1,(Propostas!W32+Propostas!X32)/Propostas!B32))","v":""}]
[null,{"$f":"IF(ISTEXT(Propostas!A33),Propostas!A33,\"\")","v":""},{"$f":"IFERROR(Propostas!C33/Propostas!D33,\"\")","v":""},"",{"$f":"IF($C26=\"\",\"\",Propostas!F33/Propostas!C33)","v":""},{"$f":"IF($C26=\"\",\"\",Propostas!G33/Parâmetros!$F$4)","v":""},{"$f":"IF($C26=\"\",\"\",Propostas!H33/Parâmetros!$G$4)","v":""},{"$f":"IF($C26=\"\",\"\",MIN(1,(Propostas!B33-Propostas!C33)/Propostas!B33))","v":""},{"$f":"IF($C26=\"\",\"\",AVERAGE(Propostas!T33:V33))","v":""},{"$f":"IF(Propostas!T33=\"\",\"\",_xlfn.RANK.EQ(Propostas!T33,Propostas!$T33:$V33,1))","v":""},{"$f":"IF(Propostas!U33=\"\",\"\",_xlfn.RANK.EQ(Propostas!U33,Propostas!$T33:$V33,1))","v":""},{"$f":"IF(Propostas!V33=\"\",\"\",_xlfn.RANK.EQ(Propostas!V33,Propostas!$T33:$V33,1))","v":""},{"$f":"IF(Propostas!T33=\"\",\"\",Parâmetros!J26*(1+(Propostas!T33-Parâmetros!$I26)/SUM(Propostas!$T33:$V33))*VLOOKUP(Dados!B33,Uso_final[],2,0))","v":""},{"$f":"IF(Propostas!U33=\"\",\"\",Parâmetros!K26*(1+(Propostas!U33-Parâmetros!$I26)/SUM(Propostas!$T33:$V33))*VLOOKUP(Dados!C33,Uso_final[],2,0))","v":""},{"$f":"IF(Propostas!V33=\"\",\"\",Parâmetros!L26*(1+(Propostas!V33-Parâmetros!$I26)/SUM(Propostas!$T33:$V33))*VLOOKUP(Dados!D33,Uso_final[],2,0))","v":""},"",{"$f":"IF($C26=\"\",\"\",MIN(1,(Propostas!W33+Propostas!X33)/Propostas!B33))","v":""}]
[null,{"$f":"IF(ISTEXT(Propostas!A34),Propostas!A34,\"\")","v":""},{"$f":"IFERROR(Propostas!C34/Propostas!D34,\"\")","v":""},"",{"$f":"IF($C27=\"\",\"\",Propostas!F34/Propostas!C34)","v":""},{"$f":"IF($C27=\"\",\"\",Propostas!G34/Parâmetros!$F$4)","v":""},{"$f":"IF($C27=\"\",\"\",Propostas!H34/Parâmetros!$G$4)","v":""},{"$f":"IF($C27=\"\",\"\",MIN(1,(Propostas!B34-Propostas!C34)/Propostas!B34))","v":""},{"$f":"IF($C27=\"\",\"\",AVERAGE(Propostas!T34:V34))","v":""},{"$f":"IF(Propostas!T34=\"\",\"\",_xlfn.RANK.EQ(Propostas!T34,Propostas!$T34:$V34,1))","v":""},{"$f":"IF(Propostas!U34=\"\",\"\",_xlfn.RANK.EQ(Propostas!U34,Propostas!$T34:$V34,1))","v":""},{"$f":"IF(Propostas!V34=\"\",\"\",_xlfn.RANK.EQ(Propostas!V34,Propostas!$T34:$V34,1))","v":""},{"$f":"IF(Propostas!T34=\"\",\"\",Parâmetros!J27*(1+(Propostas!T34-Parâmetros!$I27)/SUM(Propostas!$T34:$V34))*VLOOKUP(Dados!B34,Uso_final[],2,0))","v":""},{"$f":"IF(Propostas!U34=\"\",\"\",Parâmetros!K27*(1+(Propostas!U34-Parâmetros!$I27)/SUM(Propostas!$T34:$V34))*VLOOKUP(Dados!C34,Uso_final[],2,0))","v":""},{"$f":"IF(Propostas!V34=\"\",\"\",Parâmetros!L27*(1+(Propostas!V34-Parâmetros!$I27)/SUM(Propostas!$T34:$V34))*VLOOKUP(Dados!D34,Uso_final[],2,0))","v":""},"",{"$f":"IF($C27=\"\",\"\",MIN(1,(Propostas!W34+Propostas!X34)/Propostas!B34))","v":""}]
[null,{"$f":"IF(ISTEXT(Propostas!A35),Propostas!A35,\"\")","v":""},{"$f":"IFERROR(Propostas!C35/Propostas!D35,\"\")","v":""},"",{"$f":"IF($C28=\"\",\"\",Propostas!F35/Propostas!C35)","v":""},{"$f":"IF($C28=\"\",\"\",Propostas!G35/Parâmetros!$F$4)","v":""},{"$f":"IF($C28=\"\",\"\",Propostas!H35/Parâmetros!$G$4)","v":""},{"$f":"IF($C28=\"\",\"\",MIN(1,(Propostas!B35-Propostas!C35)/Propostas!B35))","v":""},{"$f":"IF($C28=\"\",\"\",AVERAGE(Propostas!T35:V35))","v":""},{"$f":"IF(Propostas!T35=\"\",\"\",_xlfn.RANK.EQ(Propostas!T35,Propostas!$T35:$V35,1))","v":""},{"$f":"IF(Propostas!U35=\"\",\"\",_xlfn.RANK.EQ(Propostas!U35,Propostas!$T35:$V35,1))","v":""},{"$f":"IF(Propostas!V35=\"\",\"\",_xlfn.RANK.EQ(Propostas!V35,Propostas!$T35:$V35,1))","v":""},{"$f":"IF(Propostas!T35=\"\",\"\",Parâmetros!J28*(1+(Propostas!T35-Parâmetros!$I28)/SUM(Propostas!$T35:$V35))*VLOOKUP(Dados!B35,Uso_final[],2,0))","v":""},{"$f":"IF(Propostas!U35=\"\",\"\",Parâmetros!K28*(1+(Propostas!U35-Parâmetros!$I28)/SUM(Propostas!$T35:$V35))*VLOOKUP(Dados!C35,Uso_final[],2,0))","v":""},{"$f":"IF(Propostas!V35=\"\",\"\",Parâmetros!L28*(1+(Propostas!V35-Parâmetros!$I28)/SUM(Propostas!$T35:$V35))*VLOOKUP(Dados!D35,Uso_final[],2,0))","v":""},"",{"$f":"IF($C28=\"\",\"\",MIN(1,(Propostas!W35+Propostas!X35)/Propostas!B35))","v":""}]
[null,{"$f":"IF(ISTEXT(Propostas!A36),Propostas!A36,\"\")","v":""},{"$f":"IFERROR(Propostas!C36/Propostas!D36,\"\")","v":""},"",{"$f":"IF($C29=\"\",\"\",Propostas!F36/Propostas!C36)","v":""},{"$f":"IF($C29=\"\",\"\",Propostas!G36/Parâmetros!$F$4)","v":""},{"$f":"IF($C29=\"\",\"\",Propostas!H36/Parâmetros!$G$4)","v":""},{"$f":"IF($C29=\"\",\"\",MIN(1,(Propostas!B36-Propostas!C36)/Propostas!B36))","v":""},{"$f":"IF($C29=\"\",\"\",AVERAGE(Propostas!T36:V36))","v":""},{"$f":"IF(Propostas!T36=\"\",\"\",_xlfn.RANK.EQ(Propostas!T36,Propostas!$T36:$V36,1))","v":""},{"$f":"IF(Propostas!U36=\"\",\"\",_xlfn.RANK.EQ(Propostas!U36,Propostas!$T36:$V36,1))","v":""},{"$f":"IF(Propostas!V36=\"\",\"\",_xlfn.RANK.EQ(Propostas!V36,Propostas!$T36:$V36,1))","v":""},{"$f":"IF(Propostas!T36=\"\",\"\",Parâmetros!J29*(1+(Propostas!T36-Parâmetros!$I29)/SUM(Propostas!$T36:$V36))*VLOOKUP(Dados!B36,Uso_final[],2,0))","v":""},{"$f":"IF(Propostas!U36=\"\",\"\",Parâmetros!K29*(1+(Propostas!U36-Parâmetros!$I29)/SUM(Propostas!$T36:$V36))*VLOOKUP(Dados!C36,Uso_final[],2,0))","v":""},{"$f":"IF(Propostas!V36=\"\",\"\",Parâmetros!L29*(1+(Propostas!V36-Parâmetros!$I29)/SUM(Propostas!$T36:$V36))*VLOOKUP(Dados!D36,Uso_final[],2,0))","v":""},"",{"$f":"IF($C29=\"\",\"\",MIN(1,(Propostas!W36+Propostas!X36)/Propostas!B36))","v":""}]
[null,{"$f":"IF(ISTEXT(Propostas!A37),Propostas!A37,\"\")","v":""},{"$f":"IFERROR(Propostas!C37/Propostas!D37,\"\")","v":""},"",{"$f":"IF($C30=\"\",\"\",Propostas!F37/Propostas!C37)","v":""},{"$f":"IF($C30=\"\",\"\",Propostas!G37/Parâmetros!$F$4)","v":""},{"$f":"IF($C30=\"\",\"\",Propostas!H37/Parâmetros!$G$4)","v":""},{"$f":"IF($C30=\"\",\"\",MIN(1,(Propostas!B37-Propostas!C37)/Propostas!B37))","v":""},{"$f":"IF($C30=\"\",\"\",AVERAGE(Propostas!T37:V37))","v":""},{"$f":"IF(Propostas!T37=\"\",\"\",_xlfn.RANK.EQ(Propostas!T37,Propostas!$T37:$V37,1))","v":""},{"$f":"IF(Propostas!U37=\"\",\"\",_xlfn.RANK.EQ(Propostas!U37,Propostas!$T37:$V37,1))","v":""},{"$f":"IF(Propostas!V37=\"\",\"\",_xlfn.RANK.EQ(Propostas!V37,Propostas!$T37:$V37,1))","v":""},{"$f":"IF(Propostas!T37=\"\",\"\",Parâmetros!J30*(1+(Propostas!T37-Parâmetros!$I30)/SUM(Propostas!$T37:$V37))*VLOOKUP(Dados!B37,Uso_final[],2,0))","v":""},{"$f":"IF(Propostas!U37=\"\",\"\",Parâmetros!K30*(1+(Propostas!U37-Parâmetros!$I30)/SUM(Propostas!$T37:$V37))*VLOOKUP(Dados!C37,Uso_final[],2,0))","v":""},{"$f":"IF(Propostas!V37=\"\",\"\",Parâmetros!L30*(1+(Propostas!V37-Parâmetros!$I30)/SUM(Propostas!$T37:$V37))*VLOOKUP(Dados!D37,Uso_final[],2,0))","v":""},"",{"$f":"IF($C30=\"\",\"\",MIN(1,(Propostas!W37+Propostas!X37)/Propostas!B37))","v":""}]
[null,{"$f":"IF(ISTEXT(Propostas!A38),Propostas!A38,\"\")","v":""},{"$f":"IFERROR(Propostas!C38/Propostas!D38,\"\")","v":""},"",{"$f":"IF($C31=\"\",\"\",Propostas!F38/Propostas!C38)","v":""},{"$f":"IF($C31=\"\",\"\",Propostas!G38/Parâmetros!$F$4)","v":""},{"$f":"IF($C31=\"\",\"\",Propostas!H38/Parâmetros!$G$4)","v":""},{"$f":"IF($C31=\"\",\"\",MIN(1,(Propostas!B38-Propostas!C38)/Propostas!B38))","v":""},{"$f":"IF($C31=\"\",\"\",AVERAGE(Propostas!T38:V38))","v":""},{"$f":"IF(Propostas!T38=\"\",\"\",_xlfn.RANK.EQ(Propostas!T38,Propostas!$T38:$V38,1))","v":""},{"$f":"IF(Propostas!U38=\"\",\"\",_xlfn.RANK.EQ(Propostas!U38,Propostas!$T38:$V38,1))","v":""},{"$f":"IF(Propostas!V38=\"\",\"\",_xlfn.RANK.EQ(Propostas!V38,Propostas!$T38:$V38,1))","v":""},{"$f":"IF(Propostas!T38=\"\",\"\",Parâmetros!J31*(1+(Propostas!T38-Parâmetros!$I31)/SUM(Propostas!$T38:$V38))*VLOOKUP(Dados!B38,Uso_final[],2,0))","v":""},{"$f":"IF(Propostas!U38=\"\",\"\",Parâmetros!K31*(1+(Propostas!U38-Parâmetros!$I31)/SUM(Propostas!$T38:$V38))*VLOOKUP(Dados!C38,Uso_final[],2,0))","v":""},{"$f":"IF(Propostas!V38=\"\",\"\",Parâmetros!L31*(1+(Propostas!V38-Parâmetros!$I31)/SUM(Propostas!$T38:$V38))*VLOOKUP(Dados!D38,Uso_final[],2,0))","v":""},"",{"$f":"IF($C31=\"\",\"\",MIN(1,(Propostas!W38+Propostas!X38)/Propostas!B38))","v":""}]
[null,{"$f":"IF(ISTEXT(Propostas!A39),Propostas!A39,\"\")","v":""},{"$f":"IFERROR(Propostas!C39/Propostas!D39,\"\")","v":""},"",{"$f":"IF($C32=\"\",\"\",Propostas!F39/Propostas!C39)","v":""},{"$f":"IF($C32=\"\",\"\",Propostas!G39/Parâmetros!$F$4)","v":""},{"$f":"IF($C32=\"\",\"\",Propostas!H39/Parâmetros!$G$4)","v":""},{"$f":"IF($C32=\"\",\"\",MIN(1,(Propostas!B39-Propostas!C39)/Propostas!B39))","v":""},{"$f":"IF($C32=\"\",\"\",AVERAGE(Propostas!T39:V39))","v":""},{"$f":"IF(Propostas!T39=\"\",\"\",_xlfn.RANK.EQ(Propostas!T39,Propostas!$T39:$V39,1))","v":""},{"$f":"IF(Propostas!U39=\"\",\"\",_xlfn.RANK.EQ(Propostas!U39,Propostas!$T39:$V39,1))","v":""},{"$f":"IF(Propostas!V39=\"\",\"\",_xlfn.RANK.EQ(Propostas!V39,Propostas!$T39:$V39,1))","v":""},{"$f":"IF(Propostas!T39=\"\",\"\",Parâmetros!J32*(1+(Propostas!T39-Parâmetros!$I32)/SUM(Propostas!$T39:$V39))*VLOOKUP(Dados!B39,Uso_final[],2,0))","v":""},{"$f":"IF(Propostas!U39=\"\",\"\",Parâmetros!K32*(1+(Propostas!U39-Parâmetros!$I32)/SUM(Propostas!$T39:$V39))*VLOOKUP(Dados!C39,Uso_final[],2,0))","v":""},{"$f":"IF(Propostas!V39=\"\",\"\",Parâmetros!L32*(1+(Propostas!V39-Parâmetros!$I32)/SUM(Propostas!$T39:$V39))*VLOOKUP(Dados!D39,Uso_final[],2,0))","v":""},"",{"$f":"IF($C32=\"\",\"\",MIN(1,(Propostas!W39+Propostas!X39)/Propostas!B39))","v":""}]
[null,{"$f":"IF(ISTEXT(Propostas!A40),Propostas!A40,\"\")","v":""},{"$f":"IFERROR(Propostas!C40/Propostas!D40,\"\")","v":""},"",{"$f":"IF($C33=\"\",\"\",Propostas!F40/Propostas!C40)","v":""},{"$f":"IF($C33=\"\",\"\",Propostas!G40/Parâmetros!$F$4)","v":""},{"$f":"IF($C33=\"\",\"\",Propostas!H40/Parâmetros!$G$4)","v":""},{"$f":"IF($C33=\"\",\"\",MIN(1,(Propostas!B40-Propostas!C40)/Propostas!B40))","v":""},{"$f":"IF($C33=\"\",\"\",AVERAGE(Propostas!T40:V40))","v":""},{"$f":"IF(Propostas!T40=\"\",\"\",_xlfn.RANK.EQ(Propostas!T40,Propostas!$T40:$V40,1))","v":""},{"$f":"IF(Propostas!U40=\"\",\"\",_xlfn.RANK.EQ(Propostas!U40,Propostas!$T40:$V40,1))","v":""},{"$f":"IF(Propostas!V40=\"\",\"\",_xlfn.RANK.EQ(Propostas!V40,Propostas!$T40:$V40,1))","v":""},{"$f":"IF(Propostas!T40=\"\",\"\",Parâmetros!J33*(1+(Propostas!T40-Parâmetros!$I33)/SUM(Propostas!$T40:$V40))*VLOOKUP(Dados!B40,Uso_final[],2,0))","v":""},{"$f":"IF(Propostas!U40=\"\",\"\",Parâmetros!K33*(1+(Propostas!U40-Parâmetros!$I33)/SUM(Propostas!$T40:$V40))*VLOOKUP(Dados!C40,Uso_final[],2,0))","v":""},{"$f":"IF(Propostas!V40=\"\",\"\",Parâmetros!L33*(1+(Propostas!V40-Parâmetros!$I33)/SUM(Propostas!$T40:$V40))*VLOOKUP(Dados!D40,Uso_final[],2,0))","v":""},"",{"$f":"IF($C33=\"\",\"\",MIN(1,(Propostas!W40+Propostas!X40)/Propostas!B40))","v":""}]
[null,{"$f":"IF(ISTEXT(Propostas!A41),Propostas!A41,\"\")","v":""},{"$f":"IFERROR(Propostas!C41/Propostas!D41,\"\")","v":""},"",{"$f":"IF($C34=\"\",\"\",Propostas!F41/Propostas!C41)","v":""},{"$f":"IF($C34=\"\",\"\",Propostas!G41/Parâmetros!$F$4)","v":""},{"$f":"IF($C34=\"\",\"\",Propostas!H41/Parâmetros!$G$4)","v":""},{"$f":"IF($C34=\"\",\"\",MIN(1,(Propostas!B41-Propostas!C41)/Propostas!B41))","v":""},{"$f":"IF($C34=\"\",\"\",AVERAGE(Propostas!T41:V41))","v":""},{"$f":"IF(Propostas!T41=\"\",\"\",_xlfn.RANK.EQ(Propostas!T41,Propostas!$T41:$V41,1))","v":""},{"$f":"IF(Propostas!U41=\"\",\"\",_xlfn.RANK.EQ(Propostas!U41,Propostas!$T41:$V41,1))","v":""},{"$f":"IF(Propostas!V41=\"\",\"\",_xlfn.RANK.EQ(Propostas!V41,Propostas!$T41:$V41,1))","v":""},{"$f":"IF(Propostas!T41=\"\",\"\",Parâmetros!J34*(1+(Propostas!T41-Parâmetros!$I34)/SUM(Propostas!$T41:$V41))*VLOOKUP(Dados!B41,Uso_final[],2,0))","v":""},{"$f":"IF(Propostas!U41=\"\",\"\",Parâmetros!K34*(1+(Propostas!U41-Parâmetros!$I34)/SUM(Propostas!$T41:$V41))*VLOOKUP(Dados!C41,Uso_final[],2,0))","v":""},{"$f":"IF(Propostas!V41=\"\",\"\",Parâmetros!L34*(1+(Propostas!V41-Parâmetros!$I34)/SUM(Propostas!$T41:$V41))*VLOOKUP(Dados!D41,Uso_final[],2,0))","v":""},"",{"$f":"IF($C34=\"\",\"\",MIN(1,(Propostas!W41+Propostas!X41)/Propostas!B41))","v":""}]
[null,{"$f":"IF(ISTEXT(Propostas!A42),Propostas!A42,\"\")","v":""},{"$f":"IFERROR(Propostas!C42/Propostas!D42,\"\")","v":""},"",{"$f":"IF($C35=\"\",\"\",Propostas!F42/Propostas!C42)","v":""},{"$f":"IF($C35=\"\",\"\",Propostas!G42/Parâmetros!$F$4)","v":""},{"$f":"IF($C35=\"\",\"\",Propostas!H42/Parâmetros!$G$4)","v":""},{"$f":"IF($C35=\"\",\"\",MIN(1,(Propostas!B42-Propostas!C42)/Propostas!B42))","v":""},{"$f":"IF($C35=\"\",\"\",AVERAGE(Propostas!T42:V42))","v":""},{"$f":"IF(Propostas!T42=\"\",\"\",_xlfn.RANK.EQ(Propostas!T42,Propostas!$T42:$V42,1))","v":""},{"$f":"IF(Propostas!U42=\"\",\"\",_xlfn.RANK.EQ(Propostas!U42,Propostas!$T42:$V42,1))","v":""},{"$f":"IF(Propostas!V42=\"\",\"\",_xlfn.RANK.EQ(Propostas!V42,Propostas!$T42:$V42,1))","v":""},{"$f":"IF(Propostas!T42=\"\",\"\",Parâmetros!J35*(1+(Propostas!T42-Parâmetros!$I35)/SUM(Propostas!$T42:$V42))*VLOOKUP(Dados!B42,Uso_final[],2,0))","v":""},{"$f":"IF(Propostas!U42=\"\",\"\",Parâmetros!K35*(1+(Propostas!U42-Parâmetros!$I35)/SUM(Propostas!$T42:$V42))*VLOOKUP(Dados!C42,Uso_final[],2,0))","v":""},{"$f":"IF(Propostas!V42=\"\",\"\",Parâmetros!L35*(1+(Propostas!V42-Parâmetros!$I35)/SUM(Propostas!$T42:$V42))*VLOOKUP(Dados!D42,Uso_final[],2,0))","v":""},"",{"$f":"IF($C35=\"\",\"\",MIN(1,(Propostas!W42+Propostas!X42)/Propostas!B42))","v":""}]
[null,{"$f":"IF(ISTEXT(Propostas!A43),Propostas!A43,\"\")","v":""},{"$f":"IFERROR(Propostas!C43/Propostas!D43,\"\")","v":""},"",{"$f":"IF($C36=\"\",\"\",Propostas!F43/Propostas!C43)","v":""},{"$f":"IF($C36=\"\",\"\",Propostas!G43/Parâmetros!$F$4)","v":""},{"$f":"IF($C36=\"\",\"\",Propostas!H43/Parâmetros!$G$4)","v":""},{"$f":"IF($C36=\"\",\"\",MIN(1,(Propostas!B43-Propostas!C43)/Propostas!B43))","v":""},{"$f":"IF($C36=\"\",\"\",AVERAGE(Propostas!T43:V43))","v":""},{"$f":"IF(Propostas!T43=\"\",\"\",_xlfn.RANK.EQ(Propostas!T43,Propostas!$T43:$V43,1))","v":""},{"$f":"IF(Propostas!U43=\"\",\"\",_xlfn.RANK.EQ(Propostas!U43,Propostas!$T43:$V43,1))","v":""},{"$f":"IF(Propostas!V43=\"\",\"\",_xlfn.RANK.EQ(Propostas!V43,Propostas!$T43:$V43,1))","v":""},{"$f":"IF(Propostas!T43=\"\",\"\",Parâmetros!J36*(1+(Propostas!T43-Parâmetros!$I36)/SUM(Propostas!$T43:$V43))*VLOOKUP(Dados!B43,Uso_final[],2,0))","v":""},{"$f":"IF(Propostas!U43=\"\",\"\",Parâmetros!K36*(1+(Propostas!U43-Parâmetros!$I36)/SUM(Propostas!$T43:$V43))*VLOOKUP(Dados!C43,Uso_final[],2,0))","v":""},{"$f":"IF(Propostas!V43=\"\",\"\",Parâmetros!L36*(1+(Propostas!V43-Parâmetros!$I36)/SUM(Propostas!$T43:$V43))*VLOOKUP(Dados!D43,Uso_final[],2,0))","v":""},"",{"$f":"IF($C36=\"\",\"\",MIN(1,(Propostas!W43+Propostas!X43)/Propostas!B43))","v":""}]
[null,{"$f":"IF(ISTEXT(Propostas!A44),Propostas!A44,\"\")","v":""},{"$f":"IFERROR(Propostas!C44/Propostas!D44,\"\")","v":""},"",{"$f":"IF($C37=\"\",\"\",Propostas!F44/Propostas!C44)","v":""},{"$f":"IF($C37=\"\",\"\",Propostas!G44/Parâmetros!$F$4)","v":""},{"$f":"IF($C37=\"\",\"\",Propostas!H44/Parâmetros!$G$4)","v":""},{"$f":"IF($C37=\"\",\"\",MIN(1,(Propostas!B44-Propostas!C44)/Propostas!B44))","v":""},{"$f":"IF($C37=\"\",\"\",AVERAGE(Propostas!T44:V44))","v":""},{"$f":"IF(Propostas!T44=\"\",\"\",_xlfn.RANK.EQ(Propostas!T44,Propostas!$T44:$V44,1))","v":""},{"$f":"IF(Propostas!U44=\"\",\"\",_xlfn.RANK.EQ(Propostas!U44,Propostas!$T44:$V44,1))","v":""},{"$f":"IF(Propostas!V44=\"\",\"\",_xlfn.RANK.EQ(Propostas!V44,Propostas!$T44:$V44,1))","v":""},{"$f":"IF(Propostas!T44=\"\",\"\",Parâmetros!J37*(1+(Propostas!T44-Parâmetros!$I37)/SUM(Propostas!$T44:$V44))*VLOOKUP(Dados!B44,Uso_final[],2,0))","v":""},{"$f":"IF(Propostas!U44=\"\",\"\",Parâmetros!K37*(1+(Propostas!U44-Parâmetros!$I37)/SUM(Propostas!$T44:$V44))*VLOOKUP(Dados!C44,Uso_final[],2,0))","v":""},{"$f":"IF(Propostas!V44=\"\",\"\",Parâmetros!L37*(1+(Propostas!V44-Parâmetros!$I37)/SUM(Propostas!$T44:$V44))*VLOOKUP(Dados!D44,Uso_final[],2,0))","v":""},{"$f":"IF(C37=\"\",\"\",SUM(M37:O37)-1)","v":""},{"$f":"IF($C37=\"\",\"\",MIN(1,(Propostas!W44+Propostas!X44)/Propostas!B44))","v":""}]
[null,{"$f":"IF(ISTEXT(Propostas!A45),Propostas!A45,\"\")","v":""},{"$f":"IFERROR(Propostas!C45/Propostas!D45,\"\")","v":""},"",{"$f":"IF($C38=\"\",\"\",Propostas!F45/Propostas!C45)","v":""},{"$f":"IF($C38=\"\",\"\",Propostas!G45/Parâmetros!$F$4)","v":""},{"$f":"IF($C38=\"\",\"\",Propostas!H45/Parâmetros!$G$4)","v":""},{"$f":"IF($C38=\"\",\"\",MIN(1,(Propostas!B45-Propostas!C45)/Propostas!B45))","v":""},{"$f":"IF($C38=\"\",\"\",AVERAGE(Propostas!T45:V45))","v":""},{"$f":"IF(Propostas!T45=\"\",\"\",_xlfn.RANK.EQ(Propostas!T45,Propostas!$T45:$V45,1))","v":""},{"$f":"IF(Propostas!U45=\"\",\"\",_xlfn.RANK.EQ(Propostas!U45,Propostas!$T45:$V45,1))","v":""},{"$f":"IF(Propostas!V45=\"\",\"\",_xlfn.RANK.EQ(Propostas!V45,Propostas!$T45:$V45,1))","v":""},{"$f":"IF(Propostas!T45=\"\",\"\",Parâmetros!J38*(1+(Propostas!T45-Parâmetros!$I38)/SUM(Propostas!$T45:$V45))*VLOOKUP(Dados!B45,Uso_final[],2,0))","v":""},{"$f":"IF(Propostas!U45=\"\",\"\",Parâmetros!K38*(1+(Propostas!U45-Parâmetros!$I38)/SUM(Propostas!$T45:$V45))*VLOOKUP(Dados!C45,Uso_final[],2,0))","v":""},{"$f":"IF(Propostas!V45=\"\",\"\",Parâmetros!L38*(1+(Propostas!V45-Parâmetros!$I38)/SUM(Propostas!$T45:$V45))*VLOOKUP(Dados!D45,Uso_final[],2,0))","v":""},"",{"$f":"IF($C38=\"\",\"\",MIN(1,(Propostas!W45+Propostas!X45)/Propostas!B45))","v":""}]
[null,{"$f":"IF(ISTEXT(Propostas!A46),Propostas!A46,\"\")","v":""},{"$f":"IFERROR(Propostas!C46/Propostas!D46,\"\")","v":""},"",{"$f":"IF($C39=\"\",\"\",Propostas!F46/Propostas!C46)","v":""},{"$f":"IF($C39=\"\",\"\",Propostas!G46/Parâmetros!$F$4)","v":""},{"$f":"IF($C39=\"\",\"\",Propostas!H46/Parâmetros!$G$4)","v":""},{"$f":"IF($C39=\"\",\"\",MIN(1,(Propostas!B46-Propostas!C46)/Propostas!B46))","v":""},{"$f":"IF($C39=\"\",\"\",AVERAGE(Propostas!T46:V46))","v":""},{"$f":"IF(Propostas!T46=\"\",\"\",_xlfn.RANK.EQ(Propostas!T46,Propostas!$T46:$V46,1))","v":""},{"$f":"IF(Propostas!U46=\"\",\"\",_xlfn.RANK.EQ(Propostas!U46,Propostas!$T46:$V46,1))","v":""},{"$f":"IF(Propostas!V46=\"\",\"\",_xlfn.RANK.EQ(Propostas!V46,Propostas!$T46:$V46,1))","v":""},{"$f":"IF(Propostas!T46=\"\",\"\",Parâmetros!J39*(1+(Propostas!T46-Parâmetros!$I39)/SUM(Propostas!$T46:$V46))*VLOOKUP(Dados!B46,Uso_final[],2,0))","v":""},{"$f":"IF(Propostas!U46=\"\",\"\",Parâmetros!K39*(1+(Propostas!U46-Parâmetros!$I39)/SUM(Propostas!$T46:$V46))*VLOOKUP(Dados!C46,Uso_final[],2,0))","v":""},{"$f":"IF(Propostas!V46=\"\",\"\",Parâmetros!L39*(1+(Propostas!V46-Parâmetros!$I39)/SUM(Propostas!$T46:$V46))*VLOOKUP(Dados!D46,Uso_final[],2,0))","v":""},"",{"$f":"IF($C39=\"\",\"\",MIN(1,(Propostas!W46+Propostas!X46)/Propostas!B46))","v":""}]
[null,{"$f":"IF(ISTEXT(Propostas!A47),Propostas!A47,\"\")","v":""},{"$f":"IFERROR(Propostas!C47/Propostas!D47,\"\")","v":""},"",{"$f":"IF($C40=\"\",\"\",Propostas!F47/Propostas!C47)","v":""},{"$f":"IF($C40=\"\",\"\",Propostas!G47/Parâmetros!$F$4)","v":""},{"$f":"IF($C40=\"\",\"\",Propostas!H47/Parâmetros!$G$4)","v":""},{"$f":"IF($C40=\"\",\"\",MIN(1,(Propostas!B47-Propostas!C47)/Propostas!B47))","v":""},{"$f":"IF($C40=\"\",\"\",AVERAGE(Propostas!T47:V47))","v":""},{"$f":"IF(Propostas!T47=\"\",\"\",_xlfn.RANK.EQ(Propostas!T47,Propostas!$T47:$V47,1))","v":""},{"$f":"IF(Propostas!U47=\"\",\"\",_xlfn.RANK.EQ(Propostas!U47,Propostas!$T47:$V47,1))","v":""},{"$f":"IF(Propostas!V47=\"\",\"\",_xlfn.RANK.EQ(Propostas!V47,Propostas!$T47:$V47,1))","v":""},{"$f":"IF(Propostas!T47=\"\",\"\",Parâmetros!J40*(1+(Propostas!T47-Parâmetros!$I40)/SUM(Propostas!$T47:$V47))*VLOOKUP(Dados!B47,Uso_final[],2,0))","v":""},{"$f":"IF(Propostas!U47=\"\",\"\",Parâmetros!K40*(1+(Propostas!U47-Parâmetros!$I40)/SUM(Propostas!$T47:$V47))*VLOOKUP(Dados!C47,Uso_final[],2,0))","v":""},{"$f":"IF(Propostas!V47=\"\",\"\",Parâmetros!L40*(1+(Propostas!V47-Parâmetros!$I40)/SUM(Propostas!$T47:$V47))*VLOOKUP(Dados!D47,Uso_final[],2,0))","v":""},"",{"$f":"IF($C40=\"\",\"\",MIN(1,(Propostas!W47+Propostas!X47)/Propostas!B47))","v":""}]
[null,{"$f":"IF(ISTEXT(Propostas!A48),Propostas!A48,\"\")","v":""},{"$f":"IFERROR(Propostas!C48/Propostas!D48,\"\")","v":""},"",{"$f":"IF($C41=\"\",\"\",Propostas!F48/Propostas!C48)","v":""},{"$f":"IF($C41=\"\",\"\",Propostas!G48/Parâmetros!$F$4)","v":""},{"$f":"IF($C41=\"\",\"\",Propostas!H48/Parâmetros!$G$4)","v":""},{"$f":"IF($C41=\"\",\"\",MIN(1,(Propostas!B48-Propostas!C48)/Propostas!B48))","v":""},{"$f":"IF($C41=\"\",\"\",AVERAGE(Propostas!T48:V48))","v":""},{"$f":"IF(Propostas!T48=\"\",\"\",_xlfn.RANK.EQ(Propostas!T48,Propostas!$T48:$V48,1))","v":""},{"$f":"IF(Propostas!U48=\"\",\"\",_xlfn.RANK.EQ(Propostas!U48,Propostas!$T48:$V48,1))","v":""},{"$f":"IF(Propostas!V48=\"\",\"\",_xlfn.RANK.EQ(Propostas!V48,Propostas!$T48:$V48,1))","v":""},{"$f":"IF(Propostas!T48=\"\",\"\",Parâmetros!J41*(1+(Propostas!T48-Parâmetros!$I41)/SUM(Propostas!$T48:$V48))*VLOOKUP(Dados!B48,Uso_final[],2,0))","v":""},{"$f":"IF(Propostas!U48=\"\",\"\",Parâmetros!K41*(1+(Propostas!U48-Parâmetros!$I41)/SUM(Propostas!$T48:$V48))*VLOOKUP(Dados!C48,Uso_final[],2,0))","v":""},{"$f":"IF(Propostas!V48=\"\",\"\",Parâmetros!L41*(1+(Propostas!V48-Parâmetros!$I41)/SUM(Propostas!$T48:$V48))*VLOOKUP(Dados!D48,Uso_final[],2,0))","v":""},"",{"$f":"IF($C41=\"\",\"\",MIN(1,(Propostas!W48+Propostas!X48)/Propostas!B48))","v":""}]
[null,{"$f":"IF(ISTEXT(Propostas!A49),Propostas!A49,\"\")","v":""},{"$f":"IFERROR(Propostas!C49/Propostas!D49,\"\")","v":""},"",{"$f":"IF($C42=\"\",\"\",Propostas!F49/Propostas!C49)","v":""},{"$f":"IF($C42=\"\",\"\",Propostas!G49/Parâmetros!$F$4)","v":""},{"$f":"IF($C42=\"\",\"\",Propostas!H49/Parâmetros!$G$4)","v":""},{"$f":"IF($C42=\"\",\"\",MIN(1,(Propostas!B49-Propostas!C49)/Propostas!B49))","v":""},{"$f":"IF($C42=\"\",\"\",AVERAGE(Propostas!T49:V49))","v":""},{"$f":"IF(Propostas!T49=\"\",\"\",_xlfn.RANK.EQ(Propostas!T49,Propostas!$T49:$V49,1))","v":""},{"$f":"IF(Propostas!U49=\"\",\"\",_xlfn.RANK.EQ(Propostas!U49,Propostas!$T49:$V49,1))","v":""},{"$f":"IF(Propostas!V49=\"\",\"\",_xlfn.RANK.EQ(Propostas!V49,Propostas!$T49:$V49,1))","v":""},{"$f":"IF(Propostas!T49=\"\",\"\",Parâmetros!J42*(1+(Propostas!T49-Parâmetros!$I42)/SUM(Propostas!$T49:$V49))*VLOOKUP(Dados!B49,Uso_final[],2,0))","v":""},{"$f":"IF(Propostas!U49=\"\",\"\",Parâmetros!K42*(1+(Propostas!U49-Parâmetros!$I42)/SUM(Propostas!$T49:$V49))*VLOOKUP(Dados!C49,Uso_final[],2,0))","v":""},{"$f":"IF(Propostas!V49=\"\",\"\",Parâmetros!L42*(1+(Propostas!V49-Parâmetros!$I42)/SUM(Propostas!$T49:$V49))*VLOOKUP(Dados!D49,Uso_final[],2,0))","v":""},"",{"$f":"IF($C42=\"\",\"\",MIN(1,(Propostas!W49+Propostas!X49)/Propostas!B49))","v":""}]
[null,{"$f":"IF(ISTEXT(Propostas!A50),Propostas!A50,\"\")","v":""},{"$f":"IFERROR(Propostas!C50/Propostas!D50,\"\")","v":""},"",{"$f":"IF($C43=\"\",\"\",Propostas!F50/Propostas!C50)","v":""},{"$f":"IF($C43=\"\",\"\",Propostas!G50/Parâmetros!$F$4)","v":""},{"$f":"IF($C43=\"\",\"\",Propostas!H50/Parâmetros!$G$4)","v":""},{"$f":"IF($C43=\"\",\"\",MIN(1,(Propostas!B50-Propostas!C50)/Propostas!B50))","v":""},{"$f":"IF($C43=\"\",\"\",AVERAGE(Propostas!T50:V50))","v":""},{"$f":"IF(Propostas!T50=\"\",\"\",_xlfn.RANK.EQ(Propostas!T50,Propostas!$T50:$V50,1))","v":""},{"$f":"IF(Propostas!U50=\"\",\"\",_xlfn.RANK.EQ(Propostas!U50,Propostas!$T50:$V50,1))","v":""},{"$f":"IF(Propostas!V50=\"\",\"\",_xlfn.RANK.EQ(Propostas!V50,Propostas!$T50:$V50,1))","v":""},{"$f":"IF(Propostas!T50=\"\",\"\",Parâmetros!J43*(1+(Propostas!T50-Parâmetros!$I43)/SUM(Propostas!$T50:$V50))*VLOOKUP(Dados!B50,Uso_final[],2,0))","v":""},{"$f":"IF(Propostas!U50=\"\",\"\",Parâmetros!K43*(1+(Propostas!U50-Parâmetros!$I43)/SUM(Propostas!$T50:$V50))*VLOOKUP(Dados!C50,Uso_final[],2,0))","v":""},{"$f":"IF(Propostas!V50=\"\",\"\",Parâmetros!L43*(1+(Propostas!V50-Parâmetros!$I43)/SUM(Propostas!$T50:$V50))*VLOOKUP(Dados!D50,Uso_final[],2,0))","v":""},"",{"$f":"IF($C43=\"\",\"\",MIN(1,(Propostas!W50+Propostas!X50)/Propostas!B50))","v":""}]
[null,{"$f":"IF(ISTEXT(Propostas!A51),Propostas!A51,\"\")","v":""},{"$f":"IFERROR(Propostas!C51/Propostas!D51,\"\")","v":""},"",{"$f":"IF($C44=\"\",\"\",Propostas!F51/Propostas!C51)","v":""},{"$f":"IF($C44=\"\",\"\",Propostas!G51/Parâmetros!$F$4)","v":""},{"$f":"IF($C44=\"\",\"\",Propostas!H51/Parâmetros!$G$4)","v":""},{"$f":"IF($C44=\"\",\"\",MIN(1,(Propostas!B51-Propostas!C51)/Propostas!B51))","v":""},{"$f":"IF($C44=\"\",\"\",AVERAGE(Propostas!T51:V51))","v":""},{"$f":"IF(Propostas!T51=\"\",\"\",_xlfn.RANK.EQ(Propostas!T51,Propostas!$T51:$V51,1))","v":""},{"$f":"IF(Propostas!U51=\"\",\"\",_xlfn.RANK.EQ(Propostas!U51,Propostas!$T51:$V51,1))","v":""},{"$f":"IF(Propostas!V51=\"\",\"\",_xlfn.RANK.EQ(Propostas!V51,Propostas!$T51:$V51,1))","v":""},{"$f":"IF(Propostas!T51=\"\",\"\",Parâmetros!J44*(1+(Propostas!T51-Parâmetros!$I44)/SUM(Propostas!$T51:$V51))*VLOOKUP(Dados!B51,Uso_final[],2,0))","v":""},{"$f":"IF(Propostas!U51=\"\",\"\",Parâmetros!K44*(1+(Propostas!U51-Parâmetros!$I44)/SUM(Propostas!$T51:$V51))*VLOOKUP(Dados!C51,Uso_final[],2,0))","v":""},{"$f":"IF(Propostas!V51=\"\",\"\",Parâmetros!L44*(1+(Propostas!V51-Parâmetros!$I44)/SUM(Propostas!$T51:$V51))*VLOOKUP(Dados!D51,Uso_final[],2,0))","v":""},"",{"$f":"IF($C44=\"\",\"\",MIN(1,(Propostas!W51+Propostas!X51)/Propostas!B51))","v":""}]
[null,{"$f":"IF(ISTEXT(Propostas!A52),Propostas!A52,\"\")","v":""},{"$f":"IFERROR(Propostas!C52/Propostas!D52,\"\")","v":""},"",{"$f":"IF($C45=\"\",\"\",Propostas!F52/Propostas!C52)","v":""},{"$f":"IF($C45=\"\",\"\",Propostas!G52/Parâmetros!$F$4)","v":""},{"$f":"IF($C45=\"\",\"\",Propostas!H52/Parâmetros!$G$4)","v":""},{"$f":"IF($C45=\"\",\"\",MIN(1,(Propostas!B52-Propostas!C52)/Propostas!B52))","v":""},{"$f":"IF($C45=\"\",\"\",AVERAGE(Propostas!T52:V52))","v":""},{"$f":"IF(Propostas!T52=\"\",\"\",_xlfn.RANK.EQ(Propostas!T52,Propostas!$T52:$V52,1))","v":""},{"$f":"IF(Propostas!U52=\"\",\"\",_xlfn.RANK.EQ(Propostas!U52,Propostas!$T52:$V52,1))","v":""},{"$f":"IF(Propostas!V52=\"\",\"\",_xlfn.RANK.EQ(Propostas!V52,Propostas!$T52:$V52,1))","v":""},{"$f":"IF(Propostas!T52=\"\",\"\",Parâmetros!J45*(1+(Propostas!T52-Parâmetros!$I45)/SUM(Propostas!$T52:$V52))*VLOOKUP(Dados!B52,Uso_final[],2,0))","v":""},{"$f":"IF(Propostas!U52=\"\",\"\",Parâmetros!K45*(1+(Propostas!U52-Parâmetros!$I45)/SUM(Propostas!$T52:$V52))*VLOOKUP(Dados!C52,Uso_final[],2,0))","v":""},{"$f":"IF(Propostas!V52=\"\",\"\",Parâmetros!L45*(1+(Propostas!V52-Parâmetros!$I45)/SUM(Propostas!$T52:$V52))*VLOOKUP(Dados!D52,Uso_final[],2,0))","v":""},"",{"$f":"IF($C45=\"\",\"\",MIN(1,(Propostas!W52+Propostas!X52)/Propostas!B52))","v":""}]
[null,{"$f":"IF(ISTEXT(Propostas!A53),Propostas!A53,\"\")","v":""},{"$f":"IFERROR(Propostas!C53/Propostas!D53,\"\")","v":""},"",{"$f":"IF($C46=\"\",\"\",Propostas!F53/Propostas!C53)","v":""},{"$f":"IF($C46=\"\",\"\",Propostas!G53/Parâmetros!$F$4)","v":""},{"$f":"IF($C46=\"\",\"\",Propostas!H53/Parâmetros!$G$4)","v":""},{"$f":"IF($C46=\"\",\"\",MIN(1,(Propostas!B53-Propostas!C53)/Propostas!B53))","v":""},{"$f":"IF($C46=\"\",\"\",AVERAGE(Propostas!T53:V53))","v":""},{"$f":"IF(Propostas!T53=\"\",\"\",_xlfn.RANK.EQ(Propostas!T53,Propostas!$T53:$V53,1))","v":""},{"$f":"IF(Propostas!U53=\"\",\"\",_xlfn.RANK.EQ(Propostas!U53,Propostas!$T53:$V53,1))","v":""},{"$f":"IF(Propostas!V53=\"\",\"\",_xlfn.RANK.EQ(Propostas!V53,Propostas!$T53:$V53,1))","v":""},{"$f":"IF(Propostas!T53=\"\",\"\",Parâmetros!J46*(1+(Propostas!T53-Parâmetros!$I46)/SUM(Propostas!$T53:$V53))*VLOOKUP(Dados!B53,Uso_final[],2,0))","v":""},{"$f":"IF(Propostas!U53=\"\",\"\",Parâmetros!K46*(1+(Propostas!U53-Parâmetros!$I46)/SUM(Propostas!$T53:$V53))*VLOOKUP(Dados!C53,Uso_final[],2,0))","v":""},{"$f":"IF(Propostas!V53=\"\",\"\",Parâmetros!L46*(1+(Propostas!V53-Parâmetros!$I46)/SUM(Propostas!$T53:$V53))*VLOOKUP(Dados!D53,Uso_final[],2,0))","v":""},"",{"$f":"IF($C46=\"\",\"\",MIN(1,(Propostas!W53+Propostas!X53)/Propostas!B53))","v":""}]
[null,{"$f":"IF(ISTEXT(Propostas!A54),Propostas!A54,\"\")","v":""},{"$f":"IFERROR(Propostas!C54/Propostas!D54,\"\")","v":""},"",{"$f":"IF($C47=\"\",\"\",Propostas!F54/Propostas!C54)","v":""},{"$f":"IF($C47=\"\",\"\",Propostas!G54/Parâmetros!$F$4)","v":""},{"$f":"IF($C47=\"\",\"\",Propostas!H54/Parâmetros!$G$4)","v":""},{"$f":"IF($C47=\"\",\"\",MIN(1,(Propostas!B54-Propostas!C54)/Propostas!B54))","v":""},{"$f":"IF($C47=\"\",\"\",AVERAGE(Propostas!T54:V54))","v":""},{"$f":"IF(Propostas!T54=\"\",\"\",_xlfn.RANK.EQ(Propostas!T54,Propostas!$T54:$V54,1))","v":""},{"$f":"IF(Propostas!U54=\"\",\"\",_xlfn.RANK.EQ(Propostas!U54,Propostas!$T54:$V54,1))","v":""},{"$f":"IF(Propostas!V54=\"\",\"\",_xlfn.RANK.EQ(Propostas!V54,Propostas!$T54:$V54,1))","v":""},{"$f":"IF(Propostas!T54=\"\",\"\",Parâmetros!J47*(1+(Propostas!T54-Parâmetros!$I47)/SUM(Propostas!$T54:$V54))*VLOOKUP(Dados!B54,Uso_final[],2,0))","v":""},{"$f":"IF(Propostas!U54=\"\",\"\",Parâmetros!K47*(1+(Propostas!U54-Parâmetros!$I47)/SUM(Propostas!$T54:$V54))*VLOOKUP(Dados!C54,Uso_final[],2,0))","v":""},{"$f":"IF(Propostas!V54=\"\",\"\",Parâmetros!L47*(1+(Propostas!V54-Parâmetros!$I47)/SUM(Propostas!$T54:$V54))*VLOOKUP(Dados!D54,Uso_final[],2,0))","v":""},"",{"$f":"IF($C47=\"\",\"\",MIN(1,(Propostas!W54+Propostas!X54)/Propostas!B54))","v":""}]
[null,{"$f":"IF(ISTEXT(Propostas!A55),Propostas!A55,\"\")","v":""},{"$f":"IFERROR(Propostas!C55/Propostas!D55,\"\")","v":""},"",{"$f":"IF($C48=\"\",\"\",Propostas!F55/Propostas!C55)","v":""},{"$f":"IF($C48=\"\",\"\",Propostas!G55/Parâmetros!$F$4)","v":""},{"$f":"IF($C48=\"\",\"\",Propostas!H55/Parâmetros!$G$4)","v":""},{"$f":"IF($C48=\"\",\"\",MIN(1,(Propostas!B55-Propostas!C55)/Propostas!B55))","v":""},{"$f":"IF($C48=\"\",\"\",AVERAGE(Propostas!T55:V55))","v":""},{"$f":"IF(Propostas!T55=\"\",\"\",_xlfn.RANK.EQ(Propostas!T55,Propostas!$T55:$V55,1))","v":""},{"$f":"IF(Propostas!U55=\"\",\"\",_xlfn.RANK.EQ(Propostas!U55,Propostas!$T55:$V55,1))","v":""},{"$f":"IF(Propostas!V55=\"\",\"\",_xlfn.RANK.EQ(Propostas!V55,Propostas!$T55:$V55,1))","v":""},{"$f":"IF(Propostas!T55=\"\",\"\",Parâmetros!J48*(1+(Propostas!T55-Parâmetros!$I48)/SUM(Propostas!$T55:$V55))*VLOOKUP(Dados!B55,Uso_final[],2,0))","v":""},{"$f":"IF(Propostas!U55=\"\",\"\",Parâmetros!K48*(1+(Propostas!U55-Parâmetros!$I48)/SUM(Propostas!$T55:$V55))*VLOOKUP(Dados!C55,Uso_final[],2,0))","v":""},{"$f":"IF(Propostas!V55=\"\",\"\",Parâmetros!L48*(1+(Propostas!V55-Parâmetros!$I48)/SUM(Propostas!$T55:$V55))*VLOOKUP(Dados!D55,Uso_final[],2,0))","v":""},"",{"$f":"IF($C48=\"\",\"\",MIN(1,(Propostas!W55+Propostas!X55)/Propostas!B55))","v":""}]
[null,{"$f":"IF(ISTEXT(Propostas!A56),Propostas!A56,\"\")","v":""},{"$f":"IFERROR(Propostas!C56/Propostas!D56,\"\")","v":""},"",{"$f":"IF($C49=\"\",\"\",Propostas!F56/Propostas!C56)","v":""},{"$f":"IF($C49=\"\",\"\",Propostas!G56/Parâmetros!$F$4)","v":""},{"$f":"IF($C49=\"\",\"\",Propostas!H56/Parâmetros!$G$4)","v":""},{"$f":"IF($C49=\"\",\"\",MIN(1,(Propostas!B56-Propostas!C56)/Propostas!B56))","v":""},{"$f":"IF($C49=\"\",\"\",AVERAGE(Propostas!T56:V56))","v":""},{"$f":"IF(Propostas!T56=\"\",\"\",_xlfn.RANK.EQ(Propostas!T56,Propostas!$T56:$V56,1))","v":""},{"$f":"IF(Propostas!U56=\"\",\"\",_xlfn.RANK.EQ(Propostas!U56,Propostas!$T56:$V56,1))","v":""},{"$f":"IF(Propostas!V56=\"\",\"\",_xlfn.RANK.EQ(Propostas!V56,Propostas!$T56:$V56,1))","v":""},{"$f":"IF(Propostas!T56=\"\",\"\",Parâmetros!J49*(1+(Propostas!T56-Parâmetros!$I49)/SUM(Propostas!$T56:$V56))*VLOOKUP(Dados!B56,Uso_final[],2,0))","v":""},{"$f":"IF(Propostas!U56=\"\",\"\",Parâmetros!K49*(1+(Propostas!U56-Parâmetros!$I49)/SUM(Propostas!$T56:$V56))*VLOOKUP(Dados!C56,Uso_final[],2,0))","v":""},{"$f":"IF(Propostas!V56=\"\",\"\",Parâmetros!L49*(1+(Propostas!V56-Parâmetros!$I49)/SUM(Propostas!$T56:$V56))*VLOOKUP(Dados!D56,Uso_final[],2,0))","v":""},"",{"$f":"IF($C49=\"\",\"\",MIN(1,(Propostas!W56+Propostas!X56)/Propostas!B56))","v":""}]
[null,{"$f":"IF(ISTEXT(Propostas!A57),Propostas!A57,\"\")","v":""},{"$f":"IFERROR(Propostas!C57/Propostas!D57,\"\")","v":""},"",{"$f":"IF($C50=\"\",\"\",Propostas!F57/Propostas!C57)","v":""},{"$f":"IF($C50=\"\",\"\",Propostas!G57/Parâmetros!$F$4)","v":""},{"$f":"IF($C50=\"\",\"\",Propostas!H57/Parâmetros!$G$4)","v":""},{"$f":"IF($C50=\"\",\"\",MIN(1,(Propostas!B57-Propostas!C57)/Propostas!B57))","v":""},{"$f":"IF($C50=\"\",\"\",AVERAGE(Propostas!T57:V57))","v":""},{"$f":"IF(Propostas!T57=\"\",\"\",_xlfn.RANK.EQ(Propostas!T57,Propostas!$T57:$V57,1))","v":""},{"$f":"IF(Propostas!U57=\"\",\"\",_xlfn.RANK.EQ(Propostas!U57,Propostas!$T57:$V57,1))","v":""},{"$f":"IF(Propostas!V57=\"\",\"\",_xlfn.RANK.EQ(Propostas!V57,Propostas!$T57:$V57,1))","v":""},{"$f":"IF(Propostas!T57=\"\",\"\",Parâmetros!J50*(1+(Propostas!T57-Parâmetros!$I50)/SUM(Propostas!$T57:$V57))*VLOOKUP(Dados!B57,Uso_final[],2,0))","v":""},{"$f":"IF(Propostas!U57=\"\",\"\",Parâmetros!K50*(1+(Propostas!U57-Parâmetros!$I50)/SUM(Propostas!$T57:$V57))*VLOOKUP(Dados!C57,Uso_final[],2,0))","v":""},{"$f":"IF(Propostas!V57=\"\",\"\",Parâmetros!L50*(1+(Propostas!V57-Parâmetros!$I50)/SUM(Propostas!$T57:$V57))*VLOOKUP(Dados!D57,Uso_final[],2,0))","v":""},"",{"$f":"IF($C50=\"\",\"\",MIN(1,(Propostas!W57+Propostas!X57)/Propostas!B57))","v":""}]
[null,{"$f":"IF(ISTEXT(Propostas!A58),Propostas!A58,\"\")","v":""},{"$f":"IFERROR(Propostas!C58/Propostas!D58,\"\")","v":""},"",{"$f":"IF($C51=\"\",\"\",Propostas!F58/Propostas!C58)","v":""},{"$f":"IF($C51=\"\",\"\",Propostas!G58/Parâmetros!$F$4)","v":""},{"$f":"IF($C51=\"\",\"\",Propostas!H58/Parâmetros!$G$4)","v":""},{"$f":"IF($C51=\"\",\"\",MIN(1,(Propostas!B58-Propostas!C58)/Propostas!B58))","v":""},{"$f":"IF($C51=\"\",\"\",AVERAGE(Propostas!T58:V58))","v":""},{"$f":"IF(Propostas!T58=\"\",\"\",_xlfn.RANK.EQ(Propostas!T58,Propostas!$T58:$V58,1))","v":""},{"$f":"IF(Propostas!U58=\"\",\"\",_xlfn.RANK.EQ(Propostas!U58,Propostas!$T58:$V58,1))","v":""},{"$f":"IF(Propostas!V58=\"\",\"\",_xlfn.RANK.EQ(Propostas!V58,Propostas!$T58:$V58,1))","v":""},{"$f":"IF(Propostas!T58=\"\",\"\",Parâmetros!J51*(1+(Propostas!T58-Parâmetros!$I51)/SUM(Propostas!$T58:$V58))*VLOOKUP(Dados!B58,Uso_final[],2,0))","v":""},{"$f":"IF(Propostas!U58=\"\",\"\",Parâmetros!K51*(1+(Propostas!U58-Parâmetros!$I51)/SUM(Propostas!$T58:$V58))*VLOOKUP(Dados!C58,Uso_final[],2,0))","v":""},{"$f":"IF(Propostas!V58=\"\",\"\",Parâmetros!L51*(1+(Propostas!V58-Parâmetros!$I51)/SUM(Propostas!$T58:$V58))*VLOOKUP(Dados!D58,Uso_final[],2,0))","v":""},"",{"$f":"IF($C51=\"\",\"\",MIN(1,(Propostas!W58+Propostas!X58)/Propostas!B58))","v":""}]
[null,{"$f":"IF(ISTEXT(Propostas!A59),Propostas!A59,\"\")","v":""},{"$f":"IFERROR(Propostas!C59/Propostas!D59,\"\")","v":""},"",{"$f":"IF($C52=\"\",\"\",Propostas!F59/Propostas!C59)","v":""},{"$f":"IF($C52=\"\",\"\",Propostas!G59/Parâmetros!$F$4)","v":""},{"$f":"IF($C52=\"\",\"\",Propostas!H59/Parâmetros!$G$4)","v":""},{"$f":"IF($C52=\"\",\"\",MIN(1,(Propostas!B59-Propostas!C59)/Propostas!B59))","v":""},{"$f":"IF($C52=\"\",\"\",AVERAGE(Propostas!T59:V59))","v":""},{"$f":"IF(Propostas!T59=\"\",\"\",_xlfn.RANK.EQ(Propostas!T59,Propostas!$T59:$V59,1))","v":""},{"$f":"IF(Propostas!U59=\"\",\"\",_xlfn.RANK.EQ(Propostas!U59,Propostas!$T59:$V59,1))","v":""},{"$f":"IF(Propostas!V59=\"\",\"\",_xlfn.RANK.EQ(Propostas!V59,Propostas!$T59:$V59,1))","v":""},{"$f":"IF(Propostas!T59=\"\",\"\",Parâmetros!J52*(1+(Propostas!T59-Parâmetros!$I52)/SUM(Propostas!$T59:$V59))*VLOOKUP(Dados!B59,Uso_final[],2,0))","v":""},{"$f":"IF(Propostas!U59=\"\",\"\",Parâmetros!K52*(1+(Propostas!U59-Parâmetros!$I52)/SUM(Propostas!$T59:$V59))*VLOOKUP(Dados!C59,Uso_final[],2,0))","v":""},{"$f":"IF(Propostas!V59=\"\",\"\",Parâmetros!L52*(1+(Propostas!V59-Parâmetros!$I52)/SUM(Propostas!$T59:$V59))*VLOOKUP(Dados!D59,Uso_final[],2,0))","v":""},"",{"$f":"IF($C52=\"\",\"\",MIN(1,(Propostas!W59+Propostas!X59)/Propostas!B59))","v":""}]
[null,{"$f":"IF(ISTEXT(Propostas!A60),Propostas!A60,\"\")","v":""},{"$f":"IFERROR(Propostas!C60/Propostas!D60,\"\")","v":""},"",{"$f":"IF($C53=\"\",\"\",Propostas!F60/Propostas!C60)","v":""},{"$f":"IF($C53=\"\",\"\",Propostas!G60/Parâmetros!$F$4)","v":""},{"$f":"IF($C53=\"\",\"\",Propostas!H60/Parâmetros!$G$4)","v":""},{"$f":"IF($C53=\"\",\"\",MIN(1,(Propostas!B60-Propostas!C60)/Propostas!B60))","v":""},{"$f":"IF($C53=\"\",\"\",AVERAGE(Propostas!T60:V60))","v":""},{"$f":"IF(Propostas!T60=\"\",\"\",_xlfn.RANK.EQ(Propostas!T60,Propostas!$T60:$V60,1))","v":""},{"$f":"IF(Propostas!U60=\"\",\"\",_xlfn.RANK.EQ(Propostas!U60,Propostas!$T60:$V60,1))","v":""},{"$f":"IF(Propostas!V60=\"\",\"\",_xlfn.RANK.EQ(Propostas!V60,Propostas!$T60:$V60,1))","v":""},{"$f":"IF(Propostas!T60=\"\",\"\",Parâmetros!J53*(1+(Propostas!T60-Parâmetros!$I53)/SUM(Propostas!$T60:$V60))*VLOOKUP(Dados!B60,Uso_final[],2,0))","v":""},{"$f":"IF(Propostas!U60=\"\",\"\",Parâmetros!K53*(1+(Propostas!U60-Parâmetros!$I53)/SUM(Propostas!$T60:$V60))*VLOOKUP(Dados!C60,Uso_final[],2,0))","v":""},{"$f":"IF(Propostas!V60=\"\",\"\",Parâmetros!L53*(1+(Propostas!V60-Parâmetros!$I53)/SUM(Propostas!$T60:$V60))*VLOOKUP(Dados!D60,Uso_final[],2,0))","v":""},"",{"$f":"IF($C53=\"\",\"\",MIN(1,(Propostas!W60+Propostas!X60)/Propostas!B60))","v":""}]
[null,{"$f":"IF(ISTEXT(Propostas!A61),Propostas!A61,\"\")","v":""},{"$f":"IFERROR(Propostas!C61/Propostas!D61,\"\")","v":""},"",{"$f":"IF($C54=\"\",\"\",Propostas!F61/Propostas!C61)","v":""},{"$f":"IF($C54=\"\",\"\",Propostas!G61/Parâmetros!$F$4)","v":""},{"$f":"IF($C54=\"\",\"\",Propostas!H61/Parâmetros!$G$4)","v":""},{"$f":"IF($C54=\"\",\"\",MIN(1,(Propostas!B61-Propostas!C61)/Propostas!B61))","v":""},{"$f":"IF($C54=\"\",\"\",AVERAGE(Propostas!T61:V61))","v":""},{"$f":"IF(Propostas!T61=\"\",\"\",_xlfn.RANK.EQ(Propostas!T61,Propostas!$T61:$V61,1))","v":""},{"$f":"IF(Propostas!U61=\"\",\"\",_xlfn.RANK.EQ(Propostas!U61,Propostas!$T61:$V61,1))","v":""},{"$f":"IF(Propostas!V61=\"\",\"\",_xlfn.RANK.EQ(Propostas!V61,Propostas!$T61:$V61,1))","v":""},{"$f":"IF(Propostas!T61=\"\",\"\",Parâmetros!J54*(1+(Propostas!T61-Parâmetros!$I54)/SUM(Propostas!$T61:$V61))*VLOOKUP(Dados!B61,Uso_final[],2,0))","v":""},{"$f":"IF(Propostas!U61=\"\",\"\",Parâmetros!K54*(1+(Propostas!U61-Parâmetros!$I54)/SUM(Propostas!$T61:$V61))*VLOOKUP(Dados!C61,Uso_final[],2,0))","v":""},{"$f":"IF(Propostas!V61=\"\",\"\",Parâmetros!L54*(1+(Propostas!V61-Parâmetros!$I54)/SUM(Propostas!$T61:$V61))*VLOOKUP(Dados!D61,Uso_final[],2,0))","v":""},"",{"$f":"IF($C54=\"\",\"\",MIN(1,(Propostas!W61+Propostas!X61)/Propostas!B61))","v":""}]
[null,{"$f":"IF(ISTEXT(Propostas!A62),Propostas!A62,\"\")","v":""},{"$f":"IFERROR(Propostas!C62/Propostas!D62,\"\")","v":""},"",{"$f":"IF($C55=\"\",\"\",Propostas!F62/Propostas!C62)","v":""},{"$f":"IF($C55=\"\",\"\",Propostas!G62/Parâmetros!$F$4)","v":""},{"$f":"IF($C55=\"\",\"\",Propostas!H62/Parâmetros!$G$4)","v":""},{"$f":"IF($C55=\"\",\"\",MIN(1,(Propostas!B62-Propostas!C62)/Propostas!B62))","v":""},{"$f":"IF($C55=\"\",\"\",AVERAGE(Propostas!T62:V62))","v":""},{"$f":"IF(Propostas!T62=\"\",\"\",_xlfn.RANK.EQ(Propostas!T62,Propostas!$T62:$V62,1))","v":""},{"$f":"IF(Propostas!U62=\"\",\"\",_xlfn.RANK.EQ(Propostas!U62,Propostas!$T62:$V62,1))","v":""},{"$f":"IF(Propostas!V62=\"\",\"\",_xlfn.RANK.EQ(Propostas!V62,Propostas!$T62:$V62,1))","v":""},{"$f":"IF(Propostas!T62=\"\",\"\",Parâmetros!J55*(1+(Propostas!T62-Parâmetros!$I55)/SUM(Propostas!$T62:$V62))*VLOOKUP(Dados!B62,Uso_final[],2,0))","v":""},{"$f":"IF(Propostas!U62=\"\",\"\",Parâmetros!K55*(1+(Propostas!U62-Parâmetros!$I55)/SUM(Propostas!$T62:$V62))*VLOOKUP(Dados!C62,Uso_final[],2,0))","v":""},{"$f":"IF(Propostas!V62=\"\",\"\",Parâmetros!L55*(1+(Propostas!V62-Parâmetros!$I55)/SUM(Propostas!$T62:$V62))*VLOOKUP(Dados!D62,Uso_final[],2,0))","v":""},"",{"$f":"IF($C55=\"\",\"\",MIN(1,(Propostas!W62+Propostas!X62)/Propostas!B62))","v":""}]
[null,{"$f":"IF(ISTEXT(Propostas!A63),Propostas!A63,\"\")","v":""},{"$f":"IFERROR(Propostas!C63/Propostas!D63,\"\")","v":""},"",{"$f":"IF($C56=\"\",\"\",Propostas!F63/Propostas!C63)","v":""},{"$f":"IF($C56=\"\",\"\",Propostas!G63/Parâmetros!$F$4)","v":""},{"$f":"IF($C56=\"\",\"\",Propostas!H63/Parâmetros!$G$4)","v":""},{"$f":"IF($C56=\"\",\"\",MIN(1,(Propostas!B63-Propostas!C63)/Propostas!B63))","v":""},{"$f":"IF($C56=\"\",\"\",AVERAGE(Propostas!T63:V63))","v":""},{"$f":"IF(Propostas!T63=\"\",\"\",_xlfn.RANK.EQ(Propostas!T63,Propostas!$T63:$V63,1))","v":""},{"$f":"IF(Propostas!U63=\"\",\"\",_xlfn.RANK.EQ(Propostas!U63,Propostas!$T63:$V63,1))","v":""},{"$f":"IF(Propostas!V63=\"\",\"\",_xlfn.RANK.EQ(Propostas!V63,Propostas!$T63:$V63,1))","v":""},{"$f":"IF(Propostas!T63=\"\",\"\",Parâmetros!J56*(1+(Propostas!T63-Parâmetros!$I56)/SUM(Propostas!$T63:$V63))*VLOOKUP(Dados!B63,Uso_final[],2,0))","v":""},{"$f":"IF(Propostas!U63=\"\",\"\",Parâmetros!K56*(1+(Propostas!U63-Parâmetros!$I56)/SUM(Propostas!$T63:$V63))*VLOOKUP(Dados!C63,Uso_final[],2,0))","v":""},{"$f":"IF(Propostas!V63=\"\",\"\",Parâmetros!L56*(1+(Propostas!V63-Parâmetros!$I56)/SUM(Propostas!$T63:$V63))*VLOOKUP(Dados!D63,Uso_final[],2,0))","v":""},"",{"$f":"IF($C56=\"\",\"\",MIN(1,(Propostas!W63+Propostas!X63)/Propostas!B63))","v":""}]
[null,{"$f":"IF(ISTEXT(Propostas!A64),Propostas!A64,\"\")","v":""},{"$f":"IFERROR(Propostas!C64/Propostas!D64,\"\")","v":""},"",{"$f":"IF($C57=\"\",\"\",Propostas!F64/Propostas!C64)","v":""},{"$f":"IF($C57=\"\",\"\",Propostas!G64/Parâmetros!$F$4)","v":""},{"$f":"IF($C57=\"\",\"\",Propostas!H64/Parâmetros!$G$4)","v":""},{"$f":"IF($C57=\"\",\"\",MIN(1,(Propostas!B64-Propostas!C64)/Propostas!B64))","v":""},{"$f":"IF($C57=\"\",\"\",AVERAGE(Propostas!T64:V64))","v":""},{"$f":"IF(Propostas!T64=\"\",\"\",_xlfn.RANK.EQ(Propostas!T64,Propostas!$T64:$V64,1))","v":""},{"$f":"IF(Propostas!U64=\"\",\"\",_xlfn.RANK.EQ(Propostas!U64,Propostas!$T64:$V64,1))","v":""},{"$f":"IF(Propostas!V64=\"\",\"\",_xlfn.RANK.EQ(Propostas!V64,Propostas!$T64:$V64,1))","v":""},{"$f":"IF(Propostas!T64=\"\",\"\",Parâmetros!J57*(1+(Propostas!T64-Parâmetros!$I57)/SUM(Propostas!$T64:$V64))*VLOOKUP(Dados!B64,Uso_final[],2,0))","v":""},{"$f":"IF(Propostas!U64=\"\",\"\",Parâmetros!K57*(1+(Propostas!U64-Parâmetros!$I57)/SUM(Propostas!$T64:$V64))*VLOOKUP(Dados!C64,Uso_final[],2,0))","v":""},{"$f":"IF(Propostas!V64=\"\",\"\",Parâmetros!L57*(1+(Propostas!V64-Parâmetros!$I57)/SUM(Propostas!$T64:$V64))*VLOOKUP(Dados!D64,Uso_final[],2,0))","v":""},"",{"$f":"IF($C57=\"\",\"\",MIN(1,(Propostas!W64+Propostas!X64)/Propostas!B64))","v":""}]
[null,{"$f":"IF(ISTEXT(Propostas!A65),Propostas!A65,\"\")","v":""},{"$f":"IFERROR(Propostas!C65/Propostas!D65,\"\")","v":""},"",{"$f":"IF($C58=\"\",\"\",Propostas!F65/Propostas!C65)","v":""},{"$f":"IF($C58=\"\",\"\",Propostas!G65/Parâmetros!$F$4)","v":""},{"$f":"IF($C58=\"\",\"\",Propostas!H65/Parâmetros!$G$4)","v":""},{"$f":"IF($C58=\"\",\"\",MIN(1,(Propostas!B65-Propostas!C65)/Propostas!B65))","v":""},{"$f":"IF($C58=\"\",\"\",AVERAGE(Propostas!T65:V65))","v":""},{"$f":"IF(Propostas!T65=\"\",\"\",_xlfn.RANK.EQ(Propostas!T65,Propostas!$T65:$V65,1))","v":""},{"$f":"IF(Propostas!U65=\"\",\"\",_xlfn.RANK.EQ(Propostas!U65,Propostas!$T65:$V65,1))","v":""},{"$f":"IF(Propostas!V65=\"\",\"\",_xlfn.RANK.EQ(Propostas!V65,Propostas!$T65:$V65,1))","v":""},{"$f":"IF(Propostas!T65=\"\",\"\",Parâmetros!J58*(1+(Propostas!T65-Parâmetros!$I58)/SUM(Propostas!$T65:$V65))*VLOOKUP(Dados!B65,Uso_final[],2,0))","v":""},{"$f":"IF(Propostas!U65=\"\",\"\",Parâmetros!K58*(1+(Propostas!U65-Parâmetros!$I58)/SUM(Propostas!$T65:$V65))*VLOOKUP(Dados!C65,Uso_final[],2,0))","v":""},{"$f":"IF(Propostas!V65=\"\",\"\",Parâmetros!L58*(1+(Propostas!V65-Parâmetros!$I58)/SUM(Propostas!$T65:$V65))*VLOOKUP(Dados!D65,Uso_final[],2,0))","v":""},"",{"$f":"IF($C58=\"\",\"\",MIN(1,(Propostas!W65+Propostas!X65)/Propostas!B65))","v":""}]
[null,{"$f":"IF(ISTEXT(Propostas!A66),Propostas!A66,\"\")","v":""},{"$f":"IFERROR(Propostas!C66/Propostas!D66,\"\")","v":""},"",{"$f":"IF($C59=\"\",\"\",Propostas!F66/Propostas!C66)","v":""},{"$f":"IF($C59=\"\",\"\",Propostas!G66/Parâmetros!$F$4)","v":""},{"$f":"IF($C59=\"\",\"\",Propostas!H66/Parâmetros!$G$4)","v":""},{"$f":"IF($C59=\"\",\"\",MIN(1,(Propostas!B66-Propostas!C66)/Propostas!B66))","v":""},{"$f":"IF($C59=\"\",\"\",AVERAGE(Propostas!T66:V66))","v":""},{"$f":"IF(Propostas!T66=\"\",\"\",_xlfn.RANK.EQ(Propostas!T66,Propostas!$T66:$V66,1))","v":""},{"$f":"IF(Propostas!U66=\"\",\"\",_xlfn.RANK.EQ(Propostas!U66,Propostas!$T66:$V66,1))","v":""},{"$f":"IF(Propostas!V66=\"\",\"\",_xlfn.RANK.EQ(Propostas!V66,Propostas!$T66:$V66,1))","v":""},{"$f":"IF(Propostas!T66=\"\",\"\",Parâmetros!J59*(1+(Propostas!T66-Parâmetros!$I59)/SUM(Propostas!$T66:$V66))*VLOOKUP(Dados!B66,Uso_final[],2,0))","v":""},{"$f":"IF(Propostas!U66=\"\",\"\",Parâmetros!K59*(1+(Propostas!U66-Parâmetros!$I59)/SUM(Propostas!$T66:$V66))*VLOOKUP(Dados!C66,Uso_final[],2,0))","v":""},{"$f":"IF(Propostas!V66=\"\",\"\",Parâmetros!L59*(1+(Propostas!V66-Parâmetros!$I59)/SUM(Propostas!$T66:$V66))*VLOOKUP(Dados!D66,Uso_final[],2,0))","v":""},"",{"$f":"IF($C59=\"\",\"\",MIN(1,(Propostas!W66+Propostas!X66)/Propostas!B66))","v":""}]
[null,{"$f":"IF(ISTEXT(Propostas!A67),Propostas!A67,\"\")","v":""},{"$f":"IFERROR(Propostas!C67/Propostas!D67,\"\")","v":""},"",{"$f":"IF($C60=\"\",\"\",Propostas!F67/Propostas!C67)","v":""},{"$f":"IF($C60=\"\",\"\",Propostas!G67/Parâmetros!$F$4)","v":""},{"$f":"IF($C60=\"\",\"\",Propostas!H67/Parâmetros!$G$4)","v":""},{"$f":"IF($C60=\"\",\"\",MIN(1,(Propostas!B67-Propostas!C67)/Propostas!B67))","v":""},{"$f":"IF($C60=\"\",\"\",AVERAGE(Propostas!T67:V67))","v":""},{"$f":"IF(Propostas!T67=\"\",\"\",_xlfn.RANK.EQ(Propostas!T67,Propostas!$T67:$V67,1))","v":""},{"$f":"IF(Propostas!U67=\"\",\"\",_xlfn.RANK.EQ(Propostas!U67,Propostas!$T67:$V67,1))","v":""},{"$f":"IF(Propostas!V67=\"\",\"\",_xlfn.RANK.EQ(Propostas!V67,Propostas!$T67:$V67,1))","v":""},{"$f":"IF(Propostas!T67=\"\",\"\",Parâmetros!J60*(1+(Propostas!T67-Parâmetros!$I60)/SUM(Propostas!$T67:$V67))*VLOOKUP(Dados!B67,Uso_final[],2,0))","v":""},{"$f":"IF(Propostas!U67=\"\",\"\",Parâmetros!K60*(1+(Propostas!U67-Parâmetros!$I60)/SUM(Propostas!$T67:$V67))*VLOOKUP(Dados!C67,Uso_final[],2,0))","v":""},{"$f":"IF(Propostas!V67=\"\",\"\",Parâmetros!L60*(1+(Propostas!V67-Parâmetros!$I60)/SUM(Propostas!$T67:$V67))*VLOOKUP(Dados!D67,Uso_final[],2,0))","v":""},"",{"$f":"IF($C60=\"\",\"\",MIN(1,(Propostas!W67+Propostas!X67)/Propostas!B67))","v":""}]
[null,{"$f":"IF(ISTEXT(Propostas!A68),Propostas!A68,\"\")","v":""},{"$f":"IFERROR(Propostas!C68/Propostas!D68,\"\")","v":""},"",{"$f":"IF($C61=\"\",\"\",Propostas!F68/Propostas!C68)","v":""},{"$f":"IF($C61=\"\",\"\",Propostas!G68/Parâmetros!$F$4)","v":""},{"$f":"IF($C61=\"\",\"\",Propostas!H68/Parâmetros!$G$4)","v":""},{"$f":"IF($C61=\"\",\"\",MIN(1,(Propostas!B68-Propostas!C68)/Propostas!B68))","v":""},{"$f":"IF($C61=\"\",\"\",AVERAGE(Propostas!T68:V68))","v":""},{"$f":"IF(Propostas!T68=\"\",\"\",_xlfn.RANK.EQ(Propostas!T68,Propostas!$T68:$V68,1))","v":""},{"$f":"IF(Propostas!U68=\"\",\"\",_xlfn.RANK.EQ(Propostas!U68,Propostas!$T68:$V68,1))","v":""},{"$f":"IF(Propostas!V68=\"\",\"\",_xlfn.RANK.EQ(Propostas!V68,Propostas!$T68:$V68,1))","v":""},{"$f":"IF(Propostas!T68=\"\",\"\",Parâmetros!J61*(1+(Propostas!T68-Parâmetros!$I61)/SUM(Propostas!$T68:$V68))*VLOOKUP(Dados!B68,Uso_final[],2,0))","v":""},{"$f":"IF(Propostas!U68=\"\",\"\",Parâmetros!K61*(1+(Propostas!U68-Parâmetros!$I61)/SUM(Propostas!$T68:$V68))*VLOOKUP(Dados!C68,Uso_final[],2,0))","v":""},{"$f":"IF(Propostas!V68=\"\",\"\",Parâmetros!L61*(1+(Propostas!V68-Parâmetros!$I61)/SUM(Propostas!$T68:$V68))*VLOOKUP(Dados!D68,Uso_final[],2,0))","v":""},"",{"$f":"IF($C61=\"\",\"\",MIN(1,(Propostas!W68+Propostas!X68)/Propostas!B68))","v":""}]
[null,{"$f":"IF(ISTEXT(Propostas!A69),Propostas!A69,\"\")","v":""},{"$f":"IFERROR(Propostas!C69/Propostas!D69,\"\")","v":""},"",{"$f":"IF($C62=\"\",\"\",Propostas!F69/Propostas!C69)","v":""},{"$f":"IF($C62=\"\",\"\",Propostas!G69/Parâmetros!$F$4)","v":""},{"$f":"IF($C62=\"\",\"\",Propostas!H69/Parâmetros!$G$4)","v":""},{"$f":"IF($C62=\"\",\"\",MIN(1,(Propostas!B69-Propostas!C69)/Propostas!B69))","v":""},{"$f":"IF($C62=\"\",\"\",AVERAGE(Propostas!T69:V69))","v":""},{"$f":"IF(Propostas!T69=\"\",\"\",_xlfn.RANK.EQ(Propostas!T69,Propostas!$T69:$V69,1))","v":""},{"$f":"IF(Propostas!U69=\"\",\"\",_xlfn.RANK.EQ(Propostas!U69,Propostas!$T69:$V69,1))","v":""},{"$f":"IF(Propostas!V69=\"\",\"\",_xlfn.RANK.EQ(Propostas!V69,Propostas!$T69:$V69,1))","v":""},{"$f":"IF(Propostas!T69=\"\",\"\",Parâmetros!J62*(1+(Propostas!T69-Parâmetros!$I62)/SUM(Propostas!$T69:$V69))*VLOOKUP(Dados!B69,Uso_final[],2,0))","v":""},{"$f":"IF(Propostas!U69=\"\",\"\",Parâmetros!K62*(1+(Propostas!U69-Parâmetros!$I62)/SUM(Propostas!$T69:$V69))*VLOOKUP(Dados!C69,Uso_final[],2,0))","v":""},{"$f":"IF(Propostas!V69=\"\",\"\",Parâmetros!L62*(1+(Propostas!V69-Parâmetros!$I62)/SUM(Propostas!$T69:$V69))*VLOOKUP(Dados!D69,Uso_final[],2,0))","v":""},"",{"$f":"IF($C62=\"\",\"\",MIN(1,(Propostas!W69+Propostas!X69)/Propostas!B69))","v":""}]
[null,{"$f":"IF(ISTEXT(Propostas!A70),Propostas!A70,\"\")","v":""},{"$f":"IFERROR(Propostas!C70/Propostas!D70,\"\")","v":""},"",{"$f":"IF($C63=\"\",\"\",Propostas!F70/Propostas!C70)","v":""},{"$f":"IF($C63=\"\",\"\",Propostas!G70/Parâmetros!$F$4)","v":""},{"$f":"IF($C63=\"\",\"\",Propostas!H70/Parâmetros!$G$4)","v":""},{"$f":"IF($C63=\"\",\"\",MIN(1,(Propostas!B70-Propostas!C70)/Propostas!B70))","v":""},{"$f":"IF($C63=\"\",\"\",AVERAGE(Propostas!T70:V70))","v":""},{"$f":"IF(Propostas!T70=\"\",\"\",_xlfn.RANK.EQ(Propostas!T70,Propostas!$T70:$V70,1))","v":""},{"$f":"IF(Propostas!U70=\"\",\"\",_xlfn.RANK.EQ(Propostas!U70,Propostas!$T70:$V70,1))","v":""},{"$f":"IF(Propostas!V70=\"\",\"\",_xlfn.RANK.EQ(Propostas!V70,Propostas!$T70:$V70,1))","v":""},{"$f":"IF(Propostas!T70=\"\",\"\",Parâmetros!J63*(1+(Propostas!T70-Parâmetros!$I63)/SUM(Propostas!$T70:$V70))*VLOOKUP(Dados!B70,Uso_final[],2,0))","v":""},{"$f":"IF(Propostas!U70=\"\",\"\",Parâmetros!K63*(1+(Propostas!U70-Parâmetros!$I63)/SUM(Propostas!$T70:$V70))*VLOOKUP(Dados!C70,Uso_final[],2,0))","v":""},{"$f":"IF(Propostas!V70=\"\",\"\",Parâmetros!L63*(1+(Propostas!V70-Parâmetros!$I63)/SUM(Propostas!$T70:$V70))*VLOOKUP(Dados!D70,Uso_final[],2,0))","v":""},"",{"$f":"IF($C63=\"\",\"\",MIN(1,(Propostas!W70+Propostas!X70)/Propostas!B70))","v":""}]
[null,{"$f":"IF(ISTEXT(Propostas!A71),Propostas!A71,\"\")","v":""},{"$f":"IFERROR(Propostas!C71/Propostas!D71,\"\")","v":""},"",{"$f":"IF($C64=\"\",\"\",Propostas!F71/Propostas!C71)","v":""},{"$f":"IF($C64=\"\",\"\",Propostas!G71/Parâmetros!$F$4)","v":""},{"$f":"IF($C64=\"\",\"\",Propostas!H71/Parâmetros!$G$4)","v":""},{"$f":"IF($C64=\"\",\"\",MIN(1,(Propostas!B71-Propostas!C71)/Propostas!B71))","v":""},{"$f":"IF($C64=\"\",\"\",AVERAGE(Propostas!T71:V71))","v":""},{"$f":"IF(Propostas!T71=\"\",\"\",_xlfn.RANK.EQ(Propostas!T71,Propostas!$T71:$V71,1))","v":""},{"$f":"IF(Propostas!U71=\"\",\"\",_xlfn.RANK.EQ(Propostas!U71,Propostas!$T71:$V71,1))","v":""},{"$f":"IF(Propostas!V71=\"\",\"\",_xlfn.RANK.EQ(Propostas!V71,Propostas!$T71:$V71,1))","v":""},{"$f":"IF(Propostas!T71=\"\",\"\",Parâmetros!J64*(1+(Propostas!T71-Parâmetros!$I64)/SUM(Propostas!$T71:$V71))*VLOOKUP(Dados!B71,Uso_final[],2,0))","v":""},{"$f":"IF(Propostas!U71=\"\",\"\",Parâmetros!K64*(1+(Propostas!U71-Parâmetros!$I64)/SUM(Propostas!$T71:$V71))*VLOOKUP(Dados!C71,Uso_final[],2,0))","v":""},{"$f":"IF(Propostas!V71=\"\",\"\",Parâmetros!L64*(1+(Propostas!V71-Parâmetros!$I64)/SUM(Propostas!$T71:$V71))*VLOOKUP(Dados!D71,Uso_final[],2,0))","v":""},"",{"$f":"IF($C64=\"\",\"\",MIN(1,(Propostas!W71+Propostas!X71)/Propostas!B71))","v":""}]
[null,{"$f":"IF(ISTEXT(Propostas!A72),Propostas!A72,\"\")","v":""},{"$f":"IFERROR(Propostas!C72/Propostas!D72,\"\")","v":""},"",{"$f":"IF($C65=\"\",\"\",Propostas!F72/Propostas!C72)","v":""},{"$f":"IF($C65=\"\",\"\",Propostas!G72/Parâmetros!$F$4)","v":""},{"$f":"IF($C65=\"\",\"\",Propostas!H72/Parâmetros!$G$4)","v":""},{"$f":"IF($C65=\"\",\"\",MIN(1,(Propostas!B72-Propostas!C72)/Propostas!B72))","v":""},{"$f":"IF($C65=\"\",\"\",AVERAGE(Propostas!T72:V72))","v":""},{"$f":"IF(Propostas!T72=\"\",\"\",_xlfn.RANK.EQ(Propostas!T72,Propostas!$T72:$V72,1))","v":""},{"$f":"IF(Propostas!U72=\"\",\"\",_xlfn.RANK.EQ(Propostas!U72,Propostas!$T72:$V72,1))","v":""},{"$f":"IF(Propostas!V72=\"\",\"\",_xlfn.RANK.EQ(Propostas!V72,Propostas!$T72:$V72,1))","v":""},{"$f":"IF(Propostas!T72=\"\",\"\",Parâmetros!J65*(1+(Propostas!T72-Parâmetros!$I65)/SUM(Propostas!$T72:$V72))*VLOOKUP(Dados!B72,Uso_final[],2,0))","v":""},{"$f":"IF(Propostas!U72=\"\",\"\",Parâmetros!K65*(1+(Propostas!U72-Parâmetros!$I65)/SUM(Propostas!$T72:$V72))*VLOOKUP(Dados!C72,Uso_final[],2,0))","v":""},{"$f":"IF(Propostas!V72=\"\",\"\",Parâmetros!L65*(1+(Propostas!V72-Parâmetros!$I65)/SUM(Propostas!$T72:$V72))*VLOOKUP(Dados!D72,Uso_final[],2,0))","v":""},"",{"$f":"IF($C65=\"\",\"\",MIN(1,(Propostas!W72+Propostas!X72)/Propostas!B72))","v":""}]
[null,{"$f":"IF(ISTEXT(Propostas!A73),Propostas!A73,\"\")","v":""},{"$f":"IFERROR(Propostas!C73/Propostas!D73,\"\")","v":""},"",{"$f":"IF($C66=\"\",\"\",Propostas!F73/Propostas!C73)","v":""},{"$f":"IF($C66=\"\",\"\",Propostas!G73/Parâmetros!$F$4)","v":""},{"$f":"IF($C66=\"\",\"\",Propostas!H73/Parâmetros!$G$4)","v":""},{"$f":"IF($C66=\"\",\"\",MIN(1,(Propostas!B73-Propostas!C73)/Propostas!B73))","v":""},{"$f":"IF($C66=\"\",\"\",AVERAGE(Propostas!T73:V73))","v":""},{"$f":"IF(Propostas!T73=\"\",\"\",_xlfn.RANK.EQ(Propostas!T73,Propostas!$T73:$V73,1))","v":""},{"$f":"IF(Propostas!U73=\"\",\"\",_xlfn.RANK.EQ(Propostas!U73,Propostas!$T73:$V73,1))","v":""},{"$f":"IF(Propostas!V73=\"\",\"\",_xlfn.RANK.EQ(Propostas!V73,Propostas!$T73:$V73,1))","v":""},{"$f":"IF(Propostas!T73=\"\",\"\",Parâmetros!J66*(1+(Propostas!T73-Parâmetros!$I66)/SUM(Propostas!$T73:$V73))*VLOOKUP(Dados!B73,Uso_final[],2,0))","v":""},{"$f":"IF(Propostas!U73=\"\",\"\",Parâmetros!K66*(1+(Propostas!U73-Parâmetros!$I66)/SUM(Propostas!$T73:$V73))*VLOOKUP(Dados!C73,Uso_final[],2,0))","v":""},{"$f":"IF(Propostas!V73=\"\",\"\",Parâmetros!L66*(1+(Propostas!V73-Parâmetros!$I66)/SUM(Propostas!$T73:$V73))*VLOOKUP(Dados!D73,Uso_final[],2,0))","v":""},"",{"$f":"IF($C66=\"\",\"\",MIN(1,(Propostas!W73+Propostas!X73)/Propostas!B73))","v":""}]
[null,{"$f":"IF(ISTEXT(Propostas!A74),Propostas!A74,\"\")","v":""},{"$f":"IFERROR(Propostas!C74/Propostas!D74,\"\")","v":""},"",{"$f":"IF($C67=\"\",\"\",Propostas!F74/Propostas!C74)","v":""},{"$f":"IF($C67=\"\",\"\",Propostas!G74/Parâmetros!$F$4)","v":""},{"$f":"IF($C67=\"\",\"\",Propostas!H74/Parâmetros!$G$4)","v":""},{"$f":"IF($C67=\"\",\"\",MIN(1,(Propostas!B74-Propostas!C74)/Propostas!B74))","v":""},{"$f":"IF($C67=\"\",\"\",AVERAGE(Propostas!T74:V74))","v":""},{"$f":"IF(Propostas!T74=\"\",\"\",_xlfn.RANK.EQ(Propostas!T74,Propostas!$T74:$V74,1))","v":""},{"$f":"IF(Propostas!U74=\"\",\"\",_xlfn.RANK.EQ(Propostas!U74,Propostas!$T74:$V74,1))","v":""},{"$f":"IF(Propostas!V74=\"\",\"\",_xlfn.RANK.EQ(Propostas!V74,Propostas!$T74:$V74,1))","v":""},{"$f":"IF(Propostas!T74=\"\",\"\",Parâmetros!J67*(1+(Propostas!T74-Parâmetros!$I67)/SUM(Propostas!$T74:$V74))*VLOOKUP(Dados!B74,Uso_final[],2,0))","v":""},{"$f":"IF(Propostas!U74=\"\",\"\",Parâmetros!K67*(1+(Propostas!U74-Parâmetros!$I67)/SUM(Propostas!$T74:$V74))*VLOOKUP(Dados!C74,Uso_final[],2,0))","v":""},{"$f":"IF(Propostas!V74=\"\",\"\",Parâmetros!L67*(1+(Propostas!V74-Parâmetros!$I67)/SUM(Propostas!$T74:$V74))*VLOOKUP(Dados!D74,Uso_final[],2,0))","v":""},"",{"$f":"IF($C67=\"\",\"\",MIN(1,(Propostas!W74+Propostas!X74)/Propostas!B74))","v":""}]
[null,{"$f":"IF(ISTEXT(Propostas!A75),Propostas!A75,\"\")","v":""},{"$f":"IFERROR(Propostas!C75/Propostas!D75,\"\")","v":""},"",{"$f":"IF($C68=\"\",\"\",Propostas!F75/Propostas!C75)","v":""},{"$f":"IF($C68=\"\",\"\",Propostas!G75/Parâmetros!$F$4)","v":""},{"$f":"IF($C68=\"\",\"\",Propostas!H75/Parâmetros!$G$4)","v":""},{"$f":"IF($C68=\"\",\"\",MIN(1,(Propostas!B75-Propostas!C75)/Propostas!B75))","v":""},{"$f":"IF($C68=\"\",\"\",AVERAGE(Propostas!T75:V75))","v":""},{"$f":"IF(Propostas!T75=\"\",\"\",_xlfn.RANK.EQ(Propostas!T75,Propostas!$T75:$V75,1))","v":""},{"$f":"IF(Propostas!U75=\"\",\"\",_xlfn.RANK.EQ(Propostas!U75,Propostas!$T75:$V75,1))","v":""},{"$f":"IF(Propostas!V75=\"\",\"\",_xlfn.RANK.EQ(Propostas!V75,Propostas!$T75:$V75,1))","v":""},{"$f":"IF(Propostas!T75=\"\",\"\",Parâmetros!J68*(1+(Propostas!T75-Parâmetros!$I68)/SUM(Propostas!$T75:$V75))*VLOOKUP(Dados!B75,Uso_final[],2,0))","v":""},{"$f":"IF(Propostas!U75=\"\",\"\",Parâmetros!K68*(1+(Propostas!U75-Parâmetros!$I68)/SUM(Propostas!$T75:$V75))*VLOOKUP(Dados!C75,Uso_final[],2,0))","v":""},{"$f":"IF(Propostas!V75=\"\",\"\",Parâmetros!L68*(1+(Propostas!V75-Parâmetros!$I68)/SUM(Propostas!$T75:$V75))*VLOOKUP(Dados!D75,Uso_final[],2,0))","v":""},"",{"$f":"IF($C68=\"\",\"\",MIN(1,(Propostas!W75+Propostas!X75)/Propostas!B75))","v":""}]
[null,{"$f":"IF(ISTEXT(Propostas!A76),Propostas!A76,\"\")","v":""},{"$f":"IFERROR(Propostas!C76/Propostas!D76,\"\")","v":""},"",{"$f":"IF($C69=\"\",\"\",Propostas!F76/Propostas!C76)","v":""},{"$f":"IF($C69=\"\",\"\",Propostas!G76/Parâmetros!$F$4)","v":""},{"$f":"IF($C69=\"\",\"\",Propostas!H76/Parâmetros!$G$4)","v":""},{"$f":"IF($C69=\"\",\"\",MIN(1,(Propostas!B76-Propostas!C76)/Propostas!B76))","v":""},{"$f":"IF($C69=\"\",\"\",AVERAGE(Propostas!T76:V76))","v":""},{"$f":"IF(Propostas!T76=\"\",\"\",_xlfn.RANK.EQ(Propostas!T76,Propostas!$T76:$V76,1))","v":""},{"$f":"IF(Propostas!U76=\"\",\"\",_xlfn.RANK.EQ(Propostas!U76,Propostas!$T76:$V76,1))","v":""},{"$f":"IF(Propostas!V76=\"\",\"\",_xlfn.RANK.EQ(Propostas!V76,Propostas!$T76:$V76,1))","v":""},{"$f":"IF(Propostas!T76=\"\",\"\",Parâmetros!J69*(1+(Propostas!T76-Parâmetros!$I69)/SUM(Propostas!$T76:$V76))*VLOOKUP(Dados!B76,Uso_final[],2,0))","v":""},{"$f":"IF(Propostas!U76=\"\",\"\",Parâmetros!K69*(1+(Propostas!U76-Parâmetros!$I69)/SUM(Propostas!$T76:$V76))*VLOOKUP(Dados!C76,Uso_final[],2,0))","v":""},{"$f":"IF(Propostas!V76=\"\",\"\",Parâmetros!L69*(1+(Propostas!V76-Parâmetros!$I69)/SUM(Propostas!$T76:$V76))*VLOOKUP(Dados!D76,Uso_final[],2,0))","v":""},{"$f":"IF(C69=\"\",\"\",SUM(M69:O69)-1)","v":""},{"$f":"IF($C69=\"\",\"\",MIN(1,(Propostas!W76+Propostas!X76)/Propostas!B76))","v":""}]
[null,{"$f":"IF(ISTEXT(Propostas!A77),Propostas!A77,\"\")","v":""},{"$f":"IFERROR(Propostas!C77/Propostas!D77,\"\")","v":""},{"$f":"IF($C70=\"\",\"\",RANK(C70,$C$5:$C$200,0))","v":""},{"$f":"IF($C70=\"\",\"\",Propostas!F77/Propostas!C77)","v":""},{"$f":"IF($C70=\"\",\"\",Propostas!G77/Parâmetros!$F$4)","v":""},{"$f":"IF($C70=\"\",\"\",Propostas!H77/Parâmetros!$G$4)","v":""},{"$f":"IF($C70=\"\",\"\",MIN(1,(Propostas!B77-Propostas!C77)/Propostas!B77))","v":""},{"$f":"IF($C70=\"\",\"\",AVERAGE(Propostas!T77:V77))","v":""},{"$f":"IF(Propostas!T77=\"\",\"\",_xlfn.RANK.EQ(Propostas!T77,Propostas!$T77:$V77,1))","v":""},{"$f":"IF(Propostas!U77=\"\",\"\",_xlfn.RANK.EQ(Propostas!U77,Propostas!$T77:$V77,1))","v":""},{"$f":"IF(Propostas!V77=\"\",\"\",_xlfn.RANK.EQ(Propostas!V77,Propostas!$T77:$V77,1))","v":""},{"$f":"IF(Propostas!T77=\"\",\"\",Parâmetros!J70*(1+(Propostas!T77-Parâmetros!$I70)/SUM(Propostas!$T77:$V77))*VLOOKUP(Dados!B77,Uso_final[],2,0))","v":""},{"$f":"IF(Propostas!U77=\"\",\"\",Parâmetros!K70*(1+(Propostas!U77-Parâmetros!$I70)/SUM(Propostas!$T77:$V77))*VLOOKUP(Dados!C77,Uso_final[],2,0))","v":""},{"$f":"IF(Propostas!V77=\"\",\"\",Parâmetros!L70*(1+(Propostas!V77-Parâmetros!$I70)/SUM(Propostas!$T77:$V77))*VLOOKUP(Dados!D77,Uso_final[],2,0))","v":""},"",{"$f":"IF($C70=\"\",\"\",MIN(1,(Propostas!W77+Propostas!X77)/Propostas!B77))","v":""}]
[null,{"$f":"IF(ISTEXT(Propostas!A78),Propostas!A78,\"\")","v":""},{"$f":"IFERROR(Propostas!C78/Propostas!D78,\"\")","v":""},"",{"$f":"IF($C71=\"\",\"\",Propostas!F78/Propostas!C78)","v":""},{"$f":"IF($C71=\"\",\"\",Propostas!G78/Parâmetros!$F$4)","v":""},{"$f":"IF($C71=\"\",\"\",Propostas!H78/Parâmetros!$G$4)","v":""},{"$f":"IF($C71=\"\",\"\",MIN(1,(Propostas!B78-Propostas!C78)/Propostas!B78))","v":""},{"$f":"IF($C71=\"\",\"\",AVERAGE(Propostas!T78:V78))","v":""},{"$f":"IF(Propostas!T78=\"\",\"\",_xlfn.RANK.EQ(Propostas!T78,Propostas!$T78:$V78,1))","v":""},{"$f":"IF(Propostas!U78=\"\",\"\",_xlfn.RANK.EQ(Propostas!U78,Propostas!$T78:$V78,1))","v":""},{"$f":"IF(Propostas!V78=\"\",\"\",_xlfn.RANK.EQ(Propostas!V78,Propostas!$T78:$V78,1))","v":""},{"$f":"IF(Propostas!T78=\"\",\"\",Parâmetros!J71*(1+(Propostas!T78-Parâmetros!$I71)/SUM(Propostas!$T78:$V78))*VLOOKUP(Dados!B78,Uso_final[],2,0))","v":""},{"$f":"IF(Propostas!U78=\"\",\"\",Parâmetros!K71*(1+(Propostas!U78-Parâmetros!$I71)/SUM(Propostas!$T78:$V78))*VLOOKUP(Dados!C78,Uso_final[],2,0))","v":""},{"$f":"IF(Propostas!V78=\"\",\"\",Parâmetros!L71*(1+(Propostas!V78-Parâmetros!$I71)/SUM(Propostas!$T78:$V78))*VLOOKUP(Dados!D78,Uso_final[],2,0))","v":""},"",{"$f":"IF($C71=\"\",\"\",MIN(1,(Propostas!W78+Propostas!X78)/Propostas!B78))","v":""}]
[null,{"$f":"IF(ISTEXT(Propostas!A79),Propostas!A79,\"\")","v":""},{"$f":"IFERROR(Propostas!C79/Propostas!D79,\"\")","v":""},"",{"$f":"IF($C72=\"\",\"\",Propostas!F79/Propostas!C79)","v":""},{"$f":"IF($C72=\"\",\"\",Propostas!G79/Parâmetros!$F$4)","v":""},{"$f":"IF($C72=\"\",\"\",Propostas!H79/Parâmetros!$G$4)","v":""},{"$f":"IF($C72=\"\",\"\",MIN(1,(Propostas!B79-Propostas!C79)/Propostas!B79))","v":""},{"$f":"IF($C72=\"\",\"\",AVERAGE(Propostas!T79:V79))","v":""},{"$f":"IF(Propostas!T79=\"\",\"\",_xlfn.RANK.EQ(Propostas!T79,Propostas!$T79:$V79,1))","v":""},{"$f":"IF(Propostas!U79=\"\",\"\",_xlfn.RANK.EQ(Propostas!U79,Propostas!$T79:$V79,1))","v":""},{"$f":"IF(Propostas!V79=\"\",\"\",_xlfn.RANK.EQ(Propostas!V79,Propostas!$T79:$V79,1))","v":""},{"$f":"IF(Propostas!T79=\"\",\"\",Parâmetros!J72*(1+(Propostas!T79-Parâmetros!$I72)/SUM(Propostas!$T79:$V79))*VLOOKUP(Dados!B79,Uso_final[],2,0))","v":""},{"$f":"IF(Propostas!U79=\"\",\"\",Parâmetros!K72*(1+(Propostas!U79-Parâmetros!$I72)/SUM(Propostas!$T79:$V79))*VLOOKUP(Dados!C79,Uso_final[],2,0))","v":""},{"$f":"IF(Propostas!V79=\"\",\"\",Parâmetros!L72*(1+(Propostas!V79-Parâmetros!$I72)/SUM(Propostas!$T79:$V79))*VLOOKUP(Dados!D79,Uso_final[],2,0))","v":""},"",{"$f":"IF($C72=\"\",\"\",MIN(1,(Propostas!W79+Propostas!X79)/Propostas!B79))","v":""}]
[null,{"$f":"IF(ISTEXT(Propostas!A80),Propostas!A80,\"\")","v":""},{"$f":"IFERROR(Propostas!C80/Propostas!D80,\"\")","v":""},"",{"$f":"IF($C73=\"\",\"\",Propostas!F80/Propostas!C80)","v":""},{"$f":"IF($C73=\"\",\"\",Propostas!G80/Parâmetros!$F$4)","v":""},{"$f":"IF($C73=\"\",\"\",Propostas!H80/Parâmetros!$G$4)","v":""},{"$f":"IF($C73=\"\",\"\",MIN(1,(Propostas!B80-Propostas!C80)/Propostas!B80))","v":""},{"$f":"IF($C73=\"\",\"\",AVERAGE(Propostas!T80:V80))","v":""},{"$f":"IF(Propostas!T80=\"\",\"\",_xlfn.RANK.EQ(Propostas!T80,Propostas!$T80:$V80,1))","v":""},{"$f":"IF(Propostas!U80=\"\",\"\",_xlfn.RANK.EQ(Propostas!U80,Propostas!$T80:$V80,1))","v":""},{"$f":"IF(Propostas!V80=\"\",\"\",_xlfn.RANK.EQ(Propostas!V80,Propostas!$T80:$V80,1))","v":""},{"$f":"IF(Propostas!T80=\"\",\"\",Parâmetros!J73*(1+(Propostas!T80-Parâmetros!$I73)/SUM(Propostas!$T80:$V80))*VLOOKUP(Dados!B80,Uso_final[],2,0))","v":""},{"$f":"IF(Propostas!U80=\"\",\"\",Parâmetros!K73*(1+(Propostas!U80-Parâmetros!$I73)/SUM(Propostas!$T80:$V80))*VLOOKUP(Dados!C80,Uso_final[],2,0))","v":""},{"$f":"IF(Propostas!V80=\"\",\"\",Parâmetros!L73*(1+(Propostas!V80-Parâmetros!$I73)/SUM(Propostas!$T80:$V80))*VLOOKUP(Dados!D80,Uso_final[],2,0))","v":""},"",{"$f":"IF($C73=\"\",\"\",MIN(1,(Propostas!W80+Propostas!X80)/Propostas!B80))","v":""}]
[null,{"$f":"IF(ISTEXT(Propostas!A81),Propostas!A81,\"\")","v":""},{"$f":"IFERROR(Propostas!C81/Propostas!D81,\"\")","v":""},"",{"$f":"IF($C74=\"\",\"\",Propostas!F81/Propostas!C81)","v":""},{"$f":"IF($C74=\"\",\"\",Propostas!G81/Parâmetros!$F$4)","v":""},{"$f":"IF($C74=\"\",\"\",Propostas!H81/Parâmetros!$G$4)","v":""},{"$f":"IF($C74=\"\",\"\",MIN(1,(Propostas!B81-Propostas!C81)/Propostas!B81))","v":""},{"$f":"IF($C74=\"\",\"\",AVERAGE(Propostas!T81:V81))","v":""},{"$f":"IF(Propostas!T81=\"\",\"\",_xlfn.RANK.EQ(Propostas!T81,Propostas!$T81:$V81,1))","v":""},{"$f":"IF(Propostas!U81=\"\",\"\",_xlfn.RANK.EQ(Propostas!U81,Propostas!$T81:$V81,1))","v":""},{"$f":"IF(Propostas!V81=\"\",\"\",_xlfn.RANK.EQ(Propostas!V81,Propostas!$T81:$V81,1))","v":""},{"$f":"IF(Propostas!T81=\"\",\"\",Parâmetros!J74*(1+(Propostas!T81-Parâmetros!$I74)/SUM(Propostas!$T81:$V81))*VLOOKUP(Dados!B81,Uso_final[],2,0))","v":""},{"$f":"IF(Propostas!U81=\"\",\"\",Parâmetros!K74*(1+(Propostas!U81-Parâmetros!$I74)/SUM(Propostas!$T81:$V81))*VLOOKUP(Dados!C81,Uso_final[],2,0))","v":""},{"$f":"IF(Propostas!V81=\"\",\"\",Parâmetros!L74*(1+(Propostas!V81-Parâmetros!$I74)/SUM(Propostas!$T81:$V81))*VLOOKUP(Dados!D81,Uso_final[],2,0))","v":""},"",{"$f":"IF($C74=\"\",\"\",MIN(1,(Propostas!W81+Propostas!X81)/Propostas!B81))","v":""}]
[null,{"$f":"IF(ISTEXT(Propostas!A82),Propostas!A82,\"\")","v":""},{"$f":"IFERROR(Propostas!C82/Propostas!D82,\"\")","v":""},"",{"$f":"IF($C75=\"\",\"\",Propostas!F82/Propostas!C82)","v":""},{"$f":"IF($C75=\"\",\"\",Propostas!G82/Parâmetros!$F$4)","v":""},{"$f":"IF($C75=\"\",\"\",Propostas!H82/Parâmetros!$G$4)","v":""},{"$f":"IF($C75=\"\",\"\",MIN(1,(Propostas!B82-Propostas!C82)/Propostas!B82))","v":""},{"$f":"IF($C75=\"\",\"\",AVERAGE(Propostas!T82:V82))","v":""},{"$f":"IF(Propostas!T82=\"\",\"\",_xlfn.RANK.EQ(Propostas!T82,Propostas!$T82:$V82,1))","v":""},{"$f":"IF(Propostas!U82=\"\",\"\",_xlfn.RANK.EQ(Propostas!U82,Propostas!$T82:$V82,1))","v":""},{"$f":"IF(Propostas!V82=\"\",\"\",_xlfn.RANK.EQ(Propostas!V82,Propostas!$T82:$V82,1))","v":""},{"$f":"IF(Propostas!T82=\"\",\"\",Parâmetros!J75*(1+(Propostas!T82-Parâmetros!$I75)/SUM(Propostas!$T82:$V82))*VLOOKUP(Dados!B82,Uso_final[],2,0))","v":""},{"$f":"IF(Propostas!U82=\"\",\"\",Parâmetros!K75*(1+(Propostas!U82-Parâmetros!$I75)/SUM(Propostas!$T82:$V82))*VLOOKUP(Dados!C82,Uso_final[],2,0))","v":""},{"$f":"IF(Propostas!V82=\"\",\"\",Parâmetros!L75*(1+(Propostas!V82-Parâmetros!$I75)/SUM(Propostas!$T82:$V82))*VLOOKUP(Dados!D82,Uso_final[],2,0))","v":""},"",{"$f":"IF($C75=\"\",\"\",MIN(1,(Propostas!W82+Propostas!X82)/Propostas!B82))","v":""}]
[null,{"$f":"IF(ISTEXT(Propostas!A83),Propostas!A83,\"\")","v":""},{"$f":"IFERROR(Propostas!C83/Propostas!D83,\"\")","v":""},"",{"$f":"IF($C76=\"\",\"\",Propostas!F83/Propostas!C83)","v":""},{"$f":"IF($C76=\"\",\"\",Propostas!G83/Parâmetros!$F$4)","v":""},{"$f":"IF($C76=\"\",\"\",Propostas!H83/Parâmetros!$G$4)","v":""},{"$f":"IF($C76=\"\",\"\",MIN(1,(Propostas!B83-Propostas!C83)/Propostas!B83))","v":""},{"$f":"IF($C76=\"\",\"\",AVERAGE(Propostas!T83:V83))","v":""},{"$f":"IF(Propostas!T83=\"\",\"\",_xlfn.RANK.EQ(Propostas!T83,Propostas!$T83:$V83,1))","v":""},{"$f":"IF(Propostas!U83=\"\",\"\",_xlfn.RANK.EQ(Propostas!U83,Propostas!$T83:$V83,1))","v":""},{"$f":"IF(Propostas!V83=\"\",\"\",_xlfn.RANK.EQ(Propostas!V83,Propostas!$T83:$V83,1))","v":""},{"$f":"IF(Propostas!T83=\"\",\"\",Parâmetros!J76*(1+(Propostas!T83-Parâmetros!$I76)/SUM(Propostas!$T83:$V83))*VLOOKUP(Dados!B83,Uso_final[],2,0))","v":""},{"$f":"IF(Propostas!U83=\"\",\"\",Parâmetros!K76*(1+(Propostas!U83-Parâmetros!$I76)/SUM(Propostas!$T83:$V83))*VLOOKUP(Dados!C83,Uso_final[],2,0))","v":""},{"$f":"IF(Propostas!V83=\"\",\"\",Parâmetros!L76*(1+(Propostas!V83-Parâmetros!$I76)/SUM(Propostas!$T83:$V83))*VLOOKUP(Dados!D83,Uso_final[],2,0))","v":""},"",{"$f":"IF($C76=\"\",\"\",MIN(1,(Propostas!W83+Propostas!X83)/Propostas!B83))","v":""}]
[null,{"$f":"IF(ISTEXT(Propostas!A84),Propostas!A84,\"\")","v":""},{"$f":"IFERROR(Propostas!C84/Propostas!D84,\"\")","v":""},"",{"$f":"IF($C77=\"\",\"\",Propostas!F84/Propostas!C84)","v":""},{"$f":"IF($C77=\"\",\"\",Propostas!G84/Parâmetros!$F$4)","v":""},{"$f":"IF($C77=\"\",\"\",Propostas!H84/Parâmetros!$G$4)","v":""},{"$f":"IF($C77=\"\",\"\",MIN(1,(Propostas!B84-Propostas!C84)/Propostas!B84))","v":""},{"$f":"IF($C77=\"\",\"\",AVERAGE(Propostas!T84:V84))","v":""},{"$f":"IF(Propostas!T84=\"\",\"\",_xlfn.RANK.EQ(Propostas!T84,Propostas!$T84:$V84,1))","v":""},{"$f":"IF(Propostas!U84=\"\",\"\",_xlfn.RANK.EQ(Propostas!U84,Propostas!$T84:$V84,1))","v":""},{"$f":"IF(Propostas!V84=\"\",\"\",_xlfn.RANK.EQ(Propostas!V84,Propostas!$T84:$V84,1))","v":""},{"$f":"IF(Propostas!T84=\"\",\"\",Parâmetros!J77*(1+(Propostas!T84-Parâmetros!$I77)/SUM(Propostas!$T84:$V84))*VLOOKUP(Dados!B84,Uso_final[],2,0))","v":""},{"$f":"IF(Propostas!U84=\"\",\"\",Parâmetros!K77*(1+(Propostas!U84-Parâmetros!$I77)/SUM(Propostas!$T84:$V84))*VLOOKUP(Dados!C84,Uso_final[],2,0))","v":""},{"$f":"IF(Propostas!V84=\"\",\"\",Parâmetros!L77*(1+(Propostas!V84-Parâmetros!$I77)/SUM(Propostas!$T84:$V84))*VLOOKUP(Dados!D84,Uso_final[],2,0))","v":""},"",{"$f":"IF($C77=\"\",\"\",MIN(1,(Propostas!W84+Propostas!X84)/Propostas!B84))","v":""}]
[null,{"$f":"IF(ISTEXT(Propostas!A85),Propostas!A85,\"\")","v":""},{"$f":"IFERROR(Propostas!C85/Propostas!D85,\"\")","v":""},"",{"$f":"IF($C78=\"\",\"\",Propostas!F85/Propostas!C85)","v":""},{"$f":"IF($C78=\"\",\"\",Propostas!G85/Parâmetros!$F$4)","v":""},{"$f":"IF($C78=\"\",\"\",Propostas!H85/Parâmetros!$G$4)","v":""},{"$f":"IF($C78=\"\",\"\",MIN(1,(Propostas!B85-Propostas!C85)/Propostas!B85))","v":""},{"$f":"IF($C78=\"\",\"\",AVERAGE(Propostas!T85:V85))","v":""},{"$f":"IF(Propostas!T85=\"\",\"\",_xlfn.RANK.EQ(Propostas!T85,Propostas!$T85:$V85,1))","v":""},{"$f":"IF(Propostas!U85=\"\",\"\",_xlfn.RANK.EQ(Propostas!U85,Propostas!$T85:$V85,1))","v":""},{"$f":"IF(Propostas!V85=\"\",\"\",_xlfn.RANK.EQ(Propostas!V85,Propostas!$T85:$V85,1))","v":""},{"$f":"IF(Propostas!T85=\"\",\"\",Parâmetros!J78*(1+(Propostas!T85-Parâmetros!$I78)/SUM(Propostas!$T85:$V85))*VLOOKUP(Dados!B85,Uso_final[],2,0))","v":""},{"$f":"IF(Propostas!U85=\"\",\"\",Parâmetros!K78*(1+(Propostas!U85-Parâmetros!$I78)/SUM(Propostas!$T85:$V85))*VLOOKUP(Dados!C85,Uso_final[],2,0))","v":""},{"$f":"IF(Propostas!V85=\"\",\"\",Parâmetros!L78*(1+(Propostas!V85-Parâmetros!$I78)/SUM(Propostas!$T85:$V85))*VLOOKUP(Dados!D85,Uso_final[],2,0))","v":""},"",{"$f":"IF($C78=\"\",\"\",MIN(1,(Propostas!W85+Propostas!X85)/Propostas!B85))","v":""}]
[null,{"$f":"IF(ISTEXT(Propostas!A86),Propostas!A86,\"\")","v":""},{"$f":"IFERROR(Propostas!C86/Propostas!D86,\"\")","v":""},"",{"$f":"IF($C79=\"\",\"\",Propostas!F86/Propostas!C86)","v":""},{"$f":"IF($C79=\"\",\"\",Propostas!G86/Parâmetros!$F$4)","v":""},{"$f":"IF($C79=\"\",\"\",Propostas!H86/Parâmetros!$G$4)","v":""},{"$f":"IF($C79=\"\",\"\",MIN(1,(Propostas!B86-Propostas!C86)/Propostas!B86))","v":""},{"$f":"IF($C79=\"\",\"\",AVERAGE(Propostas!T86:V86))","v":""},{"$f":"IF(Propostas!T86=\"\",\"\",_xlfn.RANK.EQ(Propostas!T86,Propostas!$T86:$V86,1))","v":""},{"$f":"IF(Propostas!U86=\"\",\"\",_xlfn.RANK.EQ(Propostas!U86,Propostas!$T86:$V86,1))","v":""},{"$f":"IF(Propostas!V86=\"\",\"\",_xlfn.RANK.EQ(Propostas!V86,Propostas!$T86:$V86,1))","v":""},{"$f":"IF(Propostas!T86=\"\",\"\",Parâmetros!J79*(1+(Propostas!T86-Parâmetros!$I79)/SUM(Propostas!$T86:$V86))*VLOOKUP(Dados!B86,Uso_final[],2,0))","v":""},{"$f":"IF(Propostas!U86=\"\",\"\",Parâmetros!K79*(1+(Propostas!U86-Parâmetros!$I79)/SUM(Propostas!$T86:$V86))*VLOOKUP(Dados!C86,Uso_final[],2,0))","v":""},{"$f":"IF(Propostas!V86=\"\",\"\",Parâmetros!L79*(1+(Propostas!V86-Parâmetros!$I79)/SUM(Propostas!$T86:$V86))*VLOOKUP(Dados!D86,Uso_final[],2,0))","v":""},"",{"$f":"IF($C79=\"\",\"\",MIN(1,(Propostas!W86+Propostas!X86)/Propostas!B86))","v":""}]
[null,{"$f":"IF(ISTEXT(Propostas!A87),Propostas!A87,\"\")","v":""},{"$f":"IFERROR(Propostas!C87/Propostas!D87,\"\")","v":""},"",{"$f":"IF($C80=\"\",\"\",Propostas!F87/Propostas!C87)","v":""},{"$f":"IF($C80=\"\",\"\",Propostas!G87/Parâmetros!$F$4)","v":""},{"$f":"IF($C80=\"\",\"\",Propostas!H87/Parâmetros!$G$4)","v":""},{"$f":"IF($C80=\"\",\"\",MIN(1,(Propostas!B87-Propostas!C87)/Propostas!B87))","v":""},{"$f":"IF($C80=\"\",\"\",AVERAGE(Propostas!T87:V87))","v":""},{"$f":"IF(Propostas!T87=\"\",\"\",_xlfn.RANK.EQ(Propostas!T87,Propostas!$T87:$V87,1))","v":""},{"$f":"IF(Propostas!U87=\"\",\"\",_xlfn.RANK.EQ(Propostas!U87,Propostas!$T87:$V87,1))","v":""},{"$f":"IF(Propostas!V87=\"\",\"\",_xlfn.RANK.EQ(Propostas!V87,Propostas!$T87:$V87,1))","v":""},{"$f":"IF(Propostas!T87=\"\",\"\",Parâmetros!J80*(1+(Propostas!T87-Parâmetros!$I80)/SUM(Propostas!$T87:$V87))*VLOOKUP(Dados!B87,Uso_final[],2,0))","v":""},{"$f":"IF(Propostas!U87=\"\",\"\",Parâmetros!K80*(1+(Propostas!U87-Parâmetros!$I80)/SUM(Propostas!$T87:$V87))*VLOOKUP(Dados!C87,Uso_final[],2,0))","v":""},{"$f":"IF(Propostas!V87=\"\",\"\",Parâmetros!L80*(1+(Propostas!V87-Parâmetros!$I80)/SUM(Propostas!$T87:$V87))*VLOOKUP(Dados!D87,Uso_final[],2,0))","v":""},"",{"$f":"IF($C80=\"\",\"\",MIN(1,(Propostas!W87+Propostas!X87)/Propostas!B87))","v":""}]
[null,{"$f":"IF(ISTEXT(Propostas!A88),Propostas!A88,\"\")","v":""},{"$f":"IFERROR(Propostas!C88/Propostas!D88,\"\")","v":""},"",{"$f":"IF($C81=\"\",\"\",Propostas!F88/Propostas!C88)","v":""},{"$f":"IF($C81=\"\",\"\",Propostas!G88/Parâmetros!$F$4)","v":""},{"$f":"IF($C81=\"\",\"\",Propostas!H88/Parâmetros!$G$4)","v":""},{"$f":"IF($C81=\"\",\"\",MIN(1,(Propostas!B88-Propostas!C88)/Propostas!B88))","v":""},{"$f":"IF($C81=\"\",\"\",AVERAGE(Propostas!T88:V88))","v":""},{"$f":"IF(Propostas!T88=\"\",\"\",_xlfn.RANK.EQ(Propostas!T88,Propostas!$T88:$V88,1))","v":""},{"$f":"IF(Propostas!U88=\"\",\"\",_xlfn.RANK.EQ(Propostas!U88,Propostas!$T88:$V88,1))","v":""},{"$f":"IF(Propostas!V88=\"\",\"\",_xlfn.RANK.EQ(Propostas!V88,Propostas!$T88:$V88,1))","v":""},{"$f":"IF(Propostas!T88=\"\",\"\",Parâmetros!J81*(1+(Propostas!T88-Parâmetros!$I81)/SUM(Propostas!$T88:$V88))*VLOOKUP(Dados!B88,Uso_final[],2,0))","v":""},{"$f":"IF(Propostas!U88=\"\",\"\",Parâmetros!K81*(1+(Propostas!U88-Parâmetros!$I81)/SUM(Propostas!$T88:$V88))*VLOOKUP(Dados!C88,Uso_final[],2,0))","v":""},{"$f":"IF(Propostas!V88=\"\",\"\",Parâmetros!L81*(1+(Propostas!V88-Parâmetros!$I81)/SUM(Propostas!$T88:$V88))*VLOOKUP(Dados!D88,Uso_final[],2,0))","v":""},"",{"$f":"IF($C81=\"\",\"\",MIN(1,(Propostas!W88+Propostas!X88)/Propostas!B88))","v":""}]
[null,{"$f":"IF(ISTEXT(Propostas!A89),Propostas!A89,\"\")","v":""},{"$f":"IFERROR(Propostas!C89/Propostas!D89,\"\")","v":""},"",{"$f":"IF($C82=\"\",\"\",Propostas!F89/Propostas!C89)","v":""},{"$f":"IF($C82=\"\",\"\",Propostas!G89/Parâmetros!$F$4)","v":""},{"$f":"IF($C82=\"\",\"\",Propostas!H89/Parâmetros!$G$4)","v":""},{"$f":"IF($C82=\"\",\"\",MIN(1,(Propostas!B89-Propostas!C89)/Propostas!B89))","v":""},{"$f":"IF($C82=\"\",\"\",AVERAGE(Propostas!T89:V89))","v":""},{"$f":"IF(Propostas!T89=\"\",\"\",_xlfn.RANK.EQ(Propostas!T89,Propostas!$T89:$V89,1))","v":""},{"$f":"IF(Propostas!U89=\"\",\"\",_xlfn.RANK.EQ(Propostas!U89,Propostas!$T89:$V89,1))","v":""},{"$f":"IF(Propostas!V89=\"\",\"\",_xlfn.RANK.EQ(Propostas!V89,Propostas!$T89:$V89,1))","v":""},{"$f":"IF(Propostas!T89=\"\",\"\",Parâmetros!J82*(1+(Propostas!T89-Parâmetros!$I82)/SUM(Propostas!$T89:$V89))*VLOOKUP(Dados!B89,Uso_final[],2,0))","v":""},{"$f":"IF(Propostas!U89=\"\",\"\",Parâmetros!K82*(1+(Propostas!U89-Parâmetros!$I82)/SUM(Propostas!$T89:$V89))*VLOOKUP(Dados!C89,Uso_final[],2,0))","v":""},{"$f":"IF(Propostas!V89=\"\",\"\",Parâmetros!L82*(1+(Propostas!V89-Parâmetros!$I82)/SUM(Propostas!$T89:$V89))*VLOOKUP(Dados!D89,Uso_final[],2,0))","v":""},"",{"$f":"IF($C82=\"\",\"\",MIN(1,(Propostas!W89+Propostas!X89)/Propostas!B89))","v":""}]
[null,{"$f":"IF(ISTEXT(Propostas!A90),Propostas!A90,\"\")","v":""},{"$f":"IFERROR(Propostas!C90/Propostas!D90,\"\")","v":""},"",{"$f":"IF($C83=\"\",\"\",Propostas!F90/Propostas!C90)","v":""},{"$f":"IF($C83=\"\",\"\",Propostas!G90/Parâmetros!$F$4)","v":""},{"$f":"IF($C83=\"\",\"\",Propostas!H90/Parâmetros!$G$4)","v":""},{"$f":"IF($C83=\"\",\"\",MIN(1,(Propostas!B90-Propostas!C90)/Propostas!B90))","v":""},{"$f":"IF($C83=\"\",\"\",AVERAGE(Propostas!T90:V90))","v":""},{"$f":"IF(Propostas!T90=\"\",\"\",_xlfn.RANK.EQ(Propostas!T90,Propostas!$T90:$V90,1))","v":""},{"$f":"IF(Propostas!U90=\"\",\"\",_xlfn.RANK.EQ(Propostas!U90,Propostas!$T90:$V90,1))","v":""},{"$f":"IF(Propostas!V90=\"\",\"\",_xlfn.RANK.EQ(Propostas!V90,Propostas!$T90:$V90,1))","v":""},{"$f":"IF(Propostas!T90=\"\",\"\",Parâmetros!J83*(1+(Propostas!T90-Parâmetros!$I83)/SUM(Propostas!$T90:$V90))*VLOOKUP(Dados!B90,Uso_final[],2,0))","v":""},{"$f":"IF(Propostas!U90=\"\",\"\",Parâmetros!K83*(1+(Propostas!U90-Parâmetros!$I83)/SUM(Propostas!$T90:$V90))*VLOOKUP(Dados!C90,Uso_final[],2,0))","v":""},{"$f":"IF(Propostas!V90=\"\",\"\",Parâmetros!L83*(1+(Propostas!V90-Parâmetros!$I83)/SUM(Propostas!$T90:$V90))*VLOOKUP(Dados!D90,Uso_final[],2,0))","v":""},"",{"$f":"IF($C83=\"\",\"\",MIN(1,(Propostas!W90+Propostas!X90)/Propostas!B90))","v":""}]
[null,{"$f":"IF(ISTEXT(Propostas!A91),Propostas!A91,\"\")","v":""},{"$f":"IFERROR(Propostas!C91/Propostas!D91,\"\")","v":""},"",{"$f":"IF($C84=\"\",\"\",Propostas!F91/Propostas!C91)","v":""},{"$f":"IF($C84=\"\",\"\",Propostas!G91/Parâmetros!$F$4)","v":""},{"$f":"IF($C84=\"\",\"\",Propostas!H91/Parâmetros!$G$4)","v":""},{"$f":"IF($C84=\"\",\"\",MIN(1,(Propostas!B91-Propostas!C91)/Propostas!B91))","v":""},{"$f":"IF($C84=\"\",\"\",AVERAGE(Propostas!T91:V91))","v":""},{"$f":"IF(Propostas!T91=\"\",\"\",_xlfn.RANK.EQ(Propostas!T91,Propostas!$T91:$V91,1))","v":""},{"$f":"IF(Propostas!U91=\"\",\"\",_xlfn.RANK.EQ(Propostas!U91,Propostas!$T91:$V91,1))","v":""},{"$f":"IF(Propostas!V91=\"\",\"\",_xlfn.RANK.EQ(Propostas!V91,Propostas!$T91:$V91,1))","v":""},{"$f":"IF(Propostas!T91=\"\",\"\",Parâmetros!J84*(1+(Propostas!T91-Parâmetros!$I84)/SUM(Propostas!$T91:$V91))*VLOOKUP(Dados!B91,Uso_final[],2,0))","v":""},{"$f":"IF(Propostas!U91=\"\",\"\",Parâmetros!K84*(1+(Propostas!U91-Parâmetros!$I84)/SUM(Propostas!$T91:$V91))*VLOOKUP(Dados!C91,Uso_final[],2,0))","v":""},{"$f":"IF(Propostas!V91=\"\",\"\",Parâmetros!L84*(1+(Propostas!V91-Parâmetros!$I84)/SUM(Propostas!$T91:$V91))*VLOOKUP(Dados!D91,Uso_final[],2,0))","v":""},"",{"$f":"IF($C84=\"\",\"\",MIN(1,(Propostas!W91+Propostas!X91)/Propostas!B91))","v":""}]
[null,{"$f":"IF(ISTEXT(Propostas!A92),Propostas!A92,\"\")","v":""},{"$f":"IFERROR(Propostas!C92/Propostas!D92,\"\")","v":""},"",{"$f":"IF($C85=\"\",\"\",Propostas!F92/Propostas!C92)","v":""},{"$f":"IF($C85=\"\",\"\",Propostas!G92/Parâmetros!$F$4)","v":""},{"$f":"IF($C85=\"\",\"\",Propostas!H92/Parâmetros!$G$4)","v":""},{"$f":"IF($C85=\"\",\"\",MIN(1,(Propostas!B92-Propostas!C92)/Propostas!B92))","v":""},{"$f":"IF($C85=\"\",\"\",AVERAGE(Propostas!T92:V92))","v":""},{"$f":"IF(Propostas!T92=\"\",\"\",_xlfn.RANK.EQ(Propostas!T92,Propostas!$T92:$V92,1))","v":""},{"$f":"IF(Propostas!U92=\"\",\"\",_xlfn.RANK.EQ(Propostas!U92,Propostas!$T92:$V92,1))","v":""},{"$f":"IF(Propostas!V92=\"\",\"\",_xlfn.RANK.EQ(Propostas!V92,Propostas!$T92:$V92,1))","v":""},{"$f":"IF(Propostas!T92=\"\",\"\",Parâmetros!J85*(1+(Propostas!T92-Parâmetros!$I85)/SUM(Propostas!$T92:$V92))*VLOOKUP(Dados!B92,Uso_final[],2,0))","v":""},{"$f":"IF(Propostas!U92=\"\",\"\",Parâmetros!K85*(1+(Propostas!U92-Parâmetros!$I85)/SUM(Propostas!$T92:$V92))*VLOOKUP(Dados!C92,Uso_final[],2,0))","v":""},{"$f":"IF(Propostas!V92=\"\",\"\",Parâmetros!L85*(1+(Propostas!V92-Parâmetros!$I85)/SUM(Propostas!$T92:$V92))*VLOOKUP(Dados!D92,Uso_final[],2,0))","v":""},"",{"$f":"IF($C85=\"\",\"\",MIN(1,(Propostas!W92+Propostas!X92)/Propostas!B92))","v":""}]
[null,{"$f":"IF(ISTEXT(Propostas!A93),Propostas!A93,\"\")","v":""},{"$f":"IFERROR(Propostas!C93/Propostas!D93,\"\")","v":""},"",{"$f":"IF($C86=\"\",\"\",Propostas!F93/Propostas!C93)","v":""},{"$f":"IF($C86=\"\",\"\",Propostas!G93/Parâmetros!$F$4)","v":""},{"$f":"IF($C86=\"\",\"\",Propostas!H93/Parâmetros!$G$4)","v":""},{"$f":"IF($C86=\"\",\"\",MIN(1,(Propostas!B93-Propostas!C93)/Propostas!B93))","v":""},{"$f":"IF($C86=\"\",\"\",AVERAGE(Propostas!T93:V93))","v":""},{"$f":"IF(Propostas!T93=\"\",\"\",_xlfn.RANK.EQ(Propostas!T93,Propostas!$T93:$V93,1))","v":""},{"$f":"IF(Propostas!U93=\"\",\"\",_xlfn.RANK.EQ(Propostas!U93,Propostas!$T93:$V93,1))","v":""},{"$f":"IF(Propostas!V93=\"\",\"\",_xlfn.RANK.EQ(Propostas!V93,Propostas!$T93:$V93,1))","v":""},{"$f":"IF(Propostas!T93=\"\",\"\",Parâmetros!J86*(1+(Propostas!T93-Parâmetros!$I86)/SUM(Propostas!$T93:$V93))*VLOOKUP(Dados!B93,Uso_final[],2,0))","v":""},{"$f":"IF(Propostas!U93=\"\",\"\",Parâmetros!K86*(1+(Propostas!U93-Parâmetros!$I86)/SUM(Propostas!$T93:$V93))*VLOOKUP(Dados!C93,Uso_final[],2,0))","v":""},{"$f":"IF(Propostas!V93=\"\",\"\",Parâmetros!L86*(1+(Propostas!V93-Parâmetros!$I86)/SUM(Propostas!$T93:$V93))*VLOOKUP(Dados!D93,Uso_final[],2,0))","v":""},"",{"$f":"IF($C86=\"\",\"\",MIN(1,(Propostas!W93+Propostas!X93)/Propostas!B93))","v":""}]
[null,{"$f":"IF(ISTEXT(Propostas!A94),Propostas!A94,\"\")","v":""},{"$f":"IFERROR(Propostas!C94/Propostas!D94,\"\")","v":""},"",{"$f":"IF($C87=\"\",\"\",Propostas!F94/Propostas!C94)","v":""},{"$f":"IF($C87=\"\",\"\",Propostas!G94/Parâmetros!$F$4)","v":""},{"$f":"IF($C87=\"\",\"\",Propostas!H94/Parâmetros!$G$4)","v":""},{"$f":"IF($C87=\"\",\"\",MIN(1,(Propostas!B94-Propostas!C94)/Propostas!B94))","v":""},{"$f":"IF($C87=\"\",\"\",AVERAGE(Propostas!T94:V94))","v":""},{"$f":"IF(Propostas!T94=\"\",\"\",_xlfn.RANK.EQ(Propostas!T94,Propostas!$T94:$V94,1))","v":""},{"$f":"IF(Propostas!U94=\"\",\"\",_xlfn.RANK.EQ(Propostas!U94,Propostas!$T94:$V94,1))","v":""},{"$f":"IF(Propostas!V94=\"\",\"\",_xlfn.RANK.EQ(Propostas!V94,Propostas!$T94:$V94,1))","v":""},{"$f":"IF(Propostas!T94=\"\",\"\",Parâmetros!J87*(1+(Propostas!T94-Parâmetros!$I87)/SUM(Propostas!$T94:$V94))*VLOOKUP(Dados!B94,Uso_final[],2,0))","v":""},{"$f":"IF(Propostas!U94=\"\",\"\",Parâmetros!K87*(1+(Propostas!U94-Parâmetros!$I87)/SUM(Propostas!$T94:$V94))*VLOOKUP(Dados!C94,Uso_final[],2,0))","v":""},{"$f":"IF(Propostas!V94=\"\",\"\",Parâmetros!L87*(1+(Propostas!V94-Parâmetros!$I87)/SUM(Propostas!$T94:$V94))*VLOOKUP(Dados!D94,Uso_final[],2,0))","v":""},"",{"$f":"IF($C87=\"\",\"\",MIN(1,(Propostas!W94+Propostas!X94)/Propostas!B94))","v":""}]
[null,{"$f":"IF(ISTEXT(Propostas!A95),Propostas!A95,\"\")","v":""},{"$f":"IFERROR(Propostas!C95/Propostas!D95,\"\")","v":""},"",{"$f":"IF($C88=\"\",\"\",Propostas!F95/Propostas!C95)","v":""},{"$f":"IF($C88=\"\",\"\",Propostas!G95/Parâmetros!$F$4)","v":""},{"$f":"IF($C88=\"\",\"\",Propostas!H95/Parâmetros!$G$4)","v":""},{"$f":"IF($C88=\"\",\"\",MIN(1,(Propostas!B95-Propostas!C95)/Propostas!B95))","v":""},{"$f":"IF($C88=\"\",\"\",AVERAGE(Propostas!T95:V95))","v":""},{"$f":"IF(Propostas!T95=\"\",\"\",_xlfn.RANK.EQ(Propostas!T95,Propostas!$T95:$V95,1))","v":""},{"$f":"IF(Propostas!U95=\"\",\"\",_xlfn.RANK.EQ(Propostas!U95,Propostas!$T95:$V95,1))","v":""},{"$f":"IF(Propostas!V95=\"\",\"\",_xlfn.RANK.EQ(Propostas!V95,Propostas!$T95:$V95,1))","v":""},{"$f":"IF(Propostas!T95=\"\",\"\",Parâmetros!J88*(1+(Propostas!T95-Parâmetros!$I88)/SUM(Propostas!$T95:$V95))*VLOOKUP(Dados!B95,Uso_final[],2,0))","v":""},{"$f":"IF(Propostas!U95=\"\",\"\",Parâmetros!K88*(1+(Propostas!U95-Parâmetros!$I88)/SUM(Propostas!$T95:$V95))*VLOOKUP(Dados!C95,Uso_final[],2,0))","v":""},{"$f":"IF(Propostas!V95=\"\",\"\",Parâmetros!L88*(1+(Propostas!V95-Parâmetros!$I88)/SUM(Propostas!$T95:$V95))*VLOOKUP(Dados!D95,Uso_final[],2,0))","v":""},"",{"$f":"IF($C88=\"\",\"\",MIN(1,(Propostas!W95+Propostas!X95)/Propostas!B95))","v":""}]
[null,{"$f":"IF(ISTEXT(Propostas!A96),Propostas!A96,\"\")","v":""},{"$f":"IFERROR(Propostas!C96/Propostas!D96,\"\")","v":""},"",{"$f":"IF($C89=\"\",\"\",Propostas!F96/Propostas!C96)","v":""},{"$f":"IF($C89=\"\",\"\",Propostas!G96/Parâmetros!$F$4)","v":""},{"$f":"IF($C89=\"\",\"\",Propostas!H96/Parâmetros!$G$4)","v":""},{"$f":"IF($C89=\"\",\"\",MIN(1,(Propostas!B96-Propostas!C96)/Propostas!B96))","v":""},{"$f":"IF($C89=\"\",\"\",AVERAGE(Propostas!T96:V96))","v":""},{"$f":"IF(Propostas!T96=\"\",\"\",_xlfn.RANK.EQ(Propostas!T96,Propostas!$T96:$V96,1))","v":""},{"$f":"IF(Propostas!U96=\"\",\"\",_xlfn.RANK.EQ(Propostas!U96,Propostas!$T96:$V96,1))","v":""},{"$f":"IF(Propostas!V96=\"\",\"\",_xlfn.RANK.EQ(Propostas!V96,Propostas!$T96:$V96,1))","v":""},{"$f":"IF(Propostas!T96=\"\",\"\",Parâmetros!J89*(1+(Propostas!T96-Parâmetros!$I89)/SUM(Propostas!$T96:$V96))*VLOOKUP(Dados!B96,Uso_final[],2,0))","v":""},{"$f":"IF(Propostas!U96=\"\",\"\",Parâmetros!K89*(1+(Propostas!U96-Parâmetros!$I89)/SUM(Propostas!$T96:$V96))*VLOOKUP(Dados!C96,Uso_final[],2,0))","v":""},{"$f":"IF(Propostas!V96=\"\",\"\",Parâmetros!L89*(1+(Propostas!V96-Parâmetros!$I89)/SUM(Propostas!$T96:$V96))*VLOOKUP(Dados!D96,Uso_final[],2,0))","v":""},"",{"$f":"IF($C89=\"\",\"\",MIN(1,(Propostas!W96+Propostas!X96)/Propostas!B96))","v":""}]
[null,{"$f":"IF(ISTEXT(Propostas!A97),Propostas!A97,\"\")","v":""},{"$f":"IFERROR(Propostas!C97/Propostas!D97,\"\")","v":""},"",{"$f":"IF($C90=\"\",\"\",Propostas!F97/Propostas!C97)","v":""},{"$f":"IF($C90=\"\",\"\",Propostas!G97/Parâmetros!$F$4)","v":""},{"$f":"IF($C90=\"\",\"\",Propostas!H97/Parâmetros!$G$4)","v":""},{"$f":"IF($C90=\"\",\"\",MIN(1,(Propostas!B97-Propostas!C97)/Propostas!B97))","v":""},{"$f":"IF($C90=\"\",\"\",AVERAGE(Propostas!T97:V97))","v":""},{"$f":"IF(Propostas!T97=\"\",\"\",_xlfn.RANK.EQ(Propostas!T97,Propostas!$T97:$V97,1))","v":""},{"$f":"IF(Propostas!U97=\"\",\"\",_xlfn.RANK.EQ(Propostas!U97,Propostas!$T97:$V97,1))","v":""},{"$f":"IF(Propostas!V97=\"\",\"\",_xlfn.RANK.EQ(Propostas!V97,Propostas!$T97:$V97,1))","v":""},{"$f":"IF(Propostas!T97=\"\",\"\",Parâmetros!J90*(1+(Propostas!T97-Parâmetros!$I90)/SUM(Propostas!$T97:$V97))*VLOOKUP(Dados!B97,Uso_final[],2,0))","v":""},{"$f":"IF(Propostas!U97=\"\",\"\",Parâmetros!K90*(1+(Propostas!U97-Parâmetros!$I90)/SUM(Propostas!$T97:$V97))*VLOOKUP(Dados!C97,Uso_final[],2,0))","v":""},{"$f":"IF(Propostas!V97=\"\",\"\",Parâmetros!L90*(1+(Propostas!V97-Parâmetros!$I90)/SUM(Propostas!$T97:$V97))*VLOOKUP(Dados!D97,Uso_final[],2,0))","v":""},"",{"$f":"IF($C90=\"\",\"\",MIN(1,(Propostas!W97+Propostas!X97)/Propostas!B97))","v":""}]
[null,{"$f":"IF(ISTEXT(Propostas!A98),Propostas!A98,\"\")","v":""},{"$f":"IFERROR(Propostas!C98/Propostas!D98,\"\")","v":""},"",{"$f":"IF($C91=\"\",\"\",Propostas!F98/Propostas!C98)","v":""},{"$f":"IF($C91=\"\",\"\",Propostas!G98/Parâmetros!$F$4)","v":""},{"$f":"IF($C91=\"\",\"\",Propostas!H98/Parâmetros!$G$4)","v":""},{"$f":"IF($C91=\"\",\"\",MIN(1,(Propostas!B98-Propostas!C98)/Propostas!B98))","v":""},{"$f":"IF($C91=\"\",\"\",AVERAGE(Propostas!T98:V98))","v":""},{"$f":"IF(Propostas!T98=\"\",\"\",_xlfn.RANK.EQ(Propostas!T98,Propostas!$T98:$V98,1))","v":""},{"$f":"IF(Propostas!U98=\"\",\"\",_xlfn.RANK.EQ(Propostas!U98,Propostas!$T98:$V98,1))","v":""},{"$f":"IF(Propostas!V98=\"\",\"\",_xlfn.RANK.EQ(Propostas!V98,Propostas!$T98:$V98,1))","v":""},{"$f":"IF(Propostas!T98=\"\",\"\",Parâmetros!J91*(1+(Propostas!T98-Parâmetros!$I91)/SUM(Propostas!$T98:$V98))*VLOOKUP(Dados!B98,Uso_final[],2,0))","v":""},{"$f":"IF(Propostas!U98=\"\",\"\",Parâmetros!K91*(1+(Propostas!U98-Parâmetros!$I91)/SUM(Propostas!$T98:$V98))*VLOOKUP(Dados!C98,Uso_final[],2,0))","v":""},{"$f":"IF(Propostas!V98=\"\",\"\",Parâmetros!L91*(1+(Propostas!V98-Parâmetros!$I91)/SUM(Propostas!$T98:$V98))*VLOOKUP(Dados!D98,Uso_final[],2,0))","v":""},"",{"$f":"IF($C91=\"\",\"\",MIN(1,(Propostas!W98+Propostas!X98)/Propostas!B98))","v":""}]
[null,{"$f":"IF(ISTEXT(Propostas!A99),Propostas!A99,\"\")","v":""},{"$f":"IFERROR(Propostas!C99/Propostas!D99,\"\")","v":""},"",{"$f":"IF($C92=\"\",\"\",Propostas!F99/Propostas!C99)","v":""},{"$f":"IF($C92=\"\",\"\",Propostas!G99/Parâmetros!$F$4)","v":""},{"$f":"IF($C92=\"\",\"\",Propostas!H99/Parâmetros!$G$4)","v":""},{"$f":"IF($C92=\"\",\"\",MIN(1,(Propostas!B99-Propostas!C99)/Propostas!B99))","v":""},{"$f":"IF($C92=\"\",\"\",AVERAGE(Propostas!T99:V99))","v":""},{"$f":"IF(Propostas!T99=\"\",\"\",_xlfn.RANK.EQ(Propostas!T99,Propostas!$T99:$V99,1))","v":""},{"$f":"IF(Propostas!U99=\"\",\"\",_xlfn.RANK.EQ(Propostas!U99,Propostas!$T99:$V99,1))","v":""},{"$f":"IF(Propostas!V99=\"\",\"\",_xlfn.RANK.EQ(Propostas!V99,Propostas!$T99:$V99,1))","v":""},{"$f":"IF(Propostas!T99=\"\",\"\",Parâmetros!J92*(1+(Propostas!T99-Parâmetros!$I92)/SUM(Propostas!$T99:$V99))*VLOOKUP(Dados!B99,Uso_final[],2,0))","v":""},{"$f":"IF(Propostas!U99=\"\",\"\",Parâmetros!K92*(1+(Propostas!U99-Parâmetros!$I92)/SUM(Propostas!$T99:$V99))*VLOOKUP(Dados!C99,Uso_final[],2,0))","v":""},{"$f":"IF(Propostas!V99=\"\",\"\",Parâmetros!L92*(1+(Propostas!V99-Parâmetros!$I92)/SUM(Propostas!$T99:$V99))*VLOOKUP(Dados!D99,Uso_final[],2,0))","v":""},"",{"$f":"IF($C92=\"\",\"\",MIN(1,(Propostas!W99+Propostas!X99)/Propostas!B99))","v":""}]
[null,{"$f":"IF(ISTEXT(Propostas!A100),Propostas!A100,\"\")","v":""},{"$f":"IFERROR(Propostas!C100/Propostas!D100,\"\")","v":""},"",{"$f":"IF($C93=\"\",\"\",Propostas!F100/Propostas!C100)","v":""},{"$f":"IF($C93=\"\",\"\",Propostas!G100/Parâmetros!$F$4)","v":""},{"$f":"IF($C93=\"\",\"\",Propostas!H100/Parâmetros!$G$4)","v":""},{"$f":"IF($C93=\"\",\"\",MIN(1,(Propostas!B100-Propostas!C100)/Propostas!B100))","v":""},{"$f":"IF($C93=\"\",\"\",AVERAGE(Propostas!T100:V100))","v":""},{"$f":"IF(Propostas!T100=\"\",\"\",_xlfn.RANK.EQ(Propostas!T100,Propostas!$T100:$V100,1))","v":""},{"$f":"IF(Propostas!U100=\"\",\"\",_xlfn.RANK.EQ(Propostas!U100,Propostas!$T100:$V100,1))","v":""},{"$f":"IF(Propostas!V100=\"\",\"\",_xlfn.RANK.EQ(Propostas!V100,Propostas!$T100:$V100,1))","v":""},{"$f":"IF(Propostas!T100=\"\",\"\",Parâmetros!J93*(1+(Propostas!T100-Parâmetros!$I93)/SUM(Propostas!$T100:$V100))*VLOOKUP(Dados!B100,Uso_final[],2,0))","v":""},{"$f":"IF(Propostas!U100=\"\",\"\",Parâmetros!K93*(1+(Propostas!U100-Parâmetros!$I93)/SUM(Propostas!$T100:$V100))*VLOOKUP(Dados!C100,Uso_final[],2,0))","v":""},{"$f":"IF(Propostas!V100=\"\",\"\",Parâmetros!L93*(1+(Propostas!V100-Parâmetros!$I93)/SUM(Propostas!$T100:$V100))*VLOOKUP(Dados!D100,Uso_final[],2,0))","v":""},"",{"$f":"IF($C93=\"\",\"\",MIN(1,(Propostas!W100+Propostas!X100)/Propostas!B100))","v":""}]
[null,{"$f":"IF(ISTEXT(Propostas!A101),Propostas!A101,\"\")","v":""},{"$f":"IFERROR(Propostas!C101/Propostas!D101,\"\")","v":""},"",{"$f":"IF($C94=\"\",\"\",Propostas!F101/Propostas!C101)","v":""},{"$f":"IF($C94=\"\",\"\",Propostas!G101/Parâmetros!$F$4)","v":""},{"$f":"IF($C94=\"\",\"\",Propostas!H101/Parâmetros!$G$4)","v":""},{"$f":"IF($C94=\"\",\"\",MIN(1,(Propostas!B101-Propostas!C101)/Propostas!B101))","v":""},{"$f":"IF($C94=\"\",\"\",AVERAGE(Propostas!T101:V101))","v":""},{"$f":"IF(Propostas!T101=\"\",\"\",_xlfn.RANK.EQ(Propostas!T101,Propostas!$T101:$V101,1))","v":""},{"$f":"IF(Propostas!U101=\"\",\"\",_xlfn.RANK.EQ(Propostas!U101,Propostas!$T101:$V101,1))","v":""},{"$f":"IF(Propostas!V101=\"\",\"\",_xlfn.RANK.EQ(Propostas!V101,Propostas!$T101:$V101,1))","v":""},{"$f":"IF(Propostas!T101=\"\",\"\",Parâmetros!J94*(1+(Propostas!T101-Parâmetros!$I94)/SUM(Propostas!$T101:$V101))*VLOOKUP(Dados!B101,Uso_final[],2,0))","v":""},{"$f":"IF(Propostas!U101=\"\",\"\",Parâmetros!K94*(1+(Propostas!U101-Parâmetros!$I94)/SUM(Propostas!$T101:$V101))*VLOOKUP(Dados!C101,Uso_final[],2,0))","v":""},{"$f":"IF(Propostas!V101=\"\",\"\",Parâmetros!L94*(1+(Propostas!V101-Parâmetros!$I94)/SUM(Propostas!$T101:$V101))*VLOOKUP(Dados!D101,Uso_final[],2,0))","v":""},"",{"$f":"IF($C94=\"\",\"\",MIN(1,(Propostas!W101+Propostas!X101)/Propostas!B101))","v":""}]
[null,{"$f":"IF(ISTEXT(Propostas!A102),Propostas!A102,\"\")","v":""},{"$f":"IFERROR(Propostas!C102/Propostas!D102,\"\")","v":""},"",{"$f":"IF($C95=\"\",\"\",Propostas!F102/Propostas!C102)","v":""},{"$f":"IF($C95=\"\",\"\",Propostas!G102/Parâmetros!$F$4)","v":""},{"$f":"IF($C95=\"\",\"\",Propostas!H102/Parâmetros!$G$4)","v":""},{"$f":"IF($C95=\"\",\"\",MIN(1,(Propostas!B102-Propostas!C102)/Propostas!B102))","v":""},{"$f":"IF($C95=\"\",\"\",AVERAGE(Propostas!T102:V102))","v":""},{"$f":"IF(Propostas!T102=\"\",\"\",_xlfn.RANK.EQ(Propostas!T102,Propostas!$T102:$V102,1))","v":""},{"$f":"IF(Propostas!U102=\"\",\"\",_xlfn.RANK.EQ(Propostas!U102,Propostas!$T102:$V102,1))","v":""},{"$f":"IF(Propostas!V102=\"\",\"\",_xlfn.RANK.EQ(Propostas!V102,Propostas!$T102:$V102,1))","v":""},{"$f":"IF(Propostas!T102=\"\",\"\",Parâmetros!J95*(1+(Propostas!T102-Parâmetros!$I95)/SUM(Propostas!$T102:$V102))*VLOOKUP(Dados!B102,Uso_final[],2,0))","v":""},{"$f":"IF(Propostas!U102=\"\",\"\",Parâmetros!K95*(1+(Propostas!U102-Parâmetros!$I95)/SUM(Propostas!$T102:$V102))*VLOOKUP(Dados!C102,Uso_final[],2,0))","v":""},{"$f":"IF(Propostas!V102=\"\",\"\",Parâmetros!L95*(1+(Propostas!V102-Parâmetros!$I95)/SUM(Propostas!$T102:$V102))*VLOOKUP(Dados!D102,Uso_final[],2,0))","v":""},"",{"$f":"IF($C95=\"\",\"\",MIN(1,(Propostas!W102+Propostas!X102)/Propostas!B102))","v":""}]
[null,{"$f":"IF(ISTEXT(Propostas!A103),Propostas!A103,\"\")","v":""},{"$f":"IFERROR(Propostas!C103/Propostas!D103,\"\")","v":""},"",{"$f":"IF($C96=\"\",\"\",Propostas!F103/Propostas!C103)","v":""},{"$f":"IF($C96=\"\",\"\",Propostas!G103/Parâmetros!$F$4)","v":""},{"$f":"IF($C96=\"\",\"\",Propostas!H103/Parâmetros!$G$4)","v":""},{"$f":"IF($C96=\"\",\"\",MIN(1,(Propostas!B103-Propostas!C103)/Propostas!B103))","v":""},{"$f":"IF($C96=\"\",\"\",AVERAGE(Propostas!T103:V103))","v":""},{"$f":"IF(Propostas!T103=\"\",\"\",_xlfn.RANK.EQ(Propostas!T103,Propostas!$T103:$V103,1))","v":""},{"$f":"IF(Propostas!U103=\"\",\"\",_xlfn.RANK.EQ(Propostas!U103,Propostas!$T103:$V103,1))","v":""},{"$f":"IF(Propostas!V103=\"\",\"\",_xlfn.RANK.EQ(Propostas!V103,Propostas!$T103:$V103,1))","v":""},{"$f":"IF(Propostas!T103=\"\",\"\",Parâmetros!J96*(1+(Propostas!T103-Parâmetros!$I96)/SUM(Propostas!$T103:$V103))*VLOOKUP(Dados!B103,Uso_final[],2,0))","v":""},{"$f":"IF(Propostas!U103=\"\",\"\",Parâmetros!K96*(1+(Propostas!U103-Parâmetros!$I96)/SUM(Propostas!$T103:$V103))*VLOOKUP(Dados!C103,Uso_final[],2,0))","v":""},{"$f":"IF(Propostas!V103=\"\",\"\",Parâmetros!L96*(1+(Propostas!V103-Parâmetros!$I96)/SUM(Propostas!$T103:$V103))*VLOOKUP(Dados!D103,Uso_final[],2,0))","v":""},"",{"$f":"IF($C96=\"\",\"\",MIN(1,(Propostas!W103+Propostas!X103)/Propostas!B103))","v":""}]
[null,{"$f":"IF(ISTEXT(Propostas!A104),Propostas!A104,\"\")","v":""},{"$f":"IFERROR(Propostas!C104/Propostas!D104,\"\")","v":""},"",{"$f":"IF($C97=\"\",\"\",Propostas!F104/Propostas!C104)","v":""},{"$f":"IF($C97=\"\",\"\",Propostas!G104/Parâmetros!$F$4)","v":""},{"$f":"IF($C97=\"\",\"\",Propostas!H104/Parâmetros!$G$4)","v":""},{"$f":"IF($C97=\"\",\"\",MIN(1,(Propostas!B104-Propostas!C104)/Propostas!B104))","v":""},{"$f":"IF($C97=\"\",\"\",AVERAGE(Propostas!T104:V104))","v":""},{"$f":"IF(Propostas!T104=\"\",\"\",_xlfn.RANK.EQ(Propostas!T104,Propostas!$T104:$V104,1))","v":""},{"$f":"IF(Propostas!U104=\"\",\"\",_xlfn.RANK.EQ(Propostas!U104,Propostas!$T104:$V104,1))","v":""},{"$f":"IF(Propostas!V104=\"\",\"\",_xlfn.RANK.EQ(Propostas!V104,Propostas!$T104:$V104,1))","v":""},{"$f":"IF(Propostas!T104=\"\",\"\",Parâmetros!J97*(1+(Propostas!T104-Parâmetros!$I97)/SUM(Propostas!$T104:$V104))*VLOOKUP(Dados!B104,Uso_final[],2,0))","v":""},{"$f":"IF(Propostas!U104=\"\",\"\",Parâmetros!K97*(1+(Propostas!U104-Parâmetros!$I97)/SUM(Propostas!$T104:$V104))*VLOOKUP(Dados!C104,Uso_final[],2,0))","v":""},{"$f":"IF(Propostas!V104=\"\",\"\",Parâmetros!L97*(1+(Propostas!V104-Parâmetros!$I97)/SUM(Propostas!$T104:$V104))*VLOOKUP(Dados!D104,Uso_final[],2,0))","v":""},"",{"$f":"IF($C97=\"\",\"\",MIN(1,(Propostas!W104+Propostas!X104)/Propostas!B104))","v":""}]
[null,{"$f":"IF(ISTEXT(Propostas!A105),Propostas!A105,\"\")","v":""},{"$f":"IFERROR(Propostas!C105/Propostas!D105,\"\")","v":""},"",{"$f":"IF($C98=\"\",\"\",Propostas!F105/Propostas!C105)","v":""},{"$f":"IF($C98=\"\",\"\",Propostas!G105/Parâmetros!$F$4)","v":""},{"$f":"IF($C98=\"\",\"\",Propostas!H105/Parâmetros!$G$4)","v":""},{"$f":"IF($C98=\"\",\"\",MIN(1,(Propostas!B105-Propostas!C105)/Propostas!B105))","v":""},{"$f":"IF($C98=\"\",\"\",AVERAGE(Propostas!T105:V105))","v":""},{"$f":"IF(Propostas!T105=\"\",\"\",_xlfn.RANK.EQ(Propostas!T105,Propostas!$T105:$V105,1))","v":""},{"$f":"IF(Propostas!U105=\"\",\"\",_xlfn.RANK.EQ(Propostas!U105,Propostas!$T105:$V105,1))","v":""},{"$f":"IF(Propostas!V105=\"\",\"\",_xlfn.RANK.EQ(Propostas!V105,Propostas!$T105:$V105,1))","v":""},{"$f":"IF(Propostas!T105=\"\",\"\",Parâmetros!J98*(1+(Propostas!T105-Parâmetros!$I98)/SUM(Propostas!$T105:$V105))*VLOOKUP(Dados!B105,Uso_final[],2,0))","v":""},{"$f":"IF(Propostas!U105=\"\",\"\",Parâmetros!K98*(1+(Propostas!U105-Parâmetros!$I98)/SUM(Propostas!$T105:$V105))*VLOOKUP(Dados!C105,Uso_final[],2,0))","v":""},{"$f":"IF(Propostas!V105=\"\",\"\",Parâmetros!L98*(1+(Propostas!V105-Parâmetros!$I98)/SUM(Propostas!$T105:$V105))*VLOOKUP(Dados!D105,Uso_final[],2,0))","v":""},"",{"$f":"IF($C98=\"\",\"\",MIN(1,(Propostas!W105+Propostas!X105)/Propostas!B105))","v":""}]
[null,{"$f":"IF(ISTEXT(Propostas!A106),Propostas!A106,\"\")","v":""},{"$f":"IFERROR(Propostas!C106/Propostas!D106,\"\")","v":""},"",{"$f":"IF($C99=\"\",\"\",Propostas!F106/Propostas!C106)","v":""},{"$f":"IF($C99=\"\",\"\",Propostas!G106/Parâmetros!$F$4)","v":""},{"$f":"IF($C99=\"\",\"\",Propostas!H106/Parâmetros!$G$4)","v":""},{"$f":"IF($C99=\"\",\"\",MIN(1,(Propostas!B106-Propostas!C106)/Propostas!B106))","v":""},{"$f":"IF($C99=\"\",\"\",AVERAGE(Propostas!T106:V106))","v":""},{"$f":"IF(Propostas!T106=\"\",\"\",_xlfn.RANK.EQ(Propostas!T106,Propostas!$T106:$V106,1))","v":""},{"$f":"IF(Propostas!U106=\"\",\"\",_xlfn.RANK.EQ(Propostas!U106,Propostas!$T106:$V106,1))","v":""},{"$f":"IF(Propostas!V106=\"\",\"\",_xlfn.RANK.EQ(Propostas!V106,Propostas!$T106:$V106,1))","v":""},{"$f":"IF(Propostas!T106=\"\",\"\",Parâmetros!J99*(1+(Propostas!T106-Parâmetros!$I99)/SUM(Propostas!$T106:$V106))*VLOOKUP(Dados!B106,Uso_final[],2,0))","v":""},{"$f":"IF(Propostas!U106=\"\",\"\",Parâmetros!K99*(1+(Propostas!U106-Parâmetros!$I99)/SUM(Propostas!$T106:$V106))*VLOOKUP(Dados!C106,Uso_final[],2,0))","v":""},{"$f":"IF(Propostas!V106=\"\",\"\",Parâmetros!L99*(1+(Propostas!V106-Parâmetros!$I99)/SUM(Propostas!$T106:$V106))*VLOOKUP(Dados!D106,Uso_final[],2,0))","v":""},"",{"$f":"IF($C99=\"\",\"\",MIN(1,(Propostas!W106+Propostas!X106)/Propostas!B106))","v":""}]
[null,{"$f":"IF(ISTEXT(Propostas!A107),Propostas!A107,\"\")","v":""},{"$f":"IFERROR(Propostas!C107/Propostas!D107,\"\")","v":""},"",{"$f":"IF($C100=\"\",\"\",Propostas!F107/Propostas!C107)","v":""},{"$f":"IF($C100=\"\",\"\",Propostas!G107/Parâmetros!$F$4)","v":""},{"$f":"IF($C100=\"\",\"\",Propostas!H107/Parâmetros!$G$4)","v":""},{"$f":"IF($C100=\"\",\"\",MIN(1,(Propostas!B107-Propostas!C107)/Propostas!B107))","v":""},{"$f":"IF($C100=\"\",\"\",AVERAGE(Propostas!T107:V107))","v":""},{"$f":"IF(Propostas!T107=\"\",\"\",_xlfn.RANK.EQ(Propostas!T107,Propostas!$T107:$V107,1))","v":""},{"$f":"IF(Propostas!U107=\"\",\"\",_xlfn.RANK.EQ(Propostas!U107,Propostas!$T107:$V107,1))","v":""},{"$f":"IF(Propostas!V107=\"\",\"\",_xlfn.RANK.EQ(Propostas!V107,Propostas!$T107:$V107,1))","v":""},{"$f":"IF(Propostas!T107=\"\",\"\",Parâmetros!J100*(1+(Propostas!T107-Parâmetros!$I100)/SUM(Propostas!$T107:$V107))*VLOOKUP(Dados!B107,Uso_final[],2,0))","v":""},{"$f":"IF(Propostas!U107=\"\",\"\",Parâmetros!K100*(1+(Propostas!U107-Parâmetros!$I100)/SUM(Propostas!$T107:$V107))*VLOOKUP(Dados!C107,Uso_final[],2,0))","v":""},{"$f":"IF(Propostas!V107=\"\",\"\",Parâmetros!L100*(1+(Propostas!V107-Parâmetros!$I100)/SUM(Propostas!$T107:$V107))*VLOOKUP(Dados!D107,Uso_final[],2,0))","v":""},"",{"$f":"IF($C100=\"\",\"\",MIN(1,(Propostas!W107+Propostas!X107)/Propostas!B107))","v":""}]
[null,{"$f":"IF(ISTEXT(Propostas!A108),Propostas!A108,\"\")","v":""},{"$f":"IFERROR(Propostas!C108/Propostas!D108,\"\")","v":""},"",{"$f":"IF($C101=\"\",\"\",Propostas!F108/Propostas!C108)","v":""},{"$f":"IF($C101=\"\",\"\",Propostas!G108/Parâmetros!$F$4)","v":""},{"$f":"IF($C101=\"\",\"\",Propostas!H108/Parâmetros!$G$4)","v":""},{"$f":"IF($C101=\"\",\"\",MIN(1,(Propostas!B108-Propostas!C108)/Propostas!B108))","v":""},{"$f":"IF($C101=\"\",\"\",AVERAGE(Propostas!T108:V108))","v":""},{"$f":"IF(Propostas!T108=\"\",\"\",_xlfn.RANK.EQ(Propostas!T108,Propostas!$T108:$V108,1))","v":""},{"$f":"IF(Propostas!U108=\"\",\"\",_xlfn.RANK.EQ(Propostas!U108,Propostas!$T108:$V108,1))","v":""},{"$f":"IF(Propostas!V108=\"\",\"\",_xlfn.RANK.EQ(Propostas!V108,Propostas!$T108:$V108,1))","v":""},{"$f":"IF(Propostas!T108=\"\",\"\",Parâmetros!J101*(1+(Propostas!T108-Parâmetros!$I101)/SUM(Propostas!$T108:$V108))*VLOOKUP(Dados!B108,Uso_final[],2,0))","v":""},{"$f":"IF(Propostas!U108=\"\",\"\",Parâmetros!K101*(1+(Propostas!U108-Parâmetros!$I101)/SUM(Propostas!$T108:$V108))*VLOOKUP(Dados!C108,Uso_final[],2,0))","v":""},{"$f":"IF(Propostas!V108=\"\",\"\",Parâmetros!L101*(1+(Propostas!V108-Parâmetros!$I101)/SUM(Propostas!$T108:$V108))*VLOOKUP(Dados!D108,Uso_final[],2,0))","v":""},{"$f":"IF(C101=\"\",\"\",SUM(M101:O101)-1)","v":""},{"$f":"IF($C101=\"\",\"\",MIN(1,(Propostas!W108+Propostas!X108)/Propostas!B108))","v":""}]
[null,{"$f":"IF(ISTEXT(Propostas!A109),Propostas!A109,\"\")","v":""},{"$f":"IFERROR(Propostas!C109/Propostas!D109,\"\")","v":""},"",{"$f":"IF($C102=\"\",\"\",Propostas!F109/Propostas!C109)","v":""},{"$f":"IF($C102=\"\",\"\",Propostas!G109/Parâmetros!$F$4)","v":""},{"$f":"IF($C102=\"\",\"\",Propostas!H109/Parâmetros!$G$4)","v":""},{"$f":"IF($C102=\"\",\"\",MIN(1,(Propostas!B109-Propostas!C109)/Propostas!B109))","v":""},{"$f":"IF($C102=\"\",\"\",AVERAGE(Propostas!T109:V109))","v":""},{"$f":"IF(Propostas!T109=\"\",\"\",_xlfn.RANK.EQ(Propostas!T109,Propostas!$T109:$V109,1))","v":""},{"$f":"IF(Propostas!U109=\"\",\"\",_xlfn.RANK.EQ(Propostas!U109,Propostas!$T109:$V109,1))","v":""},{"$f":"IF(Propostas!V109=\"\",\"\",_xlfn.RANK.EQ(Propostas!V109,Propostas!$T109:$V109,1))","v":""},{"$f":"IF(Propostas!T109=\"\",\"\",Parâmetros!J102*(1+(Propostas!T109-Parâmetros!$I102)/SUM(Propostas!$T109:$V109))*VLOOKUP(Dados!B109,Uso_final[],2,0))","v":""},{"$f":"IF(Propostas!U109=\"\",\"\",Parâmetros!K102*(1+(Propostas!U109-Parâmetros!$I102)/SUM(Propostas!$T109:$V109))*VLOOKUP(Dados!C109,Uso_final[],2,0))","v":""},{"$f":"IF(Propostas!V109=\"\",\"\",Parâmetros!L102*(1+(Propostas!V109-Parâmetros!$I102)/SUM(Propostas!$T109:$V109))*VLOOKUP(Dados!D109,Uso_final[],2,0))","v":""},"",{"$f":"IF($C102=\"\",\"\",MIN(1,(Propostas!W109+Propostas!X109)/Propostas!B109))","v":""}]
[null,{"$f":"IF(ISTEXT(Propostas!A110),Propostas!A110,\"\")","v":""},{"$f":"IFERROR(Propostas!C110/Propostas!D110,\"\")","v":""},"",{"$f":"IF($C103=\"\",\"\",Propostas!F110/Propostas!C110)","v":""},{"$f":"IF($C103=\"\",\"\",Propostas!G110/Parâmetros!$F$4)","v":""},{"$f":"IF($C103=\"\",\"\",Propostas!H110/Parâmetros!$G$4)","v":""},{"$f":"IF($C103=\"\",\"\",MIN(1,(Propostas!B110-Propostas!C110)/Propostas!B110))","v":""},{"$f":"IF($C103=\"\",\"\",AVERAGE(Propostas!T110:V110))","v":""},{"$f":"IF(Propostas!T110=\"\",\"\",_xlfn.RANK.EQ(Propostas!T110,Propostas!$T110:$V110,1))","v":""},{"$f":"IF(Propostas!U110=\"\",\"\",_xlfn.RANK.EQ(Propostas!U110,Propostas!$T110:$V110,1))","v":""},{"$f":"IF(Propostas!V110=\"\",\"\",_xlfn.RANK.EQ(Propostas!V110,Propostas!$T110:$V110,1))","v":""},{"$f":"IF(Propostas!T110=\"\",\"\",Parâmetros!J103*(1+(Propostas!T110-Parâmetros!$I103)/SUM(Propostas!$T110:$V110))*VLOOKUP(Dados!B110,Uso_final[],2,0))","v":""},{"$f":"IF(Propostas!U110=\"\",\"\",Parâmetros!K103*(1+(Propostas!U110-Parâmetros!$I103)/SUM(Propostas!$T110:$V110))*VLOOKUP(Dados!C110,Uso_final[],2,0))","v":""},{"$f":"IF(Propostas!V110=\"\",\"\",Parâmetros!L103*(1+(Propostas!V110-Parâmetros!$I103)/SUM(Propostas!$T110:$V110))*VLOOKUP(Dados!D110,Uso_final[],2,0))","v":""},"",{"$f":"IF($C103=\"\",\"\",MIN(1,(Propostas!W110+Propostas!X110)/Propostas!B110))","v":""}]
[null,{"$f":"IF(ISTEXT(Propostas!A111),Propostas!A111,\"\")","v":""},{"$f":"IFERROR(Propostas!C111/Propostas!D111,\"\")","v":""},"",{"$f":"IF($C104=\"\",\"\",Propostas!F111/Propostas!C111)","v":""},{"$f":"IF($C104=\"\",\"\",Propostas!G111/Parâmetros!$F$4)","v":""},{"$f":"IF($C104=\"\",\"\",Propostas!H111/Parâmetros!$G$4)","v":""},{"$f":"IF($C104=\"\",\"\",MIN(1,(Propostas!B111-Propostas!C111)/Propostas!B111))","v":""},{"$f":"IF($C104=\"\",\"\",AVERAGE(Propostas!T111:V111))","v":""},{"$f":"IF(Propostas!T111=\"\",\"\",_xlfn.RANK.EQ(Propostas!T111,Propostas!$T111:$V111,1))","v":""},{"$f":"IF(Propostas!U111=\"\",\"\",_xlfn.RANK.EQ(Propostas!U111,Propostas!$T111:$V111,1))","v":""},{"$f":"IF(Propostas!V111=\"\",\"\",_xlfn.RANK.EQ(Propostas!V111,Propostas!$T111:$V111,1))","v":""},{"$f":"IF(Propostas!T111=\"\",\"\",Parâmetros!J104*(1+(Propostas!T111-Parâmetros!$I104)/SUM(Propostas!$T111:$V111))*VLOOKUP(Dados!B111,Uso_final[],2,0))","v":""},{"$f":"IF(Propostas!U111=\"\",\"\",Parâmetros!K104*(1+(Propostas!U111-Parâmetros!$I104)/SUM(Propostas!$T111:$V111))*VLOOKUP(Dados!C111,Uso_final[],2,0))","v":""},{"$f":"IF(Propostas!V111=\"\",\"\",Parâmetros!L104*(1+(Propostas!V111-Parâmetros!$I104)/SUM(Propostas!$T111:$V111))*VLOOKUP(Dados!D111,Uso_final[],2,0))","v":""},"",{"$f":"IF($C104=\"\",\"\",MIN(1,(Propostas!W111+Propostas!X111)/Propostas!B111))","v":""}]
[null,{"$f":"IF(ISTEXT(Propostas!A112),Propostas!A112,\"\")","v":""},{"$f":"IFERROR(Propostas!C112/Propostas!D112,\"\")","v":""},"",{"$f":"IF($C105=\"\",\"\",Propostas!F112/Propostas!C112)","v":""},{"$f":"IF($C105=\"\",\"\",Propostas!G112/Parâmetros!$F$4)","v":""},{"$f":"IF($C105=\"\",\"\",Propostas!H112/Parâmetros!$G$4)","v":""},{"$f":"IF($C105=\"\",\"\",MIN(1,(Propostas!B112-Propostas!C112)/Propostas!B112))","v":""},{"$f":"IF($C105=\"\",\"\",AVERAGE(Propostas!T112:V112))","v":""},{"$f":"IF(Propostas!T112=\"\",\"\",_xlfn.RANK.EQ(Propostas!T112,Propostas!$T112:$V112,1))","v":""},{"$f":"IF(Propostas!U112=\"\",\"\",_xlfn.RANK.EQ(Propostas!U112,Propostas!$T112:$V112,1))","v":""},{"$f":"IF(Propostas!V112=\"\",\"\",_xlfn.RANK.EQ(Propostas!V112,Propostas!$T112:$V112,1))","v":""},{"$f":"IF(Propostas!T112=\"\",\"\",Parâmetros!J105*(1+(Propostas!T112-Parâmetros!$I105)/SUM(Propostas!$T112:$V112))*VLOOKUP(Dados!B112,Uso_final[],2,0))","v":""},{"$f":"IF(Propostas!U112=\"\",\"\",Parâmetros!K105*(1+(Propostas!U112-Parâmetros!$I105)/SUM(Propostas!$T112:$V112))*VLOOKUP(Dados!C112,Uso_final[],2,0))","v":""},{"$f":"IF(Propostas!V112=\"\",\"\",Parâmetros!L105*(1+(Propostas!V112-Parâmetros!$I105)/SUM(Propostas!$T112:$V112))*VLOOKUP(Dados!D112,Uso_final[],2,0))","v":""},"",{"$f":"IF($C105=\"\",\"\",MIN(1,(Propostas!W112+Propostas!X112)/Propostas!B112))","v":""}]
[null,{"$f":"IF(ISTEXT(Propostas!A113),Propostas!A113,\"\")","v":""},{"$f":"IFERROR(Propostas!C113/Propostas!D113,\"\")","v":""},"",{"$f":"IF($C106=\"\",\"\",Propostas!F113/Propostas!C113)","v":""},{"$f":"IF($C106=\"\",\"\",Propostas!G113/Parâmetros!$F$4)","v":""},{"$f":"IF($C106=\"\",\"\",Propostas!H113/Parâmetros!$G$4)","v":""},{"$f":"IF($C106=\"\",\"\",MIN(1,(Propostas!B113-Propostas!C113)/Propostas!B113))","v":""},{"$f":"IF($C106=\"\",\"\",AVERAGE(Propostas!T113:V113))","v":""},{"$f":"IF(Propostas!T113=\"\",\"\",_xlfn.RANK.EQ(Propostas!T113,Propostas!$T113:$V113,1))","v":""},{"$f":"IF(Propostas!U113=\"\",\"\",_xlfn.RANK.EQ(Propostas!U113,Propostas!$T113:$V113,1))","v":""},{"$f":"IF(Propostas!V113=\"\",\"\",_xlfn.RANK.EQ(Propostas!V113,Propostas!$T113:$V113,1))","v":""},{"$f":"IF(Propostas!T113=\"\",\"\",Parâmetros!J106*(1+(Propostas!T113-Parâmetros!$I106)/SUM(Propostas!$T113:$V113))*VLOOKUP(Dados!B113,Uso_final[],2,0))","v":""},{"$f":"IF(Propostas!U113=\"\",\"\",Parâmetros!K106*(1+(Propostas!U113-Parâmetros!$I106)/SUM(Propostas!$T113:$V113))*VLOOKUP(Dados!C113,Uso_final[],2,0))","v":""},{"$f":"IF(Propostas!V113=\"\",\"\",Parâmetros!L106*(1+(Propostas!V113-Parâmetros!$I106)/SUM(Propostas!$T113:$V113))*VLOOKUP(Dados!D113,Uso_final[],2,0))","v":""},"",{"$f":"IF($C106=\"\",\"\",MIN(1,(Propostas!W113+Propostas!X113)/Propostas!B113))","v":""}]
[null,{"$f":"IF(ISTEXT(Propostas!A114),Propostas!A114,\"\")","v":""},{"$f":"IFERROR(Propostas!C114/Propostas!D114,\"\")","v":""},"",{"$f":"IF($C107=\"\",\"\",Propostas!F114/Propostas!C114)","v":""},{"$f":"IF($C107=\"\",\"\",Propostas!G114/Parâmetros!$F$4)","v":""},{"$f":"IF($C107=\"\",\"\",Propostas!H114/Parâmetros!$G$4)","v":""},{"$f":"IF($C107=\"\",\"\",MIN(1,(Propostas!B114-Propostas!C114)/Propostas!B114))","v":""},{"$f":"IF($C107=\"\",\"\",AVERAGE(Propostas!T114:V114))","v":""},{"$f":"IF(Propostas!T114=\"\",\"\",_xlfn.RANK.EQ(Propostas!T114,Propostas!$T114:$V114,1))","v":""},{"$f":"IF(Propostas!U114=\"\",\"\",_xlfn.RANK.EQ(Propostas!U114,Propostas!$T114:$V114,1))","v":""},{"$f":"IF(Propostas!V114=\"\",\"\",_xlfn.RANK.EQ(Propostas!V114,Propostas!$T114:$V114,1))","v":""},{"$f":"IF(Propostas!T114=\"\",\"\",Parâmetros!J107*(1+(Propostas!T114-Parâmetros!$I107)/SUM(Propostas!$T114:$V114))*VLOOKUP(Dados!B114,Uso_final[],2,0))","v":""},{"$f":"IF(Propostas!U114=\"\",\"\",Parâmetros!K107*(1+(Propostas!U114-Parâmetros!$I107)/SUM(Propostas!$T114:$V114))*VLOOKUP(Dados!C114,Uso_final[],2,0))","v":""},{"$f":"IF(Propostas!V114=\"\",\"\",Parâmetros!L107*(1+(Propostas!V114-Parâmetros!$I107)/SUM(Propostas!$T114:$V114))*VLOOKUP(Dados!D114,Uso_final[],2,0))","v":""},"",{"$f":"IF($C107=\"\",\"\",MIN(1,(Propostas!W114+Propostas!X114)/Propostas!B114))","v":""}]
[null,{"$f":"IF(ISTEXT(Propostas!A115),Propostas!A115,\"\")","v":""},{"$f":"IFERROR(Propostas!C115/Propostas!D115,\"\")","v":""},"",{"$f":"IF($C108=\"\",\"\",Propostas!F115/Propostas!C115)","v":""},{"$f":"IF($C108=\"\",\"\",Propostas!G115/Parâmetros!$F$4)","v":""},{"$f":"IF($C108=\"\",\"\",Propostas!H115/Parâmetros!$G$4)","v":""},{"$f":"IF($C108=\"\",\"\",MIN(1,(Propostas!B115-Propostas!C115)/Propostas!B115))","v":""},{"$f":"IF($C108=\"\",\"\",AVERAGE(Propostas!T115:V115))","v":""},{"$f":"IF(Propostas!T115=\"\",\"\",_xlfn.RANK.EQ(Propostas!T115,Propostas!$T115:$V115,1))","v":""},{"$f":"IF(Propostas!U115=\"\",\"\",_xlfn.RANK.EQ(Propostas!U115,Propostas!$T115:$V115,1))","v":""},{"$f":"IF(Propostas!V115=\"\",\"\",_xlfn.RANK.EQ(Propostas!V115,Propostas!$T115:$V115,1))","v":""},{"$f":"IF(Propostas!T115=\"\",\"\",Parâmetros!J108*(1+(Propostas!T115-Parâmetros!$I108)/SUM(Propostas!$T115:$V115))*VLOOKUP(Dados!B115,Uso_final[],2,0))","v":""},{"$f":"IF(Propostas!U115=\"\",\"\",Parâmetros!K108*(1+(Propostas!U115-Parâmetros!$I108)/SUM(Propostas!$T115:$V115))*VLOOKUP(Dados!C115,Uso_final[],2,0))","v":""},{"$f":"IF(Propostas!V115=\"\",\"\",Parâmetros!L108*(1+(Propostas!V115-Parâmetros!$I108)/SUM(Propostas!$T115:$V115))*VLOOKUP(Dados!D115,Uso_final[],2,0))","v":""},"",{"$f":"IF($C108=\"\",\"\",MIN(1,(Propostas!W115+Propostas!X115)/Propostas!B115))","v":""}]
[null,{"$f":"IF(ISTEXT(Propostas!A116),Propostas!A116,\"\")","v":""},{"$f":"IFERROR(Propostas!C116/Propostas!D116,\"\")","v":""},"",{"$f":"IF($C109=\"\",\"\",Propostas!F116/Propostas!C116)","v":""},{"$f":"IF($C109=\"\",\"\",Propostas!G116/Parâmetros!$F$4)","v":""},{"$f":"IF($C109=\"\",\"\",Propostas!H116/Parâmetros!$G$4)","v":""},{"$f":"IF($C109=\"\",\"\",MIN(1,(Propostas!B116-Propostas!C116)/Propostas!B116))","v":""},{"$f":"IF($C109=\"\",\"\",AVERAGE(Propostas!T116:V116))","v":""},{"$f":"IF(Propostas!T116=\"\",\"\",_xlfn.RANK.EQ(Propostas!T116,Propostas!$T116:$V116,1))","v":""},{"$f":"IF(Propostas!U116=\"\",\"\",_xlfn.RANK.EQ(Propostas!U116,Propostas!$T116:$V116,1))","v":""},{"$f":"IF(Propostas!V116=\"\",\"\",_xlfn.RANK.EQ(Propostas!V116,Propostas!$T116:$V116,1))","v":""},{"$f":"IF(Propostas!T116=\"\",\"\",Parâmetros!J109*(1+(Propostas!T116-Parâmetros!$I109)/SUM(Propostas!$T116:$V116))*VLOOKUP(Dados!B116,Uso_final[],2,0))","v":""},{"$f":"IF(Propostas!U116=\"\",\"\",Parâmetros!K109*(1+(Propostas!U116-Parâmetros!$I109)/SUM(Propostas!$T116:$V116))*VLOOKUP(Dados!C116,Uso_final[],2,0))","v":""},{"$f":"IF(Propostas!V116=\"\",\"\",Parâmetros!L109*(1+(Propostas!V116-Parâmetros!$I109)/SUM(Propostas!$T116:$V116))*VLOOKUP(Dados!D116,Uso_final[],2,0))","v":""},"",{"$f":"IF($C109=\"\",\"\",MIN(1,(Propostas!W116+Propostas!X116)/Propostas!B116))","v":""}]
[null,{"$f":"IF(ISTEXT(Propostas!A117),Propostas!A117,\"\")","v":""},{"$f":"IFERROR(Propostas!C117/Propostas!D117,\"\")","v":""},"",{"$f":"IF($C110=\"\",\"\",Propostas!F117/Propostas!C117)","v":""},{"$f":"IF($C110=\"\",\"\",Propostas!G117/Parâmetros!$F$4)","v":""},{"$f":"IF($C110=\"\",\"\",Propostas!H117/Parâmetros!$G$4)","v":""},{"$f":"IF($C110=\"\",\"\",MIN(1,(Propostas!B117-Propostas!C117)/Propostas!B117))","v":""},{"$f":"IF($C110=\"\",\"\",AVERAGE(Propostas!T117:V117))","v":""},{"$f":"IF(Propostas!T117=\"\",\"\",_xlfn.RANK.EQ(Propostas!T117,Propostas!$T117:$V117,1))","v":""},{"$f":"IF(Propostas!U117=\"\",\"\",_xlfn.RANK.EQ(Propostas!U117,Propostas!$T117:$V117,1))","v":""},{"$f":"IF(Propostas!V117=\"\",\"\",_xlfn.RANK.EQ(Propostas!V117,Propostas!$T117:$V117,1))","v":""},{"$f":"IF(Propostas!T117=\"\",\"\",Parâmetros!J110*(1+(Propostas!T117-Parâmetros!$I110)/SUM(Propostas!$T117:$V117))*VLOOKUP(Dados!B117,Uso_final[],2,0))","v":""},{"$f":"IF(Propostas!U117=\"\",\"\",Parâmetros!K110*(1+(Propostas!U117-Parâmetros!$I110)/SUM(Propostas!$T117:$V117))*VLOOKUP(Dados!C117,Uso_final[],2,0))","v":""},{"$f":"IF(Propostas!V117=\"\",\"\",Parâmetros!L110*(1+(Propostas!V117-Parâmetros!$I110)/SUM(Propostas!$T117:$V117))*VLOOKUP(Dados!D117,Uso_final[],2,0))","v":""},"",{"$f":"IF($C110=\"\",\"\",MIN(1,(Propostas!W117+Propostas!X117)/Propostas!B117))","v":""}]
[null,{"$f":"IF(ISTEXT(Propostas!A118),Propostas!A118,\"\")","v":""},{"$f":"IFERROR(Propostas!C118/Propostas!D118,\"\")","v":""},"",{"$f":"IF($C111=\"\",\"\",Propostas!F118/Propostas!C118)","v":""},{"$f":"IF($C111=\"\",\"\",Propostas!G118/Parâmetros!$F$4)","v":""},{"$f":"IF($C111=\"\",\"\",Propostas!H118/Parâmetros!$G$4)","v":""},{"$f":"IF($C111=\"\",\"\",MIN(1,(Propostas!B118-Propostas!C118)/Propostas!B118))","v":""},{"$f":"IF($C111=\"\",\"\",AVERAGE(Propostas!T118:V118))","v":""},{"$f":"IF(Propostas!T118=\"\",\"\",_xlfn.RANK.EQ(Propostas!T118,Propostas!$T118:$V118,1))","v":""},{"$f":"IF(Propostas!U118=\"\",\"\",_xlfn.RANK.EQ(Propostas!U118,Propostas!$T118:$V118,1))","v":""},{"$f":"IF(Propostas!V118=\"\",\"\",_xlfn.RANK.EQ(Propostas!V118,Propostas!$T118:$V118,1))","v":""},{"$f":"IF(Propostas!T118=\"\",\"\",Parâmetros!J111*(1+(Propostas!T118-Parâmetros!$I111)/SUM(Propostas!$T118:$V118))*VLOOKUP(Dados!B118,Uso_final[],2,0))","v":""},{"$f":"IF(Propostas!U118=\"\",\"\",Parâmetros!K111*(1+(Propostas!U118-Parâmetros!$I111)/SUM(Propostas!$T118:$V118))*VLOOKUP(Dados!C118,Uso_final[],2,0))","v":""},{"$f":"IF(Propostas!V118=\"\",\"\",Parâmetros!L111*(1+(Propostas!V118-Parâmetros!$I111)/SUM(Propostas!$T118:$V118))*VLOOKUP(Dados!D118,Uso_final[],2,0))","v":""},"",{"$f":"IF($C111=\"\",\"\",MIN(1,(Propostas!W118+Propostas!X118)/Propostas!B118))","v":""}]
[null,{"$f":"IF(ISTEXT(Propostas!A119),Propostas!A119,\"\")","v":""},{"$f":"IFERROR(Propostas!C119/Propostas!D119,\"\")","v":""},"",{"$f":"IF($C112=\"\",\"\",Propostas!F119/Propostas!C119)","v":""},{"$f":"IF($C112=\"\",\"\",Propostas!G119/Parâmetros!$F$4)","v":""},{"$f":"IF($C112=\"\",\"\",Propostas!H119/Parâmetros!$G$4)","v":""},{"$f":"IF($C112=\"\",\"\",MIN(1,(Propostas!B119-Propostas!C119)/Propostas!B119))","v":""},{"$f":"IF($C112=\"\",\"\",AVERAGE(Propostas!T119:V119))","v":""},{"$f":"IF(Propostas!T119=\"\",\"\",_xlfn.RANK.EQ(Propostas!T119,Propostas!$T119:$V119,1))","v":""},{"$f":"IF(Propostas!U119=\"\",\"\",_xlfn.RANK.EQ(Propostas!U119,Propostas!$T119:$V119,1))","v":""},{"$f":"IF(Propostas!V119=\"\",\"\",_xlfn.RANK.EQ(Propostas!V119,Propostas!$T119:$V119,1))","v":""},{"$f":"IF(Propostas!T119=\"\",\"\",Parâmetros!J112*(1+(Propostas!T119-Parâmetros!$I112)/SUM(Propostas!$T119:$V119))*VLOOKUP(Dados!B119,Uso_final[],2,0))","v":""},{"$f":"IF(Propostas!U119=\"\",\"\",Parâmetros!K112*(1+(Propostas!U119-Parâmetros!$I112)/SUM(Propostas!$T119:$V119))*VLOOKUP(Dados!C119,Uso_final[],2,0))","v":""},{"$f":"IF(Propostas!V119=\"\",\"\",Parâmetros!L112*(1+(Propostas!V119-Parâmetros!$I112)/SUM(Propostas!$T119:$V119))*VLOOKUP(Dados!D119,Uso_final[],2,0))","v":""},"",{"$f":"IF($C112=\"\",\"\",MIN(1,(Propostas!W119+Propostas!X119)/Propostas!B119))","v":""}]
[null,null,{"$f":"IFERROR(Propostas!C120/Propostas!D120,\"\")","v":""},"",{"$f":"IF($C113=\"\",\"\",Propostas!F120/Propostas!C120)","v":""},{"$f":"IF($C113=\"\",\"\",Propostas!G120/Parâmetros!$F$4)","v":""},{"$f":"IF($C113=\"\",\"\",Propostas!H120/Parâmetros!$G$4)","v":""},{"$f":"IF($C113=\"\",\"\",MIN(1,(Propostas!B120-Propostas!C120)/Propostas!B120))","v":""},{"$f":"IF($C113=\"\",\"\",AVERAGE(Propostas!T120:V120))","v":""},{"$f":"IF(Propostas!T120=\"\",\"\",_xlfn.RANK.EQ(Propostas!T120,Propostas!$T120:$V120,1))","v":""},{"$f":"IF(Propostas!U120=\"\",\"\",_xlfn.RANK.EQ(Propostas!U120,Propostas!$T120:$V120,1))","v":""},{"$f":"IF(Propostas!V120=\"\",\"\",_xlfn.RANK.EQ(Propostas!V120,Propostas!$T120:$V120,1))","v":""},{"$f":"IF(Propostas!T120=\"\",\"\",Parâmetros!J113*(1+(Propostas!T120-Parâmetros!$I113)/SUM(Propostas!$T120:$V120))*VLOOKUP(Dados!B120,Uso_final[],2,0))","v":""},{"$f":"IF(Propostas!U120=\"\",\"\",Parâmetros!K113*(1+(Propostas!U120-Parâmetros!$I113)/SUM(Propostas!$T120:$V120))*VLOOKUP(Dados!C120,Uso_final[],2,0))","v":""},{"$f":"IF(Propostas!V120=\"\",\"\",Parâmetros!L113*(1+(Propostas!V120-Parâmetros!$I113)/SUM(Propostas!$T120:$V120))*VLOOKUP(Dados!D120,Uso_final[],2,0))","v":""},"",{"$f":"IF($C113=\"\",\"\",MIN(1,(Propostas!W120+Propostas!X120)/Propostas!B120))","v":""}]
[null,null,{"$f":"IFERROR(Propostas!C121/Propostas!D121,\"\")","v":""},"",{"$f":"IF($C114=\"\",\"\",Propostas!F121/Propostas!C121)","v":""},{"$f":"IF($C114=\"\",\"\",Propostas!G121/Parâmetros!$F$4)","v":""},{"$f":"IF($C114=\"\",\"\",Propostas!H121/Parâmetros!$G$4)","v":""},{"$f":"IF($C114=\"\",\"\",MIN(1,(Propostas!B121-Propostas!C121)/Propostas!B121))","v":""},{"$f":"IF($C114=\"\",\"\",AVERAGE(Propostas!T121:V121))","v":""},{"$f":"IF(Propostas!T121=\"\",\"\",_xlfn.RANK.EQ(Propostas!T121,Propostas!$T121:$V121,1))","v":""},{"$f":"IF(Propostas!U121=\"\",\"\",_xlfn.RANK.EQ(Propostas!U121,Propostas!$T121:$V121,1))","v":""},{"$f":"IF(Propostas!V121=\"\",\"\",_xlfn.RANK.EQ(Propostas!V121,Propostas!$T121:$V121,1))","v":""},{"$f":"IF(Propostas!T121=\"\",\"\",Parâmetros!J114*(1+(Propostas!T121-Parâmetros!$I114)/SUM(Propostas!$T121:$V121))*VLOOKUP(Dados!B121,Uso_final[],2,0))","v":""},{"$f":"IF(Propostas!U121=\"\",\"\",Parâmetros!K114*(1+(Propostas!U121-Parâmetros!$I114)/SUM(Propostas!$T121:$V121))*VLOOKUP(Dados!C121,Uso_final[],2,0))","v":""},{"$f":"IF(Propostas!V121=\"\",\"\",Parâmetros!L114*(1+(Propostas!V121-Parâmetros!$I114)/SUM(Propostas!$T121:$V121))*VLOOKUP(Dados!D121,Uso_final[],2,0))","v":""},"",{"$f":"IF($C114=\"\",\"\",MIN(1,(Propostas!W121+Propostas!X121)/Propostas!B121))","v":""}]
[null,null,{"$f":"IFERROR(Propostas!C122/Propostas!D122,\"\")","v":""},"",{"$f":"IF($C115=\"\",\"\",Propostas!F122/Propostas!C122)","v":""},{"$f":"IF($C115=\"\",\"\",Propostas!G122/Parâmetros!$F$4)","v":""},{"$f":"IF($C115=\"\",\"\",Propostas!H122/Parâmetros!$G$4)","v":""},{"$f":"IF($C115=\"\",\"\",MIN(1,(Propostas!B122-Propostas!C122)/Propostas!B122))","v":""},{"$f":"IF($C115=\"\",\"\",AVERAGE(Propostas!T122:V122))","v":""},{"$f":"IF(Propostas!T122=\"\",\"\",_xlfn.RANK.EQ(Propostas!T122,Propostas!$T122:$V122,1))","v":""},{"$f":"IF(Propostas!U122=\"\",\"\",_xlfn.RANK.EQ(Propostas!U122,Propostas!$T122:$V122,1))","v":""},{"$f":"IF(Propostas!V122=\"\",\"\",_xlfn.RANK.EQ(Propostas!V122,Propostas!$T122:$V122,1))","v":""},{"$f":"IF(Propostas!T122=\"\",\"\",Parâmetros!J115*(1+(Propostas!T122-Parâmetros!$I115)/SUM(Propostas!$T122:$V122))*VLOOKUP(Dados!B122,Uso_final[],2,0))","v":""},{"$f":"IF(Propostas!U122=\"\",\"\",Parâmetros!K115*(1+(Propostas!U122-Parâmetros!$I115)/SUM(Propostas!$T122:$V122))*VLOOKUP(Dados!C122,Uso_final[],2,0))","v":""},{"$f":"IF(Propostas!V122=\"\",\"\",Parâmetros!L115*(1+(Propostas!V122-Parâmetros!$I115)/SUM(Propostas!$T122:$V122))*VLOOKUP(Dados!D122,Uso_final[],2,0))","v":""},"",{"$f":"IF($C115=\"\",\"\",MIN(1,(Propostas!W122+Propostas!X122)/Propostas!B122))","v":""}]

{"sheet":"Pontuação","index":4,"n_rows":115,"n_cols":23,"rows_kept":115,"cut":false,"hidden":false,"merged":[[0,14,0,17],[0,2,0,3],[0,5,0,6],[0,7,0,10],[0,11,0,13]]}
[null,null,"A",null,"B","C",null,"D",null,null,null,"E",null,null,"F",null,null,null,"G","H","I"]
[null,null,"A1","A2","B","C1","C2","D1","D2","D3","D4","E1","E2","E3","F1","F2","F3","F4","G","H","I"]
["Ordem","Proposta","Relação custo-benefício proporcional","Relação custo-benefício ordenada","Peso do investimento em equipamentos no custo total","Impacto direto na economia de energia","Impacto direto na redução de demanda na ponta","Qualidade global da apresentação do projeto","Bases da proposta"," Consistência do cronograma apresentado","Estratégia de M&V","Eficácia na quebra de barreiras de mercado","Induz comportamentos de uso eficiente da energia","Destina-se a segmentos com barreiras mais relevantes","Experiência nos usos finais propostos","Experiência no PEE","Certificação CMVP da EVO","Outras certificações pertinentes","Contrapartida","Diversidade e priorização de usos finais","Ações educacionais","Total","Ordem"]
[null,"Máximo",{"$f":"VLOOKUP(C2,'Critérios'!$C$11:$H$34,6,0)","v":24},{"$f":"VLOOKUP(D2,'Critérios'!$C$11:$H$34,6,0)","v":8},{"$f":"VLOOKUP(E2,'Critérios'!$B$11:$G$34,6,0)","v":5},{"$f":"VLOOKUP(F2,'Critérios'!$C$11:$H$34,6,0)","v":8},{"$f":"VLOOKUP(G2,'Critérios'!$C$11:$H$34,6,0)","v":5},{"$f":"VLOOKUP(H2,'Critérios'!$C$11:$H$34,6,0)","v":3},{"$f":"VLOOKUP(I2,'Critérios'!$C$11:$H$34,6,0)","v":2},{"$f":"VLOOKUP(J2,'Critérios'!$C$11:$H$34,6,0)","v":3},{"$f":"VLOOKUP(K2,'Critérios'!$C$11:$H$34,6,0)","v":4},{"$f":"VLOOKUP(L2,'Critérios'!$C$11:$H$34,6,0)","v":1},{"$f":"VLOOKUP(M2,'Critérios'!$C$11:$H$34,6,0)","v":2},{"$f":"VLOOKUP(N2,'Critérios'!$C$11:$H$34,6,0)","v":0},{"$f":"VLOOKUP(O2,'Critérios'!$C$11:$H$34,6,0)","v":6},{"$f":"VLOOKUP(P2,'Critérios'!$C$11:$H$34,6,0)","v":3},{"$f":"VLOOKUP(Q2,'Critérios'!$C$11:$H$34,6,0)","v":3},{"$f":"VLOOKUP(R2,'Critérios'!$C$11:$H$34,6,0)","v":3},{"$f":"VLOOKUP(S2,'Critérios'!$B$11:$G$34,6,0)","v":10},{"$f":"VLOOKUP(T2,'Critérios'!$B$11:$G$34,6,0)","v":5},{"$f":"VLOOKUP(U2,'Critérios'!$B$11:$G$34,6,0)","v":5},{"$f":"SUM(C4:U4)","v":100}]
[{"$f":"IF(Propostas!$C12=\"\",\"\",W5)","v":4},{"$f":"Propostas!A12","v":"P1"},{"$f":"IF(Propostas!$C12=\"\",\"\",C$4*Parâmetros!$C$4/Parâmetros!C5)","v":23.406401057969894},{"$f":"IF(Propostas!$C12=\"\",\"\",D$4*(Parâmetros!D5-1)/(COUNT(Parâmetros!$C$5:$C$204)-1))","v":7.1111111111111107},{"$f":"IF(Propostas!$C12=\"\",\"\",E$4*Parâmetros!E5/Parâmetros!$E$4)","v":4.0783289346411511},{"$f":"IF(Propostas!$C12=\"\",\"\",F$4*Parâmetros!F5)","v":3.3638152941923427},{"$f":"IF(Propostas!$C12=\"\",\"\",G$4*Parâmetros!G5)","v":4.5124867901440568},{"$f":"IF(Propostas!$C12=\"\",\"\",$H$4*Propostas!I12)","v":2.25},{"$f":"IF(Propostas!$C12=\"\",\"\",$I$4*Propostas!J12)","v":1.5},{"$f":"IF(Propostas!$C12=\"\",\"\",$J$4*Propostas!K12)","v":2.25},{"$f":"IF(Propostas!$C12=\"\",\"\",$K$4*Propostas!L12)","v":3},{"$f":"IF(Propostas!$C12=\"\",\"\",$L$4*Propostas!M12)","v":0.75},{"$f":"IF(Propostas!$C12=\"\",\"\",$M$4*Propostas!N12)","v":1},{"$f":"IF(Propostas!$C12=\"\",\"\",$N$4*Propostas!O12)","v":0},{"$f":"IF(Propostas!$C12=\"\",\"\",$O$4*Propostas!P12)","v":6},{"$f":"IF(Propostas!$C12=\"\",\"\",$P$4*Propostas!Q12)","v":3},{"$f":"IF(Propostas!$C12=\"\",\"\",$Q$4*Propostas!R12)","v":3},{"$f":"IF(Propostas!$C12=\"\",\"\",$R$4*Propostas!S12)","v":3},{"$f":"IF(Propostas!$C12=\"\",\"\",S$4*Parâmetros!$H5/Parâmetros!$H$4)","v":0},{"$f":"IF(Propostas!$C12=\"\",\"\",T$4*Parâmetros!P5/Parâmetros!$P$4)","v":0},{"$f":"IF(Propostas!$C12=\"\",\"\",U$4*Parâmetros!Q5/Parâmetros!$Q$4)","v":0.5906717053494821},{"$f":"IF(Propostas!$B12=\"\",\"\",SUM(C5:U5))","v":68.812814893408046},{"$f":"IF(Propostas!$C12=\"\",\"\",RANK(V5,$V$5:$V$203,0))","v":4}]
[{"$f":"IF(Propostas!$C13=\"\",\"\",W6)","v":1},{"$f":"Propostas!A13","v":"P2"},{"$f":"IF(Propostas!$C13=\"\",\"\",C$4*Parâmetros!$C$4/Parâmetros!C6)","v":22.978268123665732},{"$f":"IF(Propostas!$C13=\"\",\"\",D$4*(Parâmetros!D6-1)/(COUNT(Parâmetros!$C$5:$C$204)-1))","v":6.2222222222222223},{"$f":"IF(Propostas!$C13=\"\",\"\",E$4*Parâmetros!E6/Parâmetros!$E$4)","v":3.7549021433115484},{"$f":"IF(Propostas!$C13=\"\",\"\",F$4*Parâmetros!F6)","v":5.0161177676392956},{"$f":"IF(Propostas!$C13=\"\",\"\",G$4*Parâmetros!G6)","v":5},{"$f":"IF(Propostas!$C13=\"\",\"\",$H$4*Propostas!I13)","v":2.25},{"$f":"IF(Propostas!$C13=\"\",\"\",$I$4*Propostas!J13)","v":1.5},{"$f":"IF(Propostas!$C13=\"\",\"\",$J$4*Propostas!K13)","v":2.25},{"$f":"IF(Propostas!$C13=\"\",\"\",$K$4*Propostas!L13)","v":3},{"$f":"IF(Propostas!$C13=\"\",\"\",$L$4*Propostas!M13)","v":0.75},{"$f":"IF(Propostas!$C13=\"\",\"\",$M$4*Propostas!N13)","v":1},{"$f":"IF(Propostas!$C13=\"\",\"\",$N$4*Propostas!O13)","v":0},{"$f":"IF(Propostas!$C13=\"\",\"\",$O$4*Propostas!P13)","v":6},{"$f":"IF(Propostas!$C13=\"\",\"\",$P$4*Propostas!Q13)","v":3},{"$f":"IF(Propostas!$C13=\"\",\"\",$Q$4*Propostas!R13)","v":3},{"$f":"IF(Propostas!$C13=\"\",\"\",$R$4*Propostas!S13)","v":3},{"$f":"IF(Propostas!$C13=\"\",\"\",S$4*Parâmetros!$H6/Parâmetros!$H$4)","v":10},{"$f":"IF(Propostas!$C13=\"\",\"\",T$4*Parâmetros!P6/Parâmetros!$P$4)","v":1.6065455144631375},{"$f":"IF(Propostas!$C13=\"\",\"\",U$4*Parâmetros!Q6/Parâmetros!$Q$4)","v":3.6263191754332751},{"$f":"IF(Propostas!$B13=\"\",\"\",SUM(C6:U6))","v":83.954374946735214},{"$f":"IF(Propostas!$C13=\"\",\"\",RANK(V6,$V$5:$V$203,0))","v":1}]
[{"$f":"IF(Propostas!$C14=\"\",\"\",W7)","v":7},{"$f":"Propostas!A14","v":"P3"},{"$f":"IF(Propostas!$C14=\"\",\"\",C$4*Parâmetros!$C$4/Parâmetros!C7)","v":24},{"$f":"IF(Propostas!$C14=\"\",\"\",D$4*(Parâmetros!D7-1)/(COUNT(Parâmetros!$C$5:$C$204)-1))","v":8},{"$f":"IF(Propostas!$C14=\"\",\"\",E$4*Parâmetros!E7/Parâmetros!$E$4)","v":4.1745609380030704},{"$f":"IF(Propostas!$C14=\"\",\"\",F$4*Parâmetros!F7)","v":1.6290827294083501},{"$f":"IF(Propostas!$C14=\"\",\"\",G$4*Parâmetros!G7)","v":0.67968185104844547},{"$f":"IF(Propostas!$C14=\"\",\"\",$H$4*Propostas!I14)","v":1.5},{"$f":"IF(Propostas!$C14=\"\",\"\",$I$4*Propostas!J14)","v":1.5},{"$f":"IF(Propostas!$C14=\"\",\"\",$J$4*Propostas!K14)","v":2.25},{"$f":"IF(Propostas!$C14=\"\",\"\",$K$4*Propostas!L14)","v":3},{"$f":"IF(Propostas!$C14=\"\",\"\",$L$4*Propostas!M14)","v":0.75},{"$f":"IF(Propostas!$C14=\"\",\"\",$M$4*Propostas!N14)","v":1},{"$f":"IF(Propostas!$C14=\"\",\"\",$N$4*Propostas!O14)","v":0},{"$f":"IF(Propostas!$C14=\"\",\"\",$O$4*Propostas!P14)","v":6},{"$f":"IF(Propostas!$C14=\"\",\"\",$P$4*Propostas!Q14)","v":3},{"$f":"IF(Propostas!$C14=\"\",\"\",$Q$4*Propostas!R14)","v":3},{"$f":"IF(Propostas!$C14=\"\",\"\",$R$4*Propostas!S14)","v":3},{"$f":"IF(Propostas!$C14=\"\",\"\",S$4*Parâmetros!$H7/Parâmetros!$H$4)","v":1.8071861864776457},{"$f":"IF(Propostas!$C14=\"\",\"\",T$4*Parâmetros!P7/Parâmetros!$P$4)","v":0},{"$f":"IF(Propostas!$C14=\"\",\"\",U$4*Parâmetros!Q7/Parâmetros!$Q$4)","v":2.7564560115156675},{"$f":"IF(Propostas!$B14=\"\",\"\",SUM(C7:U7))","v":68.046967716453182},{"$f":"IF(Propostas!$C14=\"\",\"\",RANK(V7,$V$5:$V$203,0))","v":7}]
[{"$f":"IF(Propostas!$C15=\"\",\"\",W8)","v":5},{"$f":"Propostas!A15","v":"P4"},{"$f":"IF(Propostas!$C15=\"\",\"\",C$4*Parâmetros!$C$4/Parâmetros!C8)","v":20.511605955432849},{"$f":"IF(Propostas!$C15=\"\",\"\",D$4*(Parâmetros!D8-1)/(COUNT(Parâmetros!$C$5:$C$204)-1))","v":4.4444444444444446},{"$f":"IF(Propostas!$C15=\"\",\"\",E$4*Parâmetros!E8/Parâmetros!$E$4)","v":4.4456671400728949},{"$f":"IF(Propostas!$C15=\"\",\"\",F$4*Parâmetros!F8)","v":2.5365393511169967},{"$f":"IF(Propostas!$C15=\"\",\"\",G$4*Parâmetros!G8)","v":2.2225930251960619},{"$f":"IF(Propostas!$C15=\"\",\"\",$H$4*Propostas!I15)","v":3},{"$f":"IF(Propostas!$C15=\"\",\"\",$I$4*Propostas!J15)","v":1.5},{"$f":"IF(Propostas!$C15=\"\",\"\",$J$4*Propostas!K15)","v":2.25},{"$f":"IF(Propostas!$C15=\"\",\"\",$K$4*Propostas!L15)","v":3},{"$f":"IF(Propostas!$C15=\"\",\"\",$L$4*Propostas!M15)","v":0.75},{"$f":"IF(Propostas!$C15=\"\",\"\",$M$4*Propostas!N15)","v":1.5},{"$f":"IF(Propostas!$C15=\"\",\"\",$N$4*Propostas!O15)","v":0},{"$f":"IF(Propostas!$C15=\"\",\"\",$O$4*Propostas!P15)","v":6},{"$f":"IF(Propostas!$C15=\"\",\"\",$P$4*Propostas!Q15)","v":3},{"$f":"IF(Propostas!$C15=\"\",\"\",$Q$4*Propostas!R15)","v":3},{"$f":"IF(Propostas!$C15=\"\",\"\",$R$4*Propostas!S15)","v":3},{"$f":"IF(Propostas!$C15=\"\",\"\",S$4*Parâmetros!$H8/Parâmetros!$H$4)","v":5.8443215137110665},{"$f":"IF(Propostas!$C15=\"\",\"\",T$4*Parâmetros!P8/Parâmetros!$P$4)","v":0},{"$f":"IF(Propostas!$C15=\"\",\"\",U$4*Parâmetros!Q8/Parâmetros!$Q$4)","v":1.7864949672980543},{"$f":"IF(Propostas!$B15=\"\",\"\",SUM(C8:U8))","v":68.791666397272365},{"$f":"IF(Propostas!$C15=\"\",\"\",RANK(V8,$V$5:$V$203,0))","v":5}]
[{"$f":"IF(Propostas!$C16=\"\",\"\",W9)","v":9},{"$f":"Propostas!A16","v":"P5"},{"$f":"IF(Propostas!$C16=\"\",\"\",C$4*Parâmetros!$C$4/Parâmetros!C9)","v":17.866938194944638},{"$f":"IF(Propostas!$C16=\"\",\"\",D$4*(Parâmetros!D9-1)/(COUNT(Parâmetros!$C$5:$C$204)-1))","v":0.88888888888888884},{"$f":"IF(Propostas!$C16=\"\",\"\",E$4*Parâmetros!E9/Parâmetros!$E$4)","v":4.57485579538558},{"$f":"IF(Propostas!$C16=\"\",\"\",F$4*Parâmetros!F9)","v":3.2543196887103067},{"$f":"IF(Propostas!$C16=\"\",\"\",G$4*Parâmetros!G9)","v":4.1843261582957894},{"$f":"IF(Propostas!$C16=\"\",\"\",$H$4*Propostas!I16)","v":2.25},{"$f":"IF(Propostas!$C16=\"\",\"\",$I$4*Propostas!J16)","v":1.5},{"$f":"IF(Propostas!$C16=\"\",\"\",$J$4*Propostas!K16)","v":2.25},{"$f":"IF(Propostas!$C16=\"\",\"\",$K$4*Propostas!L16)","v":3},{"$f":"IF(Propostas!$C16=\"\",\"\",$L$4*Propostas!M16)","v":0.75},{"$f":"IF(Propostas!$C16=\"\",\"\",$M$4*Propostas!N16)","v":1.5},{"$f":"IF(Propostas!$C16=\"\",\"\",$N$4*Propostas!O16)","v":0},{"$f":"IF(Propostas!$C16=\"\",\"\",$O$4*Propostas!P16)","v":6},{"$f":"IF(Propostas!$C16=\"\",\"\",$P$4*Propostas!Q16)","v":3},{"$f":"IF(Propostas!$C16=\"\",\"\",$Q$4*Propostas!R16)","v":3},{"$f":"IF(Propostas!$C16=\"\",\"\",$R$4*Propostas!S16)","v":3},{"$f":"IF(Propostas!$C16=\"\",\"\",S$4*Parâmetros!$H9/Parâmetros!$H$4)","v":8.3679688415051618},{"$f":"IF(Propostas!$C16=\"\",\"\",T$4*Parâmetros!P9/Parâmetros!$P$4)","v":0},{"$f":"IF(Propostas!$C16=\"\",\"\",U$4*Parâmetros!Q9/Parâmetros!$Q$4)","v":2.1132813475473249},{"$f":"IF(Propostas!$B16=\"\",\"\",SUM(C9:U9))","v":67.5005789152777},{"$f":"IF(Propostas!$C16=\"\",\"\",RANK(V9,$V$5:$V$203,0))","v":9}]
[{"$f":"IF(Propostas!$C17=\"\",\"\",W10)","v":8},{"$f":"Propostas!A17","v":"P6"},{"$f":"IF(Propostas!$C17=\"\",\"\",C$4*Parâmetros!$C$4/Parâmetros!C10)","v":20.344458731448231},{"$f":"IF(Propostas!$C17=\"\",\"\",D$4*(Parâmetros!D10-1)/(COUNT(Parâmetros!$C$5:$C$204)-1))","v":3.5555555555555554},{"$f":"IF(Propostas!$C17=\"\",\"\",E$4*Parâmetros!E10/Parâmetros!$E$4)","v":4.0953320661968196},{"$f":"IF(Propostas!$C17=\"\",\"\",F$4*Parâmetros!F10)","v":8},{"$f":"IF(Propostas!$C17=\"\",\"\",G$4*Parâmetros!G10)","v":3.3820012236498136},{"$f":"IF(Propostas!$C17=\"\",\"\",$H$4*Propostas!I17)","v":3},{"$f":"IF(Propostas!$C17=\"\",\"\",$I$4*Propostas!J17)","v":1.5},{"$f":"IF(Propostas!$C17=\"\",\"\",$J$4*Propostas!K17)","v":2.25},{"$f":"IF(Propostas!$C17=\"\",\"\",$K$4*Propostas!L17)","v":3},{"$f":"IF(Propostas!$C17=\"\",\"\",$L$4*Propostas!M17)","v":0.75},{"$f":"IF(Propostas!$C17=\"\",\"\",$M$4*Propostas!N17)","v":2},{"$f":"IF(Propostas!$C17=\"\",\"\",$N$4*Propostas!O17)","v":0},{"$f":"IF(Propostas!$C17=\"\",\"\",$O$4*Propostas!P17)","v":6},{"$f":"IF(Propostas!$C17=\"\",\"\",$P$4*Propostas!Q17)","v":3},{"$f":"IF(Propostas!$C17=\"\",\"\",$Q$4*Propostas!R17)","v":3},{"$f":"IF(Propostas!$C17=\"\",\"\",$R$4*Propostas!S17)","v":3},{"$f":"IF(Propostas!$C17=\"\",\"\",S$4*Parâmetros!$H10/Parâmetros!$H$4)","v":0},{"$f":"IF(Propostas!$C17=\"\",\"\",T$4*Parâmetros!P10/Parâmetros!$P$4)","v":0},{"$f":"IF(Propostas!$C17=\"\",\"\",U$4*Parâmetros!Q10/Parâmetros!$Q$4)","v":0.63248653529948806},{"$f":"IF(Propostas!$B17=\"\",\"\",SUM(C10:U10))","v":67.509834112149903},{"$f":"IF(Propostas!$C17=\"\",\"\",RANK(V10,$V$5:$V$203,0))","v":8}]
[{"$f":"IF(Propostas!$C18=\"\",\"\",W11)","v":3},{"$f":"Propostas!A18","v":"P7"},{"$f":"IF(Propostas!$C18=\"\",\"\",C$4*Parâmetros!$C$4/Parâmetros!C11)","v":18.431603921472867},{"$f":"IF(Propostas!$C18=\"\",\"\",D$4*(Parâmetros!D11-1)/(COUNT(Parâmetros!$C$5:$C$204)-1))","v":1.7777777777777777},{"$f":"IF(Propostas!$C18=\"\",\"\",E$4*Parâmetros!E11/Parâmetros!$E$4)","v":4.9999999999999991},{"$f":"IF(Propostas!$C18=\"\",\"\",F$4*Parâmetros!F11)","v":4.3626270963528677},{"$f":"IF(Propostas!$C18=\"\",\"\",G$4*Parâmetros!G11)","v":4.8395350130708055},{"$f":"IF(Propostas!$C18=\"\",\"\",$H$4*Propostas!I18)","v":2.25},{"$f":"IF(Propostas!$C18=\"\",\"\",$I$4*Propostas!J18)","v":1.5},{"$f":"IF(Propostas!$C18=\"\",\"\",$J$4*Propostas!K18)","v":2.25},{"$f":"IF(Propostas!$C18=\"\",\"\",$K$4*Propostas!L18)","v":3},{"$f":"IF(Propostas!$C18=\"\",\"\",$L$4*Propostas!M18)","v":0.75},{"$f":"IF(Propostas!$C18=\"\",\"\",$M$4*Propostas!N18)","v":1},{"$f":"IF(Propostas!$C18=\"\",\"\",$N$4*Propostas!O18)","v":0},{"$f":"IF(Propostas!$C18=\"\",\"\",$O$4*Propostas!P18)","v":6},{"$f":"IF(Propostas!$C18=\"\",\"\",$P$4*Propostas!Q18)","v":3},{"$f":"IF(Propostas!$C18=\"\",\"\",$Q$4*Propostas!R18)","v":3},{"$f":"IF(Propostas!$C18=\"\",\"\",$R$4*Propostas!S18)","v":3},{"$f":"IF(Propostas!$C18=\"\",\"\",S$4*Parâmetros!$H11/Parâmetros!$H$4)","v":9.9166375594033926},{"$f":"IF(Propostas!$C18=\"\",\"\",T$4*Parâmetros!P11/Parâmetros!$P$4)","v":0},{"$f":"IF(Propostas!$C18=\"\",\"\",U$4*Parâmetros!Q11/Parâmetros!$Q$4)","v":0.97578270121900235},{"$f":"IF(Propostas!$B18=\"\",\"\",SUM(C11:U11))","v":71.053964069296711},{"$f":"IF(Propostas!$C18=\"\",\"\",RANK(V11,$V$5:$V$203,0))","v":3}]
[{"$f":"IF(Propostas!$C19=\"\",\"\",W12)","v":6},{"$f":"Propostas!A19","v":"P8"},{"$f":"IF(Propostas!$C19=\"\",\"\",C$4*Parâmetros!$C$4/Parâmetros!C12)","v":19.245795112935873},{"$f":"IF(Propostas!$C19=\"\",\"\",D$4*(Parâmetros!D12-1)/(COUNT(Parâmetros!$C$5:$C$204)-1))","v":2.6666666666666665},{"$f":"IF(Propostas!$C19=\"\",\"\",E$4*Parâmetros!E12/Parâmetros!$E$4)","v":3.9637106559884394},{"$f":"IF(Propostas!$C19=\"\",\"\",F$4*Parâmetros!F12)","v":2.7024879592928861},{"$f":"IF(Propostas!$C19=\"\",\"\",G$4*Parâmetros!G12)","v":2.2120251404416265},{"$f":"IF(Propostas!$C19=\"\",\"\",$H$4*Propostas!I19)","v":3},{"$f":"IF(Propostas!$C19=\"\",\"\",$I$4*Propostas!J19)","v":1.5},{"$f":"IF(Propostas!$C19=\"\",\"\",$J$4*Propostas!K19)","v":2.25},{"$f":"IF(Propostas!$C19=\"\",\"\",$K$4*Propostas!L19)","v":3},{"$f":"IF(Propostas!$C19=\"\",\"\",$L$4*Propostas!M19)","v":0.75},{"$f":"IF(Propostas!$C19=\"\",\"\",$M$4*Propostas!N19)","v":1.5},{"$f":"IF(Propostas!$C19=\"\",\"\",$N$4*Propostas!O19)","v":0},{"$f":"IF(Propostas!$C19=\"\",\"\",$O$4*Propostas!P19)","v":6},{"$f":"IF(Propostas!$C19=\"\",\"\",$P$4*Propostas!Q19)","v":3},{"$f":"IF(Propostas!$C19=\"\",\"\",$Q$4*Propostas!R19)","v":3},{"$f":"IF(Propostas!$C19=\"\",\"\",$R$4*Propostas!S19)","v":3},{"$f":"IF(Propostas!$C19=\"\",\"\",S$4*Parâmetros!$H12/Parâmetros!$H$4)","v":2.1401251483346218},{"$f":"IF(Propostas!$C19=\"\",\"\",T$4*Parâmetros!P12/Parâmetros!$P$4)","v":4.7101828768462299},{"$f":"IF(Propostas!$C19=\"\",\"\",U$4*Parâmetros!Q12/Parâmetros!$Q$4)","v":3.7145800496003596},{"$f":"IF(Propostas!$B19=\"\",\"\",SUM(C12:U12))","v":68.355573610106703},{"$f":"IF(Propostas!$C19=\"\",\"\",RANK(V12,$V$5:$V$203,0))","v":6}]
[{"$f":"IF(Propostas!$C20=\"\",\"\",W13)","v":2},{"$f":"Propostas!A20","v":"P9"},{"$f":"IF(Propostas!$C20=\"\",\"\",C$4*Parâmetros!$C$4/Parâmetros!C13)","v":21.202969368474314},{"$f":"IF(Propostas!$C20=\"\",\"\",D$4*(Parâmetros!D13-1)/(COUNT(Parâmetros!$C$5:$C$204)-1))","v":5.333333333333333},{"$f":"IF(Propostas!$C20=\"\",\"\",E$4*Parâmetros!E13/Parâmetros!$E$4)","v":3.7957087257541677},{"$f":"IF(Propostas!$C20=\"\",\"\",F$4*Parâmetros!F13)","v":1.9103318790759267},{"$f":"IF(Propostas!$C20=\"\",\"\",G$4*Parâmetros!G13)","v":1.6989265253907337},{"$f":"IF(Propostas!$C20=\"\",\"\",$H$4*Propostas!I20)","v":3},{"$f":"IF(Propostas!$C20=\"\",\"\",$I$4*Propostas!J20)","v":1.5},{"$f":"IF(Propostas!$C20=\"\",\"\",$J$4*Propostas!K20)","v":2.25},{"$f":"IF(Propostas!$C20=\"\",\"\",$K$4*Propostas!L20)","v":3},{"$f":"IF(Propostas!$C20=\"\",\"\",$L$4*Propostas!M20)","v":0.75},{"$f":"IF(Propostas!$C20=\"\",\"\",$M$4*Propostas!N20)","v":1.5},{"$f":"IF(Propostas!$C20=\"\",\"\",$N$4*Propostas!O20)","v":0},{"$f":"IF(Propostas!$C20=\"\",\"\",$O$4*Propostas!P20)","v":6},{"$f":"IF(Propostas!$C20=\"\",\"\",$P$4*Propostas!Q20)","v":3},{"$f":"IF(Propostas!$C20=\"\",\"\",$Q$4*Propostas!R20)","v":3},{"$f":"IF(Propostas!$C20=\"\",\"\",$R$4*Propostas!S20)","v":3},{"$f":"IF(Propostas!$C20=\"\",\"\",S$4*Parâmetros!$H13/Parâmetros!$H$4)","v":3.9885211774165095},{"$f":"IF(Propostas!$C20=\"\",\"\",T$4*Parâmetros!P13/Parâmetros!$P$4)","v":5},{"$f":"IF(Propostas!$C20=\"\",\"\",U$4*Parâmetros!Q13/Parâmetros!$Q$4)","v":5},{"$f":"IF(Propostas!$B20=\"\",\"\",SUM(C13:U13))","v":74.929791009444983},{"$f":"IF(Propostas!$C20=\"\",\"\",RANK(V13,$V$5:$V$203,0))","v":2}]
[{"$f":"IF(Propostas!$C21=\"\",\"\",W14)","v":10},{"$f":"Propostas!A21","v":"P10"},{"$f":"IF(Propostas!$C21=\"\",\"\",C$4*Parâmetros!$C$4/Parâmetros!C14)","v":17.79237973939048},{"$f":"IF(Propostas!$C21=\"\",\"\",D$4*(Parâmetros!D14-1)/(COUNT(Parâmetros!$C$5:$C$204)-1))","v":0},{"$f":"IF(Propostas!$C21=\"\",\"\",E$4*Parâmetros!E14/Parâmetros!$E$4)","v":3.6900463359970299},{"$f":"IF(Propostas!$C21=\"\",\"\",F$4*Parâmetros!F14)","v":0.60763167681018759},{"$f":"IF(Propostas!$C21=\"\",\"\",G$4*Parâmetros!G14)","v":0.88102786584348403},{"$f":"IF(Propostas!$C21=\"\",\"\",$H$4*Propostas!I21)","v":2.25},{"$f":"IF(Propostas!$C21=\"\",\"\",$I$4*Propostas!J21)","v":1.5},{"$f":"IF(Propostas!$C21=\"\",\"\",$J$4*Propostas!K21)","v":2.25},{"$f":"IF(Propostas!$C21=\"\",\"\",$K$4*Propostas!L21)","v":3},{"$f":"IF(Propostas!$C21=\"\",\"\",$L$4*Propostas!M21)","v":0.75},{"$f":"IF(Propostas!$C21=\"\",\"\",$M$4*Propostas!N21)","v":1.5},{"$f":"IF(Propostas!$C21=\"\",\"\",$N$4*Propostas!O21)","v":0},{"$f":"IF(Propostas!$C21=\"\",\"\",$O$4*Propostas!P21)","v":6},{"$f":"IF(Propostas!$C21=\"\",\"\",$P$4*Propostas!Q21)","v":3},{"$f":"IF(Propostas!$C21=\"\",\"\",$Q$4*Propostas!R21)","v":3},{"$f":"IF(Propostas!$C21=\"\",\"\",$R$4*Propostas!S21)","v":3},{"$f":"IF(Propostas!$C21=\"\",\"\",S$4*Parâmetros!$H14/Parâmetros!$H$4)","v":0},{"$f":"IF(Propostas!$C21=\"\",\"\",T$4*Parâmetros!P14/Parâmetros!$P$4)","v":0},{"$f":"IF(Propostas!$C21=\"\",\"\",U$4*Parâmetros!Q14/Parâmetros!$Q$4)","v":2.5305687859467123},{"$f":"IF(Propostas!$B21=\"\",\"\",SUM(C14:U14))","v":51.751654403987892},{"$f":"IF(Propostas!$C21=\"\",\"\",RANK(V14,$V$5:$V$203,0))","v":10}]
[{"$f":"IF(Propostas!$C22=\"\",\"\",W15)","v":""},{"$f":"Propostas!A22","v":0},{"$f":"IF(Propostas!$C22=\"\",\"\",C$4*Parâmetros!$C$4/Parâmetros!C15)","v":""},{"$f":"IF(Propostas!$C22=\"\",\"\",D$4*(Parâmetros!D15-1)/(COUNT(Parâmetros!$C$5:$C$204)-1))","v":""},{"$f":"IF(Propostas!$C22=\"\",\"\",E$4*Parâmetros!E15/Parâmetros!$E$4)","v":""},{"$f":"IF(Propostas!$C22=\"\",\"\",F$4*Parâmetros!F15)","v":""},{"$f":"IF(Propostas!$C22=\"\",\"\",G$4*Parâmetros!G15)","v":""},{"$f":"IF(Propostas!$C22=\"\",\"\",$H$4*Propostas!I22)","v":""},{"$f":"IF(Propostas!$C22=\"\",\"\",$I$4*Propostas!J22)","v":""},{"$f":"IF(Propostas!$C22=\"\",\"\",$J$4*Propostas!K22)","v":""},{"$f":"IF(Propostas!$C22=\"\",\"\",$K$4*Propostas!L22)","v":""},{"$f":"IF(Propostas!$C22=\"\",\"\",$L$4*Propostas!M22)","v":""},{"$f":"IF(Propostas!$C22=\"\",\"\",$M$4*Propostas!N22)","v":""},{"$f":"IF(Propostas!$C22=\"\",\"\",$N$4*Propostas!O22)","v":""},{"$f":"IF(Propostas!$C22=\"\",\"\",$O$4*Propostas!P22)","v":""},{"$f":"IF(Propostas!$C22=\"\",\"\",$P$4*Propostas!Q22)","v":""},{"$f":"IF(Propostas!$C22=\"\",\"\",$Q$4*Propostas!R22)","v":""},{"$f":"IF(Propostas!$C22=\"\",\"\",$R$4*Propostas!S22)","v":""},{"$f":"IF(Propostas!$C22=\"\",\"\",S$4*Parâmetros!$H15/Parâmetros!$H$4)","v":""},{"$f":"IF(Propostas!$C22=\"\",\"\",T$4*Parâmetros!P15/Parâmetros!$P$4)","v":""},{"$f":"IF(Propostas!$C22=\"\",\"\",U$4*Parâmetros!Q15/Parâmetros!$Q$4)","v":""},{"$f":"IF(Propostas!$B22=\"\",\"\",SUM(C15:U15))","v":""},{"$f":"IF(Propostas!$C22=\"\",\"\",RANK(V15,$V$5:$V$203,0))","v":""}]
[{"$f":"IF(Propostas!$C23=\"\",\"\",W16)","v":""},{"$f":"Propostas!A23","v":0},{"$f":"IF(Propostas!$C23=\"\",\"\",C$4*Parâmetros!$C$4/Parâmetros!C16)","v":""},{"$f":"IF(Propostas!$C23=\"\",\"\",D$4*(Parâmetros!D16-1)/(COUNT(Parâmetros!$C$5:$C$204)-1))","v":""},{"$f":"IF(Propostas!$C23=\"\",\"\",E$4*Parâmetros!E16/Parâmetros!$E$4)","v":""},{"$f":"IF(Propostas!$C23=\"\",\"\",F$4*Parâmetros!F16)","v":""},{"$f":"IF(Propostas!$C23=\"\",\"\",G$4*Parâmetros!G16)","v":""},{"$f":"IF(Propostas!$C23=\"\",\"\",$H$4*Propostas!I23)","v":""},{"$f":"IF(Propostas!$C23=\"\",\"\",$I$4*Propostas!J23)","v":""},{"$f":"IF(Propostas!$C23=\"\",\"\",$J$4*Propostas!K23)","v":""},{"$f":"IF(Propostas!$C23=\"\",\"\",$K$4*Propostas!L23)","v":""},{"$f":"IF(Propostas!$C23=\"\",\"\",$L$4*Propostas!M23)","v":""},{"$f":"IF(Propostas!$C23=\"\",\"\",$M$4*Propostas!N23)","v":""},{"$f":"IF(Propostas!$C23=\"\",\"\",$N$4*Propostas!O23)","v":""},{"$f":"IF(Propostas!$C23=\"\",\"\",$O$4*Propostas!P23)","v":""},{"$f":"IF(Propostas!$C23=\"\",\"\",$P$4*Propostas!Q23)","v":""},{"$f":"IF(Propostas!$C23=\"\",\"\",$Q$4*Propostas!R23)","v":""},{"$f":"IF(Propostas!$C23=\"\",\"\",$R$4*Propostas!S23)","v":""},{"$f":"IF(Propostas!$C23=\"\",\"\",S$4*Parâmetros!$H16/Parâmetros!$H$4)","v":""},{"$f":"IF(Propostas!$C23=\"\",\"\",T$4*Parâmetros!P16/Parâmetros!$P$4)","v":""},{"$f":"IF(Propostas!$C23=\"\",\"\",U$4*Parâmetros!Q16/Parâmetros!$Q$4)","v":""},{"$f":"IF(Propostas!$B23=\"\",\"\",SUM(C16:U16))","v":""},{"$f":"IF(Propostas!$C23=\"\",\"\",RANK(V16,$V$5:$V$203,0))","v":""}]
[{"$f":"IF(Propostas!$C24=\"\",\"\",W17)","v":""},{"$f":"Propostas!A24","v":0},{"$f":"IF(Propostas!$C24=\"\",\"\",C$4*Parâmetros!$C$4/Parâmetros!C17)","v":""},{"$f":"IF(Propostas!$C24=\"\",\"\",D$4*(Parâmetros!D17-1)/(COUNT(Parâmetros!$C$5:$C$204)-1))","v":""},{"$f":"IF(Propostas!$C24=\"\",\"\",E$4*Parâmetros!E17/Parâmetros!$E$4)","v":""},{"$f":"IF(Propostas!$C24=\"\",\"\",F$4*Parâmetros!F17)","v":""},{"$f":"IF(Propostas!$C24=\"\",\"\",G$4*Parâmetros!G17)","v":""},{"$f":"IF(Propostas!$C24=\"\",\"\",$H$4*Propostas!I24)","v":""},{"$f":"IF(Propostas!$C24=\"\",\"\",$I$4*Propostas!J24)","v":""},{"$f":"IF(Propostas!$C24=\"\",\"\",$J$4*Propostas!K24)","v":""},{"$f":"IF(Propostas!$C24=\"\",\"\",$K$4*Propostas!L24)","v":""},{"$f":"IF(Propostas!$C24=\"\",\"\",$L$4*Propostas!M24)","v":""},{"$f":"IF(Propostas!$C24=\"\",\"\",$M$4*Propostas!N24)","v":""},{"$f":"IF(Propostas!$C24=\"\",\"\",$N$4*Propostas!O24)","v":""},{"$f":"IF(Propostas!$C24=\"\",\"\",$O$4*Propostas!P24)","v":""},{"$f":"IF(Propostas!$C24=\"\",\"\",$P$4*Propostas!Q24)","v":""},{"$f":"IF(Propostas!$C24=\"\",\"\",$Q$4*Propostas!R24)","v":""},{"$f":"IF(Propostas!$C24=\"\",\"\",$R$4*Propostas!S24)","v":""},{"$f":"IF(Propostas!$C24=\"\",\"\",S$4*Parâmetros!$H17/Parâmetros!$H$4)","v":""},{"$f":"IF(Propostas!$C24=\"\",\"\",T$4*Parâmetros!P17/Parâmetros!$P$4)","v":""},{"$f":"IF(Propostas!$C24=\"\",\"\",U$4*Parâmetros!Q17/Parâmetros!$Q$4)","v":""},{"$f":"IF(Propostas!$B24=\"\",\"\",SUM(C17:U17))","v":""},{"$f":"IF(Propostas!$C24=\"\",\"\",RANK(V17,$V$5:$V$203,0))","v":""}]
[{"$f":"IF(Propostas!$C25=\"\",\"\",W18)","v":""},{"$f":"Propostas!A25","v":0},{"$f":"IF(Propostas!$C25=\"\",\"\",C$4*Parâmetros!$C$4/Parâmetros!C18)","v":""},{"$f":"IF(Propostas!$C25=\"\",\"\",D$4*(Parâmetros!D18-1)/(COUNT(Parâmetros!$C$5:$C$204)-1))","v":""},{"$f":"IF(Propostas!$C25=\"\",\"\",E$4*Parâmetros!E18/Parâmetros!$E$4)","v":""},{"$f":"IF(Propostas!$C25=\"\",\"\",F$4*Parâmetros!F18)","v":""},{"$f":"IF(Propostas!$C25=\"\",\"\",G$4*Parâmetros!G18)","v":""},{"$f":"IF(Propostas!$C25=\"\",\"\",$H$4*Propostas!I25)","v":""},{"$f":"IF(Propostas!$C25=\"\",\"\",$I$4*Propostas!J25)","v":""},{"$f":"IF(Propostas!$C25=\"\",\"\",$J$4*Propostas!K25)","v":""},{"$f":"IF(Propostas!$C25=\"\",\"\",$K$4*Propostas!L25)","v":""},{"$f":"IF(Propostas!$C25=\"\",\"\",$L$4*Propostas!M25)","v":""},{"$f":"IF(Propostas!$C25=\"\",\"\",$M$4*Propostas!N25)","v":""},{"$f":"IF(Propostas!$C25=\"\",\"\",$N$4*Propostas!O25)","v":""},{"$f":"IF(Propostas!$C25=\"\",\"\",$O$4*Propostas!P25)","v":""},{"$f":"IF(Propostas!$C25=\"\",\"\",$P$4*Propostas!Q25)","v":""},{"$f":"IF(Propostas!$C25=\"\",\"\",$Q$4*Propostas!R25)","v":""},{"$f":"IF(Propostas!$C25=\"\",\"\",$R$4*Propostas!S25)","v":""},{"$f":"IF(Propostas!$C25=\"\",\"\",S$4*Parâmetros!$H18/Parâmetros!$H$4)","v":""},{"$f":"IF(Propostas!$C25=\"\",\"\",T$4*Parâmetros!P18/Parâmetros!$P$4)","v":""},{"$f":"IF(Propostas!$C25=\"\",\"\",U$4*Parâmetros!Q18/Parâmetros!$Q$4)","v":""},{"$f":"IF(Propostas!$B25=\"\",\"\",SUM(C18:U18))","v":""},{"$f":"IF(Propostas!$C25=\"\",\"\",RANK(V18,$V$5:$V$203,0))","v":""}]
[{"$f":"IF(Propostas!$C26=\"\",\"\",W19)","v":""},{"$f":"Propostas!A26","v":0},{"$f":"IF(Propostas!$C26=\"\",\"\",C$4*Parâmetros!$C$4/Parâmetros!C19)","v":""},{"$f":"IF(Propostas!$C26=\"\",\"\",D$4*(Parâmetros!D19-1)/(COUNT(Parâmetros!$C$5:$C$204)-1))","v":""},{"$f":"IF(Propostas!$C26=\"\",\"\",E$4*Parâmetros!E19/Parâmetros!$E$4)","v":""},{"$f":"IF(Propostas!$C26=\"\",\"\",F$4*Parâmetros!F19)","v":""},{"$f":"IF(Propostas!$C26=\"\",\"\",G$4*Parâmetros!G19)","v":""},{"$f":"IF(Propostas!$C26=\"\",\"\",$H$4*Propostas!I26)","v":""},{"$f":"IF(Propostas!$C26=\"\",\"\",$I$4*Propostas!J26)","v":""},{"$f":"IF(Propostas!$C26=\"\",\"\",$J$4*Propostas!K26)","v":""},{"$f":"IF(Propostas!$C26=\"\",\"\",$K$4*Propostas!L26)","v":""},{"$f":"IF(Propostas!$C26=\"\",\"\",$L$4*Propostas!M26)","v":""},{"$f":"IF(Propostas!$C26=\"\",\"\",$M$4*Propostas!N26)","v":""},{"$f":"IF(Propostas!$C26=\"\",\"\",$N$4*Propostas!O26)","v":""},{"$f":"IF(Propostas!$C26=\"\",\"\",$O$4*Propostas!P26)","v":""},{"$f":"IF(Propostas!$C26=\"\",\"\",$P$4*Propostas!Q26)","v":""},{"$f":"IF(Propostas!$C26=\"\",\"\",$Q$4*Propostas!R26)","v":""},{"$f":"IF(Propostas!$C26=\"\",\"\",$R$4*Propostas!S26)","v":""},{"$f":"IF(Propostas!$C26=\"\",\"\",S$4*Parâmetros!$H19/Parâmetros!$H$4)","v":""},{"$f":"IF(Propostas!$C26=\"\",\"\",T$4*Parâmetros!P19/Parâmetros!$P$4)","v":""},{"$f":"IF(Propostas!$C26=\"\",\"\",U$4*Parâmetros!Q19/Parâmetros!$Q$4)","v":""},{"$f":"IF(Propostas!$B26=\"\",\"\",SUM(C19:U19))","v":""},{"$f":"IF(Propostas!$C26=\"\",\"\",RANK(V19,$V$5:$V$203,0))","v":""}]
[{"$f":"IF(Propostas!$C27=\"\",\"\",W20)","v":""},{"$f":"Propostas!A27","v":0},{"$f":"IF(Propostas!$C27=\"\",\"\",C$4*Parâmetros!$C$4/Parâmetros!C20)","v":""},{"$f":"IF(Propostas!$C27=\"\",\"\",D$4*(Parâmetros!D20-1)/(COUNT(Parâmetros!$C$5:$C$204)-1))","v":""},{"$f":"IF(Propostas!$C27=\"\",\"\",E$4*Parâmetros!E20/Parâmetros!$E$4)","v":""},{"$f":"IF(Propostas!$C27=\"\",\"\",F$4*Parâmetros!F20)","v":""},{"$f":"IF(Propostas!$C27=\"\",\"\",G$4*Parâmetros!G20)","v":""},{"$f":"IF(Propostas!$C27=\"\",\"\",$H$4*Propostas!I27)","v":""},{"$f":"IF(Propostas!$C27=\"\",\"\",$I$4*Propostas!J27)","v":""},{"$f":"IF(Propostas!$C27=\"\",\"\",$J$4*Propostas!K27)","v":""},{"$f":"IF(Propostas!$C27=\"\",\"\",$K$4*Propostas!L27)","v":""},{"$f":"IF(Propostas!$C27=\"\",\"\",$L$4*Propostas!M27)","v":""},{"$f":"IF(Propostas!$C27=\"\",\"\",$M$4*Propostas!N27)","v":""},{"$f":"IF(Propostas!$C27=\"\",\"\",$N$4*Propostas!O27)","v":""},{"$f":"IF(Propostas!$C27=\"\",\"\",$O$4*Propostas!P27)","v":""},{"$f":"IF(Propostas!$C27=\"\",\"\",$P$4*Propostas!Q27)","v":""},{"$f":"IF(Propostas!$C27=\"\",\"\",$Q$4*Propostas!R27)","v":""},{"$f":"IF(Propostas!$C27=\"\",\"\",$R$4*Propostas!S27)","v":""},{"$f":"IF(Propostas!$C27=\"\",\"\",S$4*Parâmetros!$H20/Parâmetros!$H$4)","v":""},{"$f":"IF(Propostas!$C27=\"\",\"\",T$4*Parâmetros!P20/Parâmetros!$P$4)","v":""},{"$f":"IF(Propostas!$C27=\"\",\"\",U$4*Parâmetros!Q20/Parâmetros!$Q$4)","v":""},{"$f":"IF(Propostas!$B27=\"\",\"\",SUM(C20:U20))","v":""},{"$f":"IF(Propostas!$C27=\"\",\"\",RANK(V20,$V$5:$V$203,0))","v":""}]
[{"$f":"IF(Propostas!$C28=\"\",\"\",W21)","v":""},{"$f":"Propostas!A28","v":0},{"$f":"IF(Propostas!$C28=\"\",\"\",C$4*Parâmetros!$C$4/Parâmetros!C21)","v":""},{"$f":"IF(Propostas!$C28=\"\",\"\",D$4*(Parâmetros!D21-1)/(COUNT(Parâmetros!$C$5:$C$204)-1))","v":""},{"$f":"IF(Propostas!$C28=\"\",\"\",E$4*Parâmetros!E21/Parâmetros!$E$4)","v":""},{"$f":"IF(Propostas!$C28=\"\",\"\",F$4*Parâmetros!F21)","v":""},{"$f":"IF(Propostas!$C28=\"\",\"\",G$4*Parâmetros!G21)","v":""},{"$f":"IF(Propostas!$C28=\"\",\"\",$H$4*Propostas!I28)","v":""},{"$f":"IF(Propostas!$C28=\"\",\"\",$I$4*Propostas!J28)","v":""},{"$f":"IF(Propostas!$C28=\"\",\"\",$J$4*Propostas!K28)","v":""},{"$f":"IF(Propostas!$C28=\"\",\"\",$K$4*Propostas!L28)","v":""},{"$f":"IF(Propostas!$C28=\"\",\"\",$L$4*Propostas!M28)","v":""},{"$f":"IF(Propostas!$C28=\"\",\"\",$M$4*Propostas!N28)","v":""},{"$f":"IF(Propostas!$C28=\"\",\"\",$N$4*Propostas!O28)","v":""},{"$f":"IF(Propostas!$C28=\"\",\"\",$O$4*Propostas!P28)","v":""},{"$f":"IF(Propostas!$C28=\"\",\"\",$P$4*Propostas!Q28)","v":""},{"$f":"IF(Propostas!$C28=\"\",\"\",$Q$4*Propostas!R28)","v":""},{"$f":"IF(Propostas!$C28=\"\",\"\",$R$4*Propostas!S28)","v":""},{"$f":"IF(Propostas!$C28=\"\",\"\",S$4*Parâmetros!$H21/Parâmetros!$H$4)","v":""},{"$f":"IF(Propostas!$C28=\"\",\"\",T$4*Parâmetros!P21/Parâmetros!$P$4)","v":""},{"$f":"IF(Propostas!$C28=\"\",\"\",U$4*Parâmetros!Q21/Parâmetros!$Q$4)","v":""},{"$f":"IF(Propostas!$B28=\"\",\"\",SUM(C21:U21))","v":""},{"$f":"IF(Propostas!$C28=\"\",\"\",RANK(V21,$V$5:$V$203,0))","v":""}]
[{"$f":"IF(Propostas!$C29=\"\",\"\",W22)","v":""},{"$f":"Propostas!A29","v":0},{"$f":"IF(Propostas!$C29=\"\",\"\",C$4*Parâmetros!$C$4/Parâmetros!C22)","v":""},{"$f":"IF(Propostas!$C29=\"\",\"\",D$4*(Parâmetros!D22-1)/(COUNT(Parâmetros!$C$5:$C$204)-1))","v":""},{"$f":"IF(Propostas!$C29=\"\",\"\",E$4*Parâmetros!E22/Parâmetros!$E$4)","v":""},{"$f":"IF(Propostas!$C29=\"\",\"\",F$4*Parâmetros!F22)","v":""},{"$f":"IF(Propostas!$C29=\"\",\"\",G$4*Parâmetros!G22)","v":""},{"$f":"IF(Propostas!$C29=\"\",\"\",$H$4*Propostas!I29)","v":""},{"$f":"IF(Propostas!$C29=\"\",\"\",$I$4*Propostas!J29)","v":""},{"$f":"IF(Propostas!$C29=\"\",\"\",$J$4*Propostas!K29)","v":""},{"$f":"IF(Propostas!$C29=\"\",\"\",$K$4*Propostas!L29)","v":""},{"$f":"IF(Propostas!$C29=\"\",\"\",$L$4*Propostas!M29)","v":""},{"$f":"IF(Propostas!$C29=\"\",\"\",$M$4*Propostas!N29)","v":""},{"$f":"IF(Propostas!$C29=\"\",\"\",$N$4*Propostas!O29)","v":""},{"$f":"IF(Propostas!$C29=\"\",\"\",$O$4*Propostas!P29)","v":""},{"$f":"IF(Propostas!$C29=\"\",\"\",$P$4*Propostas!Q29)","v":""},{"$f":"IF(Propostas!$C29=\"\",\"\",$Q$4*Propostas!R29)","v":""},{"$f":"IF(Propostas!$C29=\"\",\"\",$R$4*Propostas!S29)","v":""},{"$f":"IF(Propostas!$C29=\"\",\"\",S$4*Parâmetros!$H22/Parâmetros!$H$4)","v":""},{"$f":"IF(Propostas!$C29=\"\",\"\",T$4*Parâmetros!P22/Parâmetros!$P$4)","v":""},{"$f":"IF(Propostas!$C29=\"\",\"\",U$4*Parâmetros!Q22/Parâmetros!$Q$4)","v":""},{"$f":"IF(Propostas!$B29=\"\",\"\",SUM(C22:U22))","v":""},{"$f":"IF(Propostas!$C29=\"\",\"\",RANK(V22,$V$5:$V$203,0))","v":""}]
[{"$f":"IF(Propostas!$C30=\"\",\"\",W23)","v":""},{"$f":"Propostas!A30","v":0},{"$f":"IF(Propostas!$C30=\"\",\"\",C$4*Parâmetros!$C$4/Parâmetros!C23)","v":""},{"$f":"IF(Propostas!$C30=\"\",\"\",D$4*(Parâmetros!D23-1)/(COUNT(Parâmetros!$C$5:$C$204)-1))","v":""},{"$f":"IF(Propostas!$C30=\"\",\"\",E$4*Parâmetros!E23/Parâmetros!$E$4)","v":""},{"$f":"IF(Propostas!$C30=\"\",\"\",F$4*Parâmetros!F23)","v":""},{"$f":"IF(Propostas!$C30=\"\",\"\",G$4*Parâmetros!G23)","v":""},{"$f":"IF(Propostas!$C30=\"\",\"\",$H$4*Propostas!I30)","v":""},{"$f":"IF(Propostas!$C30=\"\",\"\",$I$4*Propostas!J30)","v":""},{"$f":"IF(Propostas!$C30=\"\",\"\",$J$4*Propostas!K30)","v":""},{"$f":"IF(Propostas!$C30=\"\",\"\",$K$4*Propostas!L30)","v":""},{"$f":"IF(Propostas!$C30=\"\",\"\",$L$4*Propostas!M30)","v":""},{"$f":"IF(Propostas!$C30=\"\",\"\",$M$4*Propostas!N30)","v":""},{"$f":"IF(Propostas!$C30=\"\",\"\",$N$4*Propostas!O30)","v":""},{"$f":"IF(Propostas!$C30=\"\",\"\",$O$4*Propostas!P30)","v":""},{"$f":"IF(Propostas!$C30=\"\",\"\",$P$4*Propostas!Q30)","v":""},{"$f":"IF(Propostas!$C30=\"\",\"\",$Q$4*Propostas!R30)","v":""},{"$f":"IF(Propostas!$C30=\"\",\"\",$R$4*Propostas!S30)","v":""},{"$f":"IF(Propostas!$C30=\"\",\"\",S$4*Parâmetros!$H23/Parâmetros!$H$4)","v":""},{"$f":"IF(Propostas!$C30=\"\",\"\",T$4*Parâmetros!P23/Parâmetros!$P$4)","v":""},{"$f":"IF(Propostas!$C30=\"\",\"\",U$4*Parâmetros!Q23/Parâmetros!$Q$4)","v":""},{"$f":"IF(Propostas!$B30=\"\",\"\",SUM(C23:U23))","v":""},{"$f":"IF(Propostas!$C30=\"\",\"\",RANK(V23,$V$5:$V$203,0))","v":""}]
[{"$f":"IF(Propostas!$C31=\"\",\"\",W24)","v":""},{"$f":"Propostas!A31","v":0},{"$f":"IF(Propostas!$C31=\"\",\"\",C$4*Parâmetros!$C$4/Parâmetros!C24)","v":""},{"$f":"IF(Propostas!$C31=\"\",\"\",D$4*(Parâmetros!D24-1)/(COUNT(Parâmetros!$C$5:$C$204)-1))","v":""},{"$f":"IF(Propostas!$C31=\"\",\"\",E$4*Parâmetros!E24/Parâmetros!$E$4)","v":""},{"$f":"IF(Propostas!$C31=\"\",\"\",F$4*Parâmetros!F24)","v":""},{"$f":"IF(Propostas!$C31=\"\",\"\",G$4*Parâmetros!G24)","v":""},{"$f":"IF(Propostas!$C31=\"\",\"\",$H$4*Propostas!I31)","v":""},{"$f":"IF(Propostas!$C31=\"\",\"\",$I$4*Propostas!J31)","v":""},{"$f":"IF(Propostas!$C31=\"\",\"\",$J$4*Propostas!K31)","v":""},{"$f":"IF(Propostas!$C31=\"\",\"\",$K$4*Propostas!L31)","v":""},{"$f":"IF(Propostas!$C31=\"\",\"\",$L$4*Propostas!M31)","v":""},{"$f":"IF(Propostas!$C31=\"\",\"\",$M$4*Propostas!N31)","v":""},{"$f":"IF(Propostas!$C31=\"\",\"\",$N$4*Propostas!O31)","v":""},{"$f":"IF(Propostas!$C31=\"\",\"\",$O$4*Propostas!P31)","v":""},{"$f":"IF(Propostas!$C31=\"\",\"\",$P$4*Propostas!Q31)","v":""},{"$f":"IF(Propostas!$C31=\"\",\"\",$Q$4*Propostas!R31)","v":""},{"$f":"IF(Propostas!$C31=\"\",\"\",$R$4*Propostas!S31)","v":""},{"$f":"IF(Propostas!$C31=\"\",\"\",S$4*Parâmetros!$H24/Parâmetros!$H$4)","v":""},{"$f":"IF(Propostas!$C31=\"\",\"\",T$4*Parâmetros!P24/Parâmetros!$P$4)","v":""},{"$f":"IF(Propostas!$C31=\"\",\"\",U$4*Parâmetros!Q24/Parâmetros!$Q$4)","v":""},{"$f":"IF(Propostas!$B31=\"\",\"\",SUM(C24:U24))","v":""},{"$f":"IF(Propostas!$C31=\"\",\"\",RANK(V24,$V$5:$V$203,0))","v":""}]
[{"$f":"IF(Propostas!$C32=\"\",\"\",W25)","v":""},{"$f":"Propostas!A32","v":0},{"$f":"IF(Propostas!$C32=\"\",\"\",C$4*Parâmetros!$C$4/Parâmetros!C25)","v":""},{"$f":"IF(Propostas!$C32=\"\",\"\",D$4*(Parâmetros!D25-1)/(COUNT(Parâmetros!$C$5:$C$204)-1))","v":""},{"$f":"IF(Propostas!$C32=\"\",\"\",E$4*Parâmetros!E25/Parâmetros!$E$4)","v":""},{"$f":"IF(Propostas!$C32=\"\",\"\",F$4*Parâmetros!F25)","v":""},{"$f":"IF(Propostas!$C32=\"\",\"\",G$4*Parâmetros!G25)","v":""},{"$f":"IF(Propostas!$C32=\"\",\"\",$H$4*Propostas!I32)","v":""},{"$f":"IF(Propostas!$C32=\"\",\"\",$I$4*Propostas!J32)","v":""},{"$f":"IF(Propostas!$C32=\"\",\"\",$J$4*Propostas!K32)","v":""},{"$f":"IF(Propostas!$C32=\"\",\"\",$K$4*Propostas!L32)","v":""},{"$f":"IF(Propostas!$C32=\"\",\"\",$L$4*Propostas!M32)","v":""},{"$f":"IF(Propostas!$C32=\"\",\"\",$M$4*Propostas!N32)","v":""},{"$f":"IF(Propostas!$C32=\"\",\"\",$N$4*Propostas!O32)","v":""},{"$f":"IF(Propostas!$C32=\"\",\"\",$O$4*Propostas!P32)","v":""},{"$f":"IF(Propostas!$C32=\"\",\"\",$P$4*Propostas!Q32)","v":""},{"$f":"IF(Propostas!$C32=\"\",\"\",$Q$4*Propostas!R32)","v":""},{"$f":"IF(Propostas!$C32=\"\",\"\",$R$4*Propostas!S32)","v":""},{"$f":"IF(Propostas!$C32=\"\",\"\",S$4*Parâmetros!$H25/Parâmetros!$H$4)","v":""},{"$f":"IF(Propostas!$C32=\"\",\"\",T$4*Parâmetros!P25/Parâmetros!$P$4)","v":""},{"$f":"IF(Propostas!$C32=\"\",\"\",U$4*Parâmetros!Q25/Parâmetros!$Q$4)","v":""},{"$f":"IF(Propostas!$B32=\"\",\"\",SUM(C25:U25))","v":""},{"$f":"IF(Propostas!$C32=\"\",\"\",RANK(V25,$V$5:$V$203,0))","v":""}]
[{"$f":"IF(Propostas!$C33=\"\",\"\",W26)","v":""},{"$f":"Propostas!A33","v":0},{"$f":"IF(Propostas!$C33=\"\",\"\",C$4*Parâmetros!$C$4/Parâmetros!C26)","v":""},{"$f":"IF(Propostas!$C33=\"\",\"\",D$4*(Parâmetros!D26-1)/(COUNT(Parâmetros!$C$5:$C$204)-1))","v":""},{"$f":"IF(Propostas!$C33=\"\",\"\",E$4*Parâmetros!E26/Parâmetros!$E$4)","v":""},{"$f":"IF(Propostas!$C33=\"\",\"\",F$4*Parâmetros!F26)","v":""},{"$f":"IF(Propostas!$C33=\"\",\"\",G$4*Parâmetros!G26)","v":""},{"$f":"IF(Propostas!$C33=\"\",\"\",$H$4*Propostas!I33)","v":""},{"$f":"IF(Propostas!$C33=\"\",\"\",$I$4*Propostas!J33)","v":""},{"$f":"IF(Propostas!$C33=\"\",\"\",$J$4*Propostas!K33)","v":""},{"$f":"IF(Propostas!$C33=\"\",\"\",$K$4*Propostas!L33)","v":""},{"$f":"IF(Propostas!$C33=\"\",\"\",$L$4*Propostas!M33)","v":""},{"$f":"IF(Propostas!$C33=\"\",\"\",$M$4*Propostas!N33)","v":""},{"$f":"IF(Propostas!$C33=\"\",\"\",$N$4*Propostas!O33)","v":""},{"$f":"IF(Propostas!$C33=\"\",\"\",$O$4*Propostas!P33)","v":""},{"$f":"IF(Propostas!$C33=\"\",\"\",$P$4*Propostas!Q33)","v":""},{"$f":"IF(Propostas!$C33=\"\",\"\",$Q$4*Propostas!R33)","v":""},{"$f":"IF(Propostas!$C33=\"\",\"\",$R$4*Propostas!S33)","v":""},{"$f":"IF(Propostas!$C33=\"\",\"\",S$4*Parâmetros!$H26/Parâmetros!$H$4)","v":""},{"$f":"IF(Propostas!$C33=\"\",\"\",T$4*Parâmetros!P26/Parâmetros!$P$4)","v":""},{"$f":"IF(Propostas!$C33=\"\",\"\",U$4*Parâmetros!Q26/Parâmetros!$Q$4)","v":""},{"$f":"IF(Propostas!$B33=\"\",\"\",SUM(C26:U26))","v":""},{"$f":"IF(Propostas!$C33=\"\",\"\",RANK(V26,$V$5:$V$203,0))","v":""}]
[{"$f":"IF(Propostas!$C34=\"\",\"\",W27)","v":""},{"$f":"Propostas!A34","v":0},{"$f":"IF(Propostas!$C34=\"\",\"\",C$4*Parâmetros!$C$4/Parâmetros!C27)","v":""},{"$f":"IF(Propostas!$C34=\"\",\"\",D$4*(Parâmetros!D27-1)/(COUNT(Parâmetros!$C$5:$C$204)-1))","v":""},{"$f":"IF(Propostas!$C34=\"\",\"\",E$4*Parâmetros!E27/Parâmetros!$E$4)","v":""},{"$f":"IF(Propostas!$C34=\"\",\"\",F$4*Parâmetros!F27)","v":""},{"$f":"IF(Propostas!$C34=\"\",\"\",G$4*Parâmetros!G27)","v":""},{"$f":"IF(Propostas!$C34=\"\",\"\",$H$4*Propostas!I34)","v":""},{"$f":"IF(Propostas!$C34=\"\",\"\",$I$4*Propostas!J34)","v":""},{"$f":"IF(Propostas!$C34=\"\",\"\",$J$4*Propostas!K34)","v":""},{"$f":"IF(Propostas!$C34=\"\",\"\",$K$4*Propostas!L34)","v":""},{"$f":"IF(Propostas!$C34=\"\",\"\",$L$4*Propostas!M34)","v":""},{"$f":"IF(Propostas!$C34=\"\",\"\",$M$4*Propostas!N34)","v":""},{"$f":"IF(Propostas!$C34=\"\",\"\",$N$4*Propostas!O34)","v":""},{"$f":"IF(Propostas!$C34=\"\",\"\",$O$4*Propostas!P34)","v":""},{"$f":"IF(Propostas!$C34=\"\",\"\",$P$4*Propostas!Q34)","v":""},{"$f":"IF(Propostas!$C34=\"\",\"\",$Q$4*Propostas!R34)","v":""},{"$f":"IF(Propostas!$C34=\"\",\"\",$R$4*Propostas!S34)","v":""},{"$f":"IF(Propostas!$C34=\"\",\"\",S$4*Parâmetros!$H27/Parâmetros!$H$4)","v":""},{"$f":"IF(Propostas!$C34=\"\",\"\",T$4*Parâmetros!P27/Parâmetros!$P$4)","v":""},{"$f":"IF(Propostas!$C34=\"\",\"\",U$4*Parâmetros!Q27/Parâmetros!$Q$4)","v":""},{"$f":"IF(Propostas!$B34=\"\",\"\",SUM(C27:U27))","v":""},{"$f":"IF(Propostas!$C34=\"\",\"\",RANK(V27,$V$5:$V$203,0))","v":""}]
[{"$f":"IF(Propostas!$C35=\"\",\"\",W28)","v":""},{"$f":"Propostas!A35","v":0},{"$f":"IF(Propostas!$C35=\"\",\"\",C$4*Parâmetros!$C$4/Parâmetros!C28)","v":""},{"$f":"IF(Propostas!$C35=\"\",\"\",D$4*(Parâmetros!D28-1)/(COUNT(Parâmetros!$C$5:$C$204)-1))","v":""},{"$f":"IF(Propostas!$C35=\"\",\"\",E$4*Parâmetros!E28/Parâmetros!$E$4)","v":""},{"$f":"IF(Propostas!$C35=\"\",\"\",F$4*Parâmetros!F28)","v":""},{"$f":"IF(Propostas!$C35=\"\",\"\",G$4*Parâmetros!G28)","v":""},{"$f":"IF(Propostas!$C35=\"\",\"\",$H$4*Propostas!I35)","v":""},{"$f":"IF(Propostas!$C35=\"\",\"\",$I$4*Propostas!J35)","v":""},{"$f":"IF(Propostas!$C35=\"\",\"\",$J$4*Propostas!K35)","v":""},{"$f":"IF(Propostas!$C35=\"\",\"\",$K$4*Propostas!L35)","v":""},{"$f":"IF(Propostas!$C35=\"\",\"\",$L$4*Propostas!M35)","v":""},{"$f":"IF(Propostas!$C35=\"\",\"\",$M$4*Propostas!N35)","v":""},{"$f":"IF(Propostas!$C35=\"\",\"\",$N$4*Propostas!O35)","v":""},{"$f":"IF(Propostas!$C35=\"\",\"\",$O$4*Propostas!P35)","v":""},{"$f":"IF(Propostas!$C35=\"\",\"\",$P$4*Propostas!Q35)","v":""},{"$f":"IF(Propostas!$C35=\"\",\"\",$Q$4*Propostas!R35)","v":""},{"$f":"IF(Propostas!$C35=\"\",\"\",$R$4*Propostas!S35)","v":""},{"$f":"IF(Propostas!$C35=\"\",\"\",S$4*Parâmetros!$H28/Parâmetros!$H$4)","v":""},{"$f":"IF(Propostas!$C35=\"\",\"\",T$4*Parâmetros!P28/Parâmetros!$P$4)","v":""},{"$f":"IF(Propostas!$C35=\"\",\"\",U$4*Parâmetros!Q28/Parâmetros!$Q$4)","v":""},{"$f":"IF(Propostas!$B35=\"\",\"\",SUM(C28:U28))","v":""},{"$f":"IF(Propostas!$C35=\"\",\"\",RANK(V28,$V$5:$V$203,0))","v":""}]
[{"$f":"IF(Propostas!$C36=\"\",\"\",W29)","v":""},{"$f":"Propostas!A36","v":0},{"$f":"IF(Propostas!$C36=\"\",\"\",C$4*Parâmetros!$C$4/Parâmetros!C29)","v":""},{"$f":"IF(Propostas!$C36=\"\",\"\",D$4*(Parâmetros!D29-1)/(COUNT(Parâmetros!$C$5:$C$204)-1))","v":""},{"$f":"IF(Propostas!$C36=\"\",\"\",E$4*Parâmetros!E29/Parâmetros!$E$4)","v":""},{"$f":"IF(Propostas!$C36=\"\",\"\",F$4*Parâmetros!F29)","v":""},{"$f":"IF(Propostas!$C36=\"\",\"\",G$4*Parâmetros!G29)","v":""},{"$f":"IF(Propostas!$C36=\"\",\"\",$H$4*Propostas!I36)","v":""},{"$f":"IF(Propostas!$C36=\"\",\"\",$I$4*Propostas!J36)","v":""},{"$f":"IF(Propostas!$C36=\"\",\"\",$J$4*Propostas!K36)","v":""},{"$f":"IF(Propostas!$C36=\"\",\"\",$K$4*Propostas!L36)","v":""},{"$f":"IF(Propostas!$C36=\"\",\"\",$L$4*Propostas!M36)","v":""},{"$f":"IF(Propostas!$C36=\"\",\"\",$M$4*Propostas!N36)","v":""},{"$f":"IF(Propostas!$C36=\"\",\"\",$N$4*Propostas!O36)","v":""},{"$f":"IF(Propostas!$C36=\"\",\"\",$O$4*Propostas!P36)","v":""},{"$f":"IF(Propostas!$C36=\"\",\"\",$P$4*Propostas!Q36)","v":""},{"$f":"IF(Propostas!$C36=\"\",\"\",$Q$4*Propostas!R36)","v":""},{"$f":"IF(Propostas!$C36=\"\",\"\",$R$4*Propostas!S36)","v":""},{"$f":"IF(Propostas!$C36=\"\",\"\",S$4*Parâmetros!$H29/Parâmetros!$H$4)","v":""},{"$f":"IF(Propostas!$C36=\"\",\"\",T$4*Parâmetros!P29/Parâmetros!$P$4)","v":""},{"$f":"IF(Propostas!$C36=\"\",\"\",U$4*Parâmetros!Q29/Parâmetros!$Q$4)","v":""},{"$f":"IF(Propostas!$B36=\"\",\"\",SUM(C29:U29))","v":""},{"$f":"IF(Propostas!$C36=\"\",\"\",RANK(V29,$V$5:$V$203,0))","v":""}]
[{"$f":"IF(Propostas!$C37=\"\",\"\",W30)","v":""},{"$f":"Propostas!A37","v":0},{"$f":"IF(Propostas!$C37=\"\",\"\",C$4*Parâmetros!$C$4/Parâmetros!C30)","v":""},{"$f":"IF(Propostas!$C37=\"\",\"\",D$4*(Parâmetros!D30-1)/(COUNT(Parâmetros!$C$5:$C$204)-1))","v":""},{"$f":"IF(Propostas!$C37=\"\",\"\",E$4*Parâmetros!E30/Parâmetros!$E$4)","v":""},{"$f":"IF(Propostas!$C37=\"\",\"\",F$4*Parâmetros!F30)","v":""},{"$f":"IF(Propostas!$C37=\"\",\"\",G$4*Parâmetros!G30)","v":""},{"$f":"IF(Propostas!$C37=\"\",\"\",$H$4*Propostas!I37)","v":""},{"$f":"IF(Propostas!$C37=\"\",\"\",$I$4*Propostas!J37)","v":""},{"$f":"IF(Propostas!$C37=\"\",\"\",$J$4*Propostas!K37)","v":""},{"$f":"IF(Propostas!$C37=\"\",\"\",$K$4*Propostas!L37)","v":""},{"$f":"IF(Propostas!$C37=\"\",\"\",$L$4*Propostas!M37)","v":""},{"$f":"IF(Propostas!$C37=\"\",\"\",$M$4*Propostas!N37)","v":""},{"$f":"IF(Propostas!$C37=\"\",\"\",$N$4*Propostas!O37)","v":""},{"$f":"IF(Propostas!$C37=\"\",\"\",$O$4*Propostas!P37)","v":""},{"$f":"IF(Propostas!$C37=\"\",\"\",$P$4*Propostas!Q37)","v":""},{"$f":"IF(Propostas!$C37=\"\",\"\",$Q$4*Propostas!R37)","v":""},{"$f":"IF(Propostas!$C37=\"\",\"\",$R$4*Propostas!S37)","v":""},{"$f":"IF(Propostas!$C37=\"\",\"\",S$4*Parâmetros!$H30/Parâmetros!$H$4)","v":""},{"$f":"IF(Propostas!$C37=\"\",\"\",T$4*Parâmetros!P30/Parâmetros!$P$4)","v":""},{"$f":"IF(Propostas!$C37=\"\",\"\",U$4*Parâmetros!Q30/Parâmetros!$Q$4)","v":""},{"$f":"IF(Propostas!$B37=\"\",\"\",SUM(C30:U30))","v":""},{"$f":"IF(Propostas!$C37=\"\",\"\",RANK(V30,$V$5:$V$203,0))","v":""}]
[{"$f":"IF(Propostas!$C38=\"\",\"\",W31)","v":""},{"$f":"Propostas!A38","v":0},{"$f":"IF(Propostas!$C38=\"\",\"\",C$4*Parâmetros!$C$4/Parâmetros!C31)","v":""},{"$f":"IF(Propostas!$C38=\"\",\"\",D$4*(Parâmetros!D31-1)/(COUNT(Parâmetros!$C$5:$C$204)-1))","v":""},{"$f":"IF(Propostas!$C38=\"\",\"\",E$4*Parâmetros!E31/Parâmetros!$E$4)","v":""},{"$f":"IF(Propostas!$C38=\"\",\"\",F$4*Parâmetros!F31)","v":""},{"$f":"IF(Propostas!$C38=\"\",\"\",G$4*Parâmetros!G31)","v":""},{"$f":"IF(Propostas!$C38=\"\",\"\",$H$4*Propostas!I38)","v":""},{"$f":"IF(Propostas!$C38=\"\",\"\",$I$4*Propostas!J38)","v":""},{"$f":"IF(Propostas!$C38=\"\",\"\",$J$4*Propostas!K38)","v":""},{"$f":"IF(Propostas!$C38=\"\",\"\",$K$4*Propostas!L38)","v":""},{"$f":"IF(Propostas!$C38=\"\",\"\",$L$4*Propostas!M38)","v":""},{"$f":"IF(Propostas!$C38=\"\",\"\",$M$4*Propostas!N38)","v":""},{"$f":"IF(Propostas!$C38=\"\",\"\",$N$4*Propostas!O38)","v":""},{"$f":"IF(Propostas!$C38=\"\",\"\",$O$4*Propostas!P38)","v":""},{"$f":"IF(Propostas!$C38=\"\",\"\",$P$4*Propostas!Q38)","v":""},{"$f":"IF(Propostas!$C38=\"\",\"\",$Q$4*Propostas!R38)","v":""},{"$f":"IF(Propostas!$C38=\"\",\"\",$R$4*Propostas!S38)","v":""},{"$f":"IF(Propostas!$C38=\"\",\"\",S$4*Parâmetros!$H31/Parâmetros!$H$4)","v":""},{"$f":"IF(Propostas!$C38=\"\",\"\",T$4*Parâmetros!P31/Parâmetros!$P$4)","v":""},{"$f":"IF(Propostas!$C38=\"\",\"\",U$4*Parâmetros!Q31/Parâmetros!$Q$4)","v":""},{"$f":"IF(Propostas!$B38=\"\",\"\",SUM(C31:U31))","v":""},{"$f":"IF(Propostas!$C38=\"\",\"\",RANK(V31,$V$5:$V$203,0))","v":""}]
[{"$f":"IF(Propostas!$C39=\"\",\"\",W32)","v":""},{"$f":"Propostas!A39","v":0},{"$f":"IF(Propostas!$C39=\"\",\"\",C$4*Parâmetros!$C$4/Parâmetros!C32)","v":""},{"$f":"IF(Propostas!$C39=\"\",\"\",D$4*(Parâmetros!D32-1)/(COUNT(Parâmetros!$C$5:$C$204)-1))","v":""},{"$f":"IF(Propostas!$C39=\"\",\"\",E$4*Parâmetros!E32/Parâmetros!$E$4)","v":""},{"$f":"IF(Propostas!$C39=\"\",\"\",F$4*Parâmetros!F32)","v":""},{"$f":"IF(Propostas!$C39=\"\",\"\",G$4*Parâmetros!G32)","v":""},{"$f":"IF(Propostas!$C39=\"\",\"\",$H$4*Propostas!I39)","v":""},{"$f":"IF(Propostas!$C39=\"\",\"\",$I$4*Propostas!J39)","v":""},{"$f":"IF(Propostas!$C39=\"\",\"\",$J$4*Propostas!K39)","v":""},{"$f":"IF(Propostas!$C39=\"\",\"\",$K$4*Propostas!L39)","v":""},{"$f":"IF(Propostas!$C39=\"\",\"\",$L$4*Propostas!M39)","v":""},{"$f":"IF(Propostas!$C39=\"\",\"\",$M$4*Propostas!N39)","v":""},{"$f":"IF(Propostas!$C39=\"\",\"\",$N$4*Propostas!O39)","v":""},{"$f":"IF(Propostas!$C39=\"\",\"\",$O$4*Propostas!P39)","v":""},{"$f":"IF(Propostas!$C39=\"\",\"\",$P$4*Propostas!Q39)","v":""},{"$f":"IF(Propostas!$C39=\"\",\"\",$Q$4*Propostas!R39)","v":""},{"$f":"IF(Propostas!$C39=\"\",\"\",$R$4*Propostas!S39)","v":""},{"$f":"IF(Propostas!$C39=\"\",\"\",S$4*Parâmetros!$H32/Parâmetros!$H$4)","v":""},{"$f":"IF(Propostas!$C39=\"\",\"\",T$4*Parâmetros!P32/Parâmetros!$P$4)","v":""},{"$f":"IF(Propostas!$C39=\"\",\"\",U$4*Parâmetros!Q32/Parâmetros!$Q$4)","v":""},{"$f":"IF(Propostas!$B39=\"\",\"\",SUM(C32:U32))","v":""},{"$f":"IF(Propostas!$C39=\"\",\"\",RANK(V32,$V$5:$V$203,0))","v":""}]
[{"$f":"IF(Propostas!$C40=\"\",\"\",W33)","v":""},{"$f":"Propostas!A40","v":0},{"$f":"IF(Propostas!$C40=\"\",\"\",C$4*Parâmetros!$C$4/Parâmetros!C33)","v":""},{"$f":"IF(Propostas!$C40=\"\",\"\",D$4*(Parâmetros!D33-1)/(COUNT(Parâmetros!$C$5:$C$204)-1))","v":""},{"$f":"IF(Propostas!$C40=\"\",\"\",E$4*Parâmetros!E33/Parâmetros!$E$4)","v":""},{"$f":"IF(Propostas!$C40=\"\",\"\",F$4*Parâmetros!F33)","v":""},{"$f":"IF(Propostas!$C40=\"\",\"\",G$4*Parâmetros!G33)","v":""},{"$f":"IF(Propostas!$C40=\"\",\"\",$H$4*Propostas!I40)","v":""},{"$f":"IF(Propostas!$C40=\"\",\"\",$I$4*Propostas!J40)","v":""},{"$f":"IF(Propostas!$C40=\"\",\"\",$J$4*Propostas!K40)","v":""},{"$f":"IF(Propostas!$C40=\"\",\"\",$K$4*Propostas!L40)","v":""},{"$f":"IF(Propostas!$C40=\"\",\"\",$L$4*Propostas!M40)","v":""},{"$f":"IF(Propostas!$C40=\"\",\"\",$M$4*Propostas!N40)","v":""},{"$f":"IF(Propostas!$C40=\"\",\"\",$N$4*Propostas!O40)","v":""},{"$f":"IF(Propostas!$C40=\"\",\"\",$O$4*Propostas!P40)","v":""},{"$f":"IF(Propostas!$C40=\"\",\"\",$P$4*Propostas!Q40)","v":""},{"$f":"IF(Propostas!$C40=\"\",\"\",$Q$4*Propostas!R40)","v":""},{"$f":"IF(Propostas!$C40=\"\",\"\",$R$4*Propostas!S40)","v":""},{"$f":"IF(Propostas!$C40=\"\",\"\",S$4*Parâmetros!$H33/Parâmetros!$H$4)","v":""},{"$f":"IF(Propostas!$C40=\"\",\"\",T$4*Parâmetros!P33/Parâmetros!$P$4)","v":""},{"$f":"IF(Propostas!$C40=\"\",\"\",U$4*Parâmetros!Q33/Parâmetros!$Q$4)","v":""},{"$f":"IF(Propostas!$B40=\"\",\"\",SUM(C33:U33))","v":""},{"$f":"IF(Propostas!$C40=\"\",\"\",RANK(V33,$V$5:$V$203,0))","v":""}]
[{"$f":"IF(Propostas!$C41=\"\",\"\",W34)","v":""},{"$f":"Propostas!A41","v":0},{"$f":"IF(Propostas!$C41=\"\",\"\",C$4*Parâmetros!$C$4/Parâmetros!C34)","v":""},{"$f":"IF(Propostas!$C41=\"\",\"\",D$4*(Parâmetros!D34-1)/(COUNT(Parâmetros!$C$5:$C$204)-1))","v":""},{"$f":"IF(Propostas!$C41=\"\",\"\",E$4*Parâmetros!E34/Parâmetros!$E$4)","v":""},{"$f":"IF(Propostas!$C41=\"\",\"\",F$4*Parâmetros!F34)","v":""},{"$f":"IF(Propostas!$C41=\"\",\"\",G$4*Parâmetros!G34)","v":""},{"$f":"IF(Propostas!$C41=\"\",\"\",$H$4*Propostas!I41)","v":""},{"$f":"IF(Propostas!$C41=\"\",\"\",$I$4*Propostas!J41)","v":""},{"$f":"IF(Propostas!$C41=\"\",\"\",$J$4*Propostas!K41)","v":""},{"$f":"IF(Propostas!$C41=\"\",\"\",$K$4*Propostas!L41)","v":""},{"$f":"IF(Propostas!$C41=\"\",\"\",$L$4*Propostas!M41)","v":""},{"$f":"IF(Propostas!$C41=\"\",\"\",$M$4*Propostas!N41)","v":""},{"$f":"IF(Propostas!$C41=\"\",\"\",$N$4*Propostas!O41)","v":""},{"$f":"IF(Propostas!$C41=\"\",\"\",$O$4*Propostas!P41)","v":""},{"$f":"IF(Propostas!$C41=\"\",\"\",$P$4*Propostas!Q41)","v":""},{"$f":"IF(Propostas!$C41=\"\",\"\",$Q$4*Propostas!R41)","v":""},{"$f":"IF(Propostas!$C41=\"\",\"\",$R$4*Propostas!S41)","v":""},{"$f":"IF(Propostas!$C41=\"\",\"\",S$4*Parâmetros!$H34/Parâmetros!$H$4)","v":""},{"$f":"IF(Propostas!$C41=\"\",\"\",T$4*Parâmetros!P34/Parâmetros!$P$4)","v":""},{"$f":"IF(Propostas!$C41=\"\",\"\",U$4*Parâmetros!Q34/Parâmetros!$Q$4)","v":""},{"$f":"IF(Propostas!$B41=\"\",\"\",SUM(C34:U34))","v":""},{"$f":"IF(Propostas!$C41=\"\",\"\",RANK(V34,$V$5:$V$203,0))","v":""}]
[{"$f":"IF(Propostas!$C42=\"\",\"\",W35)","v":""},{"$f":"Propostas!A42","v":0},{"$f":"IF(Propostas!$C42=\"\",\"\",C$4*Parâmetros!$C$4/Parâmetros!C35)","v":""},{"$f":"IF(Propostas!$C42=\"\",\"\",D$4*(Parâmetros!D35-1)/(COUNT(Parâmetros!$C$5:$C$204)-1))","v":""},{"$f":"IF(Propostas!$C42=\"\",\"\",E$4*Parâmetros!E35/Parâmetros!$E$4)","v":""},{"$f":"IF(Propostas!$C42=\"\",\"\",F$4*Parâmetros!F35)","v":""},{"$f":"IF(Propostas!$C42=\"\",\"\",G$4*Parâmetros!G35)","v":""},{"$f":"IF(Propostas!$C42=\"\",\"\",$H$4*Propostas!I42)","v":""},{"$f":"IF(Propostas!$C42=\"\",\"\",$I$4*Propostas!J42)","v":""},{"$f":"IF(Propostas!$C42=\"\",\"\",$J$4*Propostas!K42)","v":""},{"$f":"IF(Propostas!$C42=\"\",\"\",$K$4*Propostas!L42)","v":""},{"$f":"IF(Propostas!$C42=\"\",\"\",$L$4*Propostas!M42)","v":""},{"$f":"IF(Propostas!$C42=\"\",\"\",$M$4*Propostas!N42)","v":""},{"$f":"IF(Propostas!$C42=\"\",\"\",$N$4*Propostas!O42)","v":""},{"$f":"IF(Propostas!$C42=\"\",\"\",$O$4*Propostas!P42)","v":""},{"$f":"IF(Propostas!$C42=\"\",\"\",$P$4*Propostas!Q42)","v":""},{"$f":"IF(Propostas!$C42=\"\",\"\",$Q$4*Propostas!R42)","v":""},{"$f":"IF(Propostas!$C42=\"\",\"\",$R$4*Propostas!S42)","v":""},{"$f":"IF(Propostas!$C42=\"\",\"\",S$4*Parâmetros!$H35/Parâmetros!$H$4)","v":""},{"$f":"IF(Propostas!$C42=\"\",\"\",T$4*Parâmetros!P35/Parâmetros!$P$4)","v":""},{"$f":"IF(Propostas!$C42=\"\",\"\",U$4*Parâmetros!Q35/Parâmetros!$Q$4)","v":""},{"$f":"IF(Propostas!$B42=\"\",\"\",SUM(C35:U35))","v":""},{"$f":"IF(Propostas!$C42=\"\",\"\",RANK(V35,$V$5:$V$203,0))","v":""}]
[{"$f":"IF(Propostas!$C43=\"\",\"\",W36)","v":""},{"$f":"Propostas!A43","v":0},{"$f":"IF(Propostas!$C43=\"\",\"\",C$4*Parâmetros!$C$4/Parâmetros!C36)","v":""},{"$f":"IF(Propostas!$C43=\"\",\"\",D$4*(Parâmetros!D36-1)/(COUNT(Parâmetros!$C$5:$C$204)-1))","v":""},{"$f":"IF(Propostas!$C43=\"\",\"\",E$4*Parâmetros!E36/Parâmetros!$E$4)","v":""},{"$f":"IF(Propostas!$C43=\"\",\"\",F$4*Parâmetros!F36)","v":""},{"$f":"IF(Propostas!$C43=\"\",\"\",G$4*Parâmetros!G36)","v":""},{"$f":"IF(Propostas!$C43=\"\",\"\",$H$4*Propostas!I43)","v":""},{"$f":"IF(Propostas!$C43=\"\",\"\",$I$4*Propostas!J43)","v":""},{"$f":"IF(Propostas!$C43=\"\",\"\",$J$4*Propostas!K43)","v":""},{"$f":"IF(Propostas!$C43=\"\",\"\",$K$4*Propostas!L43)","v":""},{"$f":"IF(Propostas!$C43=\"\",\"\",$L$4*Propostas!M43)","v":""},{"$f":"IF(Propostas!$C43=\"\",\"\",$M$4*Propostas!N43)","v":""},{"$f":"IF(Propostas!$C43=\"\",\"\",$N$4*Propostas!O43)","v":""},{"$f":"IF(Propostas!$C43=\"\",\"\",$O$4*Propostas!P43)","v":""},{"$f":"IF(Propostas!$C43=\"\",\"\",$P$4*Propostas!Q43)","v":""},{"$f":"IF(Propostas!$C43=\"\",\"\",$Q$4*Propostas!R43)","v":""},{"$f":"IF(Propostas!$C43=\"\",\"\",$R$4*Propostas!S43)","v":""},{"$f":"IF(Propostas!$C43=\"\",\"\",S$4*Parâmetros!$H36/Parâmetros!$H$4)","v":""},{"$f":"IF(Propostas!$C43=\"\",\"\",T$4*Parâmetros!P36/Parâmetros!$P$4)","v":""},{"$f":"IF(Propostas!$C43=\"\",\"\",U$4*Parâmetros!Q36/Parâmetros!$Q$4)","v":""},{"$f":"IF(Propostas!$B43=\"\",\"\",SUM(C36:U36))","v":""},{"$f":"IF(Propostas!$C43=\"\",\"\",RANK(V36,$V$5:$V$203,0))","v":""}]
[{"$f":"IF(Propostas!$C44=\"\",\"\",W37)","v":""},{"$f":"Propostas!A44","v":0},{"$f":"IF(Propostas!$C44=\"\",\"\",C$4*Parâmetros!$C$4/Parâmetros!C37)","v":""},{"$f":"IF(Propostas!$C44=\"\",\"\",D$4*(Parâmetros!D37-1)/(COUNT(Parâmetros!$C$5:$C$204)-1))","v":""},{"$f":"IF(Propostas!$C44=\"\",\"\",E$4*Parâmetros!E37/Parâmetros!$E$4)","v":""},{"$f":"IF(Propostas!$C44=\"\",\"\",F$4*Parâmetros!F37)","v":""},{"$f":"IF(Propostas!$C44=\"\",\"\",G$4*Parâmetros!G37)","v":""},{"$f":"IF(Propostas!$C44=\"\",\"\",$H$4*Propostas!I44)","v":""},{"$f":"IF(Propostas!$C44=\"\",\"\",$I$4*Propostas!J44)","v":""},{"$f":"IF(Propostas!$C44=\"\",\"\",$J$4*Propostas!K44)","v":""},{"$f":"IF(Propostas!$C44=\"\",\"\",$K$4*Propostas!L44)","v":""},{"$f":"IF(Propostas!$C44=\"\",\"\",$L$4*Propostas!M44)","v":""},{"$f":"IF(Propostas!$C44=\"\",\"\",$M$4*Propostas!N44)","v":""},{"$f":"IF(Propostas!$C44=\"\",\"\",$N$4*Propostas!O44)","v":""},{"$f":"IF(Propostas!$C44=\"\",\"\",$O$4*Propostas!P44)","v":""},{"$f":"IF(Propostas!$C44=\"\",\"\",$P$4*Propostas!Q44)","v":""},{"$f":"IF(Propostas!$C44=\"\",\"\",$Q$4*Propostas!R44)","v":""},{"$f":"IF(Propostas!$C44=\"\",\"\",$R$4*Propostas!S44)","v":""},{"$f":"IF(Propostas!$C44=\"\",\"\",S$4*Parâmetros!$H37/Parâmetros!$H$4)","v":""},{"$f":"IF(Propostas!$C44=\"\",\"\",T$4*Parâmetros!P37/Parâmetros!$P$4)","v":""},{"$f":"IF(Propostas!$C44=\"\",\"\",U$4*Parâmetros!Q37/Parâmetros!$Q$4)","v":""},{"$f":"IF(Propostas!$B44=\"\",\"\",SUM(C37:U37))","v":""},{"$f":"IF(Propostas!$C44=\"\",\"\",RANK(V37,$V$5:$V$203,0))","v":""}]
[{"$f":"IF(Propostas!$C45=\"\",\"\",W38)","v":""},{"$f":"Propostas!A45","v":0},{"$f":"IF(Propostas!$C45=\"\",\"\",C$4*Parâmetros!$C$4/Parâmetros!C38)","v":""},{"$f":"IF(Propostas!$C45=\"\",\"\",D$4*(Parâmetros!D38-1)/(COUNT(Parâmetros!$C$5:$C$204)-1))","v":""},{"$f":"IF(Propostas!$C45=\"\",\"\",E$4*Parâmetros!E38/Parâmetros!$E$4)","v":""},{"$f":"IF(Propostas!$C45=\"\",\"\",F$4*Parâmetros!F38)","v":""},{"$f":"IF(Propostas!$C45=\"\",\"\",G$4*Parâmetros!G38)","v":""},{"$f":"IF(Propostas!$C45=\"\",\"\",$H$4*Propostas!I45)","v":""},{"$f":"IF(Propostas!$C45=\"\",\"\",$I$4*Propostas!J45)","v":""},{"$f":"IF(Propostas!$C45=\"\",\"\",$J$4*Propostas!K45)","v":""},{"$f":"IF(Propostas!$C45=\"\",\"\",$K$4*Propostas!L45)","v":""},{"$f":"IF(Propostas!$C45=\"\",\"\",$L$4*Propostas!M45)","v":""},{"$f":"IF(Propostas!$C45=\"\",\"\",$M$4*Propostas!N45)","v":""},{"$f":"IF(Propostas!$C45=\"\",\"\",$N$4*Propostas!O45)","v":""},{"$f":"IF(Propostas!$C45=\"\",\"\",$O$4*Propostas!P45)","v":""},{"$f":"IF(Propostas!$C45=\"\",\"\",$P$4*Propostas!Q45)","v":""},{"$f":"IF(Propostas!$C45=\"\",\"\",$Q$4*Propostas!R45)","v":""},{"$f":"IF(Propostas!$C45=\"\",\"\",$R$4*Propostas!S45)","v":""},{"$f":"IF(Propostas!$C45=\"\",\"\",S$4*Parâmetros!$H38/Parâmetros!$H$4)","v":""},{"$f":"IF(Propostas!$C45=\"\",\"\",T$4*Parâmetros!P38/Parâmetros!$P$4)","v":""},{"$f":"IF(Propostas!$C45=\"\",\"\",U$4*Parâmetros!Q38/Parâmetros!$Q$4)","v":""},{"$f":"IF(Propostas!$B45=\"\",\"\",SUM(C38:U38))","v":""},{"$f":"IF(Propostas!$C45=\"\",\"\",RANK(V38,$V$5:$V$203,0))","v":""}]
[{"$f":"IF(Propostas!$C46=\"\",\"\",W39)","v":""},{"$f":"Propostas!A46","v":0},{"$f":"IF(Propostas!$C46=\"\",\"\",C$4*Parâmetros!$C$4/Parâmetros!C39)","v":""},{"$f":"IF(Propostas!$C46=\"\",\"\",D$4*(Parâmetros!D39-1)/(COUNT(Parâmetros!$C$5:$C$204)-1))","v":""},{"$f":"IF(Propostas!$C46=\"\",\"\",E$4*Parâmetros!E39/Parâmetros!$E$4)","v":""},{"$f":"IF(Propostas!$C46=\"\",\"\",F$4*Parâmetros!F39)","v":""},{"$f":"IF(Propostas!$C46=\"\",\"\",G$4*Parâmetros!G39)","v":""},{"$f":"IF(Propostas!$C46=\"\",\"\",$H$4*Propostas!I46)","v":""},{"$f":"IF(Propostas!$C46=\"\",\"\",$I$4*Propostas!J46)","v":""},{"$f":"IF(Propostas!$C46=\"\",\"\",$J$4*Propostas!K46)","v":""},{"$f":"IF(Propostas!$C46=\"\",\"\",$K$4*Propostas!L46)","v":""},{"$f":"IF(Propostas!$C46=\"\",\"\",$L$4*Propostas!M46)","v":""},{"$f":"IF(Propostas!$C46=\"\",\"\",$M$4*Propostas!N46)","v":""},{"$f":"IF(Propostas!$C46=\"\",\"\",$N$4*Propostas!O46)","v":""},{"$f":"IF(Propostas!$C46=\"\",\"\",$O$4*Propostas!P46)","v":""},{"$f":"IF(Propostas!$C46=\"\",\"\",$P$4*Propostas!Q46)","v":""},{"$f":"IF(Propostas!$C46=\"\",\"\",$Q$4*Propostas!R46)","v":""},{"$f":"IF(Propostas!$C46=\"\",\"\",$R$4*Propostas!S46)","v":""},{"$f":"IF(Propostas!$C46=\"\",\"\",S$4*Parâmetros!$H39/Parâmetros!$H$4)","v":""},{"$f":"IF(Propostas!$C46=\"\",\"\",T$4*Parâmetros!P39/Parâmetros!$P$4)","v":""},{"$f":"IF(Propostas!$C46=\"\",\"\",U$4*Parâmetros!Q39/Parâmetros!$Q$4)","v":""},{"$f":"IF(Propostas!$B46=\"\",\"\",SUM(C39:U39))","v":""},{"$f":"IF(Propostas!$C46=\"\",\"\",RANK(V39,$V$5:$V$203,0))","v":""}]
[{"$f":"IF(Propostas!$C47=\"\",\"\",W40)","v":""},{"$f":"Propostas!A47","v":0},{"$f":"IF(Propostas!$C47=\"\",\"\",C$4*Parâmetros!$C$4/Parâmetros!C40)","v":""},{"$f":"IF(Propostas!$C47=\"\",\"\",D$4*(Parâmetros!D40-1)/(COUNT(Parâmetros!$C$5:$C$204)-1))","v":""},{"$f":"IF(Propostas!$C47=\"\",\"\",E$4*Parâmetros!E40/Parâmetros!$E$4)","v":""},{"$f":"IF(Propostas!$C47=\"\",\"\",F$4*Parâmetros!F40)","v":""},{"$f":"IF(Propostas!$C47=\"\",\"\",G$4*Parâmetros!G40)","v":""},{"$f":"IF(Propostas!$C47=\"\",\"\",$H$4*Propostas!I47)","v":""},{"$f":"IF(Propostas!$C47=\"\",\"\",$I$4*Propostas!J47)","v":""},{"$f":"IF(Propostas!$C47=\"\",\"\",$J$4*Propostas!K47)","v":""},{"$f":"IF(Propostas!$C47=\"\",\"\",$K$4*Propostas!L47)","v":""},{"$f":"IF(Propostas!$C47=\"\",\"\",$L$4*Propostas!M47)","v":""},{"$f":"IF(Propostas!$C47=\"\",\"\",$M$4*Propostas!N47)","v":""},{"$f":"IF(Propostas!$C47=\"\",\"\",$N$4*Propostas!O47)","v":""},{"$f":"IF(Propostas!$C47=\"\",\"\",$O$4*Propostas!P47)","v":""},{"$f":"IF(Propostas!$C47=\"\",\"\",$P$4*Propostas!Q47)","v":""},{"$f":"IF(Propostas!$C47=\"\",\"\",$Q$4*Propostas!R47)","v":""},{"$f":"IF(Propostas!$C47=\"\",\"\",$R$4*Propostas!S47)","v":""},{"$f":"IF(Propostas!$C47=\"\",\"\",S$4*Parâmetros!$H40/Parâmetros!$H$4)","v":""},{"$f":"IF(Propostas!$C47=\"\",\"\",T$4*Parâmetros!P40/Parâmetros!$P$4)","v":""},{"$f":"IF(Propostas!$C47=\"\",\"\",U$4*Parâmetros!Q40/Parâmetros!$Q$4)","v":""},{"$f":"IF(Propostas!$B47=\"\",\"\",SUM(C40:U40))","v":""},{"$f":"IF(Propostas!$C47=\"\",\"\",RANK(V40,$V$5:$V$203,0))","v":""}]
[{"$f":"IF(Propostas!$C48=\"\",\"\",W41)","v":""},{"$f":"Propostas!A48","v":0},{"$f":"IF(Propostas!$C48=\"\",\"\",C$4*Parâmetros!$C$4/Parâmetros!C41)","v":""},{"$f":"IF(Propostas!$C48=\"\",\"\",D$4*(Parâmetros!D41-1)/(COUNT(Parâmetros!$C$5:$C$204)-1))","v":""},{"$f":"IF(Propostas!$C48=\"\",\"\",E$4*Parâmetros!E41/Parâmetros!$E$4)","v":""},{"$f":"IF(Propostas!$C48=\"\",\"\",F$4*Parâmetros!F41)","v":""},{"$f":"IF(Propostas!$C48=\"\",\"\",G$4*Parâmetros!G41)","v":""},{"$f":"IF(Propostas!$C48=\"\",\"\",$H$4*Propostas!I48)","v":""},{"$f":"IF(Propostas!$C48=\"\",\"\",$I$4*Propostas!J48)","v":""},{"$f":"IF(Propostas!$C48=\"\",\"\",$J$4*Propostas!K48)","v":""},{"$f":"IF(Propostas!$C48=\"\",\"\",$K$4*Propostas!L48)","v":""},{"$f":"IF(Propostas!$C48=\"\",\"\",$L$4*Propostas!M48)","v":""},{"$f":"IF(Propostas!$C48=\"\",\"\",$M$4*Propostas!N48)","v":""},{"$f":"IF(Propostas!$C48=\"\",\"\",$N$4*Propostas!O48)","v":""},{"$f":"IF(Propostas!$C48=\"\",\"\",$O$4*Propostas!P48)","v":""},{"$f":"IF(Propostas!$C48=\"\",\"\",$P$4*Propostas!Q48)","v":""},{"$f":"IF(Propostas!$C48=\"\",\"\",$Q$4*Propostas!R48)","v":""},{"$f":"IF(Propostas!$C48=\"\",\"\",$R$4*Propostas!S48)","v":""},{"$f":"IF(Propostas!$C48=\"\",\"\",S$4*Parâmetros!$H41/Parâmetros!$H$4)","v":""},{"$f":"IF(Propostas!$C48=\"\",\"\",T$4*Parâmetros!P41/Parâmetros!$P$4)","v":""},{"$f":"IF(Propostas!$C48=\"\",\"\",U$4*Parâmetros!Q41/Parâmetros!$Q$4)","v":""},{"$f":"IF(Propostas!$B48=\"\",\"\",SUM(C41:U41))","v":""},{"$f":"IF(Propostas!$C48=\"\",\"\",RANK(V41,$V$5:$V$203,0))","v":""}]
[{"$f":"IF(Propostas!$C49=\"\",\"\",W42)","v":""},{"$f":"Propostas!A49","v":0},{"$f":"IF(Propostas!$C49=\"\",\"\",C$4*Parâmetros!$C$4/Parâmetros!C42)","v":""},{"$f":"IF(Propostas!$C49=\"\",\"\",D$4*(Parâmetros!D42-1)/(COUNT(Parâmetros!$C$5:$C$204)-1))","v":""},{"$f":"IF(Propostas!$C49=\"\",\"\",E$4*Parâmetros!E42/Parâmetros!$E$4)","v":""},{"$f":"IF(Propostas!$C49=\"\",\"\",F$4*Parâmetros!F42)","v":""},{"$f":"IF(Propostas!$C49=\"\",\"\",G$4*Parâmetros!G42)","v":""},{"$f":"IF(Propostas!$C49=\"\",\"\",$H$4*Propostas!I49)","v":""},{"$f":"IF(Propostas!$C49=\"\",\"\",$I$4*Propostas!J49)","v":""},{"$f":"IF(Propostas!$C49=\"\",\"\",$J$4*Propostas!K49)","v":""},{"$f":"IF(Propostas!$C49=\"\",\"\",$K$4*Propostas!L49)","v":""},{"$f":"IF(Propostas!$C49=\"\",\"\",$L$4*Propostas!M49)","v":""},{"$f":"IF(Propostas!$C49=\"\",\"\",$M$4*Propostas!N49)","v":""},{"$f":"IF(Propostas!$C49=\"\",\"\",$N$4*Propostas!O49)","v":""},{"$f":"IF(Propostas!$C49=\"\",\"\",$O$4*Propostas!P49)","v":""},{"$f":"IF(Propostas!$C49=\"\",\"\",$P$4*Propostas!Q49)","v":""},{"$f":"IF(Propostas!$C49=\"\",\"\",$Q$4*Propostas!R49)","v":""},{"$f":"IF(Propostas!$C49=\"\",\"\",$R$4*Propostas!S49)","v":""},{"$f":"IF(Propostas!$C49=\"\",\"\",S$4*Parâmetros!$H42/Parâmetros!$H$4)","v":""},{"$f":"IF(Propostas!$C49=\"\",\"\",T$4*Parâmetros!P42/Parâmetros!$P$4)","v":""},{"$f":"IF(Propostas!$C49=\"\",\"\",U$4*Parâmetros!Q42/Parâmetros!$Q$4)","v":""},{"$f":"IF(Propostas!$B49=\"\",\"\",SUM(C42:U42))","v":""},{"$f":"IF(Propostas!$C49=\"\",\"\",RANK(V42,$V$5:$V$203,0))","v":""}]
[{"$f":"IF(Propostas!$C50=\"\",\"\",W43)","v":""},{"$f":"Propostas!A50","v":0},{"$f":"IF(Propostas!$C50=\"\",\"\",C$4*Parâmetros!$C$4/Parâmetros!C43)","v":""},{"$f":"IF(Propostas!$C50=\"\",\"\",D$4*(Parâmetros!D43-1)/(COUNT(Parâmetros!$C$5:$C$204)-1))","v":""},{"$f":"IF(Propostas!$C50=\"\",\"\",E$4*Parâmetros!E43/Parâmetros!$E$4)","v":""},{"$f":"IF(Propostas!$C50=\"\",\"\",F$4*Parâmetros!F43)","v":""},{"$f":"IF(Propostas!$C50=\"\",\"\",G$4*Parâmetros!G43)","v":""},{"$f":"IF(Propostas!$C50=\"\",\"\",$H$4*Propostas!I50)","v":""},{"$f":"IF(Propostas!$C50=\"\",\"\",$I$4*Propostas!J50)","v":""},{"$f":"IF(Propostas!$C50=\"\",\"\",$J$4*Propostas!K50)","v":""},{"$f":"IF(Propostas!$C50=\"\",\"\",$K$4*Propostas!L50)","v":""},{"$f":"IF(Propostas!$C50=\"\",\"\",$L$4*Propostas!M50)","v":""},{"$f":"IF(Propostas!$C50=\"\",\"\",$M$4*Propostas!N50)","v":""},{"$f":"IF(Propostas!$C50=\"\",\"\",$N$4*Propostas!O50)","v":""},{"$f":"IF(Propostas!$C50=\"\",\"\",$O$4*Propostas!P50)","v":""},{"$f":"IF(Propostas!$C50=\"\",\"\",$P$4*Propostas!Q50)","v":""},{"$f":"IF(Propostas!$C50=\"\",\"\",$Q$4*Propostas!R50)","v":""},{"$f":"IF(Propostas!$C50=\"\",\"\",$R$4*Propostas!S50)","v":""},{"$f":"IF(Propostas!$C50=\"\",\"\",S$4*Parâmetros!$H43/Parâmetros!$H$4)","v":""},{"$f":"IF(Propostas!$C50=\"\",\"\",T$4*Parâmetros!P43/Parâmetros!$P$4)","v":""},{"$f":"IF(Propostas!$C50=\"\",\"\",U$4*Parâmetros!Q43/Parâmetros!$Q$4)","v":""},{"$f":"IF(Propostas!$B50=\"\",\"\",SUM(C43:U43))","v":""},{"$f":"IF(Propostas!$C50=\"\",\"\",RANK(V43,$V$5:$V$203,0))","v":""}]
[{"$f":"IF(Propostas!$C51=\"\",\"\",W44)","v":""},{"$f":"Propostas!A51","v":0},{"$f":"IF(Propostas!$C51=\"\",\"\",C$4*Parâmetros!$C$4/Parâmetros!C44)","v":""},{"$f":"IF(Propostas!$C51=\"\",\"\",D$4*(Parâmetros!D44-1)/(COUNT(Parâmetros!$C$5:$C$204)-1))","v":""},{"$f":"IF(Propostas!$C51=\"\",\"\",E$4*Parâmetros!E44/Parâmetros!$E$4)","v":""},{"$f":"IF(Propostas!$C51=\"\",\"\",F$4*Parâmetros!F44)","v":""},{"$f":"IF(Propostas!$C51=\"\",\"\",G$4*Parâmetros!G44)","v":""},{"$f":"IF(Propostas!$C51=\"\",\"\",$H$4*Propostas!I51)","v":""},{"$f":"IF(Propostas!$C51=\"\",\"\",$I$4*Propostas!J51)","v":""},{"$f":"IF(Propostas!$C51=\"\",\"\",$J$4*Propostas!K51)","v":""},{"$f":"IF(Propostas!$C51=\"\",\"\",$K$4*Propostas!L51)","v":""},{"$f":"IF(Propostas!$C51=\"\",\"\",$L$4*Propostas!M51)","v":""},{"$f":"IF(Propostas!$C51=\"\",\"\",$M$4*Propostas!N51)","v":""},{"$f":"IF(Propostas!$C51=\"\",\"\",$N$4*Propostas!O51)","v":""},{"$f":"IF(Propostas!$C51=\"\",\"\",$O$4*Propostas!P51)","v":""},{"$f":"IF(Propostas!$C51=\"\",\"\",$P$4*Propostas!Q51)","v":""},{"$f":"IF(Propostas!$C51=\"\",\"\",$Q$4*Propostas!R51)","v":""},{"$f":"IF(Propostas!$C51=\"\",\"\",$R$4*Propostas!S51)","v":""},{"$f":"IF(Propostas!$C51=\"\",\"\",S$4*Parâmetros!$H44/Parâmetros!$H$4)","v":""},{"$f":"IF(Propostas!$C51=\"\",\"\",T$4*Parâmetros!P44/Parâmetros!$P$4)","v":""},{"$f":"IF(Propostas!$C51=\"\",\"\",U$4*Parâmetros!Q44/Parâmetros!$Q$4)","v":""},{"$f":"IF(Propostas!$B51=\"\",\"\",SUM(C44:U44))","v":""},{"$f":"IF(Propostas!$C51=\"\",\"\",RANK(V44,$V$5:$V$203,0))","v":""}]
[{"$f":"IF(Propostas!$C52=\"\",\"\",W45)","v":""},{"$f":"Propostas!A52","v":0},{"$f":"IF(Propostas!$C52=\"\",\"\",C$4*Parâmetros!$C$4/Parâmetros!C45)","v":""},{"$f":"IF(Propostas!$C52=\"\",\"\",D$4*(Parâmetros!D45-1)/(COUNT(Parâmetros!$C$5:$C$204)-1))","v":""},{"$f":"IF(Propostas!$C52=\"\",\"\",E$4*Parâmetros!E45/Parâmetros!$E$4)","v":""},{"$f":"IF(Propostas!$C52=\"\",\"\",F$4*Parâmetros!F45)","v":""},{"$f":"IF(Propostas!$C52=\"\",\"\",G$4*Parâmetros!G45)","v":""},{"$f":"IF(Propostas!$C52=\"\",\"\",$H$4*Propostas!I52)","v":""},{"$f":"IF(Propostas!$C52=\"\",\"\",$I$4*Propostas!J52)","v":""},{"$f":"IF(Propostas!$C52=\"\",\"\",$J$4*Propostas!K52)","v":""},{"$f":"IF(Propostas!$C52=\"\",\"\",$K$4*Propostas!L52)","v":""},{"$f":"IF(Propostas!$C52=\"\",\"\",$L$4*Propostas!M52)","v":""},{"$f":"IF(Propostas!$C52=\"\",\"\",$M$4*Propostas!N52)","v":""},{"$f":"IF(Propostas!$C52=\"\",\"\",$N$4*Propostas!O52)","v":""},{"$f":"IF(Propostas!$C52=\"\",\"\",$O$4*Propostas!P52)","v":""},{"$f":"IF(Propostas!$C52=\"\",\"\",$P$4*Propostas!Q52)","v":""},{"$f":"IF(Propostas!$C52=\"\",\"\",$Q$4*Propostas!R52)","v":""},{"$f":"IF(Propostas!$C52=\"\",\"\",$R$4*Propostas!S52)","v":""},{"$f":"IF(Propostas!$C52=\"\",\"\",S$4*Parâmetros!$H45/Parâmetros!$H$4)","v":""},{"$f":"IF(Propostas!$C52=\"\",\"\",T$4*Parâmetros!P45/Parâmetros!$P$4)","v":""},{"$f":"IF(Propostas!$C52=\"\",\"\",U$4*Parâmetros!Q45/Parâmetros!$Q$4)","v":""},{"$f":"IF(Propostas!$B52=\"\",\"\",SUM(C45:U45))","v":""},{"$f":"IF(Propostas!$C52=\"\",\"\",RANK(V45,$V$5:$V$203,0))","v":""}]
[{"$f":"IF(Propostas!$C53=\"\",\"\",W46)","v":""},{"$f":"Propostas!A53","v":0},{"$f":"IF(Propostas!$C53=\"\",\"\",C$4*Parâmetros!$C$4/Parâmetros!C46)","v":""},{"$f":"IF(Propostas!$C53=\"\",\"\",D$4*(Parâmetros!D46-1)/(COUNT(Parâmetros!$C$5:$C$204)-1))","v":""},{"$f":"IF(Propostas!$C53=\"\",\"\",E$4*Parâmetros!E46/Parâmetros!$E$4)","v":""},{"$f":"IF(Propostas!$C53=\"\",\"\",F$4*Parâmetros!F46)","v":""},{"$f":"IF(Propostas!$C53=\"\",\"\",G$4*Parâmetros!G46)","v":""},{"$f":"IF(Propostas!$C53=\"\",\"\",$H$4*Propostas!I53)","v":""},{"$f":"IF(Propostas!$C53=\"\",\"\",$I$4*Propostas!J53)","v":""},{"$f":"IF(Propostas!$C53=\"\",\"\",$J$4*Propostas!K53)","v":""},{"$f":"IF(Propostas!$C53=\"\",\"\",$K$4*Propostas!L53)","v":""},{"$f":"IF(Propostas!$C53=\"\",\"\",$L$4*Propostas!M53)","v":""},{"$f":"IF(Propostas!$C53=\"\",\"\",$M$4*Propostas!N53)","v":""},{"$f":"IF(Propostas!$C53=\"\",\"\",$N$4*Propostas!O53)","v":""},{"$f":"IF(Propostas!$C53=\"\",\"\",$O$4*Propostas!P53)","v":""},{"$f":"IF(Propostas!$C53=\"\",\"\",$P$4*Propostas!Q53)","v":""},{"$f":"IF(Propostas!$C53=\"\",\"\",$Q$4*Propostas!R53)","v":""},{"$f":"IF(Propostas!$C53=\"\",\"\",$R$4*Propostas!S53)","v":""},{"$f":"IF(Propostas!$C53=\"\",\"\",S$4*Parâmetros!$H46/Parâmetros!$H$4)","v":""},{"$f":"IF(Propostas!$C53=\"\",\"\",T$4*Parâmetros!P46/Parâmetros!$P$4)","v":""},{"$f":"IF(Propostas!$C53=\"\",\"\",U$4*Parâmetros!Q46/Parâmetros!$Q$4)","v":""},{"$f":"IF(Propostas!$B53=\"\",\"\",SUM(C46:U46))","v":""},{"$f":"IF(Propostas!$C53=\"\",\"\",RANK(V46,$V$5:$V$203,0))","v":""}]
[{"$f":"IF(Propostas!$C54=\"\",\"\",W47)","v":""},{"$f":"Propostas!A54","v":0},{"$f":"IF(Propostas!$C54=\"\",\"\",C$4*Parâmetros!$C$4/Parâmetros!C47)","v":""},{"$f":"IF(Propostas!$C54=\"\",\"\",D$4*(Parâmetros!D47-1)/(COUNT(Parâmetros!$C$5:$C$204)-1))","v":""},{"$f":"IF(Propostas!$C54=\"\",\"\",E$4*Parâmetros!E47/Parâmetros!$E$4)","v":""},{"$f":"IF(Propostas!$C54=\"\",\"\",F$4*Parâmetros!F47)","v":""},{"$f":"IF(Propostas!$C54=\"\",\"\",G$4*Parâmetros!G47)","v":""},{"$f":"IF(Propostas!$C54=\"\",\"\",$H$4*Propostas!I54)","v":""},{"$f":"IF(Propostas!$C54=\"\",\"\",$I$4*Propostas!J54)","v":""},{"$f":"IF(Propostas!$C54=\"\",\"\",$J$4*Propostas!K54)","v":""},{"$f":"IF(Propostas!$C54=\"\",\"\",$K$4*Propostas!L54)","v":""},{"$f":"IF(Propostas!$C54=\"\",\"\",$L$4*Propostas!M54)","v":""},{"$f":"IF(Propostas!$C54=\"\",\"\",$M$4*Propostas!N54)","v":""},{"$f":"IF(Propostas!$C54=\"\",\"\",$N$4*Propostas!O54)","v":""},{"$f":"IF(Propostas!$C54=\"\",\"\",$O$4*Propostas!P54)","v":""},{"$f":"IF(Propostas!$C54=\"\",\"\",$P$4*Propostas!Q54)","v":""},{"$f":"IF(Propostas!$C54=\"\",\"\",$Q$4*Propostas!R54)","v":""},{"$f":"IF(Propostas!$C54=\"\",\"\",$R$4*Propostas!S54)","v":""},{"$f":"IF(Propostas!$C54=\"\",\"\",S$4*Parâmetros!$H47/Parâmetros!$H$4)","v":""},{"$f":"IF(Propostas!$C54=\"\",\"\",T$4*Parâmetros!P47/Parâmetros!$P$4)","v":""},{"$f":"IF(Propostas!$C54=\"\",\"\",U$4*Parâmetros!Q47/Parâmetros!$Q$4)","v":""},{"$f":"IF(Propostas!$B54=\"\",\"\",SUM(C47:U47))","v":""},{"$f":"IF(Propostas!$C54=\"\",\"\",RANK(V47,$V$5:$V$203,0))","v":""}]
[{"$f":"IF(Propostas!$C55=\"\",\"\",W48)","v":""},{"$f":"Propostas!A55","v":0},{"$f":"IF(Propostas!$C55=\"\",\"\",C$4*Parâmetros!$C$4/Parâmetros!C48)","v":""},{"$f":"IF(Propostas!$C55=\"\",\"\",D$4*(Parâmetros!D48-1)/(COUNT(Parâmetros!$C$5:$C$204)-1))","v":""},{"$f":"IF(Propostas!$C55=\"\",\"\",E$4*Parâmetros!E48/Parâmetros!$E$4)","v":""},{"$f":"IF(Propostas!$C55=\"\",\"\",F$4*Parâmetros!F48)","v":""},{"$f":"IF(Propostas!$C55=\"\",\"\",G$4*Parâmetros!G48)","v":""},{"$f":"IF(Propostas!$C55=\"\",\"\",$H$4*Propostas!I55)","v":""},{"$f":"IF(Propostas!$C55=\"\",\"\",$I$4*Propostas!J55)","v":""},{"$f":"IF(Propostas!$C55=\"\",\"\",$J$4*Propostas!K55)","v":""},{"$f":"IF(Propostas!$C55=\"\",\"\",$K$4*Propostas!L55)","v":""},{"$f":"IF(Propostas!$C55=\"\",\"\",$L$4*Propostas!M55)","v":""},{"$f":"IF(Propostas!$C55=\"\",\"\",$M$4*Propostas!N55)","v":""},{"$f":"IF(Propostas!$C55=\"\",\"\",$N$4*Propostas!O55)","v":""},{"$f":"IF(Propostas!$C55=\"\",\"\",$O$4*Propostas!P55)","v":""},{"$f":"IF(Propostas!$C55=\"\",\"\",$P$4*Propostas!Q55)","v":""},{"$f":"IF(Propostas!$C55=\"\",\"\",$Q$4*Propostas!R55)","v":""},{"$f":"IF(Propostas!$C55=\"\",\"\",$R$4*Propostas!S55)","v":""},{"$f":"IF(Propostas!$C55=\"\",\"\",S$4*Parâmetros!$H48/Parâmetros!$H$4)","v":""},{"$f":"IF(Propostas!$C55=\"\",\"\",T$4*Parâmetros!P48/Parâmetros!$P$4)","v":""},{"$f":"IF(Propostas!$C55=\"\",\"\",U$4*Parâmetros!Q48/Parâmetros!$Q$4)","v":""},{"$f":"IF(Propostas!$B55=\"\",\"\",SUM(C48:U48))","v":""},{"$f":"IF(Propostas!$C55=\"\",\"\",RANK(V48,$V$5:$V$203,0))","v":""}]
[{"$f":"IF(Propostas!$C56=\"\",\"\",W49)","v":""},{"$f":"Propostas!A56","v":0},{"$f":"IF(Propostas!$C56=\"\",\"\",C$4*Parâmetros!$C$4/Parâmetros!C49)","v":""},{"$f":"IF(Propostas!$C56=\"\",\"\",D$4*(Parâmetros!D49-1)/(COUNT(Parâmetros!$C$5:$C$204)-1))","v":""},{"$f":"IF(Propostas!$C56=\"\",\"\",E$4*Parâmetros!E49/Parâmetros!$E$4)","v":""},{"$f":"IF(Propostas!$C56=\"\",\"\",F$4*Parâmetros!F49)","v":""},{"$f":"IF(Propostas!$C56=\"\",\"\",G$4*Parâmetros!G49)","v":""},{"$f":"IF(Propostas!$C56=\"\",\"\",$H$4*Propostas!I56)","v":""},{"$f":"IF(Propostas!$C56=\"\",\"\",$I$4*Propostas!J56)","v":""},{"$f":"IF(Propostas!$C56=\"\",\"\",$J$4*Propostas!K56)","v":""},{"$f":"IF(Propostas!$C56=\"\",\"\",$K$4*Propostas!L56)","v":""},{"$f":"IF(Propostas!$C56=\"\",\"\",$L$4*Propostas!M56)","v":""},{"$f":"IF(Propostas!$C56=\"\",\"\",$M$4*Propostas!N56)","v":""},{"$f":"IF(Propostas!$C56=\"\",\"\",$N$4*Propostas!O56)","v":""},{"$f":"IF(Propostas!$C56=\"\",\"\",$O$4*Propostas!P56)","v":""},{"$f":"IF(Propostas!$C56=\"\",\"\",$P$4*Propostas!Q56)","v":""},{"$f":"IF(Propostas!$C56=\"\",\"\",$Q$4*Propostas!R56)","v":""},{"$f":"IF(Propostas!$C56=\"\",\"\",$R$4*Propostas!S56)","v":""},{"$f":"IF(Propostas!$C56=\"\",\"\",S$4*Parâmetros!$H49/Parâmetros!$H$4)","v":""},{"$f":"IF(Propostas!$C56=\"\",\"\",T$4*Parâmetros!P49/Parâmetros!$P$4)","v":""},{"$f":"IF(Propostas!$C56=\"\",\"\",U$4*Parâmetros!Q49/Parâmetros!$Q$4)","v":""},{"$f":"IF(Propostas!$B56=\"\",\"\",SUM(C49:U49))","v":""},{"$f":"IF(Propostas!$C56=\"\",\"\",RANK(V49,$V$5:$V$203,0))","v":""}]
[{"$f":"IF(Propostas!$C57=\"\",\"\",W50)","v":""},{"$f":"Propostas!A57","v":0},{"$f":"IF(Propostas!$C57=\"\",\"\",C$4*Parâmetros!$C$4/Parâmetros!C50)","v":""},{"$f":"IF(Propostas!$C57=\"\",\"\",D$4*(Parâmetros!D50-1)/(COUNT(Parâmetros!$C$5:$C$204)-1))","v":""},{"$f":"IF(Propostas!$C57=\"\",\"\",E$4*Parâmetros!E50/Parâmetros!$E$4)","v":""},{"$f":"IF(Propostas!$C57=\"\",\"\",F$4*Parâmetros!F50)","v":""},{"$f":"IF(Propostas!$C57=\"\",\"\",G$4*Parâmetros!G50)","v":""},{"$f":"IF(Propostas!$C57=\"\",\"\",$H$4*Propostas!I57)","v":""},{"$f":"IF(Propostas!$C57=\"\",\"\",$I$4*Propostas!J57)","v":""},{"$f":"IF(Propostas!$C57=\"\",\"\",$J$4*Propostas!K57)","v":""},{"$f":"IF(Propostas!$C57=\"\",\"\",$K$4*Propostas!L57)","v":""},{"$f":"IF(Propostas!$C57=\"\",\"\",$L$4*Propostas!M57)","v":""},{"$f":"IF(Propostas!$C57=\"\",\"\",$M$4*Propostas!N57)","v":""},{"$f":"IF(Propostas!$C57=\"\",\"\",$N$4*Propostas!O57)","v":""},{"$f":"IF(Propostas!$C57=\"\",\"\",$O$4*Propostas!P57)","v":""},{"$f":"IF(Propostas!$C57=\"\",\"\",$P$4*Propostas!Q57)","v":""},{"$f":"IF(Propostas!$C57=\"\",\"\",$Q$4*Propostas!R57)","v":""},{"$f":"IF(Propostas!$C57=\"\",\"\",$R$4*Propostas!S57)","v":""},{"$f":"IF(Propostas!$C57=\"\",\"\",S$4*Parâmetros!$H50/Parâmetros!$H$4)","v":""},{"$f":"IF(Propostas!$C57=\"\",\"\",T$4*Parâmetros!P50/Parâmetros!$P$4)","v":""},{"$f":"IF(Propostas!$C57=\"\",\"\",U$4*Parâmetros!Q50/Parâmetros!$Q$4)","v":""},{"$f":"IF(Propostas!$B57=\"\",\"\",SUM(C50:U50))","v":""},{"$f":"IF(Propostas!$C57=\"\",\"\",RANK(V50,$V$5:$V$203,0))","v":""}]
[{"$f":"IF(Propostas!$C58=\"\",\"\",W51)","v":""},{"$f":"Propostas!A58","v":0},{"$f":"IF(Propostas!$C58=\"\",\"\",C$4*Parâmetros!$C$4/Parâmetros!C51)","v":""},{"$f":"IF(Propostas!$C58=\"\",\"\",D$4*(Parâmetros!D51-1)/(COUNT(Parâmetros!$C$5:$C$204)-1))","v":""},{"$f":"IF(Propostas!$C58=\"\",\"\",E$4*Parâmetros!E51/Parâmetros!$E$4)","v":""},{"$f":"IF(Propostas!$C58=\"\",\"\",F$4*Parâmetros!F51)","v":""},{"$f":"IF(Propostas!$C58=\"\",\"\",G$4*Parâmetros!G51)","v":""},{"$f":"IF(Propostas!$C58=\"\",\"\",$H$4*Propostas!I58)","v":""},{"$f":"IF(Propostas!$C58=\"\",\"\",$I$4*Propostas!J58)","v":""},{"$f":"IF(Propostas!$C58=\"\",\"\",$J$4*Propostas!K58)","v":""},{"$f":"IF(Propostas!$C58=\"\",\"\",$K$4*Propostas!L58)","v":""},{"$f":"IF(Propostas!$C58=\"\",\"\",$L$4*Propostas!M58)","v":""},{"$f":"IF(Propostas!$C58=\"\",\"\",$M$4*Propostas!N58)","v":""},{"$f":"IF(Propostas!$C58=\"\",\"\",$N$4*Propostas!O58)","v":""},{"$f":"IF(Propostas!$C58=\"\",\"\",$O$4*Propostas!P58)","v":""},{"$f":"IF(Propostas!$C58=\"\",\"\",$P$4*Propostas!Q58)","v":""},{"$f":"IF(Propostas!$C58=\"\",\"\",$Q$4*Propostas!R58)","v":""},{"$f":"IF(Propostas!$C58=\"\",\"\",$R$4*Propostas!S58)","v":""},{"$f":"IF(Propostas!$C58=\"\",\"\",S$4*Parâmetros!$H51/Parâmetros!$H$4)","v":""},{"$f":"IF(Propostas!$C58=\"\",\"\",T$4*Parâmetros!P51/Parâmetros!$P$4)","v":""},{"$f":"IF(Propostas!$C58=\"\",\"\",U$4*Parâmetros!Q51/Parâmetros!$Q$4)","v":""},{"$f":"IF(Propostas!$B58=\"\",\"\",SUM(C51:U51))","v":""},{"$f":"IF(Propostas!$C58=\"\",\"\",RANK(V51,$V$5:$V$203,0))","v":""}]
[{"$f":"IF(Propostas!$C59=\"\",\"\",W52)","v":""},{"$f":"Propostas!A59","v":0},{"$f":"IF(Propostas!$C59=\"\",\"\",C$4*Parâmetros!$C$4/Parâmetros!C52)","v":""},{"$f":"IF(Propostas!$C59=\"\",\"\",D$4*(Parâmetros!D52-1)/(COUNT(Parâmetros!$C$5:$C$204)-1))","v":""},{"$f":"IF(Propostas!$C59=\"\",\"\",E$4*Parâmetros!E52/Parâmetros!$E$4)","v":""},{"$f":"IF(Propostas!$C59=\"\",\"\",F$4*Parâmetros!F52)","v":""},{"$f":"IF(Propostas!$C59=\"\",\"\",G$4*Parâmetros!G52)","v":""},{"$f":"IF(Propostas!$C59=\"\",\"\",$H$4*Propostas!I59)","v":""},{"$f":"IF(Propostas!$C59=\"\",\"\",$I$4*Propostas!J59)","v":""},{"$f":"IF(Propostas!$C59=\"\",\"\",$J$4*Propostas!K59)","v":""},{"$f":"IF(Propostas!$C59=\"\",\"\",$K$4*Propostas!L59)","v":""},{"$f":"IF(Propostas!$C59=\"\",\"\",$L$4*Propostas!M59)","v":""},{"$f":"IF(Propostas!$C59=\"\",\"\",$M$4*Propostas!N59)","v":""},{"$f":"IF(Propostas!$C59=\"\",\"\",$N$4*Propostas!O59)","v":""},{"$f":"IF(Propostas!$C59=\"\",\"\",$O$4*Propostas!P59)","v":""},{"$f":"IF(Propostas!$C59=\"\",\"\",$P$4*Propostas!Q59)","v":""},{"$f":"IF(Propostas!$C59=\"\",\"\",$Q$4*Propostas!R59)","v":""},{"$f":"IF(Propostas!$C59=\"\",\"\",$R$4*Propostas!S59)","v":""},{"$f":"IF(Propostas!$C59=\"\",\"\",S$4*Parâmetros!$H52/Parâmetros!$H$4)","v":""},{"$f":"IF(Propostas!$C59=\"\",\"\",T$4*Parâmetros!P52/Parâmetros!$P$4)","v":""},{"$f":"IF(Propostas!$C59=\"\",\"\",U$4*Parâmetros!Q52/Parâmetros!$Q$4)","v":""},{"$f":"IF(Propostas!$B59=\"\",\"\",SUM(C52:U52))","v":""},{"$f":"IF(Propostas!$C59=\"\",\"\",RANK(V52,$V$5:$V$203,0))","v":""}]
[{"$f":"IF(Propostas!$C60=\"\",\"\",W53)","v":""},{"$f":"Propostas!A60","v":0},{"$f":"IF(Propostas!$C60=\"\",\"\",C$4*Parâmetros!$C$4/Parâmetros!C53)","v":""},{"$f":"IF(Propostas!$C60=\"\",\"\",D$4*(Parâmetros!D53-1)/(COUNT(Parâmetros!$C$5:$C$204)-1))","v":""},{"$f":"IF(Propostas!$C60=\"\",\"\",E$4*Parâmetros!E53/Parâmetros!$E$4)","v":""},{"$f":"IF(Propostas!$C60=\"\",\"\",F$4*Parâmetros!F53)","v":""},{"$f":"IF(Propostas!$C60=\"\",\"\",G$4*Parâmetros!G53)","v":""},{"$f":"IF(Propostas!$C60=\"\",\"\",$H$4*Propostas!I60)","v":""},{"$f":"IF(Propostas!$C60=\"\",\"\",$I$4*Propostas!J60)","v":""},{"$f":"IF(Propostas!$C60=\"\",\"\",$J$4*Propostas!K60)","v":""},{"$f":"IF(Propostas!$C60=\"\",\"\",$K$4*Propostas!L60)","v":""},{"$f":"IF(Propostas!$C60=\"\",\"\",$L$4*Propostas!M60)","v":""},{"$f":"IF(Propostas!$C60=\"\",\"\",$M$4*Propostas!N60)","v":""},{"$f":"IF(Propostas!$C60=\"\",\"\",$N$4*Propostas!O60)","v":""},{"$f":"IF(Propostas!$C60=\"\",\"\",$O$4*Propostas!P60)","v":""},{"$f":"IF(Propostas!$C60=\"\",\"\",$P$4*Propostas!Q60)","v":""},{"$f":"IF(Propostas!$C60=\"\",\"\",$Q$4*Propostas!R60)","v":""},{"$f":"IF(Propostas!$C60=\"\",\"\",$R$4*Propostas!S60)","v":""},{"$f":"IF(Propostas!$C60=\"\",\"\",S$4*Parâmetros!$H53/Parâmetros!$H$4)","v":""},{"$f":"IF(Propostas!$C60=\"\",\"\",T$4*Parâmetros!P53/Parâmetros!$P$4)","v":""},{"$f":"IF(Propostas!$C60=\"\",\"\",U$4*Parâmetros!Q53/Parâmetros!$Q$4)","v":""},{"$f":"IF(Propostas!$B60=\"\",\"\",SUM(C53:U53))","v":""},{"$f":"IF(Propostas!$C60=\"\",\"\",RANK(V53,$V$5:$V$203,0))","v":""}]
[{"$f":"IF(Propostas!$C61=\"\",\"\",W54)","v":""},{"$f":"Propostas!A61","v":0},{"$f":"IF(Propostas!$C61=\"\",\"\",C$4*Parâmetros!$C$4/Parâmetros!C54)","v":""},{"$f":"IF(Propostas!$C61=\"\",\"\",D$4*(Parâmetros!D54-1)/(COUNT(Parâmetros!$C$5:$C$204)-1))","v":""},{"$f":"IF(Propostas!$C61=\"\",\"\",E$4*Parâmetros!E54/Parâmetros!$E$4)","v":""},{"$f":"IF(Propostas!$C61=\"\",\"\",F$4*Parâmetros!F54)","v":""},{"$f":"IF(Propostas!$C61=\"\",\"\",G$4*Parâmetros!G54)","v":""},{"$f":"IF(Propostas!$C61=\"\",\"\",$H$4*Propostas!I61)","v":""},{"$f":"IF(Propostas!$C61=\"\",\"\",$I$4*Propostas!J61)","v":""},{"$f":"IF(Propostas!$C61=\"\",\"\",$J$4*Propostas!K61)","v":""},{"$f":"IF(Propostas!$C61=\"\",\"\",$K$4*Propostas!L61)","v":""},{"$f":"IF(Propostas!$C61=\"\",\"\",$L$4*Propostas!M61)","v":""},{"$f":"IF(Propostas!$C61=\"\",\"\",$M$4*Propostas!N61)","v":""},{"$f":"IF(Propostas!$C61=\"\",\"\",$N$4*Propostas!O61)","v":""},{"$f":"IF(Propostas!$C61=\"\",\"\",$O$4*Propostas!P61)","v":""},{"$f":"IF(Propostas!$C61=\"\",\"\",$P$4*Propostas!Q61)","v":""},{"$f":"IF(Propostas!$C61=\"\",\"\",$Q$4*Propostas!R61)","v":""},{"$f":"IF(Propostas!$C61=\"\",\"\",$R$4*Propostas!S61)","v":""},{"$f":"IF(Propostas!$C61=\"\",\"\",S$4*Parâmetros!$H54/Parâmetros!$H$4)","v":""},{"$f":"IF(Propostas!$C61=\"\",\"\",T$4*Parâmetros!P54/Parâmetros!$P$4)","v":""},{"$f":"IF(Propostas!$C61=\"\",\"\",U$4*Parâmetros!Q54/Parâmetros!$Q$4)","v":""},{"$f":"IF(Propostas!$B61=\"\",\"\",SUM(C54:U54))","v":""},{"$f":"IF(Propostas!$C61=\"\",\"\",RANK(V54,$V$5:$V$203,0))","v":""}]
[{"$f":"IF(Propostas!$C62=\"\",\"\",W55)","v":""},{"$f":"Propostas!A62","v":0},{"$f":"IF(Propostas!$C62=\"\",\"\",C$4*Parâmetros!$C$4/Parâmetros!C55)","v":""},{"$f":"IF(Propostas!$C62=\"\",\"\",D$4*(Parâmetros!D55-1)/(COUNT(Parâmetros!$C$5:$C$204)-1))","v":""},{"$f":"IF(Propostas!$C62=\"\",\"\",E$4*Parâmetros!E55/Parâmetros!$E$4)","v":""},{"$f":"IF(Propostas!$C62=\"\",\"\",F$4*Parâmetros!F55)","v":""},{"$f":"IF(Propostas!$C62=\"\",\"\",G$4*Parâmetros!G55)","v":""},{"$f":"IF(Propostas!$C62=\"\",\"\",$H$4*Propostas!I62)","v":""},{"$f":"IF(Propostas!$C62=\"\",\"\",$I$4*Propostas!J62)","v":""},{"$f":"IF(Propostas!$C62=\"\",\"\",$J$4*Propostas!K62)","v":""},{"$f":"IF(Propostas!$C62=\"\",\"\",$K$4*Propostas!L62)","v":""},{"$f":"IF(Propostas!$C62=\"\",\"\",$L$4*Propostas!M62)","v":""},{"$f":"IF(Propostas!$C62=\"\",\"\",$M$4*Propostas!N62)","v":""},{"$f":"IF(Propostas!$C62=\"\",\"\",$N$4*Propostas!O62)","v":""},{"$f":"IF(Propostas!$C62=\"\",\"\",$O$4*Propostas!P62)","v":""},{"$f":"IF(Propostas!$C62=\"\",\"\",$P$4*Propostas!Q62)","v":""},{"$f":"IF(Propostas!$C62=\"\",\"\",$Q$4*Propostas!R62)","v":""},{"$f":"IF(Propostas!$C62=\"\",\"\",$R$4*Propostas!S62)","v":""},{"$f":"IF(Propostas!$C62=\"\",\"\",S$4*Parâmetros!$H55/Parâmetros!$H$4)","v":""},{"$f":"IF(Propostas!$C62=\"\",\"\",T$4*Parâmetros!P55/Parâmetros!$P$4)","v":""},{"$f":"IF(Propostas!$C62=\"\",\"\",U$4*Parâmetros!Q55/Parâmetros!$Q$4)","v":""},{"$f":"IF(Propostas!$B62=\"\",\"\",SUM(C55:U55))","v":""},{"$f":"IF(Propostas!$C62=\"\",\"\",RANK(V55,$V$5:$V$203,0))","v":""}]
[{"$f":"IF(Propostas!$C63=\"\",\"\",W56)","v":""},{"$f":"Propostas!A63","v":0},{"$f":"IF(Propostas!$C63=\"\",\"\",C$4*Parâmetros!$C$4/Parâmetros!C56)","v":""},{"$f":"IF(Propostas!$C63=\"\",\"\",D$4*(Parâmetros!D56-1)/(COUNT(Parâmetros!$C$5:$C$204)-1))","v":""},{"$f":"IF(Propostas!$C63=\"\",\"\",E$4*Parâmetros!E56/Parâmetros!$E$4)","v":""},{"$f":"IF(Propostas!$C63=\"\",\"\",F$4*Parâmetros!F56)","v":""},{"$f":"IF(Propostas!$C63=\"\",\"\",G$4*Parâmetros!G56)","v":""},{"$f":"IF(Propostas!$C63=\"\",\"\",$H$4*Propostas!I63)","v":""},{"$f":"IF(Propostas!$C63=\"\",\"\",$I$4*Propostas!J63)","v":""},{"$f":"IF(Propostas!$C63=\"\",\"\",$J$4*Propostas!K63)","v":""},{"$f":"IF(Propostas!$C63=\"\",\"\",$K$4*Propostas!L63)","v":""},{"$f":"IF(Propostas!$C63=\"\",\"\",$L$4*Propostas!M63)","v":""},{"$f":"IF(Propostas!$C63=\"\",\"\",$M$4*Propostas!N63)","v":""},{"$f":"IF(Propostas!$C63=\"\",\"\",$N$4*Propostas!O63)","v":""},{"$f":"IF(Propostas!$C63=\"\",\"\",$O$4*Propostas!P63)","v":""},{"$f":"IF(Propostas!$C63=\"\",\"\",$P$4*Propostas!Q63)","v":""},{"$f":"IF(Propostas!$C63=\"\",\"\",$Q$4*Propostas!R63)","v":""},{"$f":"IF(Propostas!$C63=\"\",\"\",$R$4*Propostas!S63)","v":""},{"$f":"IF(Propostas!$C63=\"\",\"\",S$4*Parâmetros!$H56/Parâmetros!$H$4)","v":""},{"$f":"IF(Propostas!$C63=\"\",\"\",T$4*Parâmetros!P56/Parâmetros!$P$4)","v":""},{"$f":"IF(Propostas!$C63=\"\",\"\",U$4*Parâmetros!Q56/Parâmetros!$Q$4)","v":""},{"$f":"IF(Propostas!$B63=\"\",\"\",SUM(C56:U56))","v":""},{"$f":"IF(Propostas!$C63=\"\",\"\",RANK(V56,$V$5:$V$203,0))","v":""}]
[{"$f":"IF(Propostas!$C64=\"\",\"\",W57)","v":""},{"$f":"Propostas!A64","v":0},{"$f":"IF(Propostas!$C64=\"\",\"\",C$4*Parâmetros!$C$4/Parâmetros!C57)","v":""},{"$f":"IF(Propostas!$C64=\"\",\"\",D$4*(Parâmetros!D57-1)/(COUNT(Parâmetros!$C$5:$C$204)-1))","v":""},{"$f":"IF(Propostas!$C64=\"\",\"\",E$4*Parâmetros!E57/Parâmetros!$E$4)","v":""},{"$f":"IF(Propostas!$C64=\"\",\"\",F$4*Parâmetros!F57)","v":""},{"$f":"IF(Propostas!$C64=\"\",\"\",G$4*Parâmetros!G57)","v":""},{"$f":"IF(Propostas!$C64=\"\",\"\",$H$4*Propostas!I64)","v":""},{"$f":"IF(Propostas!$C64=\"\",\"\",$I$4*Propostas!J64)","v":""},{"$f":"IF(Propostas!$C64=\"\",\"\",$J$4*Propostas!K64)","v":""},{"$f":"IF(Propostas!$C64=\"\",\"\",$K$4*Propostas!L64)","v":""},{"$f":"IF(Propostas!$C64=\"\",\"\",$L$4*Propostas!M64)","v":""},{"$f":"IF(Propostas!$C64=\"\",\"\",$M$4*Propostas!N64)","v":""},{"$f":"IF(Propostas!$C64=\"\",\"\",$N$4*Propostas!O64)","v":""},{"$f":"IF(Propostas!$C64=\"\",\"\",$O$4*Propostas!P64)","v":""},{"$f":"IF(Propostas!$C64=\"\",\"\",$P$4*Propostas!Q64)","v":""},{"$f":"IF(Propostas!$C64=\"\",\"\",$Q$4*Propostas!R64)","v":""},{"$f":"IF(Propostas!$C64=\"\",\"\",$R$4*Propostas!S64)","v":""},{"$f":"IF(Propostas!$C64=\"\",\"\",S$4*Parâmetros!$H57/Parâmetros!$H$4)","v":""},{"$f":"IF(Propostas!$C64=\"\",\"\",T$4*Parâmetros!P57/Parâmetros!$P$4)","v":""},{"$f":"IF(Propostas!$C64=\"\",\"\",U$4*Parâmetros!Q57/Parâmetros!$Q$4)","v":""},{"$f":"IF(Propostas!$B64=\"\",\"\",SUM(C57:U57))","v":""},{"$f":"IF(Propostas!$C64=\"\",\"\",RANK(V57,$V$5:$V$203,0))","v":""}]
[{"$f":"IF(Propostas!$C65=\"\",\"\",W58)","v":""},{"$f":"Propostas!A65","v":0},{"$f":"IF(Propostas!$C65=\"\",\"\",C$4*Parâmetros!$C$4/Parâmetros!C58)","v":""},{"$f":"IF(Propostas!$C65=\"\",\"\",D$4*(Parâmetros!D58-1)/(COUNT(Parâmetros!$C$5:$C$204)-1))","v":""},{"$f":"IF(Propostas!$C65=\"\",\"\",E$4*Parâmetros!E58/Parâmetros!$E$4)","v":""},{"$f":"IF(Propostas!$C65=\"\",\"\",F$4*Parâmetros!F58)","v":""},{"$f":"IF(Propostas!$C65=\"\",\"\",G$4*Parâmetros!G58)","v":""},{"$f":"IF(Propostas!$C65=\"\",\"\",$H$4*Propostas!I65)","v":""},{"$f":"IF(Propostas!$C65=\"\",\"\",$I$4*Propostas!J65)","v":""},{"$f":"IF(Propostas!$C65=\"\",\"\",$J$4*Propostas!K65)","v":""},{"$f":"IF(Propostas!$C65=\"\",\"\",$K$4*Propostas!L65)","v":""},{"$f":"IF(Propostas!$C65=\"\",\"\",$L$4*Propostas!M65)","v":""},{"$f":"IF(Propostas!$C65=\"\",\"\",$M$4*Propostas!N65)","v":""},{"$f":"IF(Propostas!$C65=\"\",\"\",$N$4*Propostas!O65)","v":""},{"$f":"IF(Propostas!$C65=\"\",\"\",$O$4*Propostas!P65)","v":""},{"$f":"IF(Propostas!$C65=\"\",\"\",$P$4*Propostas!Q65)","v":""},{"$f":"IF(Propostas!$C65=\"\",\"\",$Q$4*Propostas!R65)","v":""},{"$f":"IF(Propostas!$C65=\"\",\"\",$R$4*Propostas!S65)","v":""},{"$f":"IF(Propostas!$C65=\"\",\"\",S$4*Parâmetros!$H58/Parâmetros!$H$4)","v":""},{"$f":"IF(Propostas!$C65=\"\",\"\",T$4*Parâmetros!P58/Parâmetros!$P$4)","v":""},{"$f":"IF(Propostas!$C65=\"\",\"\",U$4*Parâmetros!Q58/Parâmetros!$Q$4)","v":""},{"$f":"IF(Propostas!$B65=\"\",\"\",SUM(C58:U58))","v":""},{"$f":"IF(Propostas!$C65=\"\",\"\",RANK(V58,$V$5:$V$203,0))","v":""}]
[{"$f":"IF(Propostas!$C66=\"\",\"\",W59)","v":""},{"$f":"Propostas!A66","v":0},{"$f":"IF(Propostas!$C66=\"\",\"\",C$4*Parâmetros!$C$4/Parâmetros!C59)","v":""},{"$f":"IF(Propostas!$C66=\"\",\"\",D$4*(Parâmetros!D59-1)/(COUNT(Parâmetros!$C$5:$C$204)-1))","v":""},{"$f":"IF(Propostas!$C66=\"\",\"\",E$4*Parâmetros!E59/Parâmetros!$E$4)","v":""},{"$f":"IF(Propostas!$C66=\"\",\"\",F$4*Parâmetros!F59)","v":""},{"$f":"IF(Propostas!$C66=\"\",\"\",G$4*Parâmetros!G59)","v":""},{"$f":"IF(Propostas!$C66=\"\",\"\",$H$4*Propostas!I66)","v":""},{"$f":"IF(Propostas!$C66=\"\",\"\",$I$4*Propostas!J66)","v":""},{"$f":"IF(Propostas!$C66=\"\",\"\",$J$4*Propostas!K66)","v":""},{"$f":"IF(Propostas!$C66=\"\",\"\",$K$4*Propostas!L66)","v":""},{"$f":"IF(Propostas!$C66=\"\",\"\",$L$4*Propostas!M66)","v":""},{"$f":"IF(Propostas!$C66=\"\",\"\",$M$4*Propostas!N66)","v":""},{"$f":"IF(Propostas!$C66=\"\",\"\",$N$4*Propostas!O66)","v":""},{"$f":"IF(Propostas!$C66=\"\",\"\",$O$4*Propostas!P66)","v":""},{"$f":"IF(Propostas!$C66=\"\",\"\",$P$4*Propostas!Q66)","v":""},{"$f":"IF(Propostas!$C66=\"\",\"\",$Q$4*Propostas!R66)","v":""},{"$f":"IF(Propostas!$C66=\"\",\"\",$R$4*Propostas!S66)","v":""},{"$f":"IF(Propostas!$C66=\"\",\"\",S$4*Parâmetros!$H59/Parâmetros!$H$4)","v":""},{"$f":"IF(Propostas!$C66=\"\",\"\",T$4*Parâmetros!P59/Parâmetros!$P$4)","v":""},{"$f":"IF(Propostas!$C66=\"\",\"\",U$4*Parâmetros!Q59/Parâmetros!$Q$4)","v":""},{"$f":"IF(Propostas!$B66=\"\",\"\",SUM(C59:U59))","v":""},{"$f":"IF(Propostas!$C66=\"\",\"\",RANK(V59,$V$5:$V$203,0))","v":""}]
[{"$f":"IF(Propostas!$C67=\"\",\"\",W60)","v":""},{"$f":"Propostas!A67","v":0},{"$f":"IF(Propostas!$C67=\"\",\"\",C$4*Parâmetros!$C$4/Parâmetros!C60)","v":""},{"$f":"IF(Propostas!$C67=\"\",\"\",D$4*(Parâmetros!D60-1)/(COUNT(Parâmetros!$C$5:$C$204)-1))","v":""},{"$f":"IF(Propostas!$C67=\"\",\"\",E$4*Parâmetros!E60/Parâmetros!$E$4)","v":""},{"$f":"IF(Propostas!$C67=\"\",\"\",F$4*Parâmetros!F60)","v":""},{"$f":"IF(Propostas!$C67=\"\",\"\",G$4*Parâmetros!G60)","v":""},{"$f":"IF(Propostas!$C67=\"\",\"\",$H$4*Propostas!I67)","v":""},{"$f":"IF(Propostas!$C67=\"\",\"\",$I$4*Propostas!J67)","v":""},{"$f":"IF(Propostas!$C67=\"\",\"\",$J$4*Propostas!K67)","v":""},{"$f":"IF(Propostas!$C67=\"\",\"\",$K$4*Propostas!L67)","v":""},{"$f":"IF(Propostas!$C67=\"\",\"\",$L$4*Propostas!M67)","v":""},{"$f":"IF(Propostas!$C67=\"\",\"\",$M$4*Propostas!N67)","v":""},{"$f":"IF(Propostas!$C67=\"\",\"\",$N$4*Propostas!O67)","v":""},{"$f":"IF(Propostas!$C67=\"\",\"\",$O$4*Propostas!P67)","v":""},{"$f":"IF(Propostas!$C67=\"\",\"\",$P$4*Propostas!Q67)","v":""},{"$f":"IF(Propostas!$C67=\"\",\"\",$Q$4*Propostas!R67)","v":""},{"$f":"IF(Propostas!$C67=\"\",\"\",$R$4*Propostas!S67)","v":""},{"$f":"IF(Propostas!$C67=\"\",\"\",S$4*Parâmetros!$H60/Parâmetros!$H$4)","v":""},{"$f":"IF(Propostas!$C67=\"\",\"\",T$4*Parâmetros!P60/Parâmetros!$P$4)","v":""},{"$f":"IF(Propostas!$C67=\"\",\"\",U$4*Parâmetros!Q60/Parâmetros!$Q$4)","v":""},{"$f":"IF(Propostas!$B67=\"\",\"\",SUM(C60:U60))","v":""},{"$f":"IF(Propostas!$C67=\"\",\"\",RANK(V60,$V$5:$V$203,0))","v":""}]
[{"$f":"IF(Propostas!$C68=\"\",\"\",W61)","v":""},{"$f":"Propostas!A68","v":0},{"$f":"IF(Propostas!$C68=\"\",\"\",C$4*Parâmetros!$C$4/Parâmetros!C61)","v":""},{"$f":"IF(Propostas!$C68=\"\",\"\",D$4*(Parâmetros!D61-1)/(COUNT(Parâmetros!$C$5:$C$204)-1))","v":""},{"$f":"IF(Propostas!$C68=\"\",\"\",E$4*Parâmetros!E61/Parâmetros!$E$4)","v":""},{"$f":"IF(Propostas!$C68=\"\",\"\",F$4*Parâmetros!F61)","v":""},{"$f":"IF(Propostas!$C68=\"\",\"\",G$4*Parâmetros!G61)","v":""},{"$f":"IF(Propostas!$C68=\"\",\"\",$H$4*Propostas!I68)","v":""},{"$f":"IF(Propostas!$C68=\"\",\"\",$I$4*Propostas!J68)","v":""},{"$f":"IF(Propostas!$C68=\"\",\"\",$J$4*Propostas!K68)","v":""},{"$f":"IF(Propostas!$C68=\"\",\"\",$K$4*Propostas!L68)","v":""},{"$f":"IF(Propostas!$C68=\"\",\"\",$L$4*Propostas!M68)","v":""},{"$f":"IF(Propostas!$C68=\"\",\"\",$M$4*Propostas!N68)","v":""},{"$f":"IF(Propostas!$C68=\"\",\"\",$N$4*Propostas!O68)","v":""},{"$f":"IF(Propostas!$C68=\"\",\"\",$O$4*Propostas!P68)","v":""},{"$f":"IF(Propostas!$C68=\"\",\"\",$P$4*Propostas!Q68)","v":""},{"$f":"IF(Propostas!$C68=\"\",\"\",$Q$4*Propostas!R68)","v":""},{"$f":"IF(Propostas!$C68=\"\",\"\",$R$4*Propostas!S68)","v":""},{"$f":"IF(Propostas!$C68=\"\",\"\",S$4*Parâmetros!$H61/Parâmetros!$H$4)","v":""},{"$f":"IF(Propostas!$C68=\"\",\"\",T$4*Parâmetros!P61/Parâmetros!$P$4)","v":""},{"$f":"IF(Propostas!$C68=\"\",\"\",U$4*Parâmetros!Q61/Parâmetros!$Q$4)","v":""},{"$f":"IF(Propostas!$B68=\"\",\"\",SUM(C61:U61))","v":""},{"$f":"IF(Propostas!$C68=\"\",\"\",RANK(V61,$V$5:$V$203,0))","v":""}]
[{"$f":"IF(Propostas!$C69=\"\",\"\",W62)","v":""},{"$f":"Propostas!A69","v":0},{"$f":"IF(Propostas!$C69=\"\",\"\",C$4*Parâmetros!$C$4/Parâmetros!C62)","v":""},{"$f":"IF(Propostas!$C69=\"\",\"\",D$4*(Parâmetros!D62-1)/(COUNT(Parâmetros!$C$5:$C$204)-1))","v":""},{"$f":"IF(Propostas!$C69=\"\",\"\",E$4*Parâmetros!E62/Parâmetros!$E$4)","v":""},{"$f":"IF(Propostas!$C69=\"\",\"\",F$4*Parâmetros!F62)","v":""},{"$f":"IF(Propostas!$C69=\"\",\"\",G$4*Parâmetros!G62)","v":""},{"$f":"IF(Propostas!$C69=\"\",\"\",$H$4*Propostas!I69)","v":""},{"$f":"IF(Propostas!$C69=\"\",\"\",$I$4*Propostas!J69)","v":""},{"$f":"IF(Propostas!$C69=\"\",\"\",$J$4*Propostas!K69)","v":""},{"$f":"IF(Propostas!$C69=\"\",\"\",$K$4*Propostas!L69)","v":""},{"$f":"IF(Propostas!$C69=\"\",\"\",$L$4*Propostas!M69)","v":""},{"$f":"IF(Propostas!$C69=\"\",\"\",$M$4*Propostas!N69)","v":""},{"$f":"IF(Propostas!$C69=\"\",\"\",$N$4*Propostas!O69)","v":""},{"$f":"IF(Propostas!$C69=\"\",\"\",$O$4*Propostas!P69)","v":""},{"$f":"IF(Propostas!$C69=\"\",\"\",$P$4*Propostas!Q69)","v":""},{"$f":"IF(Propostas!$C69=\"\",\"\",$Q$4*Propostas!R69)","v":""},{"$f":"IF(Propostas!$C69=\"\",\"\",$R$4*Propostas!S69)","v":""},{"$f":"IF(Propostas!$C69=\"\",\"\",S$4*Parâmetros!$H62/Parâmetros!$H$4)","v":""},{"$f":"IF(Propostas!$C69=\"\",\"\",T$4*Parâmetros!P62/Parâmetros!$P$4)","v":""},{"$f":"IF(Propostas!$C69=\"\",\"\",U$4*Parâmetros!Q62/Parâmetros!$Q$4)","v":""},{"$f":"IF(Propostas!$B69=\"\",\"\",SUM(C62:U62))","v":""},{"$f":"IF(Propostas!$C69=\"\",\"\",RANK(V62,$V$5:$V$203,0))","v":""}]
[{"$f":"IF(Propostas!$C70=\"\",\"\",W63)","v":""},{"$f":"Propostas!A70","v":0},{"$f":"IF(Propostas!$C70=\"\",\"\",C$4*Parâmetros!$C$4/Parâmetros!C63)","v":""},{"$f":"IF(Propostas!$C70=\"\",\"\",D$4*(Parâmetros!D63-1)/(COUNT(Parâmetros!$C$5:$C$204)-1))","v":""},{"$f":"IF(Propostas!$C70=\"\",\"\",E$4*Parâmetros!E63/Parâmetros!$E$4)","v":""},{"$f":"IF(Propostas!$C70=\"\",\"\",F$4*Parâmetros!F63)","v":""},{"$f":"IF(Propostas!$C70=\"\",\"\",G$4*Parâmetros!G63)","v":""},{"$f":"IF(Propostas!$C70=\"\",\"\",$H$4*Propostas!I70)","v":""},{"$f":"IF(Propostas!$C70=\"\",\"\",$I$4*Propostas!J70)","v":""},{"$f":"IF(Propostas!$C70=\"\",\"\",$J$4*Propostas!K70)","v":""},{"$f":"IF(Propostas!$C70=\"\",\"\",$K$4*Propostas!L70)","v":""},{"$f":"IF(Propostas!$C70=\"\",\"\",$L$4*Propostas!M70)","v":""},{"$f":"IF(Propostas!$C70=\"\",\"\",$M$4*Propostas!N70)","v":""},{"$f":"IF(Propostas!$C70=\"\",\"\",$N$4*Propostas!O70)","v":""},{"$f":"IF(Propostas!$C70=\"\",\"\",$O$4*Propostas!P70)","v":""},{"$f":"IF(Propostas!$C70=\"\",\"\",$P$4*Propostas!Q70)","v":""},{"$f":"IF(Propostas!$C70=\"\",\"\",$Q$4*Propostas!R70)","v":""},{"$f":"IF(Propostas!$C70=\"\",\"\",$R$4*Propostas!S70)","v":""},{"$f":"IF(Propostas!$C70=\"\",\"\",S$4*Parâmetros!$H63/Parâmetros!$H$4)","v":""},{"$f":"IF(Propostas!$C70=\"\",\"\",T$4*Parâmetros!P63/Parâmetros!$P$4)","v":""},{"$f":"IF(Propostas!$C70=\"\",\"\",U$4*Parâmetros!Q63/Parâmetros!$Q$4)","v":""},{"$f":"IF(Propostas!$B70=\"\",\"\",SUM(C63:U63))","v":""},{"$f":"IF(Propostas!$C70=\"\",\"\",RANK(V63,$V$5:$V$203,0))","v":""}]
[{"$f":"IF(Propostas!$C71=\"\",\"\",W64)","v":""},{"$f":"Propostas!A71","v":0},{"$f":"IF(Propostas!$C71=\"\",\"\",C$4*Parâmetros!$C$4/Parâmetros!C64)","v":""},{"$f":"IF(Propostas!$C71=\"\",\"\",D$4*(Parâmetros!D64-1)/(COUNT(Parâmetros!$C$5:$C$204)-1))","v":""},{"$f":"IF(Propostas!$C71=\"\",\"\",E$4*Parâmetros!E64/Parâmetros!$E$4)","v":""},{"$f":"IF(Propostas!$C71=\"\",\"\",F$4*Parâmetros!F64)","v":""},{"$f":"IF(Propostas!$C71=\"\",\"\",G$4*Parâmetros!G64)","v":""},{"$f":"IF(Propostas!$C71=\"\",\"\",$H$4*Propostas!I71)","v":""},{"$f":"IF(Propostas!$C71=\"\",\"\",$I$4*Propostas!J71)","v":""},{"$f":"IF(Propostas!$C71=\"\",\"\",$J$4*Propostas!K71)","v":""},{"$f":"IF(Propostas!$C71=\"\",\"\",$K$4*Propostas!L71)","v":""},{"$f":"IF(Propostas!$C71=\"\",\"\",$L$4*Propostas!M71)","v":""},{"$f":"IF(Propostas!$C71=\"\",\"\",$M$4*Propostas!N71)","v":""},{"$f":"IF(Propostas!$C71=\"\",\"\",$N$4*Propostas!O71)","v":""},{"$f":"IF(Propostas!$C71=\"\",\"\",$O$4*Propostas!P71)","v":""},{"$f":"IF(Propostas!$C71=\"\",\"\",$P$4*Propostas!Q71)","v":""},{"$f":"IF(Propostas!$C71=\"\",\"\",$Q$4*Propostas!R71)","v":""},{"$f":"IF(Propostas!$C71=\"\",\"\",$R$4*Propostas!S71)","v":""},{"$f":"IF(Propostas!$C71=\"\",\"\",S$4*Parâmetros!$H64/Parâmetros!$H$4)","v":""},{"$f":"IF(Propostas!$C71=\"\",\"\",T$4*Parâmetros!P64/Parâmetros!$P$4)","v":""},{"$f":"IF(Propostas!$C71=\"\",\"\",U$4*Parâmetros!Q64/Parâmetros!$Q$4)","v":""},{"$f":"IF(Propostas!$B71=\"\",\"\",SUM(C64:U64))","v":""},{"$f":"IF(Propostas!$C71=\"\",\"\",RANK(V64,$V$5:$V$203,0))","v":""}]
[{"$f":"IF(Propostas!$C72=\"\",\"\",W65)","v":""},{"$f":"Propostas!A72","v":0},{"$f":"IF(Propostas!$C72=\"\",\"\",C$4*Parâmetros!$C$4/Parâmetros!C65)","v":""},{"$f":"IF(Propostas!$C72=\"\",\"\",D$4*(Parâmetros!D65-1)/(COUNT(Parâmetros!$C$5:$C$204)-1))","v":""},{"$f":"IF(Propostas!$C72=\"\",\"\",E$4*Parâmetros!E65/Parâmetros!$E$4)","v":""},{"$f":"IF(Propostas!$C72=\"\",\"\",F$4*Parâmetros!F65)","v":""},{"$f":"IF(Propostas!$C72=\"\",\"\",G$4*Parâmetros!G65)","v":""},{"$f":"IF(Propostas!$C72=\"\",\"\",$H$4*Propostas!I72)","v":""},{"$f":"IF(Propostas!$C72=\"\",\"\",$I$4*Propostas!J72)","v":""},{"$f":"IF(Propostas!$C72=\"\",\"\",$J$4*Propostas!K72)","v":""},{"$f":"IF(Propostas!$C72=\"\",\"\",$K$4*Propostas!L72)","v":""},{"$f":"IF(Propostas!$C72=\"\",\"\",$L$4*Propostas!M72)","v":""},{"$f":"IF(Propostas!$C72=\"\",\"\",$M$4*Propostas!N72)","v":""},{"$f":"IF(Propostas!$C72=\"\",\"\",$N$4*Propostas!O72)","v":""},{"$f":"IF(Propostas!$C72=\"\",\"\",$O$4*Propostas!P72)","v":""},{"$f":"IF(Propostas!$C72=\"\",\"\",$P$4*Propostas!Q72)","v":""},{"$f":"IF(Propostas!$C72=\"\",\"\",$Q$4*Propostas!R72)","v":""},{"$f":"IF(Propostas!$C72=\"\",\"\",$R$4*Propostas!S72)","v":""},{"$f":"IF(Propostas!$C72=\"\",\"\",S$4*Parâmetros!$H65/Parâmetros!$H$4)","v":""},{"$f":"IF(Propostas!$C72=\"\",\"\",T$4*Parâmetros!P65/Parâmetros!$P$4)","v":""},{"$f":"IF(Propostas!$C72=\"\",\"\",U$4*Parâmetros!Q65/Parâmetros!$Q$4)","v":""},{"$f":"IF(Propostas!$B72=\"\",\"\",SUM(C65:U65))","v":""},{"$f":"IF(Propostas!$C72=\"\",\"\",RANK(V65,$V$5:$V$203,0))","v":""}]
[{"$f":"IF(Propostas!$C73=\"\",\"\",W66)","v":""},{"$f":"Propostas!A73","v":0},{"$f":"IF(Propostas!$C73=\"\",\"\",C$4*Parâmetros!$C$4/Parâmetros!C66)","v":""},{"$f":"IF(Propostas!$C73=\"\",\"\",D$4*(Parâmetros!D66-1)/(COUNT(Parâmetros!$C$5:$C$204)-1))","v":""},{"$f":"IF(Propostas!$C73=\"\",\"\",E$4*Parâmetros!E66/Parâmetros!$E$4)","v":""},{"$f":"IF(Propostas!$C73=\"\",\"\",F$4*Parâmetros!F66)","v":""},{"$f":"IF(Propostas!$C73=\"\",\"\",G$4*Parâmetros!G66)","v":""},{"$f":"IF(Propostas!$C73=\"\",\"\",$H$4*Propostas!I73)","v":""},{"$f":"IF(Propostas!$C73=\"\",\"\",$I$4*Propostas!J73)","v":""},{"$f":"IF(Propostas!$C73=\"\",\"\",$J$4*Propostas!K73)","v":""},{"$f":"IF(Propostas!$C73=\"\",\"\",$K$4*Propostas!L73)","v":""},{"$f":"IF(Propostas!$C73=\"\",\"\",$L$4*Propostas!M73)","v":""},{"$f":"IF(Propostas!$C73=\"\",\"\",$M$4*Propostas!N73)","v":""},{"$f":"IF(Propostas!$C73=\"\",\"\",$N$4*Propostas!O73)","v":""},{"$f":"IF(Propostas!$C73=\"\",\"\",$O$4*Propostas!P73)","v":""},{"$f":"IF(Propostas!$C73=\"\",\"\",$P$4*Propostas!Q73)","v":""},{"$f":"IF(Propostas!$C73=\"\",\"\",$Q$4*Propostas!R73)","v":""},{"$f":"IF(Propostas!$C73=\"\",\"\",$R$4*Propostas!S73)","v":""},{"$f":"IF(Propostas!$C73=\"\",\"\",S$4*Parâmetros!$H66/Parâmetros!$H$4)","v":""},{"$f":"IF(Propostas!$C73=\"\",\"\",T$4*Parâmetros!P66/Parâmetros!$P$4)","v":""},{"$f":"IF(Propostas!$C73=\"\",\"\",U$4*Parâmetros!Q66/Parâmetros!$Q$4)","v":""},{"$f":"IF(Propostas!$B73=\"\",\"\",SUM(C66:U66))","v":""},{"$f":"IF(Propostas!$C73=\"\",\"\",RANK(V66,$V$5:$V$203,0))","v":""}]
[{"$f":"IF(Propostas!$C74=\"\",\"\",W67)","v":""},{"$f":"Propostas!A74","v":0},{"$f":"IF(Propostas!$C74=\"\",\"\",C$4*Parâmetros!$C$4/Parâmetros!C67)","v":""},{"$f":"IF(Propostas!$C74=\"\",\"\",D$4*(Parâmetros!D67-1)/(COUNT(Parâmetros!$C$5:$C$204)-1))","v":""},{"$f":"IF(Propostas!$C74=\"\",\"\",E$4*Parâmetros!E67/Parâmetros!$E$4)","v":""},{"$f":"IF(Propostas!$C74=\"\",\"\",F$4*Parâmetros!F67)","v":""},{"$f":"IF(Propostas!$C74=\"\",\"\",G$4*Parâmetros!G67)","v":""},{"$f":"IF(Propostas!$C74=\"\",\"\",$H$4*Propostas!I74)","v":""},{"$f":"IF(Propostas!$C74=\"\",\"\",$I$4*Propostas!J74)","v":""},{"$f":"IF(Propostas!$C74=\"\",\"\",$J$4*Propostas!K74)","v":""},{"$f":"IF(Propostas!$C74=\"\",\"\",$K$4*Propostas!L74)","v":""},{"$f":"IF(Propostas!$C74=\"\",\"\",$L$4*Propostas!M74)","v":""},{"$f":"IF(Propostas!$C74=\"\",\"\",$M$4*Propostas!N74)","v":""},{"$f":"IF(Propostas!$C74=\"\",\"\",$N$4*Propostas!O74)","v":""},{"$f":"IF(Propostas!$C74=\"\",\"\",$O$4*Propostas!P74)","v":""},{"$f":"IF(Propostas!$C74=\"\",\"\",$P$4*Propostas!Q74)","v":""},{"$f":"IF(Propostas!$C74=\"\",\"\",$Q$4*Propostas!R74)","v":""},{"$f":"IF(Propostas!$C74=\"\",\"\",$R$4*Propostas!S74)","v":""},{"$f":"IF(Propostas!$C74=\"\",\"\",S$4*Parâmetros!$H67/Parâmetros!$H$4)","v":""},{"$f":"IF(Propostas!$C74=\"\",\"\",T$4*Parâmetros!P67/Parâmetros!$P$4)","v":""},{"$f":"IF(Propostas!$C74=\"\",\"\",U$4*Parâmetros!Q67/Parâmetros!$Q$4)","v":""},{"$f":"IF(Propostas!$B74=\"\",\"\",SUM(C67:U67))","v":""},{"$f":"IF(Propostas!$C74=\"\",\"\",RANK(V67,$V$5:$V$203,0))","v":""}]
[{"$f":"IF(Propostas!$C75=\"\",\"\",W68)","v":""},{"$f":"Propostas!A75","v":0},{"$f":"IF(Propostas!$C75=\"\",\"\",C$4*Parâmetros!$C$4/Parâmetros!C68)","v":""},{"$f":"IF(Propostas!$C75=\"\",\"\",D$4*(Parâmetros!D68-1)/(COUNT(Parâmetros!$C$5:$C$204)-1))","v":""},{"$f":"IF(Propostas!$C75=\"\",\"\",E$4*Parâmetros!E68/Parâmetros!$E$4)","v":""},{"$f":"IF(Propostas!$C75=\"\",\"\",F$4*Parâmetros!F68)","v":""},{"$f":"IF(Propostas!$C75=\"\",\"\",G$4*Parâmetros!G68)","v":""},{"$f":"IF(Propostas!$C75=\"\",\"\",$H$4*Propostas!I75)","v":""},{"$f":"IF(Propostas!$C75=\"\",\"\",$I$4*Propostas!J75)","v":""},{"$f":"IF(Propostas!$C75=\"\",\"\",$J$4*Propostas!K75)","v":""},{"$f":"IF(Propostas!$C75=\"\",\"\",$K$4*Propostas!L75)","v":""},{"$f":"IF(Propostas!$C75=\"\",\"\",$L$4*Propostas!M75)","v":""},{"$f":"IF(Propostas!$C75=\"\",\"\",$M$4*Propostas!N75)","v":""},{"$f":"IF(Propostas!$C75=\"\",\"\",$N$4*Propostas!O75)","v":""},{"$f":"IF(Propostas!$C75=\"\",\"\",$O$4*Propostas!P75)","v":""},{"$f":"IF(Propostas!$C75=\"\",\"\",$P$4*Propostas!Q75)","v":""},{"$f":"IF(Propostas!$C75=\"\",\"\",$Q$4*Propostas!R75)","v":""},{"$f":"IF(Propostas!$C75=\"\",\"\",$R$4*Propostas!S75)","v":""},{"$f":"IF(Propostas!$C75=\"\",\"\",S$4*Parâmetros!$H68/Parâmetros!$H$4)","v":""},{"$f":"IF(Propostas!$C75=\"\",\"\",T$4*Parâmetros!P68/Parâmetros!$P$4)","v":""},{"$f":"IF(Propostas!$C75=\"\",\"\",U$4*Parâmetros!Q68/Parâmetros!$Q$4)","v":""},{"$f":"IF(Propostas!$B75=\"\",\"\",SUM(C68:U68))","v":""},{"$f":"IF(Propostas!$C75=\"\",\"\",RANK(V68,$V$5:$V$203,0))","v":""}]
[{"$f":"IF(Propostas!$C76=\"\",\"\",W69)","v":""},{"$f":"Propostas!A76","v":0},{"$f":"IF(Propostas!$C76=\"\",\"\",C$4*Parâmetros!$C$4/Parâmetros!C69)","v":""},{"$f":"IF(Propostas!$C76=\"\",\"\",D$4*(Parâmetros!D69-1)/(COUNT(Parâmetros!$C$5:$C$204)-1))","v":""},{"$f":"IF(Propostas!$C76=\"\",\"\",E$4*Parâmetros!E69/Parâmetros!$E$4)","v":""},{"$f":"IF(Propostas!$C76=\"\",\"\",F$4*Parâmetros!F69)","v":""},{"$f":"IF(Propostas!$C76=\"\",\"\",G$4*Parâmetros!G69)","v":""},{"$f":"IF(Propostas!$C76=\"\",\"\",$H$4*Propostas!I76)","v":""},{"$f":"IF(Propostas!$C76=\"\",\"\",$I$4*Propostas!J76)","v":""},{"$f":"IF(Propostas!$C76=\"\",\"\",$J$4*Propostas!K76)","v":""},{"$f":"IF(Propostas!$C76=\"\",\"\",$K$4*Propostas!L76)","v":""},{"$f":"IF(Propostas!$C76=\"\",\"\",$L$4*Propostas!M76)","v":""},{"$f":"IF(Propostas!$C76=\"\",\"\",$M$4*Propostas!N76)","v":""},{"$f":"IF(Propostas!$C76=\"\",\"\",$N$4*Propostas!O76)","v":""},{"$f":"IF(Propostas!$C76=\"\",\"\",$O$4*Propostas!P76)","v":""},{"$f":"IF(Propostas!$C76=\"\",\"\",$P$4*Propostas!Q76)","v":""},{"$f":"IF(Propostas!$C76=\"\",\"\",$Q$4*Propostas!R76)","v":""},{"$f":"IF(Propostas!$C76=\"\",\"\",$R$4*Propostas!S76)","v":""},{"$f":"IF(Propostas!$C76=\"\",\"\",S$4*Parâmetros!$H69/Parâmetros!$H$4)","v":""},{"$f":"IF(Propostas!$C76=\"\",\"\",T$4*Parâmetros!P69/Parâmetros!$P$4)","v":""},{"$f":"IF(Propostas!$C76=\"\",\"\",U$4*Parâmetros!Q69/Parâmetros!$Q$4)","v":""},{"$f":"IF(Propostas!$B76=\"\",\"\",SUM(C69:U69))","v":""},{"$f":"IF(Propostas!$C76=\"\",\"\",RANK(V69,$V$5:$V$203,0))","v":""}]
[{"$f":"IF(Propostas!$C77=\"\",\"\",W70)","v":""},{"$f":"Propostas!A77","v":0},{"$f":"IF(Propostas!$C77=\"\",\"\",C$4*Parâmetros!$C$4/Parâmetros!C70)","v":""},{"$f":"IF(Propostas!$C77=\"\",\"\",D$4*(Parâmetros!D70-1)/(COUNT(Parâmetros!$C$5:$C$204)-1))","v":""},{"$f":"IF(Propostas!$C77=\"\",\"\",E$4*Parâmetros!E70/Parâmetros!$E$4)","v":""},{"$f":"IF(Propostas!$C77=\"\",\"\",F$4*Parâmetros!F70)","v":""},{"$f":"IF(Propostas!$C77=\"\",\"\",G$4*Parâmetros!G70)","v":""},{"$f":"IF(Propostas!$C77=\"\",\"\",$H$4*Propostas!I77)","v":""},{"$f":"IF(Propostas!$C77=\"\",\"\",$I$4*Propostas!J77)","v":""},{"$f":"IF(Propostas!$C77=\"\",\"\",$J$4*Propostas!K77)","v":""},{"$f":"IF(Propostas!$C77=\"\",\"\",$K$4*Propostas!L77)","v":""},{"$f":"IF(Propostas!$C77=\"\",\"\",$L$4*Propostas!M77)","v":""},{"$f":"IF(Propostas!$C77=\"\",\"\",$M$4*Propostas!N77)","v":""},{"$f":"IF(Propostas!$C77=\"\",\"\",$N$4*Propostas!O77)","v":""},{"$f":"IF(Propostas!$C77=\"\",\"\",$O$4*Propostas!P77)","v":""},{"$f":"IF(Propostas!$C77=\"\",\"\",$P$4*Propostas!Q77)","v":""},{"$f":"IF(Propostas!$C77=\"\",\"\",$Q$4*Propostas!R77)","v":""},{"$f":"IF(Propostas!$C77=\"\",\"\",$R$4*Propostas!S77)","v":""},{"$f":"IF(Propostas!$C77=\"\",\"\",S$4*Parâmetros!$H70/Parâmetros!$H$4)","v":""},{"$f":"IF(Propostas!$C77=\"\",\"\",T$4*Parâmetros!P70/Parâmetros!$P$4)","v":""},{"$f":"IF(Propostas!$C77=\"\",\"\",U$4*Parâmetros!Q70/Parâmetros!$Q$4)","v":""},{"$f":"IF(Propostas!$B77=\"\",\"\",SUM(C70:U70))","v":""},{"$f":"IF(Propostas!$C77=\"\",\"\",RANK(V70,$V$5:$V$203,0))","v":""}]
[{"$f":"IF(Propostas!$C78=\"\",\"\",W71)","v":""},{"$f":"Propostas!A78","v":0},{"$f":"IF(Propostas!$C78=\"\",\"\",C$4*Parâmetros!$C$4/Parâmetros!C71)","v":""},{"$f":"IF(Propostas!$C78=\"\",\"\",D$4*(Parâmetros!D71-1)/(COUNT(Parâmetros!$C$5:$C$204)-1))","v":""},{"$f":"IF(Propostas!$C78=\"\",\"\",E$4*Parâmetros!E71/Parâmetros!$E$4)","v":""},{"$f":"IF(Propostas!$C78=\"\",\"\",F$4*Parâmetros!F71)","v":""},{"$f":"IF(Propostas!$C78=\"\",\"\",G$4*Parâmetros!G71)","v":""},{"$f":"IF(Propostas!$C78=\"\",\"\",$H$4*Propostas!I78)","v":""},{"$f":"IF(Propostas!$C78=\"\",\"\",$I$4*Propostas!J78)","v":""},{"$f":"IF(Propostas!$C78=\"\",\"\",$J$4*Propostas!K78)","v":""},{"$f":"IF(Propostas!$C78=\"\",\"\",$K$4*Propostas!L78)","v":""},{"$f":"IF(Propostas!$C78=\"\",\"\",$L$4*Propostas!M78)","v":""},{"$f":"IF(Propostas!$C78=\"\",\"\",$M$4*Propostas!N78)","v":""},{"$f":"IF(Propostas!$C78=\"\",\"\",$N$4*Propostas!O78)","v":""},{"$f":"IF(Propostas!$C78=\"\",\"\",$O$4*Propostas!P78)","v":""},{"$f":"IF(Propostas!$C78=\"\",\"\",$P$4*Propostas!Q78)","v":""},{"$f":"IF(Propostas!$C78=\"\",\"\",$Q$4*Propostas!R78)","v":""},{"$f":"IF(Propostas!$C78=\"\",\"\",$R$4*Propostas!S78)","v":""},{"$f":"IF(Propostas!$C78=\"\",\"\",S$4*Parâmetros!$H71/Parâmetros!$H$4)","v":""},{"$f":"IF(Propostas!$C78=\"\",\"\",T$4*Parâmetros!P71/Parâmetros!$P$4)","v":""},{"$f":"IF(Propostas!$C78=\"\",\"\",U$4*Parâmetros!Q71/Parâmetros!$Q$4)","v":""},{"$f":"IF(Propostas!$B78=\"\",\"\",SUM(C71:U71))","v":""},{"$f":"IF(Propostas!$C78=\"\",\"\",RANK(V71,$V$5:$V$203,0))","v":""}]
[{"$f":"IF(Propostas!$C79=\"\",\"\",W72)","v":""},{"$f":"Propostas!A79","v":0},{"$f":"IF(Propostas!$C79=\"\",\"\",C$4*Parâmetros!$C$4/Parâmetros!C72)","v":""},{"$f":"IF(Propostas!$C79=\"\",\"\",D$4*(Parâmetros!D72-1)/(COUNT(Parâmetros!$C$5:$C$204)-1))","v":""},{"$f":"IF(Propostas!$C79=\"\",\"\",E$4*Parâmetros!E72/Parâmetros!$E$4)","v":""},{"$f":"IF(Propostas!$C79=\"\",\"\",F$4*Parâmetros!F72)","v":""},{"$f":"IF(Propostas!$C79=\"\",\"\",G$4*Parâmetros!G72)","v":""},{"$f":"IF(Propostas!$C79=\"\",\"\",$H$4*Propostas!I79)","v":""},{"$f":"IF(Propostas!$C79=\"\",\"\",$I$4*Propostas!J79)","v":""},{"$f":"IF(Propostas!$C79=\"\",\"\",$J$4*Propostas!K79)","v":""},{"$f":"IF(Propostas!$C79=\"\",\"\",$K$4*Propostas!L79)","v":""},{"$f":"IF(Propostas!$C79=\"\",\"\",$L$4*Propostas!M79)","v":""},{"$f":"IF(Propostas!$C79=\"\",\"\",$M$4*Propostas!N79)","v":""},{"$f":"IF(Propostas!$C79=\"\",\"\",$N$4*Propostas!O79)","v":""},{"$f":"IF(Propostas!$C79=\"\",\"\",$O$4*Propostas!P79)","v":""},{"$f":"IF(Propostas!$C79=\"\",\"\",$P$4*Propostas!Q79)","v":""},{"$f":"IF(Propostas!$C79=\"\",\"\",$Q$4*Propostas!R79)","v":""},{"$f":"IF(Propostas!$C79=\"\",\"\",$R$4*Propostas!S79)","v":""},{"$f":"IF(Propostas!$C79=\"\",\"\",S$4*Parâmetros!$H72/Parâmetros!$H$4)","v":""},{"$f":"IF(Propostas!$C79=\"\",\"\",T$4*Parâmetros!P72/Parâmetros!$P$4)","v":""},{"$f":"IF(Propostas!$C79=\"\",\"\",U$4*Parâmetros!Q72/Parâmetros!$Q$4)","v":""},{"$f":"IF(Propostas!$B79=\"\",\"\",SUM(C72:U72))","v":""},{"$f":"IF(Propostas!$C79=\"\",\"\",RANK(V72,$V$5:$V$203,0))","v":""}]
[{"$f":"IF(Propostas!$C80=\"\",\"\",W73)","v":""},{"$f":"Propostas!A80","v":0},{"$f":"IF(Propostas!$C80=\"\",\"\",C$4*Parâmetros!$C$4/Parâmetros!C73)","v":""},{"$f":"IF(Propostas!$C80=\"\",\"\",D$4*(Parâmetros!D73-1)/(COUNT(Parâmetros!$C$5:$C$204)-1))","v":""},{"$f":"IF(Propostas!$C80=\"\",\"\",E$4*Parâmetros!E73/Parâmetros!$E$4)","v":""},{"$f":"IF(Propostas!$C80=\"\",\"\",F$4*Parâmetros!F73)","v":""},{"$f":"IF(Propostas!$C80=\"\",\"\",G$4*Parâmetros!G73)","v":""},{"$f":"IF(Propostas!$C80=\"\",\"\",$H$4*Propostas!I80)","v":""},{"$f":"IF(Propostas!$C80=\"\",\"\",$I$4*Propostas!J80)","v":""},{"$f":"IF(Propostas!$C80=\"\",\"\",$J$4*Propostas!K80)","v":""},{"$f":"IF(Propostas!$C80=\"\",\"\",$K$4*Propostas!L80)","v":""},{"$f":"IF(Propostas!$C80=\"\",\"\",$L$4*Propostas!M80)","v":""},{"$f":"IF(Propostas!$C80=\"\",\"\",$M$4*Propostas!N80)","v":""},{"$f":"IF(Propostas!$C80=\"\",\"\",$N$4*Propostas!O80)","v":""},{"$f":"IF(Propostas!$C80=\"\",\"\",$O$4*Propostas!P80)","v":""},{"$f":"IF(Propostas!$C80=\"\",\"\",$P$4*Propostas!Q80)","v":""},{"$f":"IF(Propostas!$C80=\"\",\"\",$Q$4*Propostas!R80)","v":""},{"$f":"IF(Propostas!$C80=\"\",\"\",$R$4*Propostas!S80)","v":""},{"$f":"IF(Propostas!$C80=\"\",\"\",S$4*Parâmetros!$H73/Parâmetros!$H$4)","v":""},{"$f":"IF(Propostas!$C80=\"\",\"\",T$4*Parâmetros!P73/Parâmetros!$P$4)","v":""},{"$f":"IF(Propostas!$C80=\"\",\"\",U$4*Parâmetros!Q73/Parâmetros!$Q$4)","v":""},{"$f":"IF(Propostas!$B80=\"\",\"\",SUM(C73:U73))","v":""},{"$f":"IF(Propostas!$C80=\"\",\"\",RANK(V73,$V$5:$V$203,0))","v":""}]
[{"$f":"IF(Propostas!$C81=\"\",\"\",W74)","v":""},{"$f":"Propostas!A81","v":0},{"$f":"IF(Propostas!$C81=\"\",\"\",C$4*Parâmetros!$C$4/Parâmetros!C74)","v":""},{"$f":"IF(Propostas!$C81=\"\",\"\",D$4*(Parâmetros!D74-1)/(COUNT(Parâmetros!$C$5:$C$204)-1))","v":""},{"$f":"IF(Propostas!$C81=\"\",\"\",E$4*Parâmetros!E74/Parâmetros!$E$4)","v":""},{"$f":"IF(Propostas!$C81=\"\",\"\",F$4*Parâmetros!F74)","v":""},{"$f":"IF(Propostas!$C81=\"\",\"\",G$4*Parâmetros!G74)","v":""},{"$f":"IF(Propostas!$C81=\"\",\"\",$H$4*Propostas!I81)","v":""},{"$f":"IF(Propostas!$C81=\"\",\"\",$I$4*Propostas!J81)","v":""},{"$f":"IF(Propostas!$C81=\"\",\"\",$J$4*Propostas!K81)","v":""},{"$f":"IF(Propostas!$C81=\"\",\"\",$K$4*Propostas!L81)","v":""},{"$f":"IF(Propostas!$C81=\"\",\"\",$L$4*Propostas!M81)","v":""},{"$f":"IF(Propostas!$C81=\"\",\"\",$M$4*Propostas!N81)","v":""},{"$f":"IF(Propostas!$C81=\"\",\"\",$N$4*Propostas!O81)","v":""},{"$f":"IF(Propostas!$C81=\"\",\"\",$O$4*Propostas!P81)","v":""},{"$f":"IF(Propostas!$C81=\"\",\"\",$P$4*Propostas!Q81)","v":""},{"$f":"IF(Propostas!$C81=\"\",\"\",$Q$4*Propostas!R81)","v":""},{"$f":"IF(Propostas!$C81=\"\",\"\",$R$4*Propostas!S81)","v":""},{"$f":"IF(Propostas!$C81=\"\",\"\",S$4*Parâmetros!$H74/Parâmetros!$H$4)","v":""},{"$f":"IF(Propostas!$C81=\"\",\"\",T$4*Parâmetros!P74/Parâmetros!$P$4)","v":""},{"$f":"IF(Propostas!$C81=\"\",\"\",U$4*Parâmetros!Q74/Parâmetros!$Q$4)","v":""},{"$f":"IF(Propostas!$B81=\"\",\"\",SUM(C74:U74))","v":""},{"$f":"IF(Propostas!$C81=\"\",\"\",RANK(V74,$V$5:$V$203,0))","v":""}]
[{"$f":"IF(Propostas!$C82=\"\",\"\",W75)","v":""},{"$f":"Propostas!A82","v":0},{"$f":"IF(Propostas!$C82=\"\",\"\",C$4*Parâmetros!$C$4/Parâmetros!C75)","v":""},{"$f":"IF(Propostas!$C82=\"\",\"\",D$4*(Parâmetros!D75-1)/(COUNT(Parâmetros!$C$5:$C$204)-1))","v":""},{"$f":"IF(Propostas!$C82=\"\",\"\",E$4*Parâmetros!E75/Parâmetros!$E$4)","v":""},{"$f":"IF(Propostas!$C82=\"\",\"\",F$4*Parâmetros!F75)","v":""},{"$f":"IF(Propostas!$C82=\"\",\"\",G$4*Parâmetros!G75)","v":""},{"$f":"IF(Propostas!$C82=\"\",\"\",$H$4*Propostas!I82)","v":""},{"$f":"IF(Propostas!$C82=\"\",\"\",$I$4*Propostas!J82)","v":""},{"$f":"IF(Propostas!$C82=\"\",\"\",$J$4*Propostas!K82)","v":""},{"$f":"IF(Propostas!$C82=\"\",\"\",$K$4*Propostas!L82)","v":""},{"$f":"IF(Propostas!$C82=\"\",\"\",$L$4*Propostas!M82)","v":""},{"$f":"IF(Propostas!$C82=\"\",\"\",$M$4*Propostas!N82)","v":""},{"$f":"IF(Propostas!$C82=\"\",\"\",$N$4*Propostas!O82)","v":""},{"$f":"IF(Propostas!$C82=\"\",\"\",$O$4*Propostas!P82)","v":""},{"$f":"IF(Propostas!$C82=\"\",\"\",$P$4*Propostas!Q82)","v":""},{"$f":"IF(Propostas!$C82=\"\",\"\",$Q$4*Propostas!R82)","v":""},{"$f":"IF(Propostas!$C82=\"\",\"\",$R$4*Propostas!S82)","v":""},{"$f":"IF(Propostas!$C82=\"\",\"\",S$4*Parâmetros!$H75/Parâmetros!$H$4)","v":""},{"$f":"IF(Propostas!$C82=\"\",\"\",T$4*Parâmetros!P75/Parâmetros!$P$4)","v":""},{"$f":"IF(Propostas!$C82=\"\",\"\",U$4*Parâmetros!Q75/Parâmetros!$Q$4)","v":""},{"$f":"IF(Propostas!$B82=\"\",\"\",SUM(C75:U75))","v":""},{"$f":"IF(Propostas!$C82=\"\",\"\",RANK(V75,$V$5:$V$203,0))","v":""}]
[{"$f":"IF(Propostas!$C83=\"\",\"\",W76)","v":""},{"$f":"Propostas!A83","v":0},{"$f":"IF(Propostas!$C83=\"\",\"\",C$4*Parâmetros!$C$4/Parâmetros!C76)","v":""},{"$f":"IF(Propostas!$C83=\"\",\"\",D$4*(Parâmetros!D76-1)/(COUNT(Parâmetros!$C$5:$C$204)-1))","v":""},{"$f":"IF(Propostas!$C83=\"\",\"\",E$4*Parâmetros!E76/Parâmetros!$E$4)","v":""},{"$f":"IF(Propostas!$C83=\"\",\"\",F$4*Parâmetros!F76)","v":""},{"$f":"IF(Propostas!$C83=\"\",\"\",G$4*Parâmetros!G76)","v":""},{"$f":"IF(Propostas!$C83=\"\",\"\",$H$4*Propostas!I83)","v":""},{"$f":"IF(Propostas!$C83=\"\",\"\",$I$4*Propostas!J83)","v":""},{"$f":"IF(Propostas!$C83=\"\",\"\",$J$4*Propostas!K83)","v":""},{"$f":"IF(Propostas!$C83=\"\",\"\",$K$4*Propostas!L83)","v":""},{"$f":"IF(Propostas!$C83=\"\",\"\",$L$4*Propostas!M83)","v":""},{"$f":"IF(Propostas!$C83=\"\",\"\",$M$4*Propostas!N83)","v":""},{"$f":"IF(Propostas!$C83=\"\",\"\",$N$4*Propostas!O83)","v":""},{"$f":"IF(Propostas!$C83=\"\",\"\",$O$4*Propostas!P83)","v":""},{"$f":"IF(Propostas!$C83=\"\",\"\",$P$4*Propostas!Q83)","v":""},{"$f":"IF(Propostas!$C83=\"\",\"\",$Q$4*Propostas!R83)","v":""},{"$f":"IF(Propostas!$C83=\"\",\"\",$R$4*Propostas!S83)","v":""},{"$f":"IF(Propostas!$C83=\"\",\"\",S$4*Parâmetros!$H76/Parâmetros!$H$4)","v":""},{"$f":"IF(Propostas!$C83=\"\",\"\",T$4*Parâmetros!P76/Parâmetros!$P$4)","v":""},{"$f":"IF(Propostas!$C83=\"\",\"\",U$4*Parâmetros!Q76/Parâmetros!$Q$4)","v":""},{"$f":"IF(Propostas!$B83=\"\",\"\",SUM(C76:U76))","v":""},{"$f":"IF(Propostas!$C83=\"\",\"\",RANK(V76,$V$5:$V$203,0))","v":""}]
[{"$f":"IF(Propostas!$C84=\"\",\"\",W77)","v":""},{"$f":"Propostas!A84","v":0},{"$f":"IF(Propostas!$C84=\"\",\"\",C$4*Parâmetros!$C$4/Parâmetros!C77)","v":""},{"$f":"IF(Propostas!$C84=\"\",\"\",D$4*(Parâmetros!D77-1)/(COUNT(Parâmetros!$C$5:$C$204)-1))","v":""},{"$f":"IF(Propostas!$C84=\"\",\"\",E$4*Parâmetros!E77/Parâmetros!$E$4)","v":""},{"$f":"IF(Propostas!$C84=\"\",\"\",F$4*Parâmetros!F77)","v":""},{"$f":"IF(Propostas!$C84=\"\",\"\",G$4*Parâmetros!G77)","v":""},{"$f":"IF(Propostas!$C84=\"\",\"\",$H$4*Propostas!I84)","v":""},{"$f":"IF(Propostas!$C84=\"\",\"\",$I$4*Propostas!J84)","v":""},{"$f":"IF(Propostas!$C84=\"\",\"\",$J$4*Propostas!K84)","v":""},{"$f":"IF(Propostas!$C84=\"\",\"\",$K$4*Propostas!L84)","v":""},{"$f":"IF(Propostas!$C84=\"\",\"\",$L$4*Propostas!M84)","v":""},{"$f":"IF(Propostas!$C84=\"\",\"\",$M$4*Propostas!N84)","v":""},{"$f":"IF(Propostas!$C84=\"\",\"\",$N$4*Propostas!O84)","v":""},{"$f":"IF(Propostas!$C84=\"\",\"\",$O$4*Propostas!P84)","v":""},{"$f":"IF(Propostas!$C84=\"\",\"\",$P$4*Propostas!Q84)","v":""},{"$f":"IF(Propostas!$C84=\"\",\"\",$Q$4*Propostas!R84)","v":""},{"$f":"IF(Propostas!$C84=\"\",\"\",$R$4*Propostas!S84)","v":""},{"$f":"IF(Propostas!$C84=\"\",\"\",S$4*Parâmetros!$H77/Parâmetros!$H$4)","v":""},{"$f":"IF(Propostas!$C84=\"\",\"\",T$4*Parâmetros!P77/Parâmetros!$P$4)","v":""},{"$f":"IF(Propostas!$C84=\"\",\"\",U$4*Parâmetros!Q77/Parâmetros!$Q$4)","v":""},{"$f":"IF(Propostas!$B84=\"\",\"\",SUM(C77:U77))","v":""},{"$f":"IF(Propostas!$C84=\"\",\"\",RANK(V77,$V$5:$V$203,0))","v":""}]
[{"$f":"IF(Propostas!$C85=\"\",\"\",W78)","v":""},{"$f":"Propostas!A85","v":0},{"$f":"IF(Propostas!$C85=\"\",\"\",C$4*Parâmetros!$C$4/Parâmetros!C78)","v":""},{"$f":"IF(Propostas!$C85=\"\",\"\",D$4*(Parâmetros!D78-1)/(COUNT(Parâmetros!$C$5:$C$204)-1))","v":""},{"$f":"IF(Propostas!$C85=\"\",\"\",E$4*Parâmetros!E78/Parâmetros!$E$4)","v":""},{"$f":"IF(Propostas!$C85=\"\",\"\",F$4*Parâmetros!F78)","v":""},{"$f":"IF(Propostas!$C85=\"\",\"\",G$4*Parâmetros!G78)","v":""},{"$f":"IF(Propostas!$C85=\"\",\"\",$H$4*Propostas!I85)","v":""},{"$f":"IF(Propostas!$C85=\"\",\"\",$I$4*Propostas!J85)","v":""},{"$f":"IF(Propostas!$C85=\"\",\"\",$J$4*Propostas!K85)","v":""},{"$f":"IF(Propostas!$C85=\"\",\"\",$K$4*Propostas!L85)","v":""},{"$f":"IF(Propostas!$C85=\"\",\"\",$L$4*Propostas!M85)","v":""},{"$f":"IF(Propostas!$C85=\"\",\"\",$M$4*Propostas!N85)","v":""},{"$f":"IF(Propostas!$C85=\"\",\"\",$N$4*Propostas!O85)","v":""},{"$f":"IF(Propostas!$C85=\"\",\"\",$O$4*Propostas!P85)","v":""},{"$f":"IF(Propostas!$C85=\"\",\"\",$P$4*Propostas!Q85)","v":""},{"$f":"IF(Propostas!$C85=\"\",\"\",$Q$4*Propostas!R85)","v":""},{"$f":"IF(Propostas!$C85=\"\",\"\",$R$4*Propostas!S85)","v":""},{"$f":"IF(Propostas!$C85=\"\",\"\",S$4*Parâmetros!$H78/Parâmetros!$H$4)","v":""},{"$f":"IF(Propostas!$C85=\"\",\"\",T$4*Parâmetros!P78/Parâmetros!$P$4)","v":""},{"$f":"IF(Propostas!$C85=\"\",\"\",U$4*Parâmetros!Q78/Parâmetros!$Q$4)","v":""},{"$f":"IF(Propostas!$B85=\"\",\"\",SUM(C78:U78))","v":""},{"$f":"IF(Propostas!$C85=\"\",\"\",RANK(V78,$V$5:$V$203,0))","v":""}]
[{"$f":"IF(Propostas!$C86=\"\",\"\",W79)","v":""},{"$f":"Propostas!A86","v":0},{"$f":"IF(Propostas!$C86=\"\",\"\",C$4*Parâmetros!$C$4/Parâmetros!C79)","v":""},{"$f":"IF(Propostas!$C86=\"\",\"\",D$4*(Parâmetros!D79-1)/(COUNT(Parâmetros!$C$5:$C$204)-1))","v":""},{"$f":"IF(Propostas!$C86=\"\",\"\",E$4*Parâmetros!E79/Parâmetros!$E$4)","v":""},{"$f":"IF(Propostas!$C86=\"\",\"\",F$4*Parâmetros!F79)","v":""},{"$f":"IF(Propostas!$C86=\"\",\"\",G$4*Parâmetros!G79)","v":""},{"$f":"IF(Propostas!$C86=\"\",\"\",$H$4*Propostas!I86)","v":""},{"$f":"IF(Propostas!$C86=\"\",\"\",$I$4*Propostas!J86)","v":""},{"$f":"IF(Propostas!$C86=\"\",\"\",$J$4*Propostas!K86)","v":""},{"$f":"IF(Propostas!$C86=\"\",\"\",$K$4*Propostas!L86)","v":""},{"$f":"IF(Propostas!$C86=\"\",\"\",$L$4*Propostas!M86)","v":""},{"$f":"IF(Propostas!$C86=\"\",\"\",$M$4*Propostas!N86)","v":""},{"$f":"IF(Propostas!$C86=\"\",\"\",$N$4*Propostas!O86)","v":""},{"$f":"IF(Propostas!$C86=\"\",\"\",$O$4*Propostas!P86)","v":""},{"$f":"IF(Propostas!$C86=\"\",\"\",$P$4*Propostas!Q86)","v":""},{"$f":"IF(Propostas!$C86=\"\",\"\",$Q$4*Propostas!R86)","v":""},{"$f":"IF(Propostas!$C86=\"\",\"\",$R$4*Propostas!S86)","v":""},{"$f":"IF(Propostas!$C86=\"\",\"\",S$4*Parâmetros!$H79/Parâmetros!$H$4)","v":""},{"$f":"IF(Propostas!$C86=\"\",\"\",T$4*Parâmetros!P79/Parâmetros!$P$4)","v":""},{"$f":"IF(Propostas!$C86=\"\",\"\",U$4*Parâmetros!Q79/Parâmetros!$Q$4)","v":""},{"$f":"IF(Propostas!$B86=\"\",\"\",SUM(C79:U79))","v":""},{"$f":"IF(Propostas!$C86=\"\",\"\",RANK(V79,$V$5:$V$203,0))","v":""}]
[{"$f":"IF(Propostas!$C87=\"\",\"\",W80)","v":""},{"$f":"Propostas!A87","v":0},{"$f":"IF(Propostas!$C87=\"\",\"\",C$4*Parâmetros!$C$4/Parâmetros!C80)","v":""},{"$f":"IF(Propostas!$C87=\"\",\"\",D$4*(Parâmetros!D80-1)/(COUNT(Parâmetros!$C$5:$C$204)-1))","v":""},{"$f":"IF(Propostas!$C87=\"\",\"\",E$4*Parâmetros!E80/Parâmetros!$E$4)","v":""},{"$f":"IF(Propostas!$C87=\"\",\"\",F$4*Parâmetros!F80)","v":""},{"$f":"IF(Propostas!$C87=\"\",\"\",G$4*Parâmetros!G80)","v":""},{"$f":"IF(Propostas!$C87=\"\",\"\",$H$4*Propostas!I87)","v":""},{"$f":"IF(Propostas!$C87=\"\",\"\",$I$4*Propostas!J87)","v":""},{"$f":"IF(Propostas!$C87=\"\",\"\",$J$4*Propostas!K87)","v":""},{"$f":"IF(Propostas!$C87=\"\",\"\",$K$4*Propostas!L87)","v":""},{"$f":"IF(Propostas!$C87=\"\",\"\",$L$4*Propostas!M87)","v":""},{"$f":"IF(Propostas!$C87=\"\",\"\",$M$4*Propostas!N87)","v":""},{"$f":"IF(Propostas!$C87=\"\",\"\",$N$4*Propostas!O87)","v":""},{"$f":"IF(Propostas!$C87=\"\",\"\",$O$4*Propostas!P87)","v":""},{"$f":"IF(Propostas!$C87=\"\",\"\",$P$4*Propostas!Q87)","v":""},{"$f":"IF(Propostas!$C87=\"\",\"\",$Q$4*Propostas!R87)","v":""},{"$f":"IF(Propostas!$C87=\"\",\"\",$R$4*Propostas!S87)","v":""},{"$f":"IF(Propostas!$C87=\"\",\"\",S$4*Parâmetros!$H80/Parâmetros!$H$4)","v":""},{"$f":"IF(Propostas!$C87=\"\",\"\",T$4*Parâmetros!P80/Parâmetros!$P$4)","v":""},{"$f":"IF(Propostas!$C87=\"\",\"\",U$4*Parâmetros!Q80/Parâmetros!$Q$4)","v":""},{"$f":"IF(Propostas!$B87=\"\",\"\",SUM(C80:U80))","v":""},{"$f":"IF(Propostas!$C87=\"\",\"\",RANK(V80,$V$5:$V$203,0))","v":""}]
[{"$f":"IF(Propostas!$C88=\"\",\"\",W81)","v":""},{"$f":"Propostas!A88","v":0},{"$f":"IF(Propostas!$C88=\"\",\"\",C$4*Parâmetros!$C$4/Parâmetros!C81)","v":""},{"$f":"IF(Propostas!$C88=\"\",\"\",D$4*(Parâmetros!D81-1)/(COUNT(Parâmetros!$C$5:$C$204)-1))","v":""},{"$f":"IF(Propostas!$C88=\"\",\"\",E$4*Parâmetros!E81/Parâmetros!$E$4)","v":""},{"$f":"IF(Propostas!$C88=\"\",\"\",F$4*Parâmetros!F81)","v":""},{"$f":"IF(Propostas!$C88=\"\",\"\",G$4*Parâmetros!G81)","v":""},{"$f":"IF(Propostas!$C88=\"\",\"\",$H$4*Propostas!I88)","v":""},{"$f":"IF(Propostas!$C88=\"\",\"\",$I$4*Propostas!J88)","v":""},{"$f":"IF(Propostas!$C88=\"\",\"\",$J$4*Propostas!K88)","v":""},{"$f":"IF(Propostas!$C88=\"\",\"\",$K$4*Propostas!L88)","v":""},{"$f":"IF(Propostas!$C88=\"\",\"\",$L$4*Propostas!M88)","v":""},{"$f":"IF(Propostas!$C88=\"\",\"\",$M$4*Propostas!N88)","v":""},{"$f":"IF(Propostas!$C88=\"\",\"\",$N$4*Propostas!O88)","v":""},{"$f":"IF(Propostas!$C88=\"\",\"\",$O$4*Propostas!P88)","v":""},{"$f":"IF(Propostas!$C88=\"\",\"\",$P$4*Propostas!Q88)","v":""},{"$f":"IF(Propostas!$C88=\"\",\"\",$Q$4*Propostas!R88)","v":""},{"$f":"IF(Propostas!$C88=\"\",\"\",$R$4*Propostas!S88)","v":""},{"$f":"IF(Propostas!$C88=\"\",\"\",S$4*Parâmetros!$H81/Parâmetros!$H$4)","v":""},{"$f":"IF(Propostas!$C88=\"\",\"\",T$4*Parâmetros!P81/Parâmetros!$P$4)","v":""},{"$f":"IF(Propostas!$C88=\"\",\"\",U$4*Parâmetros!Q81/Parâmetros!$Q$4)","v":""},{"$f":"IF(Propostas!$B88=\"\",\"\",SUM(C81:U81))","v":""},{"$f":"IF(Propostas!$C88=\"\",\"\",RANK(V81,$V$5:$V$203,0))","v":""}]
[{"$f":"IF(Propostas!$C89=\"\",\"\",W82)","v":""},{"$f":"Propostas!A89","v":0},{"$f":"IF(Propostas!$C89=\"\",\"\",C$4*Parâmetros!$C$4/Parâmetros!C82)","v":""},{"$f":"IF(Propostas!$C89=\"\",\"\",D$4*(Parâmetros!D82-1)/(COUNT(Parâmetros!$C$5:$C$204)-1))","v":""},{"$f":"IF(Propostas!$C89=\"\",\"\",E$4*Parâmetros!E82/Parâmetros!$E$4)","v":""},{"$f":"IF(Propostas!$C89=\"\",\"\",F$4*Parâmetros!F82)","v":""},{"$f":"IF(Propostas!$C89=\"\",\"\",G$4*Parâmetros!G82)","v":""},{"$f":"IF(Propostas!$C89=\"\",\"\",$H$4*Propostas!I89)","v":""},{"$f":"IF(Propostas!$C89=\"\",\"\",$I$4*Propostas!J89)","v":""},{"$f":"IF(Propostas!$C89=\"\",\"\",$J$4*Propostas!K89)","v":""},{"$f":"IF(Propostas!$C89=\"\",\"\",$K$4*Propostas!L89)","v":""},{"$f":"IF(Propostas!$C89=\"\",\"\",$L$4*Propostas!M89)","v":""},{"$f":"IF(Propostas!$C89=\"\",\"\",$M$4*Propostas!N89)","v":""},{"$f":"IF(Propostas!$C89=\"\",\"\",$N$4*Propostas!O89)","v":""},{"$f":"IF(Propostas!$C89=\"\",\"\",$O$4*Propostas!P89)","v":""},{"$f":"IF(Propostas!$C89=\"\",\"\",$P$4*Propostas!Q89)","v":""},{"$f":"IF(Propostas!$C89=\"\",\"\",$Q$4*Propostas!R89)","v":""},{"$f":"IF(Propostas!$C89=\"\",\"\",$R$4*Propostas!S89)","v":""},{"$f":"IF(Propostas!$C89=\"\",\"\",S$4*Parâmetros!$H82/Parâmetros!$H$4)","v":""},{"$f":"IF(Propostas!$C89=\"\",\"\",T$4*Parâmetros!P82/Parâmetros!$P$4)","v":""},{"$f":"IF(Propostas!$C89=\"\",\"\",U$4*Parâmetros!Q82/Parâmetros!$Q$4)","v":""},{"$f":"IF(Propostas!$B89=\"\",\"\",SUM(C82:U82))","v":""},{"$f":"IF(Propostas!$C89=\"\",\"\",RANK(V82,$V$5:$V$203,0))","v":""}]
[{"$f":"IF(Propostas!$C90=\"\",\"\",W83)","v":""},{"$f":"Propostas!A90","v":0},{"$f":"IF(Propostas!$C90=\"\",\"\",C$4*Parâmetros!$C$4/Parâmetros!C83)","v":""},{"$f":"IF(Propostas!$C90=\"\",\"\",D$4*(Parâmetros!D83-1)/(COUNT(Parâmetros!$C$5:$C$204)-1))","v":""},{"$f":"IF(Propostas!$C90=\"\",\"\",E$4*Parâmetros!E83/Parâmetros!$E$4)","v":""},{"$f":"IF(Propostas!$C90=\"\",\"\",F$4*Parâmetros!F83)","v":""},{"$f":"IF(Propostas!$C90=\"\",\"\",G$4*Parâmetros!G83)","v":""},{"$f":"IF(Propostas!$C90=\"\",\"\",$H$4*Propostas!I90)","v":""},{"$f":"IF(Propostas!$C90=\"\",\"\",$I$4*Propostas!J90)","v":""},{"$f":"IF(Propostas!$C90=\"\",\"\",$J$4*Propostas!K90)","v":""},{"$f":"IF(Propostas!$C90=\"\",\"\",$K$4*Propostas!L90)","v":""},{"$f":"IF(Propostas!$C90=\"\",\"\",$L$4*Propostas!M90)","v":""},{"$f":"IF(Propostas!$C90=\"\",\"\",$M$4*Propostas!N90)","v":""},{"$f":"IF(Propostas!$C90=\"\",\"\",$N$4*Propostas!O90)","v":""},{"$f":"IF(Propostas!$C90=\"\",\"\",$O$4*Propostas!P90)","v":""},{"$f":"IF(Propostas!$C90=\"\",\"\",$P$4*Propostas!Q90)","v":""},{"$f":"IF(Propostas!$C90=\"\",\"\",$Q$4*Propostas!R90)","v":""},{"$f":"IF(Propostas!$C90=\"\",\"\",$R$4*Propostas!S90)","v":""},{"$f":"IF(Propostas!$C90=\"\",\"\",S$4*Parâmetros!$H83/Parâmetros!$H$4)","v":""},{"$f":"IF(Propostas!$C90=\"\",\"\",T$4*Parâmetros!P83/Parâmetros!$P$4)","v":""},{"$f":"IF(Propostas!$C90=\"\",\"\",U$4*Parâmetros!Q83/Parâmetros!$Q$4)","v":""},{"$f":"IF(Propostas!$B90=\"\",\"\",SUM(C83:U83))","v":""},{"$f":"IF(Propostas!$C90=\"\",\"\",RANK(V83,$V$5:$V$203,0))","v":""}]
[{"$f":"IF(Propostas!$C91=\"\",\"\",W84)","v":""},{"$f":"Propostas!A91","v":0},{"$f":"IF(Propostas!$C91=\"\",\"\",C$4*Parâmetros!$C$4/Parâmetros!C84)","v":""},{"$f":"IF(Propostas!$C91=\"\",\"\",D$4*(Parâmetros!D84-1)/(COUNT(Parâmetros!$C$5:$C$204)-1))","v":""},{"$f":"IF(Propostas!$C91=\"\",\"\",E$4*Parâmetros!E84/Parâmetros!$E$4)","v":""},{"$f":"IF(Propostas!$C91=\"\",\"\",F$4*Parâmetros!F84)","v":""},{"$f":"IF(Propostas!$C91=\"\",\"\",G$4*Parâmetros!G84)","v":""},{"$f":"IF(Propostas!$C91=\"\",\"\",$H$4*Propostas!I91)","v":""},{"$f":"IF(Propostas!$C91=\"\",\"\",$I$4*Propostas!J91)","v":""},{"$f":"IF(Propostas!$C91=\"\",\"\",$J$4*Propostas!K91)","v":""},{"$f":"IF(Propostas!$C91=\"\",\"\",$K$4*Propostas!L91)","v":""},{"$f":"IF(Propostas!$C91=\"\",\"\",$L$4*Propostas!M91)","v":""},{"$f":"IF(Propostas!$C91=\"\",\"\",$M$4*Propostas!N91)","v":""},{"$f":"IF(Propostas!$C91=\"\",\"\",$N$4*Propostas!O91)","v":""},{"$f":"IF(Propostas!$C91=\"\",\"\",$O$4*Propostas!P91)","v":""},{"$f":"IF(Propostas!$C91=\"\",\"\",$P$4*Propostas!Q91)","v":""},{"$f":"IF(Propostas!$C91=\"\",\"\",$Q$4*Propostas!R91)","v":""},{"$f":"IF(Propostas!$C91=\"\",\"\",$R$4*Propostas!S91)","v":""},{"$f":"IF(Propostas!$C91=\"\",\"\",S$4*Parâmetros!$H84/Parâmetros!$H$4)","v":""},{"$f":"IF(Propostas!$C91=\"\",\"\",T$4*Parâmetros!P84/Parâmetros!$P$4)","v":""},{"$f":"IF(Propostas!$C91=\"\",\"\",U$4*Parâmetros!Q84/Parâmetros!$Q$4)","v":""},{"$f":"IF(Propostas!$B91=\"\",\"\",SUM(C84:U84))","v":""},{"$f":"IF(Propostas!$C91=\"\",\"\",RANK(V84,$V$5:$V$203,0))","v":""}]
[{"$f":"IF(Propostas!$C92=\"\",\"\",W85)","v":""},{"$f":"Propostas!A92","v":0},{"$f":"IF(Propostas!$C92=\"\",\"\",C$4*Parâmetros!$C$4/Parâmetros!C85)","v":""},{"$f":"IF(Propostas!$C92=\"\",\"\",D$4*(Parâmetros!D85-1)/(COUNT(Parâmetros!$C$5:$C$204)-1))","v":""},{"$f":"IF(Propostas!$C92=\"\",\"\",E$4*Parâmetros!E85/Parâmetros!$E$4)","v":""},{"$f":"IF(Propostas!$C92=\"\",\"\",F$4*Parâmetros!F85)","v":""},{"$f":"IF(Propostas!$C92=\"\",\"\",G$4*Parâmetros!G85)","v":""},{"$f":"IF(Propostas!$C92=\"\",\"\",$H$4*Propostas!I92)","v":""},{"$f":"IF(Propostas!$C92=\"\",\"\",$I$4*Propostas!J92)","v":""},{"$f":"IF(Propostas!$C92=\"\",\"\",$J$4*Propostas!K92)","v":""},{"$f":"IF(Propostas!$C92=\"\",\"\",$K$4*Propostas!L92)","v":""},{"$f":"IF(Propostas!$C92=\"\",\"\",$L$4*Propostas!M92)","v":""},{"$f":"IF(Propostas!$C92=\"\",\"\",$M$4*Propostas!N92)","v":""},{"$f":"IF(Propostas!$C92=\"\",\"\",$N$4*Propostas!O92)","v":""},{"$f":"IF(Propostas!$C92=\"\",\"\",$O$4*Propostas!P92)","v":""},{"$f":"IF(Propostas!$C92=\"\",\"\",$P$4*Propostas!Q92)","v":""},{"$f":"IF(Propostas!$C92=\"\",\"\",$Q$4*Propostas!R92)","v":""},{"$f":"IF(Propostas!$C92=\"\",\"\",$R$4*Propostas!S92)","v":""},{"$f":"IF(Propostas!$C92=\"\",\"\",S$4*Parâmetros!$H85/Parâmetros!$H$4)","v":""},{"$f":"IF(Propostas!$C92=\"\",\"\",T$4*Parâmetros!P85/Parâmetros!$P$4)","v":""},{"$f":"IF(Propostas!$C92=\"\",\"\",U$4*Parâmetros!Q85/Parâmetros!$Q$4)","v":""},{"$f":"IF(Propostas!$B92=\"\",\"\",SUM(C85:U85))","v":""},{"$f":"IF(Propostas!$C92=\"\",\"\",RANK(V85,$V$5:$V$203,0))","v":""}]
[{"$f":"IF(Propostas!$C93=\"\",\"\",W86)","v":""},{"$f":"Propostas!A93","v":0},{"$f":"IF(Propostas!$C93=\"\",\"\",C$4*Parâmetros!$C$4/Parâmetros!C86)","v":""},{"$f":"IF(Propostas!$C93=\"\",\"\",D$4*(Parâmetros!D86-1)/(COUNT(Parâmetros!$C$5:$C$204)-1))","v":""},{"$f":"IF(Propostas!$C93=\"\",\"\",E$4*Parâmetros!E86/Parâmetros!$E$4)","v":""},{"$f":"IF(Propostas!$C93=\"\",\"\",F$4*Parâmetros!F86)","v":""},{"$f":"IF(Propostas!$C93=\"\",\"\",G$4*Parâmetros!G86)","v":""},{"$f":"IF(Propostas!$C93=\"\",\"\",$H$4*Propostas!I93)","v":""},{"$f":"IF(Propostas!$C93=\"\",\"\",$I$4*Propostas!J93)","v":""},{"$f":"IF(Propostas!$C93=\"\",\"\",$J$4*Propostas!K93)","v":""},{"$f":"IF(Propostas!$C93=\"\",\"\",$K$4*Propostas!L93)","v":""},{"$f":"IF(Propostas!$C93=\"\",\"\",$L$4*Propostas!M93)","v":""},{"$f":"IF(Propostas!$C93=\"\",\"\",$M$4*Propostas!N93)","v":""},{"$f":"IF(Propostas!$C93=\"\",\"\",$N$4*Propostas!O93)","v":""},{"$f":"IF(Propostas!$C93=\"\",\"\",$O$4*Propostas!P93)","v":""},{"$f":"IF(Propostas!$C93=\"\",\"\",$P$4*Propostas!Q93)","v":""},{"$f":"IF(Propostas!$C93=\"\",\"\",$Q$4*Propostas!R93)","v":""},{"$f":"IF(Propostas!$C93=\"\",\"\",$R$4*Propostas!S93)","v":""},{"$f":"IF(Propostas!$C93=\"\",\"\",S$4*Parâmetros!$H86/Parâmetros!$H$4)","v":""},{"$f":"IF(Propostas!$C93=\"\",\"\",T$4*Parâmetros!P86/Parâmetros!$P$4)","v":""},{"$f":"IF(Propostas!$C93=\"\",\"\",U$4*Parâmetros!Q86/Parâmetros!$Q$4)","v":""},{"$f":"IF(Propostas!$B93=\"\",\"\",SUM(C86:U86))","v":""},{"$f":"IF(Propostas!$C93=\"\",\"\",RANK(V86,$V$5:$V$203,0))","v":""}]
[{"$f":"IF(Propostas!$C94=\"\",\"\",W87)","v":""},{"$f":"Propostas!A94","v":0},{"$f":"IF(Propostas!$C94=\"\",\"\",C$4*Parâmetros!$C$4/Parâmetros!C87)","v":""},{"$f":"IF(Propostas!$C94=\"\",\"\",D$4*(Parâmetros!D87-1)/(COUNT(Parâmetros!$C$5:$C$204)-1))","v":""},{"$f":"IF(Propostas!$C94=\"\",\"\",E$4*Parâmetros!E87/Parâmetros!$E$4)","v":""},{"$f":"IF(Propostas!$C94=\"\",\"\",F$4*Parâmetros!F87)","v":""},{"$f":"IF(Propostas!$C94=\"\",\"\",G$4*Parâmetros!G87)","v":""},{"$f":"IF(Propostas!$C94=\"\",\"\",$H$4*Propostas!I94)","v":""},{"$f":"IF(Propostas!$C94=\"\",\"\",$I$4*Propostas!J94)","v":""},{"$f":"IF(Propostas!$C94=\"\",\"\",$J$4*Propostas!K94)","v":""},{"$f":"IF(Propostas!$C94=\"\",\"\",$K$4*Propostas!L94)","v":""},{"$f":"IF(Propostas!$C94=\"\",\"\",$L$4*Propostas!M94)","v":""},{"$f":"IF(Propostas!$C94=\"\",\"\",$M$4*Propostas!N94)","v":""},{"$f":"IF(Propostas!$C94=\"\",\"\",$N$4*Propostas!O94)","v":""},{"$f":"IF(Propostas!$C94=\"\",\"\",$O$4*Propostas!P94)","v":""},{"$f":"IF(Propostas!$C94=\"\",\"\",$P$4*Propostas!Q94)","v":""},{"$f":"IF(Propostas!$C94=\"\",\"\",$Q$4*Propostas!R94)","v":""},{"$f":"IF(Propostas!$C94=\"\",\"\",$R$4*Propostas!S94)","v":""},{"$f":"IF(Propostas!$C94=\"\",\"\",S$4*Parâmetros!$H87/Parâmetros!$H$4)","v":""},{"$f":"IF(Propostas!$C94=\"\",\"\",T$4*Parâmetros!P87/Parâmetros!$P$4)","v":""},{"$f":"IF(Propostas!$C94=\"\",\"\",U$4*Parâmetros!Q87/Parâmetros!$Q$4)","v":""},{"$f":"IF(Propostas!$B94=\"\",\"\",SUM(C87:U87))","v":""},{"$f":"IF(Propostas!$C94=\"\",\"\",RANK(V87,$V$5:$V$203,0))","v":""}]
[{"$f":"IF(Propostas!$C95=\"\",\"\",W88)","v":""},{"$f":"Propostas!A95","v":0},{"$f":"IF(Propostas!$C95=\"\",\"\",C$4*Parâmetros!$C$4/Parâmetros!C88)","v":""},{"$f":"IF(Propostas!$C95=\"\",\"\",D$4*(Parâmetros!D88-1)/(COUNT(Parâmetros!$C$5:$C$204)-1))","v":""},{"$f":"IF(Propostas!$C95=\"\",\"\",E$4*Parâmetros!E88/Parâmetros!$E$4)","v":""},{"$f":"IF(Propostas!$C95=\"\",\"\",F$4*Parâmetros!F88)","v":""},{"$f":"IF(Propostas!$C95=\"\",\"\",G$4*Parâmetros!G88)","v":""},{"$f":"IF(Propostas!$C95=\"\",\"\",$H$4*Propostas!I95)","v":""},{"$f":"IF(Propostas!$C95=\"\",\"\",$I$4*Propostas!J95)","v":""},{"$f":"IF(Propostas!$C95=\"\",\"\",$J$4*Propostas!K95)","v":""},{"$f":"IF(Propostas!$C95=\"\",\"\",$K$4*Propostas!L95)","v":""},{"$f":"IF(Propostas!$C95=\"\",\"\",$L$4*Propostas!M95)","v":""},{"$f":"IF(Propostas!$C95=\"\",\"\",$M$4*Propostas!N95)","v":""},{"$f":"IF(Propostas!$C95=\"\",\"\",$N$4*Propostas!O95)","v":""},{"$f":"IF(Propostas!$C95=\"\",\"\",$O$4*Propostas!P95)","v":""},{"$f":"IF(Propostas!$C95=\"\",\"\",$P$4*Propostas!Q95)","v":""},{"$f":"IF(Propostas!$C95=\"\",\"\",$Q$4*Propostas!R95)","v":""},{"$f":"IF(Propostas!$C95=\"\",\"\",$R$4*Propostas!S95)","v":""},{"$f":"IF(Propostas!$C95=\"\",\"\",S$4*Parâmetros!$H88/Parâmetros!$H$4)","v":""},{"$f":"IF(Propostas!$C95=\"\",\"\",T$4*Parâmetros!P88/Parâmetros!$P$4)","v":""},{"$f":"IF(Propostas!$C95=\"\",\"\",U$4*Parâmetros!Q88/Parâmetros!$Q$4)","v":""},{"$f":"IF(Propostas!$B95=\"\",\"\",SUM(C88:U88))","v":""},{"$f":"IF(Propostas!$C95=\"\",\"\",RANK(V88,$V$5:$V$203,0))","v":""}]
[{"$f":"IF(Propostas!$C96=\"\",\"\",W89)","v":""},{"$f":"Propostas!A96","v":0},{"$f":"IF(Propostas!$C96=\"\",\"\",C$4*Parâmetros!$C$4/Parâmetros!C89)","v":""},{"$f":"IF(Propostas!$C96=\"\",\"\",D$4*(Parâmetros!D89-1)/(COUNT(Parâmetros!$C$5:$C$204)-1))","v":""},{"$f":"IF(Propostas!$C96=\"\",\"\",E$4*Parâmetros!E89/Parâmetros!$E$4)","v":""},{"$f":"IF(Propostas!$C96=\"\",\"\",F$4*Parâmetros!F89)","v":""},{"$f":"IF(Propostas!$C96=\"\",\"\",G$4*Parâmetros!G89)","v":""},{"$f":"IF(Propostas!$C96=\"\",\"\",$H$4*Propostas!I96)","v":""},{"$f":"IF(Propostas!$C96=\"\",\"\",$I$4*Propostas!J96)","v":""},{"$f":"IF(Propostas!$C96=\"\",\"\",$J$4*Propostas!K96)","v":""},{"$f":"IF(Propostas!$C96=\"\",\"\",$K$4*Propostas!L96)","v":""},{"$f":"IF(Propostas!$C96=\"\",\"\",$L$4*Propostas!M96)","v":""},{"$f":"IF(Propostas!$C96=\"\",\"\",$M$4*Propostas!N96)","v":""},{"$f":"IF(Propostas!$C96=\"\",\"\",$N$4*Propostas!O96)","v":""},{"$f":"IF(Propostas!$C96=\"\",\"\",$O$4*Propostas!P96)","v":""},{"$f":"IF(Propostas!$C96=\"\",\"\",$P$4*Propostas!Q96)","v":""},{"$f":"IF(Propostas!$C96=\"\",\"\",$Q$4*Propostas!R96)","v":""},{"$f":"IF(Propostas!$C96=\"\",\"\",$R$4*Propostas!S96)","v":""},{"$f":"IF(Propostas!$C96=\"\",\"\",S$4*Parâmetros!$H89/Parâmetros!$H$4)","v":""},{"$f":"IF(Propostas!$C96=\"\",\"\",T$4*Parâmetros!P89/Parâmetros!$P$4)","v":""},{"$f":"IF(Propostas!$C96=\"\",\"\",U$4*Parâmetros!Q89/Parâmetros!$Q$4)","v":""},{"$f":"IF(Propostas!$B96=\"\",\"\",SUM(C89:U89))","v":""},{"$f":"IF(Propostas!$C96=\"\",\"\",RANK(V89,$V$5:$V$203,0))","v":""}]
[{"$f":"IF(Propostas!$C97=\"\",\"\",W90)","v":""},{"$f":"Propostas!A97","v":0},{"$f":"IF(Propostas!$C97=\"\",\"\",C$4*Parâmetros!$C$4/Parâmetros!C90)","v":""},{"$f":"IF(Propostas!$C97=\"\",\"\",D$4*(Parâmetros!D90-1)/(COUNT(Parâmetros!$C$5:$C$204)-1))","v":""},{"$f":"IF(Propostas!$C97=\"\",\"\",E$4*Parâmetros!E90/Parâmetros!$E$4)","v":""},{"$f":"IF(Propostas!$C97=\"\",\"\",F$4*Parâmetros!F90)","v":""},{"$f":"IF(Propostas!$C97=\"\",\"\",G$4*Parâmetros!G90)","v":""},{"$f":"IF(Propostas!$C97=\"\",\"\",$H$4*Propostas!I97)","v":""},{"$f":"IF(Propostas!$C97=\"\",\"\",$I$4*Propostas!J97)","v":""},{"$f":"IF(Propostas!$C97=\"\",\"\",$J$4*Propostas!K97)","v":""},{"$f":"IF(Propostas!$C97=\"\",\"\",$K$4*Propostas!L97)","v":""},{"$f":"IF(Propostas!$C97=\"\",\"\",$L$4*Propostas!M97)","v":""},{"$f":"IF(Propostas!$C97=\"\",\"\",$M$4*Propostas!N97)","v":""},{"$f":"IF(Propostas!$C97=\"\",\"\",$N$4*Propostas!O97)","v":""},{"$f":"IF(Propostas!$C97=\"\",\"\",$O$4*Propostas!P97)","v":""},{"$f":"IF(Propostas!$C97=\"\",\"\",$P$4*Propostas!Q97)","v":""},{"$f":"IF(Propostas!$C97=\"\",\"\",$Q$4*Propostas!R97)","v":""},{"$f":"IF(Propostas!$C97=\"\",\"\",$R$4*Propostas!S97)","v":""},{"$f":"IF(Propostas!$C97=\"\",\"\",S$4*Parâmetros!$H90/Parâmetros!$H$4)","v":""},{"$f":"IF(Propostas!$C97=\"\",\"\",T$4*Parâmetros!P90/Parâmetros!$P$4)","v":""},{"$f":"IF(Propostas!$C97=\"\",\"\",U$4*Parâmetros!Q90/Parâmetros!$Q$4)","v":""},{"$f":"IF(Propostas!$B97=\"\",\"\",SUM(C90:U90))","v":""},{"$f":"IF(Propostas!$C97=\"\",\"\",RANK(V90,$V$5:$V$203,0))","v":""}]
[{"$f":"IF(Propostas!$C98=\"\",\"\",W91)","v":""},{"$f":"Propostas!A98","v":0},{"$f":"IF(Propostas!$C98=\"\",\"\",C$4*Parâmetros!$C$4/Parâmetros!C91)","v":""},{"$f":"IF(Propostas!$C98=\"\",\"\",D$4*(Parâmetros!D91-1)/(COUNT(Parâmetros!$C$5:$C$204)-1))","v":""},{"$f":"IF(Propostas!$C98=\"\",\"\",E$4*Parâmetros!E91/Parâmetros!$E$4)","v":""},{"$f":"IF(Propostas!$C98=\"\",\"\",F$4*Parâmetros!F91)","v":""},{"$f":"IF(Propostas!$C98=\"\",\"\",G$4*Parâmetros!G91)","v":""},{"$f":"IF(Propostas!$C98=\"\",\"\",$H$4*Propostas!I98)","v":""},{"$f":"IF(Propostas!$C98=\"\",\"\",$I$4*Propostas!J98)","v":""},{"$f":"IF(Propostas!$C98=\"\",\"\",$J$4*Propostas!K98)","v":""},{"$f":"IF(Propostas!$C98=\"\",\"\",$K$4*Propostas!L98)","v":""},{"$f":"IF(Propostas!$C98=\"\",\"\",$L$4*Propostas!M98)","v":""},{"$f":"IF(Propostas!$C98=\"\",\"\",$M$4*Propostas!N98)","v":""},{"$f":"IF(Propostas!$C98=\"\",\"\",$N$4*Propostas!O98)","v":""},{"$f":"IF(Propostas!$C98=\"\",\"\",$O$4*Propostas!P98)","v":""},{"$f":"IF(Propostas!$C98=\"\",\"\",$P$4*Propostas!Q98)","v":""},{"$f":"IF(Propostas!$C98=\"\",\"\",$Q$4*Propostas!R98)","v":""},{"$f":"IF(Propostas!$C98=\"\",\"\",$R$4*Propostas!S98)","v":""},{"$f":"IF(Propostas!$C98=\"\",\"\",S$4*Parâmetros!$H91/Parâmetros!$H$4)","v":""},{"$f":"IF(Propostas!$C98=\"\",\"\",T$4*Parâmetros!P91/Parâmetros!$P$4)","v":""},{"$f":"IF(Propostas!$C98=\"\",\"\",U$4*Parâmetros!Q91/Parâmetros!$Q$4)","v":""},{"$f":"IF(Propostas!$B98=\"\",\"\",SUM(C91:U91))","v":""},{"$f":"IF(Propostas!$C98=\"\",\"\",RANK(V91,$V$5:$V$203,0))","v":""}]
[{"$f":"IF(Propostas!$C99=\"\",\"\",W92)","v":""},{"$f":"Propostas!A99","v":0},{"$f":"IF(Propostas!$C99=\"\",\"\",C$4*Parâmetros!$C$4/Parâmetros!C92)","v":""},{"$f":"IF(Propostas!$C99=\"\",\"\",D$4*(Parâmetros!D92-1)/(COUNT(Parâmetros!$C$5:$C$204)-1))","v":""},{"$f":"IF(Propostas!$C99=\"\",\"\",E$4*Parâmetros!E92/Parâmetros!$E$4)","v":""},{"$f":"IF(Propostas!$C99=\"\",\"\",F$4*Parâmetros!F92)","v":""},{"$f":"IF(Propostas!$C99=\"\",\"\",G$4*Parâmetros!G92)","v":""},{"$f":"IF(Propostas!$C99=\"\",\"\",$H$4*Propostas!I99)","v":""},{"$f":"IF(Propostas!$C99=\"\",\"\",$I$4*Propostas!J99)","v":""},{"$f":"IF(Propostas!$C99=\"\",\"\",$J$4*Propostas!K99)","v":""},{"$f":"IF(Propostas!$C99=\"\",\"\",$K$4*Propostas!L99)","v":""},{"$f":"IF(Propostas!$C99=\"\",\"\",$L$4*Propostas!M99)","v":""},{"$f":"IF(Propostas!$C99=\"\",\"\",$M$4*Propostas!N99)","v":""},{"$f":"IF(Propostas!$C99=\"\",\"\",$N$4*Propostas!O99)","v":""},{"$f":"IF(Propostas!$C99=\"\",\"\",$O$4*Propostas!P99)","v":""},{"$f":"IF(Propostas!$C99=\"\",\"\",$P$4*Propostas!Q99)","v":""},{"$f":"IF(Propostas!$C99=\"\",\"\",$Q$4*Propostas!R99)","v":""},{"$f":"IF(Propostas!$C99=\"\",\"\",$R$4*Propostas!S99)","v":""},{"$f":"IF(Propostas!$C99=\"\",\"\",S$4*Parâmetros!$H92/Parâmetros!$H$4)","v":""},{"$f":"IF(Propostas!$C99=\"\",\"\",T$4*Parâmetros!P92/Parâmetros!$P$4)","v":""},{"$f":"IF(Propostas!$C99=\"\",\"\",U$4*Parâmetros!Q92/Parâmetros!$Q$4)","v":""},{"$f":"IF(Propostas!$B99=\"\",\"\",SUM(C92:U92))","v":""},{"$f":"IF(Propostas!$C99=\"\",\"\",RANK(V92,$V$5:$V$203,0))","v":""}]
[{"$f":"IF(Propostas!$C100=\"\",\"\",W93)","v":""},{"$f":"Propostas!A100","v":0},{"$f":"IF(Propostas!$C100=\"\",\"\",C$4*Parâmetros!$C$4/Parâmetros!C93)","v":""},{"$f":"IF(Propostas!$C100=\"\",\"\",D$4*(Parâmetros!D93-1)/(COUNT(Parâmetros!$C$5:$C$204)-1))","v":""},{"$f":"IF(Propostas!$C100=\"\",\"\",E$4*Parâmetros!E93/Parâmetros!$E$4)","v":""},{"$f":"IF(Propostas!$C100=\"\",\"\",F$4*Parâmetros!F93)","v":""},{"$f":"IF(Propostas!$C100=\"\",\"\",G$4*Parâmetros!G93)","v":""},{"$f":"IF(Propostas!$C100=\"\",\"\",$H$4*Propostas!I100)","v":""},{"$f":"IF(Propostas!$C100=\"\",\"\",$I$4*Propostas!J100)","v":""},{"$f":"IF(Propostas!$C100=\"\",\"\",$J$4*Propostas!K100)","v":""},{"$f":"IF(Propostas!$C100=\"\",\"\",$K$4*Propostas!L100)","v":""},{"$f":"IF(Propostas!$C100=\"\",\"\",$L$4*Propostas!M100)","v":""},{"$f":"IF(Propostas!$C100=\"\",\"\",$M$4*Propostas!N100)","v":""},{"$f":"IF(Propostas!$C100=\"\",\"\",$N$4*Propostas!O100)","v":""},{"$f":"IF(Propostas!$C100=\"\",\"\",$O$4*Propostas!P100)","v":""},{"$f":"IF(Propostas!$C100=\"\",\"\",$P$4*Propostas!Q100)","v":""},{"$f":"IF(Propostas!$C100=\"\",\"\",$Q$4*Propostas!R100)","v":""},{"$f":"IF(Propostas!$C100=\"\",\"\",$R$4*Propostas!S100)","v":""},{"$f":"IF(Propostas!$C100=\"\",\"\",S$4*Parâmetros!$H93/Parâmetros!$H$4)","v":""},{"$f":"IF(Propostas!$C100=\"\",\"\",T$4*Parâmetros!P93/Parâmetros!$P$4)","v":""},{"$f":"IF(Propostas!$C100=\"\",\"\",U$4*Parâmetros!Q93/Parâmetros!$Q$4)","v":""},{"$f":"IF(Propostas!$B100=\"\",\"\",SUM(C93:U93))","v":""},{"$f":"IF(Propostas!$C100=\"\",\"\",RANK(V93,$V$5:$V$203,0))","v":""}]
[{"$f":"IF(Propostas!$C101=\"\",\"\",W94)","v":""},{"$f":"Propostas!A101","v":0},{"$f":"IF(Propostas!$C101=\"\",\"\",C$4*Parâmetros!$C$4/Parâmetros!C94)","v":""},{"$f":"IF(Propostas!$C101=\"\",\"\",D$4*(Parâmetros!D94-1)/(COUNT(Parâmetros!$C$5:$C$204)-1))","v":""},{"$f":"IF(Propostas!$C101=\"\",\"\",E$4*Parâmetros!E94/Parâmetros!$E$4)","v":""},{"$f":"IF(Propostas!$C101=\"\",\"\",F$4*Parâmetros!F94)","v":""},{"$f":"IF(Propostas!$C101=\"\",\"\",G$4*Parâmetros!G94)","v":""},{"$f":"IF(Propostas!$C101=\"\",\"\",$H$4*Propostas!I101)","v":""},{"$f":"IF(Propostas!$C101=\"\",\"\",$I$4*Propostas!J101)","v":""},{"$f":"IF(Propostas!$C101=\"\",\"\",$J$4*Propostas!K101)","v":""},{"$f":"IF(Propostas!$C101=\"\",\"\",$K$4*Propostas!L101)","v":""},{"$f":"IF(Propostas!$C101=\"\",\"\",$L$4*Propostas!M101)","v":""},{"$f":"IF(Propostas!$C101=\"\",\"\",$M$4*Propostas!N101)","v":""},{"$f":"IF(Propostas!$C101=\"\",\"\",$N$4*Propostas!O101)","v":""},{"$f":"IF(Propostas!$C101=\"\",\"\",$O$4*Propostas!P101)","v":""},{"$f":"IF(Propostas!$C101=\"\",\"\",$P$4*Propostas!Q101)","v":""},{"$f":"IF(Propostas!$C101=\"\",\"\",$Q$4*Propostas!R101)","v":""},{"$f":"IF(Propostas!$C101=\"\",\"\",$R$4*Propostas!S101)","v":""},{"$f":"IF(Propostas!$C101=\"\",\"\",S$4*Parâmetros!$H94/Parâmetros!$H$4)","v":""},{"$f":"IF(Propostas!$C101=\"\",\"\",T$4*Parâmetros!P94/Parâmetros!$P$4)","v":""},{"$f":"IF(Propostas!$C101=\"\",\"\",U$4*Parâmetros!Q94/Parâmetros!$Q$4)","v":""},{"$f":"IF(Propostas!$B101=\"\",\"\",SUM(C94:U94))","v":""},{"$f":"IF(Propostas!$C101=\"\",\"\",RANK(V94,$V$5:$V$203,0))","v":""}]
[{"$f":"IF(Propostas!$C102=\"\",\"\",W95)","v":""},{"$f":"Propostas!A102","v":0},{"$f":"IF(Propostas!$C102=\"\",\"\",C$4*Parâmetros!$C$4/Parâmetros!C95)","v":""},{"$f":"IF(Propostas!$C102=\"\",\"\",D$4*(Parâmetros!D95-1)/(COUNT(Parâmetros!$C$5:$C$204)-1))","v":""},{"$f":"IF(Propostas!$C102=\"\",\"\",E$4*Parâmetros!E95/Parâmetros!$E$4)","v":""},{"$f":"IF(Propostas!$C102=\"\",\"\",F$4*Parâmetros!F95)","v":""},{"$f":"IF(Propostas!$C102=\"\",\"\",G$4*Parâmetros!G95)","v":""},{"$f":"IF(Propostas!$C102=\"\",\"\",$H$4*Propostas!I102)","v":""},{"$f":"IF(Propostas!$C102=\"\",\"\",$I$4*Propostas!J102)","v":""},{"$f":"IF(Propostas!$C102=\"\",\"\",$J$4*Propostas!K102)","v":""},{"$f":"IF(Propostas!$C102=\"\",\"\",$K$4*Propostas!L102)","v":""},{"$f":"IF(Propostas!$C102=\"\",\"\",$L$4*Propostas!M102)","v":""},{"$f":"IF(Propostas!$C102=\"\",\"\",$M$4*Propostas!N102)","v":""},{"$f":"IF(Propostas!$C102=\"\",\"\",$N$4*Propostas!O102)","v":""},{"$f":"IF(Propostas!$C102=\"\",\"\",$O$4*Propostas!P102)","v":""},{"$f":"IF(Propostas!$C102=\"\",\"\",$P$4*Propostas!Q102)","v":""},{"$f":"IF(Propostas!$C102=\"\",\"\",$Q$4*Propostas!R102)","v":""},{"$f":"IF(Propostas!$C102=\"\",\"\",$R$4*Propostas!S102)","v":""},{"$f":"IF(Propostas!$C102=\"\",\"\",S$4*Parâmetros!$H95/Parâmetros!$H$4)","v":""},{"$f":"IF(Propostas!$C102=\"\",\"\",T$4*Parâmetros!P95/Parâmetros!$P$4)","v":""},{"$f":"IF(Propostas!$C102=\"\",\"\",U$4*Parâmetros!Q95/Parâmetros!$Q$4)","v":""},{"$f":"IF(Propostas!$B102=\"\",\"\",SUM(C95:U95))","v":""},{"$f":"IF(Propostas!$C102=\"\",\"\",RANK(V95,$V$5:$V$203,0))","v":""}]
[{"$f":"IF(Propostas!$C103=\"\",\"\",W96)","v":""},{"$f":"Propostas!A103","v":0},{"$f":"IF(Propostas!$C103=\"\",\"\",C$4*Parâmetros!$C$4/Parâmetros!C96)","v":""},{"$f":"IF(Propostas!$C103=\"\",\"\",D$4*(Parâmetros!D96-1)/(COUNT(Parâmetros!$C$5:$C$204)-1))","v":""},{"$f":"IF(Propostas!$C103=\"\",\"\",E$4*Parâmetros!E96/Parâmetros!$E$4)","v":""},{"$f":"IF(Propostas!$C103=\"\",\"\",F$4*Parâmetros!F96)","v":""},{"$f":"IF(Propostas!$C103=\"\",\"\",G$4*Parâmetros!G96)","v":""},{"$f":"IF(Propostas!$C103=\"\",\"\",$H$4*Propostas!I103)","v":""},{"$f":"IF(Propostas!$C103=\"\",\"\",$I$4*Propostas!J103)","v":""},{"$f":"IF(Propostas!$C103=\"\",\"\",$J$4*Propostas!K103)","v":""},{"$f":"IF(Propostas!$C103=\"\",\"\",$K$4*Propostas!L103)","v":""},{"$f":"IF(Propostas!$C103=\"\",\"\",$L$4*Propostas!M103)","v":""},{"$f":"IF(Propostas!$C103=\"\",\"\",$M$4*Propostas!N103)","v":""},{"$f":"IF(Propostas!$C103=\"\",\"\",$N$4*Propostas!O103)","v":""},{"$f":"IF(Propostas!$C103=\"\",\"\",$O$4*Propostas!P103)","v":""},{"$f":"IF(Propostas!$C103=\"\",\"\",$P$4*Propostas!Q103)","v":""},{"$f":"IF(Propostas!$C103=\"\",\"\",$Q$4*Propostas!R103)","v":""},{"$f":"IF(Propostas!$C103=\"\",\"\",$R$4*Propostas!S103)","v":""},{"$f":"IF(Propostas!$C103=\"\",\"\",S$4*Parâmetros!$H96/Parâmetros!$H$4)","v":""},{"$f":"IF(Propostas!$C103=\"\",\"\",T$4*Parâmetros!P96/Parâmetros!$P$4)","v":""},{"$f":"IF(Propostas!$C103=\"\",\"\",U$4*Parâmetros!Q96/Parâmetros!$Q$4)","v":""},{"$f":"IF(Propostas!$B103=\"\",\"\",SUM(C96:U96))","v":""},{"$f":"IF(Propostas!$C103=\"\",\"\",RANK(V96,$V$5:$V$203,0))","v":""}]
[{"$f":"IF(Propostas!$C104=\"\",\"\",W97)","v":""},{"$f":"Propostas!A104","v":0},{"$f":"IF(Propostas!$C104=\"\",\"\",C$4*Parâmetros!$C$4/Parâmetros!C97)","v":""},{"$f":"IF(Propostas!$C104=\"\",\"\",D$4*(Parâmetros!D97-1)/(COUNT(Parâmetros!$C$5:$C$204)-1))","v":""},{"$f":"IF(Propostas!$C104=\"\",\"\",E$4*Parâmetros!E97/Parâmetros!$E$4)","v":""},{"$f":"IF(Propostas!$C104=\"\",\"\",F$4*Parâmetros!F97)","v":""},{"$f":"IF(Propostas!$C104=\"\",\"\",G$4*Parâmetros!G97)","v":""},{"$f":"IF(Propostas!$C104=\"\",\"\",$H$4*Propostas!I104)","v":""},{"$f":"IF(Propostas!$C104=\"\",\"\",$I$4*Propostas!J104)","v":""},{"$f":"IF(Propostas!$C104=\"\",\"\",$J$4*Propostas!K104)","v":""},{"$f":"IF(Propostas!$C104=\"\",\"\",$K$4*Propostas!L104)","v":""},{"$f":"IF(Propostas!$C104=\"\",\"\",$L$4*Propostas!M104)","v":""},{"$f":"IF(Propostas!$C104=\"\",\"\",$M$4*Propostas!N104)","v":""},{"$f":"IF(Propostas!$C104=\"\",\"\",$N$4*Propostas!O104)","v":""},{"$f":"IF(Propostas!$C104=\"\",\"\",$O$4*Propostas!P104)","v":""},{"$f":"IF(Propostas!$C104=\"\",\"\",$P$4*Propostas!Q104)","v":""},{"$f":"IF(Propostas!$C104=\"\",\"\",$Q$4*Propostas!R104)","v":""},{"$f":"IF(Propostas!$C104=\"\",\"\",$R$4*Propostas!S104)","v":""},{"$f":"IF(Propostas!$C104=\"\",\"\",S$4*Parâmetros!$H97/Parâmetros!$H$4)","v":""},{"$f":"IF(Propostas!$C104=\"\",\"\",T$4*Parâmetros!P97/Parâmetros!$P$4)","v":""},{"$f":"IF(Propostas!$C104=\"\",\"\",U$4*Parâmetros!Q97/Parâmetros!$Q$4)","v":""},{"$f":"IF(Propostas!$B104=\"\",\"\",SUM(C97:U97))","v":""},{"$f":"IF(Propostas!$C104=\"\",\"\",RANK(V97,$V$5:$V$203,0))","v":""}]
[{"$f":"IF(Propostas!$C105=\"\",\"\",W98)","v":""},{"$f":"Propostas!A105","v":0},{"$f":"IF(Propostas!$C105=\"\",\"\",C$4*Parâmetros!$C$4/Parâmetros!C98)","v":""},{"$f":"IF(Propostas!$C105=\"\",\"\",D$4*(Parâmetros!D98-1)/(COUNT(Parâmetros!$C$5:$C$204)-1))","v":""},{"$f":"IF(Propostas!$C105=\"\",\"\",E$4*Parâmetros!E98/Parâmetros!$E$4)","v":""},{"$f":"IF(Propostas!$C105=\"\",\"\",F$4*Parâmetros!F98)","v":""},{"$f":"IF(Propostas!$C105=\"\",\"\",G$4*Parâmetros!G98)","v":""},{"$f":"IF(Propostas!$C105=\"\",\"\",$H$4*Propostas!I105)","v":""},{"$f":"IF(Propostas!$C105=\"\",\"\",$I$4*Propostas!J105)","v":""},{"$f":"IF(Propostas!$C105=\"\",\"\",$J$4*Propostas!K105)","v":""},{"$f":"IF(Propostas!$C105=\"\",\"\",$K$4*Propostas!L105)","v":""},{"$f":"IF(Propostas!$C105=\"\",\"\",$L$4*Propostas!M105)","v":""},{"$f":"IF(Propostas!$C105=\"\",\"\",$M$4*Propostas!N105)","v":""},{"$f":"IF(Propostas!$C105=\"\",\"\",$N$4*Propostas!O105)","v":""},{"$f":"IF(Propostas!$C105=\"\",\"\",$O$4*Propostas!P105)","v":""},{"$f":"IF(Propostas!$C105=\"\",\"\",$P$4*Propostas!Q105)","v":""},{"$f":"IF(Propostas!$C105=\"\",\"\",$Q$4*Propostas!R105)","v":""},{"$f":"IF(Propostas!$C105=\"\",\"\",$R$4*Propostas!S105)","v":""},{"$f":"IF(Propostas!$C105=\"\",\"\",S$4*Parâmetros!$H98/Parâmetros!$H$4)","v":""},{"$f":"IF(Propostas!$C105=\"\",\"\",T$4*Parâmetros!P98/Parâmetros!$P$4)","v":""},{"$f":"IF(Propostas!$C105=\"\",\"\",U$4*Parâmetros!Q98/Parâmetros!$Q$4)","v":""},{"$f":"IF(Propostas!$B105=\"\",\"\",SUM(C98:U98))","v":""},{"$f":"IF(Propostas!$C105=\"\",\"\",RANK(V98,$V$5:$V$203,0))","v":""}]
[{"$f":"IF(Propostas!$C106=\"\",\"\",W99)","v":""},{"$f":"Propostas!A106","v":0},{"$f":"IF(Propostas!$C106=\"\",\"\",C$4*Parâmetros!$C$4/Parâmetros!C99)","v":""},{"$f":"IF(Propostas!$C106=\"\",\"\",D$4*(Parâmetros!D99-1)/(COUNT(Parâmetros!$C$5:$C$204)-1))","v":""},{"$f":"IF(Propostas!$C106=\"\",\"\",E$4*Parâmetros!E99/Parâmetros!$E$4)","v":""},{"$f":"IF(Propostas!$C106=\"\",\"\",F$4*Parâmetros!F99)","v":""},{"$f":"IF(Propostas!$C106=\"\",\"\",G$4*Parâmetros!G99)","v":""},{"$f":"IF(Propostas!$C106=\"\",\"\",$H$4*Propostas!I106)","v":""},{"$f":"IF(Propostas!$C106=\"\",\"\",$I$4*Propostas!J106)","v":""},{"$f":"IF(Propostas!$C106=\"\",\"\",$J$4*Propostas!K106)","v":""},{"$f":"IF(Propostas!$C106=\"\",\"\",$K$4*Propostas!L106)","v":""},{"$f":"IF(Propostas!$C106=\"\",\"\",$L$4*Propostas!M106)","v":""},{"$f":"IF(Propostas!$C106=\"\",\"\",$M$4*Propostas!N106)","v":""},{"$f":"IF(Propostas!$C106=\"\",\"\",$N$4*Propostas!O106)","v":""},{"$f":"IF(Propostas!$C106=\"\",\"\",$O$4*Propostas!P106)","v":""},{"$f":"IF(Propostas!$C106=\"\",\"\",$P$4*Propostas!Q106)","v":""},{"$f":"IF(Propostas!$C106=\"\",\"\",$Q$4*Propostas!R106)","v":""},{"$f":"IF(Propostas!$C106=\"\",\"\",$R$4*Propostas!S106)","v":""},{"$f":"IF(Propostas!$C106=\"\",\"\",S$4*Parâmetros!$H99/Parâmetros!$H$4)","v":""},{"$f":"IF(Propostas!$C106=\"\",\"\",T$4*Parâmetros!P99/Parâmetros!$P$4)","v":""},{"$f":"IF(Propostas!$C106=\"\",\"\",U$4*Parâmetros!Q99/Parâmetros!$Q$4)","v":""},{"$f":"IF(Propostas!$B106=\"\",\"\",SUM(C99:U99))","v":""},{"$f":"IF(Propostas!$C106=\"\",\"\",RANK(V99,$V$5:$V$203,0))","v":""}]
[{"$f":"IF(Propostas!$C107=\"\",\"\",W100)","v":""},{"$f":"Propostas!A107","v":0},{"$f":"IF(Propostas!$C107=\"\",\"\",C$4*Parâmetros!$C$4/Parâmetros!C100)","v":""},{"$f":"IF(Propostas!$C107=\"\",\"\",D$4*(Parâmetros!D100-1)/(COUNT(Parâmetros!$C$5:$C$204)-1))","v":""},{"$f":"IF(Propostas!$C107=\"\",\"\",E$4*Parâmetros!E100/Parâmetros!$E$4)","v":""},{"$f":"IF(Propostas!$C107=\"\",\"\",F$4*Parâmetros!F100)","v":""},{"$f":"IF(Propostas!$C107=\"\",\"\",G$4*Parâmetros!G100)","v":""},{"$f":"IF(Propostas!$C107=\"\",\"\",$H$4*Propostas!I107)","v":""},{"$f":"IF(Propostas!$C107=\"\",\"\",$I$4*Propostas!J107)","v":""},{"$f":"IF(Propostas!$C107=\"\",\"\",$J$4*Propostas!K107)","v":""},{"$f":"IF(Propostas!$C107=\"\",\"\",$K$4*Propostas!L107)","v":""},{"$f":"IF(Propostas!$C107=\"\",\"\",$L$4*Propostas!M107)","v":""},{"$f":"IF(Propostas!$C107=\"\",\"\",$M$4*Propostas!N107)","v":""},{"$f":"IF(Propostas!$C107=\"\",\"\",$N$4*Propostas!O107)","v":""},{"$f":"IF(Propostas!$C107=\"\",\"\",$O$4*Propostas!P107)","v":""},{"$f":"IF(Propostas!$C107=\"\",\"\",$P$4*Propostas!Q107)","v":""},{"$f":"IF(Propostas!$C107=\"\",\"\",$Q$4*Propostas!R107)","v":""},{"$f":"IF(Propostas!$C107=\"\",\"\",$R$4*Propostas!S107)","v":""},{"$f":"IF(Propostas!$C107=\"\",\"\",S$4*Parâmetros!$H100/Parâmetros!$H$4)","v":""},{"$f":"IF(Propostas!$C107=\"\",\"\",T$4*Parâmetros!P100/Parâmetros!$P$4)","v":""},{"$f":"IF(Propostas!$C107=\"\",\"\",U$4*Parâmetros!Q100/Parâmetros!$Q$4)","v":""},{"$f":"IF(Propostas!$B107=\"\",\"\",SUM(C100:U100))","v":""},{"$f":"IF(Propostas!$C107=\"\",\"\",RANK(V100,$V$5:$V$203,0))","v":""}]
[{"$f":"IF(Propostas!$C108=\"\",\"\",W101)","v":""},{"$f":"Propostas!A108","v":0},{"$f":"IF(Propostas!$C108=\"\",\"\",C$4*Parâmetros!$C$4/Parâmetros!C101)","v":""},{"$f":"IF(Propostas!$C108=\"\",\"\",D$4*(Parâmetros!D101-1)/(COUNT(Parâmetros!$C$5:$C$204)-1))","v":""},{"$f":"IF(Propostas!$C108=\"\",\"\",E$4*Parâmetros!E101/Parâmetros!$E$4)","v":""},{"$f":"IF(Propostas!$C108=\"\",\"\",F$4*Parâmetros!F101)","v":""},{"$f":"IF(Propostas!$C108=\"\",\"\",G$4*Parâmetros!G101)","v":""},{"$f":"IF(Propostas!$C108=\"\",\"\",$H$4*Propostas!I108)","v":""},{"$f":"IF(Propostas!$C108=\"\",\"\",$I$4*Propostas!J108)","v":""},{"$f":"IF(Propostas!$C108=\"\",\"\",$J$4*Propostas!K108)","v":""},{"$f":"IF(Propostas!$C108=\"\",\"\",$K$4*Propostas!L108)","v":""},{"$f":"IF(Propostas!$C108=\"\",\"\",$L$4*Propostas!M108)","v":""},{"$f":"IF(Propostas!$C108=\"\",\"\",$M$4*Propostas!N108)","v":""},{"$f":"IF(Propostas!$C108=\"\",\"\",$N$4*Propostas!O108)","v":""},{"$f":"IF(Propostas!$C108=\"\",\"\",$O$4*Propostas!P108)","v":""},{"$f":"IF(Propostas!$C108=\"\",\"\",$P$4*Propostas!Q108)","v":""},{"$f":"IF(Propostas!$C108=\"\",\"\",$Q$4*Propostas!R108)","v":""},{"$f":"IF(Propostas!$C108=\"\",\"\",$R$4*Propostas!S108)","v":""},{"$f":"IF(Propostas!$C108=\"\",\"\",S$4*Parâmetros!$H101/Parâmetros!$H$4)","v":""},{"$f":"IF(Propostas!$C108=\"\",\"\",T$4*Parâmetros!P101/Parâmetros!$P$4)","v":""},{"$f":"IF(Propostas!$C108=\"\",\"\",U$4*Parâmetros!Q101/Parâmetros!$Q$4)","v":""},{"$f":"IF(Propostas!$B108=\"\",\"\",SUM(C101:U101))","v":""},{"$f":"IF(Propostas!$C108=\"\",\"\",RANK(V101,$V$5:$V$203,0))","v":""}]
[{"$f":"IF(Propostas!$C109=\"\",\"\",W102)","v":""},{"$f":"Propostas!A109","v":0},{"$f":"IF(Propostas!$C109=\"\",\"\",C$4*Parâmetros!$C$4/Parâmetros!C102)","v":""},{"$f":"IF(Propostas!$C109=\"\",\"\",D$4*(Parâmetros!D102-1)/(COUNT(Parâmetros!$C$5:$C$204)-1))","v":""},{"$f":"IF(Propostas!$C109=\"\",\"\",E$4*Parâmetros!E102/Parâmetros!$E$4)","v":""},{"$f":"IF(Propostas!$C109=\"\",\"\",F$4*Parâmetros!F102)","v":""},{"$f":"IF(Propostas!$C109=\"\",\"\",G$4*Parâmetros!G102)","v":""},{"$f":"IF(Propostas!$C109=\"\",\"\",$H$4*Propostas!I109)","v":""},{"$f":"IF(Propostas!$C109=\"\",\"\",$I$4*Propostas!J109)","v":""},{"$f":"IF(Propostas!$C109=\"\",\"\",$J$4*Propostas!K109)","v":""},{"$f":"IF(Propostas!$C109=\"\",\"\",$K$4*Propostas!L109)","v":""},{"$f":"IF(Propostas!$C109=\"\",\"\",$L$4*Propostas!M109)","v":""},{"$f":"IF(Propostas!$C109=\"\",\"\",$M$4*Propostas!N109)","v":""},{"$f":"IF(Propostas!$C109=\"\",\"\",$N$4*Propostas!O109)","v":""},{"$f":"IF(Propostas!$C109=\"\",\"\",$O$4*Propostas!P109)","v":""},{"$f":"IF(Propostas!$C109=\"\",\"\",$P$4*Propostas!Q109)","v":""},{"$f":"IF(Propostas!$C109=\"\",\"\",$Q$4*Propostas!R109)","v":""},{"$f":"IF(Propostas!$C109=\"\",\"\",$R$4*Propostas!S109)","v":""},{"$f":"IF(Propostas!$C109=\"\",\"\",S$4*Parâmetros!$H102/Parâmetros!$H$4)","v":""},{"$f":"IF(Propostas!$C109=\"\",\"\",T$4*Parâmetros!P102/Parâmetros!$P$4)","v":""},{"$f":"IF(Propostas!$C109=\"\",\"\",U$4*Parâmetros!Q102/Parâmetros!$Q$4)","v":""},{"$f":"IF(Propostas!$B109=\"\",\"\",SUM(C102:U102))","v":""},{"$f":"IF(Propostas!$C109=\"\",\"\",RANK(V102,$V$5:$V$203,0))","v":""}]
[{"$f":"IF(Propostas!$C110=\"\",\"\",W103)","v":""},{"$f":"Propostas!A110","v":0},{"$f":"IF(Propostas!$C110=\"\",\"\",C$4*Parâmetros!$C$4/Parâmetros!C103)","v":""},{"$f":"IF(Propostas!$C110=\"\",\"\",D$4*(Parâmetros!D103-1)/(COUNT(Parâmetros!$C$5:$C$204)-1))","v":""},{"$f":"IF(Propostas!$C110=\"\",\"\",E$4*Parâmetros!E103/Parâmetros!$E$4)","v":""},{"$f":"IF(Propostas!$C110=\"\",\"\",F$4*Parâmetros!F103)","v":""},{"$f":"IF(Propostas!$C110=\"\",\"\",G$4*Parâmetros!G103)","v":""},{"$f":"IF(Propostas!$C110=\"\",\"\",$H$4*Propostas!I110)","v":""},{"$f":"IF(Propostas!$C110=\"\",\"\",$I$4*Propostas!J110)","v":""},{"$f":"IF(Propostas!$C110=\"\",\"\",$J$4*Propostas!K110)","v":""},{"$f":"IF(Propostas!$C110=\"\",\"\",$K$4*Propostas!L110)","v":""},{"$f":"IF(Propostas!$C110=\"\",\"\",$L$4*Propostas!M110)","v":""},{"$f":"IF(Propostas!$C110=\"\",\"\",$M$4*Propostas!N110)","v":""},{"$f":"IF(Propostas!$C110=\"\",\"\",$N$4*Propostas!O110)","v":""},{"$f":"IF(Propostas!$C110=\"\",\"\",$O$4*Propostas!P110)","v":""},{"$f":"IF(Propostas!$C110=\"\",\"\",$P$4*Propostas!Q110)","v":""},{"$f":"IF(Propostas!$C110=\"\",\"\",$Q$4*Propostas!R110)","v":""},{"$f":"IF(Propostas!$C110=\"\",\"\",$R$4*Propostas!S110)","v":""},{"$f":"IF(Propostas!$C110=\"\",\"\",S$4*Parâmetros!$H103/Parâmetros!$H$4)","v":""},{"$f":"IF(Propostas!$C110=\"\",\"\",T$4*Parâmetros!P103/Parâmetros!$P$4)","v":""},{"$f":"IF(Propostas!$C110=\"\",\"\",U$4*Parâmetros!Q103/Parâmetros!$Q$4)","v":""},{"$f":"IF(Propostas!$B110=\"\",\"\",SUM(C103:U103))","v":""},{"$f":"IF(Propostas!$C110=\"\",\"\",RANK(V103,$V$5:$V$203,0))","v":""}]
[{"$f":"IF(Propostas!$C111=\"\",\"\",W104)","v":""},{"$f":"Propostas!A111","v":0},{"$f":"IF(Propostas!$C111=\"\",\"\",C$4*Parâmetros!$C$4/Parâmetros!C104)","v":""},{"$f":"IF(Propostas!$C111=\"\",\"\",D$4*(Parâmetros!D104-1)/(COUNT(Parâmetros!$C$5:$C$204)-1))","v":""},{"$f":"IF(Propostas!$C111=\"\",\"\",E$4*Parâmetros!E104/Parâmetros!$E$4)","v":""},{"$f":"IF(Propostas!$C111=\"\",\"\",F$4*Parâmetros!F104)","v":""},{"$f":"IF(Propostas!$C111=\"\",\"\",G$4*Parâmetros!G104)","v":""},{"$f":"IF(Propostas!$C111=\"\",\"\",$H$4*Propostas!I111)","v":""},{"$f":"IF(Propostas!$C111=\"\",\"\",$I$4*Propostas!J111)","v":""},{"$f":"IF(Propostas!$C111=\"\",\"\",$J$4*Propostas!K111)","v":""},{"$f":"IF(Propostas!$C111=\"\",\"\",$K$4*Propostas!L111)","v":""},{"$f":"IF(Propostas!$C111=\"\",\"\",$L$4*Propostas!M111)","v":""},{"$f":"IF(Propostas!$C111=\"\",\"\",$M$4*Propostas!N111)","v":""},{"$f":"IF(Propostas!$C111=\"\",\"\",$N$4*Propostas!O111)","v":""},{"$f":"IF(Propostas!$C111=\"\",\"\",$O$4*Propostas!P111)","v":""},{"$f":"IF(Propostas!$C111=\"\",\"\",$P$4*Propostas!Q111)","v":""},{"$f":"IF(Propostas!$C111=\"\",\"\",$Q$4*Propostas!R111)","v":""},{"$f":"IF(Propostas!$C111=\"\",\"\",$R$4*Propostas!S111)","v":""},{"$f":"IF(Propostas!$C111=\"\",\"\",S$4*Parâmetros!$H104/Parâmetros!$H$4)","v":""},{"$f":"IF(Propostas!$C111=\"\",\"\",T$4*Parâmetros!P104/Parâmetros!$P$4)","v":""},{"$f":"IF(Propostas!$C111=\"\",\"\",U$4*Parâmetros!Q104/Parâmetros!$Q$4)","v":""},{"$f":"IF(Propostas!$B111=\"\",\"\",SUM(C104:U104))","v":""},{"$f":"IF(Propostas!$C111=\"\",\"\",RANK(V104,$V$5:$V$203,0))","v":""}]
[{"$f":"IF(Propostas!$C112=\"\",\"\",W105)","v":""},{"$f":"Propostas!A112","v":0},{"$f":"IF(Propostas!$C112=\"\",\"\",C$4*Parâmetros!$C$4/Parâmetros!C105)","v":""},{"$f":"IF(Propostas!$C112=\"\",\"\",D$4*(Parâmetros!D105-1)/(COUNT(Parâmetros!$C$5:$C$204)-1))","v":""},{"$f":"IF(Propostas!$C112=\"\",\"\",E$4*Parâmetros!E105/Parâmetros!$E$4)","v":""},{"$f":"IF(Propostas!$C112=\"\",\"\",F$4*Parâmetros!F105)","v":""},{"$f":"IF(Propostas!$C112=\"\",\"\",G$4*Parâmetros!G105)","v":""},{"$f":"IF(Propostas!$C112=\"\",\"\",$H$4*Propostas!I112)","v":""},{"$f":"IF(Propostas!$C112=\"\",\"\",$I$4*Propostas!J112)","v":""},{"$f":"IF(Propostas!$C112=\"\",\"\",$J$4*Propostas!K112)","v":""},{"$f":"IF(Propostas!$C112=\"\",\"\",$K$4*Propostas!L112)","v":""},{"$f":"IF(Propostas!$C112=\"\",\"\",$L$4*Propostas!M112)","v":""},{"$f":"IF(Propostas!$C112=\"\",\"\",$M$4*Propostas!N112)","v":""},{"$f":"IF(Propostas!$C112=\"\",\"\",$N$4*Propostas!O112)","v":""},{"$f":"IF(Propostas!$C112=\"\",\"\",$O$4*Propostas!P112)","v":""},{"$f":"IF(Propostas!$C112=\"\",\"\",$P$4*Propostas!Q112)","v":""},{"$f":"IF(Propostas!$C112=\"\",\"\",$Q$4*Propostas!R112)","v":""},{"$f":"IF(Propostas!$C112=\"\",\"\",$R$4*Propostas!S112)","v":""},{"$f":"IF(Propostas!$C112=\"\",\"\",S$4*Parâmetros!$H105/Parâmetros!$H$4)","v":""},{"$f":"IF(Propostas!$C112=\"\",\"\",T$4*Parâmetros!P105/Parâmetros!$P$4)","v":""},{"$f":"IF(Propostas!$C112=\"\",\"\",U$4*Parâmetros!Q105/Parâmetros!$Q$4)","v":""},{"$f":"IF(Propostas!$B112=\"\",\"\",SUM(C105:U105))","v":""},{"$f":"IF(Propostas!$C112=\"\",\"\",RANK(V105,$V$5:$V$203,0))","v":""}]
[{"$f":"IF(Propostas!$C113=\"\",\"\",W106)","v":""},{"$f":"Propostas!A113","v":0},{"$f":"IF(Propostas!$C113=\"\",\"\",C$4*Parâmetros!$C$4/Parâmetros!C106)","v":""},{"$f":"IF(Propostas!$C113=\"\",\"\",D$4*(Parâmetros!D106-1)/(COUNT(Parâmetros!$C$5:$C$204)-1))","v":""},{"$f":"IF(Propostas!$C113=\"\",\"\",E$4*Parâmetros!E106/Parâmetros!$E$4)","v":""},{"$f":"IF(Propostas!$C113=\"\",\"\",F$4*Parâmetros!F106)","v":""},{"$f":"IF(Propostas!$C113=\"\",\"\",G$4*Parâmetros!G106)","v":""},{"$f":"IF(Propostas!$C113=\"\",\"\",$H$4*Propostas!I113)","v":""},{"$f":"IF(Propostas!$C113=\"\",\"\",$I$4*Propostas!J113)","v":""},{"$f":"IF(Propostas!$C113=\"\",\"\",$J$4*Propostas!K113)","v":""},{"$f":"IF(Propostas!$C113=\"\",\"\",$K$4*Propostas!L113)","v":""},{"$f":"IF(Propostas!$C113=\"\",\"\",$L$4*Propostas!M113)","v":""},{"$f":"IF(Propostas!$C113=\"\",\"\",$M$4*Propostas!N113)","v":""},{"$f":"IF(Propostas!$C113=\"\",\"\",$N$4*Propostas!O113)","v":""},{"$f":"IF(Propostas!$C113=\"\",\"\",$O$4*Propostas!P113)","v":""},{"$f":"IF(Propostas!$C113=\"\",\"\",$P$4*Propostas!Q113)","v":""},{"$f":"IF(Propostas!$C113=\"\",\"\",$Q$4*Propostas!R113)","v":""},{"$f":"IF(Propostas!$C113=\"\",\"\",$R$4*Propostas!S113)","v":""},{"$f":"IF(Propostas!$C113=\"\",\"\",S$4*Parâmetros!$H106/Parâmetros!$H$4)","v":""},{"$f":"IF(Propostas!$C113=\"\",\"\",T$4*Parâmetros!P106/Parâmetros!$P$4)","v":""},{"$f":"IF(Propostas!$C113=\"\",\"\",U$4*Parâmetros!Q106/Parâmetros!$Q$4)","v":""},{"$f":"IF(Propostas!$B113=\"\",\"\",SUM(C106:U106))","v":""},{"$f":"IF(Propostas!$C113=\"\",\"\",RANK(V106,$V$5:$V$203,0))","v":""}]
[{"$f":"IF(Propostas!$C114=\"\",\"\",W107)","v":""},{"$f":"Propostas!A114","v":0},{"$f":"IF(Propostas!$C114=\"\",\"\",C$4*Parâmetros!$C$4/Parâmetros!C107)","v":""},{"$f":"IF(Propostas!$C114=\"\",\"\",D$4*(Parâmetros!D107-1)/(COUNT(Parâmetros!$C$5:$C$204)-1))","v":""},{"$f":"IF(Propostas!$C114=\"\",\"\",E$4*Parâmetros!E107/Parâmetros!$E$4)","v":""},{"$f":"IF(Propostas!$C114=\"\",\"\",F$4*Parâmetros!F107)","v":""},{"$f":"IF(Propostas!$C114=\"\",\"\",G$4*Parâmetros!G107)","v":""},{"$f":"IF(Propostas!$C114=\"\",\"\",$H$4*Propostas!I114)","v":""},{"$f":"IF(Propostas!$C114=\"\",\"\",$I$4*Propostas!J114)","v":""},{"$f":"IF(Propostas!$C114=\"\",\"\",$J$4*Propostas!K114)","v":""},{"$f":"IF(Propostas!$C114=\"\",\"\",$K$4*Propostas!L114)","v":""},{"$f":"IF(Propostas!$C114=\"\",\"\",$L$4*Propostas!M114)","v":""},{"$f":"IF(Propostas!$C114=\"\",\"\",$M$4*Propostas!N114)","v":""},{"$f":"IF(Propostas!$C114=\"\",\"\",$N$4*Propostas!O114)","v":""},{"$f":"IF(Propostas!$C114=\"\",\"\",$O$4*Propostas!P114)","v":""},{"$f":"IF(Propostas!$C114=\"\",\"\",$P$4*Propostas!Q114)","v":""},{"$f":"IF(Propostas!$C114=\"\",\"\",$Q$4*Propostas!R114)","v":""},{"$f":"IF(Propostas!$C114=\"\",\"\",$R$4*Propostas!S114)","v":""},{"$f":"IF(Propostas!$C114=\"\",\"\",S$4*Parâmetros!$H107/Parâmetros!$H$4)","v":""},{"$f":"IF(Propostas!$C114=\"\",\"\",T$4*Parâmetros!P107/Parâmetros!$P$4)","v":""},{"$f":"IF(Propostas!$C114=\"\",\"\",U$4*Parâmetros!Q107/Parâmetros!$Q$4)","v":""},{"$f":"IF(Propostas!$B114=\"\",\"\",SUM(C107:U107))","v":""},{"$f":"IF(Propostas!$C114=\"\",\"\",RANK(V107,$V$5:$V$203,0))","v":""}]
[{"$f":"IF(Propostas!$C115=\"\",\"\",W108)","v":""},{"$f":"Propostas!A115","v":0},{"$f":"IF(Propostas!$C115=\"\",\"\",C$4*Parâmetros!$C$4/Parâmetros!C108)","v":""},{"$f":"IF(Propostas!$C115=\"\",\"\",D$4*(Parâmetros!D108-1)/(COUNT(Parâmetros!$C$5:$C$204)-1))","v":""},{"$f":"IF(Propostas!$C115=\"\",\"\",E$4*Parâmetros!E108/Parâmetros!$E$4)","v":""},{"$f":"IF(Propostas!$C115=\"\",\"\",F$4*Parâmetros!F108)","v":""},{"$f":"IF(Propostas!$C115=\"\",\"\",G$4*Parâmetros!G108)","v":""},{"$f":"IF(Propostas!$C115=\"\",\"\",$H$4*Propostas!I115)","v":""},{"$f":"IF(Propostas!$C115=\"\",\"\",$I$4*Propostas!J115)","v":""},{"$f":"IF(Propostas!$C115=\"\",\"\",$J$4*Propostas!K115)","v":""},{"$f":"IF(Propostas!$C115=\"\",\"\",$K$4*Propostas!L115)","v":""},{"$f":"IF(Propostas!$C115=\"\",\"\",$L$4*Propostas!M115)","v":""},{"$f":"IF(Propostas!$C115=\"\",\"\",$M$4*Propostas!N115)","v":""},{"$f":"IF(Propostas!$C115=\"\",\"\",$N$4*Propostas!O115)","v":""},{"$f":"IF(Propostas!$C115=\"\",\"\",$O$4*Propostas!P115)","v":""},{"$f":"IF(Propostas!$C115=\"\",\"\",$P$4*Propostas!Q115)","v":""},{"$f":"IF(Propostas!$C115=\"\",\"\",$Q$4*Propostas!R115)","v":""},{"$f":"IF(Propostas!$C115=\"\",\"\",$R$4*Propostas!S115)","v":""},{"$f":"IF(Propostas!$C115=\"\",\"\",S$4*Parâmetros!$H108/Parâmetros!$H$4)","v":""},{"$f":"IF(Propostas!$C115=\"\",\"\",T$4*Parâmetros!P108/Parâmetros!$P$4)","v":""},{"$f":"IF(Propostas!$C115=\"\",\"\",U$4*Parâmetros!Q108/Parâmetros!$Q$4)","v":""},{"$f":"IF(Propostas!$B115=\"\",\"\",SUM(C108:U108))","v":""},{"$f":"IF(Propostas!$C115=\"\",\"\",RANK(V108,$V$5:$V$203,0))","v":""}]
[{"$f":"IF(Propostas!$C116=\"\",\"\",W109)","v":""},{"$f":"Propostas!A116","v":0},{"$f":"IF(Propostas!$C116=\"\",\"\",C$4*Parâmetros!$C$4/Parâmetros!C109)","v":""},{"$f":"IF(Propostas!$C116=\"\",\"\",D$4*(Parâmetros!D109-1)/(COUNT(Parâmetros!$C$5:$C$204)-1))","v":""},{"$f":"IF(Propostas!$C116=\"\",\"\",E$4*Parâmetros!E109/Parâmetros!$E$4)","v":""},{"$f":"IF(Propostas!$C116=\"\",\"\",F$4*Parâmetros!F109)","v":""},{"$f":"IF(Propostas!$C116=\"\",\"\",G$4*Parâmetros!G109)","v":""},{"$f":"IF(Propostas!$C116=\"\",\"\",$H$4*Propostas!I116)","v":""},{"$f":"IF(Propostas!$C116=\"\",\"\",$I$4*Propostas!J116)","v":""},{"$f":"IF(Propostas!$C116=\"\",\"\",$J$4*Propostas!K116)","v":""},{"$f":"IF(Propostas!$C116=\"\",\"\",$K$4*Propostas!L116)","v":""},{"$f":"IF(Propostas!$C116=\"\",\"\",$L$4*Propostas!M116)","v":""},{"$f":"IF(Propostas!$C116=\"\",\"\",$M$4*Propostas!N116)","v":""},{"$f":"IF(Propostas!$C116=\"\",\"\",$N$4*Propostas!O116)","v":""},{"$f":"IF(Propostas!$C116=\"\",\"\",$O$4*Propostas!P116)","v":""},{"$f":"IF(Propostas!$C116=\"\",\"\",$P$4*Propostas!Q116)","v":""},{"$f":"IF(Propostas!$C116=\"\",\"\",$Q$4*Propostas!R116)","v":""},{"$f":"IF(Propostas!$C116=\"\",\"\",$R$4*Propostas!S116)","v":""},{"$f":"IF(Propostas!$C116=\"\",\"\",S$4*Parâmetros!$H109/Parâmetros!$H$4)","v":""},{"$f":"IF(Propostas!$C116=\"\",\"\",T$4*Parâmetros!P109/Parâmetros!$P$4)","v":""},{"$f":"IF(Propostas!$C116=\"\",\"\",U$4*Parâmetros!Q109/Parâmetros!$Q$4)","v":""},{"$f":"IF(Propostas!$B116=\"\",\"\",SUM(C109:U109))","v":""},{"$f":"IF(Propostas!$C116=\"\",\"\",RANK(V109,$V$5:$V$203,0))","v":""}]
[{"$f":"IF(Propostas!$C117=\"\",\"\",W110)","v":""},{"$f":"Propostas!A117","v":0},{"$f":"IF(Propostas!$C117=\"\",\"\",C$4*Parâmetros!$C$4/Parâmetros!C110)","v":""},{"$f":"IF(Propostas!$C117=\"\",\"\",D$4*(Parâmetros!D110-1)/(COUNT(Parâmetros!$C$5:$C$204)-1))","v":""},{"$f":"IF(Propostas!$C117=\"\",\"\",E$4*Parâmetros!E110/Parâmetros!$E$4)","v":""},{"$f":"IF(Propostas!$C117=\"\",\"\",F$4*Parâmetros!F110)","v":""},{"$f":"IF(Propostas!$C117=\"\",\"\",G$4*Parâmetros!G110)","v":""},{"$f":"IF(Propostas!$C117=\"\",\"\",$H$4*Propostas!I117)","v":""},{"$f":"IF(Propostas!$C117=\"\",\"\",$I$4*Propostas!J117)","v":""},{"$f":"IF(Propostas!$C117=\"\",\"\",$J$4*Propostas!K117)","v":""},{"$f":"IF(Propostas!$C117=\"\",\"\",$K$4*Propostas!L117)","v":""},{"$f":"IF(Propostas!$C117=\"\",\"\",$L$4*Propostas!M117)","v":""},{"$f":"IF(Propostas!$C117=\"\",\"\",$M$4*Propostas!N117)","v":""},{"$f":"IF(Propostas!$C117=\"\",\"\",$N$4*Propostas!O117)","v":""},{"$f":"IF(Propostas!$C117=\"\",\"\",$O$4*Propostas!P117)","v":""},{"$f":"IF(Propostas!$C117=\"\",\"\",$P$4*Propostas!Q117)","v":""},{"$f":"IF(Propostas!$C117=\"\",\"\",$Q$4*Propostas!R117)","v":""},{"$f":"IF(Propostas!$C117=\"\",\"\",$R$4*Propostas!S117)","v":""},{"$f":"IF(Propostas!$C117=\"\",\"\",S$4*Parâmetros!$H110/Parâmetros!$H$4)","v":""},{"$f":"IF(Propostas!$C117=\"\",\"\",T$4*Parâmetros!P110/Parâmetros!$P$4)","v":""},{"$f":"IF(Propostas!$C117=\"\",\"\",U$4*Parâmetros!Q110/Parâmetros!$Q$4)","v":""},{"$f":"IF(Propostas!$B117=\"\",\"\",SUM(C110:U110))","v":""},{"$f":"IF(Propostas!$C117=\"\",\"\",RANK(V110,$V$5:$V$203,0))","v":""}]
[{"$f":"IF(Propostas!$C118=\"\",\"\",W111)","v":""},{"$f":"Propostas!A118","v":0},{"$f":"IF(Propostas!$C118=\"\",\"\",C$4*Parâmetros!$C$4/Parâmetros!C111)","v":""},{"$f":"IF(Propostas!$C118=\"\",\"\",D$4*(Parâmetros!D111-1)/(COUNT(Parâmetros!$C$5:$C$204)-1))","v":""},{"$f":"IF(Propostas!$C118=\"\",\"\",E$4*Parâmetros!E111/Parâmetros!$E$4)","v":""},{"$f":"IF(Propostas!$C118=\"\",\"\",F$4*Parâmetros!F111)","v":""},{"$f":"IF(Propostas!$C118=\"\",\"\",G$4*Parâmetros!G111)","v":""},{"$f":"IF(Propostas!$C118=\"\",\"\",$H$4*Propostas!I118)","v":""},{"$f":"IF(Propostas!$C118=\"\",\"\",$I$4*Propostas!J118)","v":""},{"$f":"IF(Propostas!$C118=\"\",\"\",$J$4*Propostas!K118)","v":""},{"$f":"IF(Propostas!$C118=\"\",\"\",$K$4*Propostas!L118)","v":""},{"$f":"IF(Propostas!$C118=\"\",\"\",$L$4*Propostas!M118)","v":""},{"$f":"IF(Propostas!$C118=\"\",\"\",$M$4*Propostas!N118)","v":""},{"$f":"IF(Propostas!$C118=\"\",\"\",$N$4*Propostas!O118)","v":""},{"$f":"IF(Propostas!$C118=\"\",\"\",$O$4*Propostas!P118)","v":""},{"$f":"IF(Propostas!$C118=\"\",\"\",$P$4*Propostas!Q118)","v":""},{"$f":"IF(Propostas!$C118=\"\",\"\",$Q$4*Propostas!R118)","v":""},{"$f":"IF(Propostas!$C118=\"\",\"\",$R$4*Propostas!S118)","v":""},{"$f":"IF(Propostas!$C118=\"\",\"\",S$4*Parâmetros!$H111/Parâmetros!$H$4)","v":""},{"$f":"IF(Propostas!$C118=\"\",\"\",T$4*Parâmetros!P111/Parâmetros!$P$4)","v":""},{"$f":"IF(Propostas!$C118=\"\",\"\",U$4*Parâmetros!Q111/Parâmetros!$Q$4)","v":""},{"$f":"IF(Propostas!$B118=\"\",\"\",SUM(C111:U111))","v":""},{"$f":"IF(Propostas!$C118=\"\",\"\",RANK(V111,$V$5:$V$203,0))","v":""}]
[{"$f":"IF(Propostas!$C119=\"\",\"\",W112)","v":""},{"$f":"Propostas!A119","v":0},{"$f":"IF(Propostas!$C119=\"\",\"\",C$4*Parâmetros!$C$4/Parâmetros!C112)","v":""},{"$f":"IF(Propostas!$C119=\"\",\"\",D$4*(Parâmetros!D112-1)/(COUNT(Parâmetros!$C$5:$C$204)-1))","v":""},{"$f":"IF(Propostas!$C119=\"\",\"\",E$4*Parâmetros!E112/Parâmetros!$E$4)","v":""},{"$f":"IF(Propostas!$C119=\"\",\"\",F$4*Parâmetros!F112)","v":""},{"$f":"IF(Propostas!$C119=\"\",\"\",G$4*Parâmetros!G112)","v":""},{"$f":"IF(Propostas!$C119=\"\",\"\",$H$4*Propostas!I119)","v":""},{"$f":"IF(Propostas!$C119=\"\",\"\",$I$4*Propostas!J119)","v":""},{"$f":"IF(Propostas!$C119=\"\",\"\",$J$4*Propostas!K119)","v":""},{"$f":"IF(Propostas!$C119=\"\",\"\",$K$4*Propostas!L119)","v":""},{"$f":"IF(Propostas!$C119=\"\",\"\",$L$4*Propostas!M119)","v":""},{"$f":"IF(Propostas!$C119=\"\",\"\",$M$4*Propostas!N119)","v":""},{"$f":"IF(Propostas!$C119=\"\",\"\",$N$4*Propostas!O119)","v":""},{"$f":"IF(Propostas!$C119=\"\",\"\",$O$4*Propostas!P119)","v":""},{"$f":"IF(Propostas!$C119=\"\",\"\",$P$4*Propostas!Q119)","v":""},{"$f":"IF(Propostas!$C119=\"\",\"\",$Q$4*Propostas!R119)","v":""},{"$f":"IF(Propostas!$C119=\"\",\"\",$R$4*Propostas!S119)","v":""},{"$f":"IF(Propostas!$C119=\"\",\"\",S$4*Parâmetros!$H112/Parâmetros!$H$4)","v":""},{"$f":"IF(Propostas!$C119=\"\",\"\",T$4*Parâmetros!P112/Parâmetros!$P$4)","v":""},{"$f":"IF(Propostas!$C119=\"\",\"\",U$4*Parâmetros!Q112/Parâmetros!$Q$4)","v":""},{"$f":"IF(Propostas!$B119=\"\",\"\",SUM(C112:U112))","v":""},{"$f":"IF(Propostas!$C119=\"\",\"\",RANK(V112,$V$5:$V$203,0))","v":""}]
[{"$f":"IF(Propostas!$C120=\"\",\"\",W113)","v":""},null,{"$f":"IF(Propostas!$C120=\"\",\"\",C$4*Parâmetros!$C$4/Parâmetros!C113)","v":""},{"$f":"IF(Propostas!$C120=\"\",\"\",D$4*(Parâmetros!D113-1)/(COUNT(Parâmetros!$C$5:$C$204)-1))","v":""},{"$f":"IF(Propostas!$C120=\"\",\"\",E$4*Parâmetros!E113/Parâmetros!$E$4)","v":""},{"$f":"IF(Propostas!$C120=\"\",\"\",F$4*Parâmetros!F113)","v":""},{"$f":"IF(Propostas!$C120=\"\",\"\",G$4*Parâmetros!G113)","v":""},{"$f":"IF(Propostas!$C120=\"\",\"\",$H$4*Propostas!I120)","v":""},{"$f":"IF(Propostas!$C120=\"\",\"\",$I$4*Propostas!J120)","v":""},{"$f":"IF(Propostas!$C120=\"\",\"\",$J$4*Propostas!K120)","v":""},{"$f":"IF(Propostas!$C120=\"\",\"\",$K$4*Propostas!L120)","v":""},{"$f":"IF(Propostas!$C120=\"\",\"\",$L$4*Propostas!M120)","v":""},{"$f":"IF(Propostas!$C120=\"\",\"\",$M$4*Propostas!N120)","v":""},{"$f":"IF(Propostas!$C120=\"\",\"\",$N$4*Propostas!O120)","v":""},{"$f":"IF(Propostas!$C120=\"\",\"\",$O$4*Propostas!P120)","v":""},{"$f":"IF(Propostas!$C120=\"\",\"\",$P$4*Propostas!Q120)","v":""},{"$f":"IF(Propostas!$C120=\"\",\"\",$Q$4*Propostas!R120)","v":""},{"$f":"IF(Propostas!$C120=\"\",\"\",$R$4*Propostas!S120)","v":""},{"$f":"IF(Propostas!$C120=\"\",\"\",S$4*Parâmetros!$H113/Parâmetros!$H$4)","v":""},{"$f":"IF(Propostas!$C120=\"\",\"\",T$4*Parâmetros!P113/Parâmetros!$P$4)","v":""},{"$f":"IF(Propostas!$C120=\"\",\"\",U$4*Parâmetros!Q113/Parâmetros!$Q$4)","v":""},{"$f":"IF(Propostas!$B120=\"\",\"\",SUM(C113:U113))","v":""},{"$f":"IF(Propostas!$C120=\"\",\"\",RANK(V113,$V$5:$V$203,0))","v":""}]
[{"$f":"IF(Propostas!$C121=\"\",\"\",W114)","v":""},null,{"$f":"IF(Propostas!$C121=\"\",\"\",C$4*Parâmetros!$C$4/Parâmetros!C114)","v":""},{"$f":"IF(Propostas!$C121=\"\",\"\",D$4*(Parâmetros!D114-1)/(COUNT(Parâmetros!$C$5:$C$204)-1))","v":""},{"$f":"IF(Propostas!$C121=\"\",\"\",E$4*Parâmetros!E114/Parâmetros!$E$4)","v":""},{"$f":"IF(Propostas!$C121=\"\",\"\",F$4*Parâmetros!F114)","v":""},{"$f":"IF(Propostas!$C121=\"\",\"\",G$4*Parâmetros!G114)","v":""},{"$f":"IF(Propostas!$C121=\"\",\"\",$H$4*Propostas!I121)","v":""},{"$f":"IF(Propostas!$C121=\"\",\"\",$I$4*Propostas!J121)","v":""},{"$f":"IF(Propostas!$C121=\"\",\"\",$J$4*Propostas!K121)","v":""},{"$f":"IF(Propostas!$C121=\"\",\"\",$K$4*Propostas!L121)","v":""},{"$f":"IF(Propostas!$C121=\"\",\"\",$L$4*Propostas!M121)","v":""},{"$f":"IF(Propostas!$C121=\"\",\"\",$M$4*Propostas!N121)","v":""},{"$f":"IF(Propostas!$C121=\"\",\"\",$N$4*Propostas!O121)","v":""},{"$f":"IF(Propostas!$C121=\"\",\"\",$O$4*Propostas!P121)","v":""},{"$f":"IF(Propostas!$C121=\"\",\"\",$P$4*Propostas!Q121)","v":""},{"$f":"IF(Propostas!$C121=\"\",\"\",$Q$4*Propostas!R121)","v":""},{"$f":"IF(Propostas!$C121=\"\",\"\",$R$4*Propostas!S121)","v":""},{"$f":"IF(Propostas!$C121=\"\",\"\",S$4*Parâmetros!$H114/Parâmetros!$H$4)","v":""},{"$f":"IF(Propostas!$C121=\"\",\"\",T$4*Parâmetros!P114/Parâmetros!$P$4)","v":""},{"$f":"IF(Propostas!$C121=\"\",\"\",U$4*Parâmetros!Q114/Parâmetros!$Q$4)","v":""},{"$f":"IF(Propostas!$B121=\"\",\"\",SUM(C114:U114))","v":""},{"$f":"IF(Propostas!$C121=\"\",\"\",RANK(V114,$V$5:$V$203,0))","v":""}]
[{"$f":"IF(Propostas!$C122=\"\",\"\",W115)","v":""},null,{"$f":"IF(Propostas!$C122=\"\",\"\",C$4*Parâmetros!$C$4/Parâmetros!C115)","v":""},{"$f":"IF(Propostas!$C122=\"\",\"\",D$4*(Parâmetros!D115-1)/(COUNT(Parâmetros!$C$5:$C$204)-1))","v":""},{"$f":"IF(Propostas!$C122=\"\",\"\",E$4*Parâmetros!E115/Parâmetros!$E$4)","v":""},{"$f":"IF(Propostas!$C122=\"\",\"\",F$4*Parâmetros!F115)","v":""},{"$f":"IF(Propostas!$C122=\"\",\"\",G$4*Parâmetros!G115)","v":""},{"$f":"IF(Propostas!$C122=\"\",\"\",$H$4*Propostas!I122)","v":""},{"$f":"IF(Propostas!$C122=\"\",\"\",$I$4*Propostas!J122)","v":""},{"$f":"IF(Propostas!$C122=\"\",\"\",$J$4*Propostas!K122)","v":""},{"$f":"IF(Propostas!$C122=\"\",\"\",$K$4*Propostas!L122)","v":""},{"$f":"IF(Propostas!$C122=\"\",\"\",$L$4*Propostas!M122)","v":""},{"$f":"IF(Propostas!$C122=\"\",\"\",$M$4*Propostas!N122)","v":""},{"$f":"IF(Propostas!$C122=\"\",\"\",$N$4*Propostas!O122)","v":""},{"$f":"IF(Propostas!$C122=\"\",\"\",$O$4*Propostas!P122)","v":""},{"$f":"IF(Propostas!$C122=\"\",\"\",$P$4*Propostas!Q122)","v":""},{"$f":"IF(Propostas!$C122=\"\",\"\",$Q$4*Propostas!R122)","v":""},{"$f":"IF(Propostas!$C122=\"\",\"\",$R$4*Propostas!S122)","v":""},{"$f":"IF(Propostas!$C122=\"\",\"\",S$4*Parâmetros!$H115/Parâmetros!$H$4)","v":""},{"$f":"IF(Propostas!$C122=\"\",\"\",T$4*Parâmetros!P115/Parâmetros!$P$4)","v":""},{"$f":"IF(Propostas!$C122=\"\",\"\",U$4*Parâmetros!Q115/Parâmetros!$Q$4)","v":""},{"$f":"IF(Propostas!$B122=\"\",\"\",SUM(C115:U115))","v":""},{"$f":"IF(Propostas!$C122=\"\",\"\",RANK(V115,$V$5:$V$203,0))","v":""}]

{"sheet":"Ordenada","index":5,"n_rows":120,"n_cols":27,"rows_kept":120,"cut":false,"hidden":false,"merged":[[0,14,0,17],[0,2,0,3],[0,5,0,6],[0,7,0,10],[0,11,0,13]]}
[null,null,"A",null,"B","C",null,"D",null,null,null,"E",null,null,"F",null,null,null,"G","H","I"]
[null,null,"A1","A2","B","C1","C2","D1","D2","D3","D4","E1","E2","E3","F1","F2","F3","F4","G","H","I"]
["Ordem","Proposta","Relação custo-benefício proporcional","Relação custo-benefício ordenada","Peso do investimento em equipamentos no custo total","Impacto direto na economia de energia","Impacto direto na redução de demanda na ponta","Qualidade global da apresentação do projeto","Bases da proposta"," Consistência do cronograma apresentado","Estratégia de M&V","Eficácia na quebra de barreiras de mercado","Induz comportamentos de uso eficiente da energia","Destina-se a segmentos com barreiras mais relevantes","Experiência nos usos finais propostos","Experiência no PEE","Certificação CMVP da EVO","Outras certificações pertinentes","Contrapartida","Diversidade e priorização de usos finais","Ações educacionais","Total","Ordem","Investimento PEE\n[mil R$]","Investimento disponibilizado\n[mil R$]","Aprovada","Investimento aprovado\n[mil R$]"]
[null,"Máximo",{"$f":"Pontuação!C4","v":24},{"$f":"Pontuação!D4","v":8},{"$f":"Pontuação!E4","v":5},{"$f":"Pontuação!F4","v":8},{"$f":"Pontuação!G4","v":5},{"$f":"Pontuação!H4","v":3},{"$f":"Pontuação!I4","v":2},{"$f":"Pontuação!J4","v":3},{"$f":"Pontuação!K4","v":4},{"$f":"Pontuação!L4","v":1},{"$f":"Pontuação!M4","v":2},{"$f":"Pontuação!N4","v":0},{"$f":"Pontuação!O4","v":6},{"$f":"Pontuação!P4","v":3},{"$f":"Pontuação!Q4","v":3},{"$f":"Pontuação!R4","v":3},{"$f":"Pontuação!S4","v":10},{"$f":"Pontuação!T4","v":5},{"$f":"Pontuação!U4","v":5},{"$f":"SUM(C4:U4)","v":100},null,null,6000,"S/N",{"$f":"SUMIF(Z:Z,\"S\",X:X)","v":4936.4367300000013}]
[{"$f":"IF(Propostas!$C12=\"\",\"\",ROW(1:1))","v":1},{"$f":"IF(Propostas!$C12=\"\",\"\",VLOOKUP($A5,Pontuação!$A$5:$V$203,COLUMN(B:B),0))","v":"P2"},{"$f":"IF(Propostas!$C12=\"\",\"\",VLOOKUP($A5,Pontuação!$A$5:$V$203,COLUMN(C:C),0))","v":22.978268123665732},{"$f":"IF(Propostas!$C12=\"\",\"\",VLOOKUP($A5,Pontuação!$A$5:$V$203,COLUMN(D:D),0))","v":6.2222222222222223},{"$f":"IF(Propostas!$C12=\"\",\"\",VLOOKUP($A5,Pontuação!$A$5:$V$203,COLUMN(E:E),0))","v":3.7549021433115484},{"$f":"IF(Propostas!$C12=\"\",\"\",VLOOKUP($A5,Pontuação!$A$5:$V$203,COLUMN(F:F),0))","v":5.0161177676392956},{"$f":"IF(Propostas!$C12=\"\",\"\",VLOOKUP($A5,Pontuação!$A$5:$V$203,COLUMN(G:G),0))","v":5},{"$f":"IF(Propostas!$C12=\"\",\"\",VLOOKUP($A5,Pontuação!$A$5:$V$203,COLUMN(H:H),0))","v":2.25},{"$f":"IF(Propostas!$C12=\"\",\"\",VLOOKUP($A5,Pontuação!$A$5:$V$203,COLUMN(I:I),0))","v":1.5},{"$f":"IF(Propostas!$C12=\"\",\"\",VLOOKUP($A5,Pontuação!$A$5:$V$203,COLUMN(J:J),0))","v":2.25},{"$f":"IF(Propostas!$C12=\"\",\"\",VLOOKUP($A5,Pontuação!$A$5:$V$203,COLUMN(K:K),0))","v":3},{"$f":"IF(Propostas!$C12=\"\",\"\",VLOOKUP($A5,Pontuação!$A$5:$V$203,COLUMN(L:L),0))","v":0.75},{"$f":"IF(Propostas!$C12=\"\",\"\",VLOOKUP($A5,Pontuação!$A$5:$V$203,COLUMN(M:M),0))","v":1},{"$f":"IF(Propostas!$C12=\"\",\"\",VLOOKUP($A5,Pontuação!$A$5:$V$203,COLUMN(N:N),0))","v":0},{"$f":"IF(Propostas!$C12=\"\",\"\",VLOOKUP($A5,Pontuação!$A$5:$V$203,COLUMN(O:O),0))","v":6},{"$f":"IF(Propostas!$C12=\"\",\"\",VLOOKUP($A5,Pontuação!$A$5:$V$203,COLUMN(P:P),0))","v":3},{"$f":"IF(Propostas!$C12=\"\",\"\",VLOOKUP($A5,Pontuação!$A$5:$V$203,COLUMN(Q:Q),0))","v":3},{"$f":"IF(Propostas!$C12=\"\",\"\",VLOOKUP($A5,Pontuação!$A$5:$V$203,COLUMN(R:R),0))","v":3},{"$f":"IF(Propostas!$C12=\"\",\"\",VLOOKUP($A5,Pontuação!$A$5:$V$203,COLUMN(S:S),0))","v":10},{"$f":"IF(Propostas!$C12=\"\",\"\",VLOOKUP($A5,Pontuação!$A$5:$V$203,COLUMN(T:T),0))","v":1.6065455144631375},{"$f":"IF(Propostas!$C12=\"\",\"\",VLOOKUP($A5,Pontuação!$A$5:$V$203,COLUMN(U:U),0))","v":3.6263191754332751},{"$f":"IF(Propostas!$B12=\"\",\"\",SUM(C5:U5))","v":83.954374946735214},{"$f":"IF(Propostas!$C12=\"\",\"\",RANK(V5,$V$5:$V$203,0))","v":1},{"$f":"IF(Propostas!$C12=\"\",\"\",VLOOKUP(B5,Propostas[],3,0))","v":834.55706000000009},{"$f":"IF(Propostas!$C12=\"\",\"\",Y4-X5)","v":5165.4429399999999},{"$f":"IF(Propostas!$C12=\"\",\"\",IF(Y5>0,\"S\",\"N\"))","v":"S"},"Invest. Restante\n[mil R$]"]
[{"$f":"IF(Propostas!$C13=\"\",\"\",ROW(2:2))","v":2},{"$f":"IF(Propostas!$C13=\"\",\"\",VLOOKUP($A6,Pontuação!$A$5:$V$203,COLUMN(B:B),0))","v":"P9"},{"$f":"IF(Propostas!$C13=\"\",\"\",VLOOKUP($A6,Pontuação!$A$5:$V$203,COLUMN(C:C),0))","v":21.202969368474314},{"$f":"IF(Propostas!$C13=\"\",\"\",VLOOKUP($A6,Pontuação!$A$5:$V$203,COLUMN(D:D),0))","v":5.333333333333333},{"$f":"IF(Propostas!$C13=\"\",\"\",VLOOKUP($A6,Pontuação!$A$5:$V$203,COLUMN(E:E),0))","v":3.7957087257541677},{"$f":"IF(Propostas!$C13=\"\",\"\",VLOOKUP($A6,Pontuação!$A$5:$V$203,COLUMN(F:F),0))","v":1.9103318790759267},{"$f":"IF(Propostas!$C13=\"\",\"\",VLOOKUP($A6,Pontuação!$A$5:$V$203,COLUMN(G:G),0))","v":1.6989265253907337},{"$f":"IF(Propostas!$C13=\"\",\"\",VLOOKUP($A6,Pontuação!$A$5:$V$203,COLUMN(H:H),0))","v":3},{"$f":"IF(Propostas!$C13=\"\",\"\",VLOOKUP($A6,Pontuação!$A$5:$V$203,COLUMN(I:I),0))","v":1.5},{"$f":"IF(Propostas!$C13=\"\",\"\",VLOOKUP($A6,Pontuação!$A$5:$V$203,COLUMN(J:J),0))","v":2.25},{"$f":"IF(Propostas!$C13=\"\",\"\",VLOOKUP($A6,Pontuação!$A$5:$V$203,COLUMN(K:K),0))","v":3},{"$f":"IF(Propostas!$C13=\"\",\"\",VLOOKUP($A6,Pontuação!$A$5:$V$203,COLUMN(L:L),0))","v":0.75},{"$f":"IF(Propostas!$C13=\"\",\"\",VLOOKUP($A6,Pontuação!$A$5:$V$203,COLUMN(M:M),0))","v":1.5},{"$f":"IF(Propostas!$C13=\"\",\"\",VLOOKUP($A6,Pontuação!$A$5:$V$203,COLUMN(N:N),0))","v":0},{"$f":"IF(Propostas!$C13=\"\",\"\",VLOOKUP($A6,Pontuação!$A$5:$V$203,COLUMN(O:O),0))","v":6},{"$f":"IF(Propostas!$C13=\"\",\"\",VLOOKUP($A6,Pontuação!$A$5:$V$203,COLUMN(P:P),0))","v":3},{"$f":"IF(Propostas!$C13=\"\",\"\",VLOOKUP($A6,Pontuação!$A$5:$V$203,COLUMN(Q:Q),0))","v":3},{"$f":"IF(Propostas!$C13=\"\",\"\",VLOOKUP($A6,Pontuação!$A$5:$V$203,COLUMN(R:R),0))","v":3},{"$f":"IF(Propostas!$C13=\"\",\"\",VLOOKUP($A6,Pontuação!$A$5:$V$203,COLUMN(S:S),0))","v":3.9885211774165095},{"$f":"IF(Propostas!$C13=\"\",\"\",VLOOKUP($A6,Pontuação!$A$5:$V$203,COLUMN(T:T),0))","v":5},{"$f":"IF(Propostas!$C13=\"\",\"\",VLOOKUP($A6,Pontuação!$A$5:$V$203,COLUMN(U:U),0))","v":5},{"$f":"IF(Propostas!$B13=\"\",\"\",SUM(C6:U6))","v":74.929791009444983},{"$f":"IF(Propostas!$C13=\"\",\"\",RANK(V6,$V$5:$V$203,0))","v":2},{"$f":"IF(Propostas!$C13=\"\",\"\",VLOOKUP(B6,Propostas[],3,0))","v":444.56644},{"$f":"IF(Propostas!$C13=\"\",\"\",Y5-X6)","v":4720.8765000000003},{"$f":"IF(Propostas!$C13=\"\",\"\",IF(Y6>0,\"S\",\"N\"))","v":"S"},{"$f":"Y4-AA4","v":1063.5632699999987}]
[{"$f":"IF(Propostas!$C14=\"\",\"\",ROW(3:3))","v":3},{"$f":"IF(Propostas!$C14=\"\",\"\",VLOOKUP($A7,Pontuação!$A$5:$V$203,COLUMN(B:B),0))","v":"P7"},{"$f":"IF(Propostas!$C14=\"\",\"\",VLOOKUP($A7,Pontuação!$A$5:$V$203,COLUMN(C:C),0))","v":18.431603921472867},{"$f":"IF(Propostas!$C14=\"\",\"\",VLOOKUP($A7,Pontuação!$A$5:$V$203,COLUMN(D:D),0))","v":1.7777777777777777},{"$f":"IF(Propostas!$C14=\"\",\"\",VLOOKUP($A7,Pontuação!$A$5:$V$203,COLUMN(E:E),0))","v":4.9999999999999991},{"$f":"IF(Propostas!$C14=\"\",\"\",VLOOKUP($A7,Pontuação!$A$5:$V$203,COLUMN(F:F),0))","v":4.3626270963528677},{"$f":"IF(Propostas!$C14=\"\",\"\",VLOOKUP($A7,Pontuação!$A$5:$V$203,COLUMN(G:G),0))","v":4.8395350130708055},{"$f":"IF(Propostas!$C14=\"\",\"\",VLOOKUP($A7,Pontuação!$A$5:$V$203,COLUMN(H:H),0))","v":2.25},{"$f":"IF(Propostas!$C14=\"\",\"\",VLOOKUP($A7,Pontuação!$A$5:$V$203,COLUMN(I:I),0))","v":1.5},{"$f":"IF(Propostas!$C14=\"\",\"\",VLOOKUP($A7,Pontuação!$A$5:$V$203,COLUMN(J:J),0))","v":2.25},{"$f":"IF(Propostas!$C14=\"\",\"\",VLOOKUP($A7,Pontuação!$A$5:$V$203,COLUMN(K:K),0))","v":3},{"$f":"IF(Propostas!$C14=\"\",\"\",VLOOKUP($A7,Pontuação!$A$5:$V$203,COLUMN(L:L),0))","v":0.75},{"$f":"IF(Propostas!$C14=\"\",\"\",VLOOKUP($A7,Pontuação!$A$5:$V$203,COLUMN(M:M),0))","v":1},{"$f":"IF(Propostas!$C14=\"\",\"\",VLOOKUP($A7,Pontuação!$A$5:$V$203,COLUMN(N:N),0))","v":0},{"$f":"IF(Propostas!$C14=\"\",\"\",VLOOKUP($A7,Pontuação!$A$5:$V$203,COLUMN(O:O),0))","v":6},{"$f":"IF(Propostas!$C14=\"\",\"\",VLOOKUP($A7,Pontuação!$A$5:$V$203,COLUMN(P:P),0))","v":3},{"$f":"IF(Propostas!$C14=\"\",\"\",VLOOKUP($A7,Pontuação!$A$5:$V$203,COLUMN(Q:Q),0))","v":3},{"$f":"IF(Propostas!$C14=\"\",\"\",VLOOKUP($A7,Pontuação!$A$5:$V$203,COLUMN(R:R),0))","v":3},{"$f":"IF(Propostas!$C14=\"\",\"\",VLOOKUP($A7,Pontuação!$A$5:$V$203,COLUMN(S:S),0))","v":9.9166375594033926},{"$f":"IF(Propostas!$C14=\"\",\"\",VLOOKUP($A7,Pontuação!$A$5:$V$203,COLUMN(T:T),0))","v":0},{"$f":"IF(Propostas!$C14=\"\",\"\",VLOOKUP($A7,Pontuação!$A$5:$V$203,COLUMN(U:U),0))","v":0.97578270121900235},{"$f":"IF(Propostas!$B14=\"\",\"\",SUM(C7:U7))","v":71.053964069296711},{"$f":"IF(Propostas!$C14=\"\",\"\",RANK(V7,$V$5:$V$203,0))","v":3},{"$f":"IF(Propostas!$C14=\"\",\"\",VLOOKUP(B7,Propostas[],3,0))","v":1355.3316299999999},{"$f":"IF(Propostas!$C14=\"\",\"\",Y6-X7)","v":3365.5448700000006},{"$f":"IF(Propostas!$C14=\"\",\"\",IF(Y7>0,\"S\",\"N\"))","v":"S"}]
[{"$f":"IF(Propostas!$C15=\"\",\"\",ROW(4:4))","v":4},{"$f":"IF(Propostas!$C15=\"\",\"\",VLOOKUP($A8,Pontuação!$A$5:$V$203,COLUMN(B:B),0))","v":"P1"},{"$f":"IF(Propostas!$C15=\"\",\"\",VLOOKUP($A8,Pontuação!$A$5:$V$203,COLUMN(C:C),0))","v":23.406401057969894},{"$f":"IF(Propostas!$C15=\"\",\"\",VLOOKUP($A8,Pontuação!$A$5:$V$203,COLUMN(D:D),0))","v":7.1111111111111107},{"$f":"IF(Propostas!$C15=\"\",\"\",VLOOKUP($A8,Pontuação!$A$5:$V$203,COLUMN(E:E),0))","v":4.0783289346411511},{"$f":"IF(Propostas!$C15=\"\",\"\",VLOOKUP($A8,Pontuação!$A$5:$V$203,COLUMN(F:F),0))","v":3.3638152941923427},{"$f":"IF(Propostas!$C15=\"\",\"\",VLOOKUP($A8,Pontuação!$A$5:$V$203,COLUMN(G:G),0))","v":4.5124867901440568},{"$f":"IF(Propostas!$C15=\"\",\"\",VLOOKUP($A8,Pontuação!$A$5:$V$203,COLUMN(H:H),0))","v":2.25},{"$f":"IF(Propostas!$C15=\"\",\"\",VLOOKUP($A8,Pontuação!$A$5:$V$203,COLUMN(I:I),0))","v":1.5},{"$f":"IF(Propostas!$C15=\"\",\"\",VLOOKUP($A8,Pontuação!$A$5:$V$203,COLUMN(J:J),0))","v":2.25},{"$f":"IF(Propostas!$C15=\"\",\"\",VLOOKUP($A8,Pontuação!$A$5:$V$203,COLUMN(K:K),0))","v":3},{"$f":"IF(Propostas!$C15=\"\",\"\",VLOOKUP($A8,Pontuação!$A$5:$V$203,COLUMN(L:L),0))","v":0.75},{"$f":"IF(Propostas!$C15=\"\",\"\",VLOOKUP($A8,Pontuação!$A$5:$V$203,COLUMN(M:M),0))","v":1},{"$f":"IF(Propostas!$C15=\"\",\"\",VLOOKUP($A8,Pontuação!$A$5:$V$203,COLUMN(N:N),0))","v":0},{"$f":"IF(Propostas!$C15=\"\",\"\",VLOOKUP($A8,Pontuação!$A$5:$V$203,COLUMN(O:O),0))","v":6},{"$f":"IF(Propostas!$C15=\"\",\"\",VLOOKUP($A8,Pontuação!$A$5:$V$203,COLUMN(P:P),0))","v":3},{"$f":"IF(Propostas!$C15=\"\",\"\",VLOOKUP($A8,Pontuação!$A$5:$V$203,COLUMN(Q:Q),0))","v":3},{"$f":"IF(Propostas!$C15=\"\",\"\",VLOOKUP($A8,Pontuação!$A$5:$V$203,COLUMN(R:R),0))","v":3},{"$f":"IF(Propostas!$C15=\"\",\"\",VLOOKUP($A8,Pontuação!$A$5:$V$203,COLUMN(S:S),0))","v":0},{"$f":"IF(Propostas!$C15=\"\",\"\",VLOOKUP($A8,Pontuação!$A$5:$V$203,COLUMN(T:T),0))","v":0},{"$f":"IF(Propostas!$C15=\"\",\"\",VLOOKUP($A8,Pontuação!$A$5:$V$203,COLUMN(U:U),0))","v":0.5906717053494821},{"$f":"IF(Propostas!$B15=\"\",\"\",SUM(C8:U8))","v":68.812814893408046},{"$f":"IF(Propostas!$C15=\"\",\"\",RANK(V8,$V$5:$V$203,0))","v":4},{"$f":"IF(Propostas!$C15=\"\",\"\",VLOOKUP(B8,Propostas[],3,0))","v":939.06259},{"$f":"IF(Propostas!$C15=\"\",\"\",Y7-X8)","v":2426.4822800000006},{"$f":"IF(Propostas!$C15=\"\",\"\",IF(Y8>0,\"S\",\"N\"))","v":"S"}]
[{"$f":"IF(Propostas!$C16=\"\",\"\",ROW(5:5))","v":5},{"$f":"IF(Propostas!$C16=\"\",\"\",VLOOKUP($A9,Pontuação!$A$5:$V$203,COLUMN(B:B),0))","v":"P4"},{"$f":"IF(Propostas!$C16=\"\",\"\",VLOOKUP($A9,Pontuação!$A$5:$V$203,COLUMN(C:C),0))","v":20.511605955432849},{"$f":"IF(Propostas!$C16=\"\",\"\",VLOOKUP($A9,Pontuação!$A$5:$V$203,COLUMN(D:D),0))","v":4.4444444444444446},{"$f":"IF(Propostas!$C16=\"\",\"\",VLOOKUP($A9,Pontuação!$A$5:$V$203,COLUMN(E:E),0))","v":4.4456671400728949},{"$f":"IF(Propostas!$C16=\"\",\"\",VLOOKUP($A9,Pontuação!$A$5:$V$203,COLUMN(F:F),0))","v":2.5365393511169967},{"$f":"IF(Propostas!$C16=\"\",\"\",VLOOKUP($A9,Pontuação!$A$5:$V$203,COLUMN(G:G),0))","v":2.2225930251960619},{"$f":"IF(Propostas!$C16=\"\",\"\",VLOOKUP($A9,Pontuação!$A$5:$V$203,COLUMN(H:H),0))","v":3},{"$f":"IF(Propostas!$C16=\"\",\"\",VLOOKUP($A9,Pontuação!$A$5:$V$203,COLUMN(I:I),0))","v":1.5},{"$f":"IF(Propostas!$C16=\"\",\"\",VLOOKUP($A9,Pontuação!$A$5:$V$203,COLUMN(J:J),0))","v":2.25},{"$f":"IF(Propostas!$C16=\"\",\"\",VLOOKUP($A9,Pontuação!$A$5:$V$203,COLUMN(K:K),0))","v":3},{"$f":"IF(Propostas!$C16=\"\",\"\",VLOOKUP($A9,Pontuação!$A$5:$V$203,COLUMN(L:L),0))","v":0.75},{"$f":"IF(Propostas!$C16=\"\",\"\",VLOOKUP($A9,Pontuação!$A$5:$V$203,COLUMN(M:M),0))","v":1.5},{"$f":"IF(Propostas!$C16=\"\",\"\",VLOOKUP($A9,Pontuação!$A$5:$V$203,COLUMN(N:N),0))","v":0},{"$f":"IF(Propostas!$C16=\"\",\"\",VLOOKUP($A9,Pontuação!$A$5:$V$203,COLUMN(O:O),0))","v":6},{"$f":"IF(Propostas!$C16=\"\",\"\",VLOOKUP($A9,Pontuação!$A$5:$V$203,COLUMN(P:P),0))","v":3},{"$f":"IF(Propostas!$C16=\"\",\"\",VLOOKUP($A9,Pontuação!$A$5:$V$203,COLUMN(Q:Q),0))","v":3},{"$f":"IF(Propostas!$C16=\"\",\"\",VLOOKUP($A9,Pontuação!$A$5:$V$203,COLUMN(R:R),0))","v":3},{"$f":"IF(Propostas!$C16=\"\",\"\",VLOOKUP($A9,Pontuação!$A$5:$V$203,COLUMN(S:S),0))","v":5.8443215137110665},{"$f":"IF(Propostas!$C16=\"\",\"\",VLOOKUP($A9,Pontuação!$A$5:$V$203,COLUMN(T:T),0))","v":0},{"$f":"IF(Propostas!$C16=\"\",\"\",VLOOKUP($A9,Pontuação!$A$5:$V$203,COLUMN(U:U),0))","v":1.7864949672980543},{"$f":"IF(Propostas!$B16=\"\",\"\",SUM(C9:U9))","v":68.791666397272365},{"$f":"IF(Propostas!$C16=\"\",\"\",RANK(V9,$V$5:$V$203,0))","v":5},{"$f":"IF(Propostas!$C16=\"\",\"\",VLOOKUP(B9,Propostas[],3,0))","v":545.85755000000006},{"$f":"IF(Propostas!$C16=\"\",\"\",Y8-X9)","v":1880.6247300000005},{"$f":"IF(Propostas!$C16=\"\",\"\",IF(Y9>0,\"S\",\"N\"))","v":"S"}]
[{"$f":"IF(Propostas!$C17=\"\",\"\",ROW(6:6))","v":6},{"$f":"IF(Propostas!$C17=\"\",\"\",VLOOKUP($A10,Pontuação!$A$5:$V$203,COLUMN(B:B),0))","v":"P8"},{"$f":"IF(Propostas!$C17=\"\",\"\",VLOOKUP($A10,Pontuação!$A$5:$V$203,COLUMN(C:C),0))","v":19.245795112935873},{"$f":"IF(Propostas!$C17=\"\",\"\",VLOOKUP($A10,Pontuação!$A$5:$V$203,COLUMN(D:D),0))","v":2.6666666666666665},{"$f":"IF(Propostas!$C17=\"\",\"\",VLOOKUP($A10,Pontuação!$A$5:$V$203,COLUMN(E:E),0))","v":3.9637106559884394},{"$f":"IF(Propostas!$C17=\"\",\"\",VLOOKUP($A10,Pontuação!$A$5:$V$203,COLUMN(F:F),0))","v":2.7024879592928861},{"$f":"IF(Propostas!$C17=\"\",\"\",VLOOKUP($A10,Pontuação!$A$5:$V$203,COLUMN(G:G),0))","v":2.2120251404416265},{"$f":"IF(Propostas!$C17=\"\",\"\",VLOOKUP($A10,Pontuação!$A$5:$V$203,COLUMN(H:H),0))","v":3},{"$f":"IF(Propostas!$C17=\"\",\"\",VLOOKUP($A10,Pontuação!$A$5:$V$203,COLUMN(I:I),0))","v":1.5},{"$f":"IF(Propostas!$C17=\"\",\"\",VLOOKUP($A10,Pontuação!$A$5:$V$203,COLUMN(J:J),0))","v":2.25},{"$f":"IF(Propostas!$C17=\"\",\"\",VLOOKUP($A10,Pontuação!$A$5:$V$203,COLUMN(K:K),0))","v":3},{"$f":"IF(Propostas!$C17=\"\",\"\",VLOOKUP($A10,Pontuação!$A$5:$V$203,COLUMN(L:L),0))","v":0.75},{"$f":"IF(Propostas!$C17=\"\",\"\",VLOOKUP($A10,Pontuação!$A$5:$V$203,COLUMN(M:M),0))","v":1.5},{"$f":"IF(Propostas!$C17=\"\",\"\",VLOOKUP($A10,Pontuação!$A$5:$V$203,COLUMN(N:N),0))","v":0},{"$f":"IF(Propostas!$C17=\"\",\"\",VLOOKUP($A10,Pontuação!$A$5:$V$203,COLUMN(O:O),0))","v":6},{"$f":"IF(Propostas!$C17=\"\",\"\",VLOOKUP($A10,Pontuação!$A$5:$V$203,COLUMN(P:P),0))","v":3},{"$f":"IF(Propostas!$C17=\"\",\"\",VLOOKUP($A10,Pontuação!$A$5:$V$203,COLUMN(Q:Q),0))","v":3},{"$f":"IF(Propostas!$C17=\"\",\"\",VLOOKUP($A10,Pontuação!$A$5:$V$203,COLUMN(R:R),0))","v":3},{"$f":"IF(Propostas!$C17=\"\",\"\",VLOOKUP($A10,Pontuação!$A$5:$V$203,COLUMN(S:S),0))","v":2.1401251483346218},{"$f":"IF(Propostas!$C17=\"\",\"\",VLOOKUP($A10,Pontuação!$A$5:$V$203,COLUMN(T:T),0))","v":4.7101828768462299},{"$f":"IF(Propostas!$C17=\"\",\"\",VLOOKUP($A10,Pontuação!$A$5:$V$203,COLUMN(U:U),0))","v":3.7145800496003596},{"$f":"IF(Propostas!$B17=\"\",\"\",SUM(C10:U10))","v":68.355573610106703},{"$f":"IF(Propostas!$C17=\"\",\"\",RANK(V10,$V$5:$V$203,0))","v":6},{"$f":"IF(Propostas!$C17=\"\",\"\",VLOOKUP(B10,Propostas[],3,0))","v":623.35928999999999},{"$f":"IF(Propostas!$C17=\"\",\"\",Y9-X10)","v":1257.2654400000006},{"$f":"IF(Propostas!$C17=\"\",\"\",IF(Y10>0,\"S\",\"N\"))","v":"S"}]
[{"$f":"IF(Propostas!$C18=\"\",\"\",ROW(7:7))","v":7},{"$f":"IF(Propostas!$C18=\"\",\"\",VLOOKUP($A11,Pontuação!$A$5:$V$203,COLUMN(B:B),0))","v":"P3"},{"$f":"IF(Propostas!$C18=\"\",\"\",VLOOKUP($A11,Pontuação!$A$5:$V$203,COLUMN(C:C),0))","v":24},{"$f":"IF(Propostas!$C18=\"\",\"\",VLOOKUP($A11,Pontuação!$A$5:$V$203,COLUMN(D:D),0))","v":8},{"$f":"IF(Propostas!$C18=\"\",\"\",VLOOKUP($A11,Pontuação!$A$5:$V$203,COLUMN(E:E),0))","v":4.1745609380030704},{"$f":"IF(Propostas!$C18=\"\",\"\",VLOOKUP($A11,Pontuação!$A$5:$V$203,COLUMN(F:F),0))","v":1.6290827294083501},{"$f":"IF(Propostas!$C18=\"\",\"\",VLOOKUP($A11,Pontuação!$A$5:$V$203,COLUMN(G:G),0))","v":0.67968185104844547},{"$f":"IF(Propostas!$C18=\"\",\"\",VLOOKUP($A11,Pontuação!$A$5:$V$203,COLUMN(H:H),0))","v":1.5},{"$f":"IF(Propostas!$C18=\"\",\"\",VLOOKUP($A11,Pontuação!$A$5:$V$203,COLUMN(I:I),0))","v":1.5},{"$f":"IF(Propostas!$C18=\"\",\"\",VLOOKUP($A11,Pontuação!$A$5:$V$203,COLUMN(J:J),0))","v":2.25},{"$f":"IF(Propostas!$C18=\"\",\"\",VLOOKUP($A11,Pontuação!$A$5:$V$203,COLUMN(K:K),0))","v":3},{"$f":"IF(Propostas!$C18=\"\",\"\",VLOOKUP($A11,Pontuação!$A$5:$V$203,COLUMN(L:L),0))","v":0.75},{"$f":"IF(Propostas!$C18=\"\",\"\",VLOOKUP($A11,Pontuação!$A$5:$V$203,COLUMN(M:M),0))","v":1},{"$f":"IF(Propostas!$C18=\"\",\"\",VLOOKUP($A11,Pontuação!$A$5:$V$203,COLUMN(N:N),0))","v":0},{"$f":"IF(Propostas!$C18=\"\",\"\",VLOOKUP($A11,Pontuação!$A$5:$V$203,COLUMN(O:O),0))","v":6},{"$f":"IF(Propostas!$C18=\"\",\"\",VLOOKUP($A11,Pontuação!$A$5:$V$203,COLUMN(P:P),0))","v":3},{"$f":"IF(Propostas!$C18=\"\",\"\",VLOOKUP($A11,Pontuação!$A$5:$V$203,COLUMN(Q:Q),0))","v":3},{"$f":"IF(Propostas!$C18=\"\",\"\",VLOOKUP($A11,Pontuação!$A$5:$V$203,COLUMN(R:R),0))","v":3},{"$f":"IF(Propostas!$C18=\"\",\"\",VLOOKUP($A11,Pontuação!$A$5:$V$203,COLUMN(S:S),0))","v":1.8071861864776457},{"$f":"IF(Propostas!$C18=\"\",\"\",VLOOKUP($A11,Pontuação!$A$5:$V$203,COLUMN(T:T),0))","v":0},{"$f":"IF(Propostas!$C18=\"\",\"\",VLOOKUP($A11,Pontuação!$A$5:$V$203,COLUMN(U:U),0))","v":2.7564560115156675},{"$f":"IF(Propostas!$B18=\"\",\"\",SUM(C11:U11))","v":68.046967716453182},{"$f":"IF(Propostas!$C18=\"\",\"\",RANK(V11,$V$5:$V$203,0))","v":7},{"$f":"IF(Propostas!$C18=\"\",\"\",VLOOKUP(B11,Propostas[],3,0))","v":193.70217000000002},{"$f":"IF(Propostas!$C18=\"\",\"\",Y10-X11)","v":1063.5632700000006},{"$f":"IF(Propostas!$C18=\"\",\"\",IF(Y11>0,\"S\",\"N\"))","v":"S"}]
[{"$f":"IF(Propostas!$C19=\"\",\"\",ROW(8:8))","v":8},{"$f":"IF(Propostas!$C19=\"\",\"\",VLOOKUP($A12,Pontuação!$A$5:$V$203,COLUMN(B:B),0))","v":"P6"},{"$f":"IF(Propostas!$C19=\"\",\"\",VLOOKUP($A12,Pontuação!$A$5:$V$203,COLUMN(C:C),0))","v":20.344458731448231},{"$f":"IF(Propostas!$C19=\"\",\"\",VLOOKUP($A12,Pontuação!$A$5:$V$203,COLUMN(D:D),0))","v":3.5555555555555554},{"$f":"IF(Propostas!$C19=\"\",\"\",VLOOKUP($A12,Pontuação!$A$5:$V$203,COLUMN(E:E),0))","v":4.0953320661968196},{"$f":"IF(Propostas!$C19=\"\",\"\",VLOOKUP($A12,Pontuação!$A$5:$V$203,COLUMN(F:F),0))","v":8},{"$f":"IF(Propostas!$C19=\"\",\"\",VLOOKUP($A12,Pontuação!$A$5:$V$203,COLUMN(G:G),0))","v":3.3820012236498136},{"$f":"IF(Propostas!$C19=\"\",\"\",VLOOKUP($A12,Pontuação!$A$5:$V$203,COLUMN(H:H),0))","v":3},{"$f":"IF(Propostas!$C19=\"\",\"\",VLOOKUP($A12,Pontuação!$A$5:$V$203,COLUMN(I:I),0))","v":1.5},{"$f":"IF(Propostas!$C19=\"\",\"\",VLOOKUP($A12,Pontuação!$A$5:$V$203,COLUMN(J:J),0))","v":2.25},{"$f":"IF(Propostas!$C19=\"\",\"\",VLOOKUP($A12,Pontuação!$A$5:$V$203,COLUMN(K:K),0))","v":3},{"$f":"IF(Propostas!$C19=\"\",\"\",VLOOKUP($A12,Pontuação!$A$5:$V$203,COLUMN(L:L),0))","v":0.75},{"$f":"IF(Propostas!$C19=\"\",\"\",VLOOKUP($A12,Pontuação!$A$5:$V$203,COLUMN(M:M),0))","v":2},{"$f":"IF(Propostas!$C19=\"\",\"\",VLOOKUP($A12,Pontuação!$A$5:$V$203,COLUMN(N:N),0))","v":0},{"$f":"IF(Propostas!$C19=\"\",\"\",VLOOKUP($A12,Pontuação!$A$5:$V$203,COLUMN(O:O),0))","v":6},{"$f":"IF(Propostas!$C19=\"\",\"\",VLOOKUP($A12,Pontuação!$A$5:$V$203,COLUMN(P:P),0))","v":3},{"$f":"IF(Propostas!$C19=\"\",\"\",VLOOKUP($A12,Pontuação!$A$5:$V$203,COLUMN(Q:Q),0))","v":3},{"$f":"IF(Propostas!$C19=\"\",\"\",VLOOKUP($A12,Pontuação!$A$5:$V$203,COLUMN(R:R),0))","v":3},{"$f":"IF(Propostas!$C19=\"\",\"\",VLOOKUP($A12,Pontuação!$A$5:$V$203,COLUMN(S:S),0))","v":0},{"$f":"IF(Propostas!$C19=\"\",\"\",VLOOKUP($A12,Pontuação!$A$5:$V$203,COLUMN(T:T),0))","v":0},{"$f":"IF(Propostas!$C19=\"\",\"\",VLOOKUP($A12,Pontuação!$A$5:$V$203,COLUMN(U:U),0))","v":0.63248653529948806},{"$f":"IF(Propostas!$B19=\"\",\"\",SUM(C12:U12))","v":67.509834112149903},{"$f":"IF(Propostas!$C19=\"\",\"\",RANK(V12,$V$5:$V$203,0))","v":8},{"$f":"IF(Propostas!$C19=\"\",\"\",VLOOKUP(B12,Propostas[],3,0))","v":2217.0040800000002},{"$f":"IF(Propostas!$C19=\"\",\"\",Y11-X12)","v":-1153.4408099999996},{"$f":"IF(Propostas!$C19=\"\",\"\",IF(Y12>0,\"S\",\"N\"))","v":"N"}]
[{"$f":"IF(Propostas!$C20=\"\",\"\",ROW(9:9))","v":9},{"$f":"IF(Propostas!$C20=\"\",\"\",VLOOKUP($A13,Pontuação!$A$5:$V$203,COLUMN(B:B),0))","v":"P5"},{"$f":"IF(Propostas!$C20=\"\",\"\",VLOOKUP($A13,Pontuação!$A$5:$V$203,COLUMN(C:C),0))","v":17.866938194944638},{"$f":"IF(Propostas!$C20=\"\",\"\",VLOOKUP($A13,Pontuação!$A$5:$V$203,COLUMN(D:D),0))","v":0.88888888888888884},{"$f":"IF(Propostas!$C20=\"\",\"\",VLOOKUP($A13,Pontuação!$A$5:$V$203,COLUMN(E:E),0))","v":4.57485579538558},{"$f":"IF(Propostas!$C20=\"\",\"\",VLOOKUP($A13,Pontuação!$A$5:$V$203,COLUMN(F:F),0))","v":3.2543196887103067},{"$f":"IF(Propostas!$C20=\"\",\"\",VLOOKUP($A13,Pontuação!$A$5:$V$203,COLUMN(G:G),0))","v":4.1843261582957894},{"$f":"IF(Propostas!$C20=\"\",\"\",VLOOKUP($A13,Pontuação!$A$5:$V$203,COLUMN(H:H),0))","v":2.25},{"$f":"IF(Propostas!$C20=\"\",\"\",VLOOKUP($A13,Pontuação!$A$5:$V$203,COLUMN(I:I),0))","v":1.5},{"$f":"IF(Propostas!$C20=\"\",\"\",VLOOKUP($A13,Pontuação!$A$5:$V$203,COLUMN(J:J),0))","v":2.25},{"$f":"IF(Propostas!$C20=\"\",\"\",VLOOKUP($A13,Pontuação!$A$5:$V$203,COLUMN(K:K),0))","v":3},{"$f":"IF(Propostas!$C20=\"\",\"\",VLOOKUP($A13,Pontuação!$A$5:$V$203,COLUMN(L:L),0))","v":0.75},{"$f":"IF(Propostas!$C20=\"\",\"\",VLOOKUP($A13,Pontuação!$A$5:$V$203,COLUMN(M:M),0))","v":1.5},{"$f":"IF(Propostas!$C20=\"\",\"\",VLOOKUP($A13,Pontuação!$A$5:$V$203,COLUMN(N:N),0))","v":0},{"$f":"IF(Propostas!$C20=\"\",\"\",VLOOKUP($A13,Pontuação!$A$5:$V$203,COLUMN(O:O),0))","v":6},{"$f":"IF(Propostas!$C20=\"\",\"\",VLOOKUP($A13,Pontuação!$A$5:$V$203,COLUMN(P:P),0))","v":3},{"$f":"IF(Propostas!$C20=\"\",\"\",VLOOKUP($A13,Pontuação!$A$5:$V$203,COLUMN(Q:Q),0))","v":3},{"$f":"IF(Propostas!$C20=\"\",\"\",VLOOKUP($A13,Pontuação!$A$5:$V$203,COLUMN(R:R),0))","v":3},{"$f":"IF(Propostas!$C20=\"\",\"\",VLOOKUP($A13,Pontuação!$A$5:$V$203,COLUMN(S:S),0))","v":8.3679688415051618},{"$f":"IF(Propostas!$C20=\"\",\"\",VLOOKUP($A13,Pontuação!$A$5:$V$203,COLUMN(T:T),0))","v":0},{"$f":"IF(Propostas!$C20=\"\",\"\",VLOOKUP($A13,Pontuação!$A$5:$V$203,COLUMN(U:U),0))","v":2.1132813475473249},{"$f":"IF(Propostas!$B20=\"\",\"\",SUM(C13:U13))","v":67.5005789152777},{"$f":"IF(Propostas!$C20=\"\",\"\",RANK(V13,$V$5:$V$203,0))","v":9},{"$f":"IF(Propostas!$C20=\"\",\"\",VLOOKUP(B13,Propostas[],3,0))","v":947.92376999999999},{"$f":"IF(Propostas!$C20=\"\",\"\",Y12-X13)","v":-2101.3645799999995},{"$f":"IF(Propostas!$C20=\"\",\"\",IF(Y13>0,\"S\",\"N\"))","v":"N"}]
[{"$f":"IF(Propostas!$C21=\"\",\"\",ROW(10:10))","v":10},{"$f":"IF(Propostas!$C21=\"\",\"\",VLOOKUP($A14,Pontuação!$A$5:$V$203,COLUMN(B:B),0))","v":"P10"},{"$f":"IF(Propostas!$C21=\"\",\"\",VLOOKUP($A14,Pontuação!$A$5:$V$203,COLUMN(C:C),0))","v":17.79237973939048},{"$f":"IF(Propostas!$C21=\"\",\"\",VLOOKUP($A14,Pontuação!$A$5:$V$203,COLUMN(D:D),0))","v":0},{"$f":"IF(Propostas!$C21=\"\",\"\",VLOOKUP($A14,Pontuação!$A$5:$V$203,COLUMN(E:E),0))","v":3.6900463359970299},{"$f":"IF(Propostas!$C21=\"\",\"\",VLOOKUP($A14,Pontuação!$A$5:$V$203,COLUMN(F:F),0))","v":0.60763167681018759},{"$f":"IF(Propostas!$C21=\"\",\"\",VLOOKUP($A14,Pontuação!$A$5:$V$203,COLUMN(G:G),0))","v":0.88102786584348403},{"$f":"IF(Propostas!$C21=\"\",\"\",VLOOKUP($A14,Pontuação!$A$5:$V$203,COLUMN(H:H),0))","v":2.25},{"$f":"IF(Propostas!$C21=\"\",\"\",VLOOKUP($A14,Pontuação!$A$5:$V$203,COLUMN(I:I),0))","v":1.5},{"$f":"IF(Propostas!$C21=\"\",\"\",VLOOKUP($A14,Pontuação!$A$5:$V$203,COLUMN(J:J),0))","v":2.25},{"$f":"IF(Propostas!$C21=\"\",\"\",VLOOKUP($A14,Pontuação!$A$5:$V$203,COLUMN(K:K),0))","v":3},{"$f":"IF(Propostas!$C21=\"\",\"\",VLOOKUP($A14,Pontuação!$A$5:$V$203,COLUMN(L:L),0))","v":0.75},{"$f":"IF(Propostas!$C21=\"\",\"\",VLOOKUP($A14,Pontuação!$A$5:$V$203,COLUMN(M:M),0))","v":1.5},{"$f":"IF(Propostas!$C21=\"\",\"\",VLOOKUP($A14,Pontuação!$A$5:$V$203,COLUMN(N:N),0))","v":0},{"$f":"IF(Propostas!$C21=\"\",\"\",VLOOKUP($A14,Pontuação!$A$5:$V$203,COLUMN(O:O),0))","v":6},{"$f":"IF(Propostas!$C21=\"\",\"\",VLOOKUP($A14,Pontuação!$A$5:$V$203,COLUMN(P:P),0))","v":3},{"$f":"IF(Propostas!$C21=\"\",\"\",VLOOKUP($A14,Pontuação!$A$5:$V$203,COLUMN(Q:Q),0))","v":3},{"$f":"IF(Propostas!$C21=\"\",\"\",VLOOKUP($A14,Pontuação!$A$5:$V$203,COLUMN(R:R),0))","v":3},{"$f":"IF(Propostas!$C21=\"\",\"\",VLOOKUP($A14,Pontuação!$A$5:$V$203,COLUMN(S:S),0))","v":0},{"$f":"IF(Propostas!$C21=\"\",\"\",VLOOKUP($A14,Pontuação!$A$5:$V$203,COLUMN(T:T),0))","v":0},{"$f":"IF(Propostas!$C21=\"\",\"\",VLOOKUP($A14,Pontuação!$A$5:$V$203,COLUMN(U:U),0))","v":2.5305687859467123},{"$f":"IF(Propostas!$B21=\"\",\"\",SUM(C14:U14))","v":51.751654403987892},{"$f":"IF(Propostas!$C21=\"\",\"\",RANK(V14,$V$5:$V$203,0))","v":10},{"$f":"IF(Propostas!$C21=\"\",\"\",VLOOKUP(B14,Propostas[],3,0))","v":192.88801000000001},{"$f":"IF(Propostas!$C21=\"\",\"\",Y13-X14)","v":-2294.2525899999996},{"$f":"IF(Propostas!$C21=\"\",\"\",IF(Y14>0,\"S\",\"N\"))","v":"N"}]
[{"$f":"IF(Propostas!$C22=\"\",\"\",ROW(11:11))","v":""},{"$f":"IF(Propostas!$C22=\"\",\"\",VLOOKUP($A15,Pontuação!$A$5:$V$203,COLUMN(B:B),0))","v":""},{"$f":"IF(Propostas!$C22=\"\",\"\",VLOOKUP($A15,Pontuação!$A$5:$V$203,COLUMN(C:C),0))","v":""},{"$f":"IF(Propostas!$C22=\"\",\"\",VLOOKUP($A15,Pontuação!$A$5:$V$203,COLUMN(D:D),0))","v":""},{"$f":"IF(Propostas!$C22=\"\",\"\",VLOOKUP($A15,Pontuação!$A$5:$V$203,COLUMN(E:E),0))","v":""},{"$f":"IF(Propostas!$C22=\"\",\"\",VLOOKUP($A15,Pontuação!$A$5:$V$203,COLUMN(F:F),0))","v":""},{"$f":"IF(Propostas!$C22=\"\",\"\",VLOOKUP($A15,Pontuação!$A$5:$V$203,COLUMN(G:G),0))","v":""},{"$f":"IF(Propostas!$C22=\"\",\"\",VLOOKUP($A15,Pontuação!$A$5:$V$203,COLUMN(H:H),0))","v":""},{"$f":"IF(Propostas!$C22=\"\",\"\",VLOOKUP($A15,Pontuação!$A$5:$V$203,COLUMN(I:I),0))","v":""},{"$f":"IF(Propostas!$C22=\"\",\"\",VLOOKUP($A15,Pontuação!$A$5:$V$203,COLUMN(J:J),0))","v":""},{"$f":"IF(Propostas!$C22=\"\",\"\",VLOOKUP($A15,Pontuação!$A$5:$V$203,COLUMN(K:K),0))","v":""},{"$f":"IF(Propostas!$C22=\"\",\"\",VLOOKUP($A15,Pontuação!$A$5:$V$203,COLUMN(L:L),0))","v":""},{"$f":"IF(Propostas!$C22=\"\",\"\",VLOOKUP($A15,Pontuação!$A$5:$V$203,COLUMN(M:M),0))","v":""},{"$f":"IF(Propostas!$C22=\"\",\"\",VLOOKUP($A15,Pontuação!$A$5:$V$203,COLUMN(N:N),0))","v":""},{"$f":"IF(Propostas!$C22=\"\",\"\",VLOOKUP($A15,Pontuação!$A$5:$V$203,COLUMN(O:O),0))","v":""},{"$f":"IF(Propostas!$C22=\"\",\"\",VLOOKUP($A15,Pontuação!$A$5:$V$203,COLUMN(P:P),0))","v":""},{"$f":"IF(Propostas!$C22=\"\",\"\",VLOOKUP($A15,Pontuação!$A$5:$V$203,COLUMN(Q:Q),0))","v":""},{"$f":"IF(Propostas!$C22=\"\",\"\",VLOOKUP($A15,Pontuação!$A$5:$V$203,COLUMN(R:R),0))","v":""},{"$f":"IF(Propostas!$C22=\"\",\"\",VLOOKUP($A15,Pontuação!$A$5:$V$203,COLUMN(S:S),0))","v":""},{"$f":"IF(Propostas!$C22=\"\",\"\",VLOOKUP($A15,Pontuação!$A$5:$V$203,COLUMN(T:T),0))","v":""},{"$f":"IF(Propostas!$C22=\"\",\"\",VLOOKUP($A15,Pontuação!$A$5:$V$203,COLUMN(U:U),0))","v":""},{"$f":"IF(Propostas!$B22=\"\",\"\",SUM(C15:U15))","v":""},{"$f":"IF(Propostas!$C22=\"\",\"\",RANK(V15,$V$5:$V$203,0))","v":""},{"$f":"IF(Propostas!$C22=\"\",\"\",VLOOKUP(B15,Propostas[],3,0))","v":""},{"$f":"IF(Propostas!$C22=\"\",\"\",Y14-X15)","v":""},{"$f":"IF(Propostas!$C22=\"\",\"\",IF(Y15>0,\"S\",\"N\"))","v":""}]
[{"$f":"IF(Propostas!$C23=\"\",\"\",ROW(12:12))","v":""},{"$f":"IF(Propostas!$C23=\"\",\"\",VLOOKUP($A16,Pontuação!$A$5:$V$203,COLUMN(B:B),0))","v":""},{"$f":"IF(Propostas!$C23=\"\",\"\",VLOOKUP($A16,Pontuação!$A$5:$V$203,COLUMN(C:C),0))","v":""},{"$f":"IF(Propostas!$C23=\"\",\"\",VLOOKUP($A16,Pontuação!$A$5:$V$203,COLUMN(D:D),0))","v":""},{"$f":"IF(Propostas!$C23=\"\",\"\",VLOOKUP($A16,Pontuação!$A$5:$V$203,COLUMN(E:E),0))","v":""},{"$f":"IF(Propostas!$C23=\"\",\"\",VLOOKUP($A16,Pontuação!$A$5:$V$203,COLUMN(F:F),0))","v":""},{"$f":"IF(Propostas!$C23=\"\",\"\",VLOOKUP($A16,Pontuação!$A$5:$V$203,COLUMN(G:G),0))","v":""},{"$f":"IF(Propostas!$C23=\"\",\"\",VLOOKUP($A16,Pontuação!$A$5:$V$203,COLUMN(H:H),0))","v":""},{"$f":"IF(Propostas!$C23=\"\",\"\",VLOOKUP($A16,Pontuação!$A$5:$V$203,COLUMN(I:I),0))","v":""},{"$f":"IF(Propostas!$C23=\"\",\"\",VLOOKUP($A16,Pontuação!$A$5:$V$203,COLUMN(J:J),0))","v":""},{"$f":"IF(Propostas!$C23=\"\",\"\",VLOOKUP($A16,Pontuação!$A$5:$V$203,COLUMN(K:K),0))","v":""},{"$f":"IF(Propostas!$C23=\"\",\"\",VLOOKUP($A16,Pontuação!$A$5:$V$203,COLUMN(L:L),0))","v":""},{"$f":"IF(Propostas!$C23=\"\",\"\",VLOOKUP($A16,Pontuação!$A$5:$V$203,COLUMN(M:M),0))","v":""},{"$f":"IF(Propostas!$C23=\"\",\"\",VLOOKUP($A16,Pontuação!$A$5:$V$203,COLUMN(N:N),0))","v":""},{"$f":"IF(Propostas!$C23=\"\",\"\",VLOOKUP($A16,Pontuação!$A$5:$V$203,COLUMN(O:O),0))","v":""},{"$f":"IF(Propostas!$C23=\"\",\"\",VLOOKUP($A16,Pontuação!$A$5:$V$203,COLUMN(P:P),0))","v":""},{"$f":"IF(Propostas!$C23=\"\",\"\",VLOOKUP($A16,Pontuação!$A$5:$V$203,COLUMN(Q:Q),0))","v":""},{"$f":"IF(Propostas!$C23=\"\",\"\",VLOOKUP($A16,Pontuação!$A$5:$V$203,COLUMN(R:R),0))","v":""},{"$f":"IF(Propostas!$C23=\"\",\"\",VLOOKUP($A16,Pontuação!$A$5:$V$203,COLUMN(S:S),0))","v":""},{"$f":"IF(Propostas!$C23=\"\",\"\",VLOOKUP($A16,Pontuação!$A$5:$V$203,COLUMN(T:T),0))","v":""},{"$f":"IF(Propostas!$C23=\"\",\"\",VLOOKUP($A16,Pontuação!$A$5:$V$203,COLUMN(U:U),0))","v":""},{"$f":"IF(Propostas!$B23=\"\",\"\",SUM(C16:U16))","v":""},{"$f":"IF(Propostas!$C23=\"\",\"\",RANK(V16,$V$5:$V$203,0))","v":""},{"$f":"IF(Propostas!$C23=\"\",\"\",VLOOKUP(B16,Propostas[],3,0))","v":""},{"$f":"IF(Propostas!$C23=\"\",\"\",Y15-X16)","v":""},{"$f":"IF(Propostas!$C23=\"\",\"\",IF(Y16>0,\"S\",\"N\"))","v":""}]
[{"$f":"IF(Propostas!$C24=\"\",\"\",ROW(13:13))","v":""},{"$f":"IF(Propostas!$C24=\"\",\"\",VLOOKUP($A17,Pontuação!$A$5:$V$203,COLUMN(B:B),0))","v":""},{"$f":"IF(Propostas!$C24=\"\",\"\",VLOOKUP($A17,Pontuação!$A$5:$V$203,COLUMN(C:C),0))","v":""},{"$f":"IF(Propostas!$C24=\"\",\"\",VLOOKUP($A17,Pontuação!$A$5:$V$203,COLUMN(D:D),0))","v":""},{"$f":"IF(Propostas!$C24=\"\",\"\",VLOOKUP($A17,Pontuação!$A$5:$V$203,COLUMN(E:E),0))","v":""},{"$f":"IF(Propostas!$C24=\"\",\"\",VLOOKUP($A17,Pontuação!$A$5:$V$203,COLUMN(F:F),0))","v":""},{"$f":"IF(Propostas!$C24=\"\",\"\",VLOOKUP($A17,Pontuação!$A$5:$V$203,COLUMN(G:G),0))","v":""},{"$f":"IF(Propostas!$C24=\"\",\"\",VLOOKUP($A17,Pontuação!$A$5:$V$203,COLUMN(H:H),0))","v":""},{"$f":"IF(Propostas!$C24=\"\",\"\",VLOOKUP($A17,Pontuação!$A$5:$V$203,COLUMN(I:I),0))","v":""},{"$f":"IF(Propostas!$C24=\"\",\"\",VLOOKUP($A17,Pontuação!$A$5:$V$203,COLUMN(J:J),0))","v":""},{"$f":"IF(Propostas!$C24=\"\",\"\",VLOOKUP($A17,Pontuação!$A$5:$V$203,COLUMN(K:K),0))","v":""},{"$f":"IF(Propostas!$C24=\"\",\"\",VLOOKUP($A17,Pontuação!$A$5:$V$203,COLUMN(L:L),0))","v":""},{"$f":"IF(Propostas!$C24=\"\",\"\",VLOOKUP($A17,Pontuação!$A$5:$V$203,COLUMN(M:M),0))","v":""},{"$f":"IF(Propostas!$C24=\"\",\"\",VLOOKUP($A17,Pontuação!$A$5:$V$203,COLUMN(N:N),0))","v":""},{"$f":"IF(Propostas!$C24=\"\",\"\",VLOOKUP($A17,Pontuação!$A$5:$V$203,COLUMN(O:O),0))","v":""},{"$f":"IF(Propostas!$C24=\"\",\"\",VLOOKUP($A17,Pontuação!$A$5:$V$203,COLUMN(P:P),0))","v":""},{"$f":"IF(Propostas!$C24=\"\",\"\",VLOOKUP($A17,Pontuação!$A$5:$V$203,COLUMN(Q:Q),0))","v":""},{"$f":"IF(Propostas!$C24=\"\",\"\",VLOOKUP($A17,Pontuação!$A$5:$V$203,COLUMN(R:R),0))","v":""},{"$f":"IF(Propostas!$C24=\"\",\"\",VLOOKUP($A17,Pontuação!$A$5:$V$203,COLUMN(S:S),0))","v":""},{"$f":"IF(Propostas!$C24=\"\",\"\",VLOOKUP($A17,Pontuação!$A$5:$V$203,COLUMN(T:T),0))","v":""},{"$f":"IF(Propostas!$C24=\"\",\"\",VLOOKUP($A17,Pontuação!$A$5:$V$203,COLUMN(U:U),0))","v":""},{"$f":"IF(Propostas!$B24=\"\",\"\",SUM(C17:U17))","v":""},{"$f":"IF(Propostas!$C24=\"\",\"\",RANK(V17,$V$5:$V$203,0))","v":""},{"$f":"IF(Propostas!$C24=\"\",\"\",VLOOKUP(B17,Propostas[],3,0))","v":""},{"$f":"IF(Propostas!$C24=\"\",\"\",Y16-X17)","v":""},{"$f":"IF(Propostas!$C24=\"\",\"\",IF(Y17>0,\"S\",\"N\"))","v":""}]
[{"$f":"IF(Propostas!$C25=\"\",\"\",ROW(14:14))","v":""},{"$f":"IF(Propostas!$C25=\"\",\"\",VLOOKUP($A18,Pontuação!$A$5:$V$203,COLUMN(B:B),0))","v":""},{"$f":"IF(Propostas!$C25=\"\",\"\",VLOOKUP($A18,Pontuação!$A$5:$V$203,COLUMN(C:C),0))","v":""},{"$f":"IF(Propostas!$C25=\"\",\"\",VLOOKUP($A18,Pontuação!$A$5:$V$203,COLUMN(D:D),0))","v":""},{"$f":"IF(Propostas!$C25=\"\",\"\",VLOOKUP($A18,Pontuação!$A$5:$V$203,COLUMN(E:E),0))","v":""},{"$f":"IF(Propostas!$C25=\"\",\"\",VLOOKUP($A18,Pontuação!$A$5:$V$203,COLUMN(F:F),0))","v":""},{"$f":"IF(Propostas!$C25=\"\",\"\",VLOOKUP($A18,Pontuação!$A$5:$V$203,COLUMN(G:G),0))","v":""},{"$f":"IF(Propostas!$C25=\"\",\"\",VLOOKUP($A18,Pontuação!$A$5:$V$203,COLUMN(H:H),0))","v":""},{"$f":"IF(Propostas!$C25=\"\",\"\",VLOOKUP($A18,Pontuação!$A$5:$V$203,COLUMN(I:I),0))","v":""},{"$f":"IF(Propostas!$C25=\"\",\"\",VLOOKUP($A18,Pontuação!$A$5:$V$203,COLUMN(J:J),0))","v":""},{"$f":"IF(Propostas!$C25=\"\",\"\",VLOOKUP($A18,Pontuação!$A$5:$V$203,COLUMN(K:K),0))","v":""},{"$f":"IF(Propostas!$C25=\"\",\"\",VLOOKUP($A18,Pontuação!$A$5:$V$203,COLUMN(L:L),0))","v":""},{"$f":"IF(Propostas!$C25=\"\",\"\",VLOOKUP($A18,Pontuação!$A$5:$V$203,COLUMN(M:M),0))","v":""},{"$f":"IF(Propostas!$C25=\"\",\"\",VLOOKUP($A18,Pontuação!$A$5:$V$203,COLUMN(N:N),0))","v":""},{"$f":"IF(Propostas!$C25=\"\",\"\",VLOOKUP($A18,Pontuação!$A$5:$V$203,COLUMN(O:O),0))","v":""},{"$f":"IF(Propostas!$C25=\"\",\"\",VLOOKUP($A18,Pontuação!$A$5:$V$203,COLUMN(P:P),0))","v":""},{"$f":"IF(Propostas!$C25=\"\",\"\",VLOOKUP($A18,Pontuação!$A$5:$V$203,COLUMN(Q:Q),0))","v":""},{"$f":"IF(Propostas!$C25=\"\",\"\",VLOOKUP($A18,Pontuação!$A$5:$V$203,COLUMN(R:R),0))","v":""},{"$f":"IF(Propostas!$C25=\"\",\"\",VLOOKUP($A18,Pontuação!$A$5:$V$203,COLUMN(S:S),0))","v":""},{"$f":"IF(Propostas!$C25=\"\",\"\",VLOOKUP($A18,Pontuação!$A$5:$V$203,COLUMN(T:T),0))","v":""},{"$f":"IF(Propostas!$C25=\"\",\"\",VLOOKUP($A18,Pontuação!$A$5:$V$203,COLUMN(U:U),0))","v":""},{"$f":"IF(Propostas!$B25=\"\",\"\",SUM(C18:U18))","v":""},{"$f":"IF(Propostas!$C25=\"\",\"\",RANK(V18,$V$5:$V$203,0))","v":""},{"$f":"IF(Propostas!$C25=\"\",\"\",VLOOKUP(B18,Propostas[],3,0))","v":""},{"$f":"IF(Propostas!$C25=\"\",\"\",Y17-X18)","v":""},{"$f":"IF(Propostas!$C25=\"\",\"\",IF(Y18>0,\"S\",\"N\"))","v":""}]
[{"$f":"IF(Propostas!$C26=\"\",\"\",ROW(15:15))","v":""},{"$f":"IF(Propostas!$C26=\"\",\"\",VLOOKUP($A19,Pontuação!$A$5:$V$203,COLUMN(B:B),0))","v":""},{"$f":"IF(Propostas!$C26=\"\",\"\",VLOOKUP($A19,Pontuação!$A$5:$V$203,COLUMN(C:C),0))","v":""},{"$f":"IF(Propostas!$C26=\"\",\"\",VLOOKUP($A19,Pontuação!$A$5:$V$203,COLUMN(D:D),0))","v":""},{"$f":"IF(Propostas!$C26=\"\",\"\",VLOOKUP($A19,Pontuação!$A$5:$V$203,COLUMN(E:E),0))","v":""},{"$f":"IF(Propostas!$C26=\"\",\"\",VLOOKUP($A19,Pontuação!$A$5:$V$203,COLUMN(F:F),0))","v":""},{"$f":"IF(Propostas!$C26=\"\",\"\",VLOOKUP($A19,Pontuação!$A$5:$V$203,COLUMN(G:G),0))","v":""},{"$f":"IF(Propostas!$C26=\"\",\"\",VLOOKUP($A19,Pontuação!$A$5:$V$203,COLUMN(H:H),0))","v":""},{"$f":"IF(Propostas!$C26=\"\",\"\",VLOOKUP($A19,Pontuação!$A$5:$V$203,COLUMN(I:I),0))","v":""},{"$f":"IF(Propostas!$C26=\"\",\"\",VLOOKUP($A19,Pontuação!$A$5:$V$203,COLUMN(J:J),0))","v":""},{"$f":"IF(Propostas!$C26=\"\",\"\",VLOOKUP($A19,Pontuação!$A$5:$V$203,COLUMN(K:K),0))","v":""},{"$f":"IF(Propostas!$C26=\"\",\"\",VLOOKUP($A19,Pontuação!$A$5:$V$203,COLUMN(L:L),0))","v":""},{"$f":"IF(Propostas!$C26=\"\",\"\",VLOOKUP($A19,Pontuação!$A$5:$V$203,COLUMN(M:M),0))","v":""},{"$f":"IF(Propostas!$C26=\"\",\"\",VLOOKUP($A19,Pontuação!$A$5:$V$203,COLUMN(N:N),0))","v":""},{"$f":"IF(Propostas!$C26=\"\",\"\",VLOOKUP($A19,Pontuação!$A$5:$V$203,COLUMN(O:O),0))","v":""},{"$f":"IF(Propostas!$C26=\"\",\"\",VLOOKUP($A19,Pontuação!$A$5:$V$203,COLUMN(P:P),0))","v":""},{"$f":"IF(Propostas!$C26=\"\",\"\",VLOOKUP($A19,Pontuação!$A$5:$V$203,COLUMN(Q:Q),0))","v":""},{"$f":"IF(Propostas!$C26=\"\",\"\",VLOOKUP($A19,Pontuação!$A$5:$V$203,COLUMN(R:R),0))","v":""},{"$f":"IF(Propostas!$C26=\"\",\"\",VLOOKUP($A19,Pontuação!$A$5:$V$203,COLUMN(S:S),0))","v":""},{"$f":"IF(Propostas!$C26=\"\",\"\",VLOOKUP($A19,Pontuação!$A$5:$V$203,COLUMN(T:T),0))","v":""},{"$f":"IF(Propostas!$C26=\"\",\"\",VLOOKUP($A19,Pontuação!$A$5:$V$203,COLUMN(U:U),0))","v":""},{"$f":"IF(Propostas!$B26=\"\",\"\",SUM(C19:U19))","v":""},{"$f":"IF(Propostas!$C26=\"\",\"\",RANK(V19,$V$5:$V$203,0))","v":""},{"$f":"IF(Propostas!$C26=\"\",\"\",VLOOKUP(B19,Propostas[],3,0))","v":""},{"$f":"IF(Propostas!$C26=\"\",\"\",Y18-X19)","v":""},{"$f":"IF(Propostas!$C26=\"\",\"\",IF(Y19>0,\"S\",\"N\"))","v":""}]
[{"$f":"IF(Propostas!$C27=\"\",\"\",ROW(16:16))","v":""},{"$f":"IF(Propostas!$C27=\"\",\"\",VLOOKUP($A20,Pontuação!$A$5:$V$203,COLUMN(B:B),0))","v":""},{"$f":"IF(Propostas!$C27=\"\",\"\",VLOOKUP($A20,Pontuação!$A$5:$V$203,COLUMN(C:C),0))","v":""},{"$f":"IF(Propostas!$C27=\"\",\"\",VLOOKUP($A20,Pontuação!$A$5:$V$203,COLUMN(D:D),0))","v":""},{"$f":"IF(Propostas!$C27=\"\",\"\",VLOOKUP($A20,Pontuação!$A$5:$V$203,COLUMN(E:E),0))","v":""},{"$f":"IF(Propostas!$C27=\"\",\"\",VLOOKUP($A20,Pontuação!$A$5:$V$203,COLUMN(F:F),0))","v":""},{"$f":"IF(Propostas!$C27=\"\",\"\",VLOOKUP($A20,Pontuação!$A$5:$V$203,COLUMN(G:G),0))","v":""},{"$f":"IF(Propostas!$C27=\"\",\"\",VLOOKUP($A20,Pontuação!$A$5:$V$203,COLUMN(H:H),0))","v":""},{"$f":"IF(Propostas!$C27=\"\",\"\",VLOOKUP($A20,Pontuação!$A$5:$V$203,COLUMN(I:I),0))","v":""},{"$f":"IF(Propostas!$C27=\"\",\"\",VLOOKUP($A20,Pontuação!$A$5:$V$203,COLUMN(J:J),0))","v":""},{"$f":"IF(Propostas!$C27=\"\",\"\",VLOOKUP($A20,Pontuação!$A$5:$V$203,COLUMN(K:K),0))","v":""},{"$f":"IF(Propostas!$C27=\"\",\"\",VLOOKUP($A20,Pontuação!$A$5:$V$203,COLUMN(L:L),0))","v":""},{"$f":"IF(Propostas!$C27=\"\",\"\",VLOOKUP($A20,Pontuação!$A$5:$V$203,COLUMN(M:M),0))","v":""},{"$f":"IF(Propostas!$C27=\"\",\"\",VLOOKUP($A20,Pontuação!$A$5:$V$203,COLUMN(N:N),0))","v":""},{"$f":"IF(Propostas!$C27=\"\",\"\",VLOOKUP($A20,Pontuação!$A$5:$V$203,COLUMN(O:O),0))","v":""},{"$f":"IF(Propostas!$C27=\"\",\"\",VLOOKUP($A20,Pontuação!$A$5:$V$203,COLUMN(P:P),0))","v":""},{"$f":"IF(Propostas!$C27=\"\",\"\",VLOOKUP($A20,Pontuação!$A$5:$V$203,COLUMN(Q:Q),0))","v":""},{"$f":"IF(Propostas!$C27=\"\",\"\",VLOOKUP($A20,Pontuação!$A$5:$V$203,COLUMN(R:R),0))","v":""},{"$f":"IF(Propostas!$C27=\"\",\"\",VLOOKUP($A20,Pontuação!$A$5:$V$203,COLUMN(S:S),0))","v":""},{"$f":"IF(Propostas!$C27=\"\",\"\",VLOOKUP($A20,Pontuação!$A$5:$V$203,COLUMN(T:T),0))","v":""},{"$f":"IF(Propostas!$C27=\"\",\"\",VLOOKUP($A20,Pontuação!$A$5:$V$203,COLUMN(U:U),0))","v":""},{"$f":"IF(Propostas!$B27=\"\",\"\",SUM(C20:U20))","v":""},{"$f":"IF(Propostas!$C27=\"\",\"\",RANK(V20,$V$5:$V$203,0))","v":""},{"$f":"IF(Propostas!$C27=\"\",\"\",VLOOKUP(B20,Propostas[],3,0))","v":""},{"$f":"IF(Propostas!$C27=\"\",\"\",Y19-X20)","v":""},{"$f":"IF(Propostas!$C27=\"\",\"\",IF(Y20>0,\"S\",\"N\"))","v":""}]
[{"$f":"IF(Propostas!$C28=\"\",\"\",ROW(17:17))","v":""},{"$f":"IF(Propostas!$C28=\"\",\"\",VLOOKUP($A21,Pontuação!$A$5:$V$203,COLUMN(B:B),0))","v":""},{"$f":"IF(Propostas!$C28=\"\",\"\",VLOOKUP($A21,Pontuação!$A$5:$V$203,COLUMN(C:C),0))","v":""},{"$f":"IF(Propostas!$C28=\"\",\"\",VLOOKUP($A21,Pontuação!$A$5:$V$203,COLUMN(D:D),0))","v":""},{"$f":"IF(Propostas!$C28=\"\",\"\",VLOOKUP($A21,Pontuação!$A$5:$V$203,COLUMN(E:E),0))","v":""},{"$f":"IF(Propostas!$C28=\"\",\"\",VLOOKUP($A21,Pontuação!$A$5:$V$203,COLUMN(F:F),0))","v":""},{"$f":"IF(Propostas!$C28=\"\",\"\",VLOOKUP($A21,Pontuação!$A$5:$V$203,COLUMN(G:G),0))","v":""},{"$f":"IF(Propostas!$C28=\"\",\"\",VLOOKUP($A21,Pontuação!$A$5:$V$203,COLUMN(H:H),0))","v":""},{"$f":"IF(Propostas!$C28=\"\",\"\",VLOOKUP($A21,Pontuação!$A$5:$V$203,COLUMN(I:I),0))","v":""},{"$f":"IF(Propostas!$C28=\"\",\"\",VLOOKUP($A21,Pontuação!$A$5:$V$203,COLUMN(J:J),0))","v":""},{"$f":"IF(Propostas!$C28=\"\",\"\",VLOOKUP($A21,Pontuação!$A$5:$V$203,COLUMN(K:K),0))","v":""},{"$f":"IF(Propostas!$C28=\"\",\"\",VLOOKUP($A21,Pontuação!$A$5:$V$203,COLUMN(L:L),0))","v":""},{"$f":"IF(Propostas!$C28=\"\",\"\",VLOOKUP($A21,Pontuação!$A$5:$V$203,COLUMN(M:M),0))","v":""},{"$f":"IF(Propostas!$C28=\"\",\"\",VLOOKUP($A21,Pontuação!$A$5:$V$203,COLUMN(N:N),0))","v":""},{"$f":"IF(Propostas!$C28=\"\",\"\",VLOOKUP($A21,Pontuação!$A$5:$V$203,COLUMN(O:O),0))","v":""},{"$f":"IF(Propostas!$C28=\"\",\"\",VLOOKUP($A21,Pontuação!$A$5:$V$203,COLUMN(P:P),0))","v":""},{"$f":"IF(Propostas!$C28=\"\",\"\",VLOOKUP($A21,Pontuação!$A$5:$V$203,COLUMN(Q:Q),0))","v":""},{"$f":"IF(Propostas!$C28=\"\",\"\",VLOOKUP($A21,Pontuação!$A$5:$V$203,COLUMN(R:R),0))","v":""},{"$f":"IF(Propostas!$C28=\"\",\"\",VLOOKUP($A21,Pontuação!$A$5:$V$203,COLUMN(S:S),0))","v":""},{"$f":"IF(Propostas!$C28=\"\",\"\",VLOOKUP($A21,Pontuação!$A$5:$V$203,COLUMN(T:T),0))","v":""},{"$f":"IF(Propostas!$C28=\"\",\"\",VLOOKUP($A21,Pontuação!$A$5:$V$203,COLUMN(U:U),0))","v":""},{"$f":"IF(Propostas!$B28=\"\",\"\",SUM(C21:U21))","v":""},{"$f":"IF(Propostas!$C28=\"\",\"\",RANK(V21,$V$5:$V$203,0))","v":""},{"$f":"IF(Propostas!$C28=\"\",\"\",VLOOKUP(B21,Propostas[],3,0))","v":""},{"$f":"IF(Propostas!$C28=\"\",\"\",Y20-X21)","v":""},{"$f":"IF(Propostas!$C28=\"\",\"\",IF(Y21>0,\"S\",\"N\"))","v":""}]
[{"$f":"IF(Propostas!$C29=\"\",\"\",ROW(18:18))","v":""},{"$f":"IF(Propostas!$C29=\"\",\"\",VLOOKUP($A22,Pontuação!$A$5:$V$203,COLUMN(B:B),0))","v":""},{"$f":"IF(Propostas!$C29=\"\",\"\",VLOOKUP($A22,Pontuação!$A$5:$V$203,COLUMN(C:C),0))","v":""},{"$f":"IF(Propostas!$C29=\"\",\"\",VLOOKUP($A22,Pontuação!$A$5:$V$203,COLUMN(D:D),0))","v":""},{"$f":"IF(Propostas!$C29=\"\",\"\",VLOOKUP($A22,Pontuação!$A$5:$V$203,COLUMN(E:E),0))","v":""},{"$f":"IF(Propostas!$C29=\"\",\"\",VLOOKUP($A22,Pontuação!$A$5:$V$203,COLUMN(F:F),0))","v":""},{"$f":"IF(Propostas!$C29=\"\",\"\",VLOOKUP($A22,Pontuação!$A$5:$V$203,COLUMN(G:G),0))","v":""},{"$f":"IF(Propostas!$C29=\"\",\"\",VLOOKUP($A22,Pontuação!$A$5:$V$203,COLUMN(H:H),0))","v":""},{"$f":"IF(Propostas!$C29=\"\",\"\",VLOOKUP($A22,Pontuação!$A$5:$V$203,COLUMN(I:I),0))","v":""},{"$f":"IF(Propostas!$C29=\"\",\"\",VLOOKUP($A22,Pontuação!$A$5:$V$203,COLUMN(J:J),0))","v":""},{"$f":"IF(Propostas!$C29=\"\",\"\",VLOOKUP($A22,Pontuação!$A$5:$V$203,COLUMN(K:K),0))","v":""},{"$f":"IF(Propostas!$C29=\"\",\"\",VLOOKUP($A22,Pontuação!$A$5:$V$203,COLUMN(L:L),0))","v":""},{"$f":"IF(Propostas!$C29=\"\",\"\",VLOOKUP($A22,Pontuação!$A$5:$V$203,COLUMN(M:M),0))","v":""},{"$f":"IF(Propostas!$C29=\"\",\"\",VLOOKUP($A22,Pontuação!$A$5:$V$203,COLUMN(N:N),0))","v":""},{"$f":"IF(Propostas!$C29=\"\",\"\",VLOOKUP($A22,Pontuação!$A$5:$V$203,COLUMN(O:O),0))","v":""},{"$f":"IF(Propostas!$C29=\"\",\"\",VLOOKUP($A22,Pontuação!$A$5:$V$203,COLUMN(P:P),0))","v":""},{"$f":"IF(Propostas!$C29=\"\",\"\",VLOOKUP($A22,Pontuação!$A$5:$V$203,COLUMN(Q:Q),0))","v":""},{"$f":"IF(Propostas!$C29=\"\",\"\",VLOOKUP($A22,Pontuação!$A$5:$V$203,COLUMN(R:R),0))","v":""},{"$f":"IF(Propostas!$C29=\"\",\"\",VLOOKUP($A22,Pontuação!$A$5:$V$203,COLUMN(S:S),0))","v":""},{"$f":"IF(Propostas!$C29=\"\",\"\",VLOOKUP($A22,Pontuação!$A$5:$V$203,COLUMN(T:T),0))","v":""},{"$f":"IF(Propostas!$C29=\"\",\"\",VLOOKUP($A22,Pontuação!$A$5:$V$203,COLUMN(U:U),0))","v":""},{"$f":"IF(Propostas!$B29=\"\",\"\",SUM(C22:U22))","v":""},{"$f":"IF(Propostas!$C29=\"\",\"\",RANK(V22,$V$5:$V$203,0))","v":""},{"$f":"IF(Propostas!$C29=\"\",\"\",VLOOKUP(B22,Propostas[],3,0))","v":""},{"$f":"IF(Propostas!$C29=\"\",\"\",Y21-X22)","v":""},{"$f":"IF(Propostas!$C29=\"\",\"\",IF(Y22>0,\"S\",\"N\"))","v":""}]
[{"$f":"IF(Propostas!$C30=\"\",\"\",ROW(19:19))","v":""},{"$f":"IF(Propostas!$C30=\"\",\"\",VLOOKUP($A23,Pontuação!$A$5:$V$203,COLUMN(B:B),0))","v":""},{"$f":"IF(Propostas!$C30=\"\",\"\",VLOOKUP($A23,Pontuação!$A$5:$V$203,COLUMN(C:C),0))","v":""},{"$f":"IF(Propostas!$C30=\"\",\"\",VLOOKUP($A23,Pontuação!$A$5:$V$203,COLUMN(D:D),0))","v":""},{"$f":"IF(Propostas!$C30=\"\",\"\",VLOOKUP($A23,Pontuação!$A$5:$V$203,COLUMN(E:E),0))","v":""},{"$f":"IF(Propostas!$C30=\"\",\"\",VLOOKUP($A23,Pontuação!$A$5:$V$203,COLUMN(F:F),0))","v":""},{"$f":"IF(Propostas!$C30=\"\",\"\",VLOOKUP($A23,Pontuação!$A$5:$V$203,COLUMN(G:G),0))","v":""},{"$f":"IF(Propostas!$C30=\"\",\"\",VLOOKUP($A23,Pontuação!$A$5:$V$203,COLUMN(H:H),0))","v":""},{"$f":"IF(Propostas!$C30=\"\",\"\",VLOOKUP($A23,Pontuação!$A$5:$V$203,COLUMN(I:I),0))","v":""},{"$f":"IF(Propostas!$C30=\"\",\"\",VLOOKUP($A23,Pontuação!$A$5:$V$203,COLUMN(J:J),0))","v":""},{"$f":"IF(Propostas!$C30=\"\",\"\",VLOOKUP($A23,Pontuação!$A$5:$V$203,COLUMN(K:K),0))","v":""},{"$f":"IF(Propostas!$C30=\"\",\"\",VLOOKUP($A23,Pontuação!$A$5:$V$203,COLUMN(L:L),0))","v":""},{"$f":"IF(Propostas!$C30=\"\",\"\",VLOOKUP($A23,Pontuação!$A$5:$V$203,COLUMN(M:M),0))","v":""},{"$f":"IF(Propostas!$C30=\"\",\"\",VLOOKUP($A23,Pontuação!$A$5:$V$203,COLUMN(N:N),0))","v":""},{"$f":"IF(Propostas!$C30=\"\",\"\",VLOOKUP($A23,Pontuação!$A$5:$V$203,COLUMN(O:O),0))","v":""},{"$f":"IF(Propostas!$C30=\"\",\"\",VLOOKUP($A23,Pontuação!$A$5:$V$203,COLUMN(P:P),0))","v":""},{"$f":"IF(Propostas!$C30=\"\",\"\",VLOOKUP($A23,Pontuação!$A$5:$V$203,COLUMN(Q:Q),0))","v":""},{"$f":"IF(Propostas!$C30=\"\",\"\",VLOOKUP($A23,Pontuação!$A$5:$V$203,COLUMN(R:R),0))","v":""},{"$f":"IF(Propostas!$C30=\"\",\"\",VLOOKUP($A23,Pontuação!$A$5:$V$203,COLUMN(S:S),0))","v":""},{"$f":"IF(Propostas!$C30=\"\",\"\",VLOOKUP($A23,Pontuação!$A$5:$V$203,COLUMN(T:T),0))","v":""},{"$f":"IF(Propostas!$C30=\"\",\"\",VLOOKUP($A23,Pontuação!$A$5:$V$203,COLUMN(U:U),0))","v":""},{"$f":"IF(Propostas!$B30=\"\",\"\",SUM(C23:U23))","v":""},{"$f":"IF(Propostas!$C30=\"\",\"\",RANK(V23,$V$5:$V$203,0))","v":""},{"$f":"IF(Propostas!$C30=\"\",\"\",VLOOKUP(B23,Propostas[],3,0))","v":""},{"$f":"IF(Propostas!$C30=\"\",\"\",Y22-X23)","v":""},{"$f":"IF(Propostas!$C30=\"\",\"\",IF(Y23>0,\"S\",\"N\"))","v":""}]
[{"$f":"IF(Propostas!$C31=\"\",\"\",ROW(20:20))","v":""},{"$f":"IF(Propostas!$C31=\"\",\"\",VLOOKUP($A24,Pontuação!$A$5:$V$203,COLUMN(B:B),0))","v":""},{"$f":"IF(Propostas!$C31=\"\",\"\",VLOOKUP($A24,Pontuação!$A$5:$V$203,COLUMN(C:C),0))","v":""},{"$f":"IF(Propostas!$C31=\"\",\"\",VLOOKUP($A24,Pontuação!$A$5:$V$203,COLUMN(D:D),0))","v":""},{"$f":"IF(Propostas!$C31=\"\",\"\",VLOOKUP($A24,Pontuação!$A$5:$V$203,COLUMN(E:E),0))","v":""},{"$f":"IF(Propostas!$C31=\"\",\"\",VLOOKUP($A24,Pontuação!$A$5:$V$203,COLUMN(F:F),0))","v":""},{"$f":"IF(Propostas!$C31=\"\",\"\",VLOOKUP($A24,Pontuação!$A$5:$V$203,COLUMN(G:G),0))","v":""},{"$f":"IF(Propostas!$C31=\"\",\"\",VLOOKUP($A24,Pontuação!$A$5:$V$203,COLUMN(H:H),0))","v":""},{"$f":"IF(Propostas!$C31=\"\",\"\",VLOOKUP($A24,Pontuação!$A$5:$V$203,COLUMN(I:I),0))","v":""},{"$f":"IF(Propostas!$C31=\"\",\"\",VLOOKUP($A24,Pontuação!$A$5:$V$203,COLUMN(J:J),0))","v":""},{"$f":"IF(Propostas!$C31=\"\",\"\",VLOOKUP($A24,Pontuação!$A$5:$V$203,COLUMN(K:K),0))","v":""},{"$f":"IF(Propostas!$C31=\"\",\"\",VLOOKUP($A24,Pontuação!$A$5:$V$203,COLUMN(L:L),0))","v":""},{"$f":"IF(Propostas!$C31=\"\",\"\",VLOOKUP($A24,Pontuação!$A$5:$V$203,COLUMN(M:M),0))","v":""},{"$f":"IF(Propostas!$C31=\"\",\"\",VLOOKUP($A24,Pontuação!$A$5:$V$203,COLUMN(N:N),0))","v":""},{"$f":"IF(Propostas!$C31=\"\",\"\",VLOOKUP($A24,Pontuação!$A$5:$V$203,COLUMN(O:O),0))","v":""},{"$f":"IF(Propostas!$C31=\"\",\"\",VLOOKUP($A24,Pontuação!$A$5:$V$203,COLUMN(P:P),0))","v":""},{"$f":"IF(Propostas!$C31=\"\",\"\",VLOOKUP($A24,Pontuação!$A$5:$V$203,COLUMN(Q:Q),0))","v":""},{"$f":"IF(Propostas!$C31=\"\",\"\",VLOOKUP($A24,Pontuação!$A$5:$V$203,COLUMN(R:R),0))","v":""},{"$f":"IF(Propostas!$C31=\"\",\"\",VLOOKUP($A24,Pontuação!$A$5:$V$203,COLUMN(S:S),0))","v":""},{"$f":"IF(Propostas!$C31=\"\",\"\",VLOOKUP($A24,Pontuação!$A$5:$V$203,COLUMN(T:T),0))","v":""},{"$f":"IF(Propostas!$C31=\"\",\"\",VLOOKUP($A24,Pontuação!$A$5:$V$203,COLUMN(U:U),0))","v":""},{"$f":"IF(Propostas!$B31=\"\",\"\",SUM(C24:U24))","v":""},{"$f":"IF(Propostas!$C31=\"\",\"\",RANK(V24,$V$5:$V$203,0))","v":""},{"$f":"IF(Propostas!$C31=\"\",\"\",VLOOKUP(B24,Propostas[],3,0))","v":""},{"$f":"IF(Propostas!$C31=\"\",\"\",Y23-X24)","v":""},{"$f":"IF(Propostas!$C31=\"\",\"\",IF(Y24>0,\"S\",\"N\"))","v":""}]
[{"$f":"IF(Propostas!$C32=\"\",\"\",ROW(21:21))","v":""},{"$f":"IF(Propostas!$C32=\"\",\"\",VLOOKUP($A25,Pontuação!$A$5:$V$203,COLUMN(B:B),0))","v":""},{"$f":"IF(Propostas!$C32=\"\",\"\",VLOOKUP($A25,Pontuação!$A$5:$V$203,COLUMN(C:C),0))","v":""},{"$f":"IF(Propostas!$C32=\"\",\"\",VLOOKUP($A25,Pontuação!$A$5:$V$203,COLUMN(D:D),0))","v":""},{"$f":"IF(Propostas!$C32=\"\",\"\",VLOOKUP($A25,Pontuação!$A$5:$V$203,COLUMN(E:E),0))","v":""},{"$f":"IF(Propostas!$C32=\"\",\"\",VLOOKUP($A25,Pontuação!$A$5:$V$203,COLUMN(F:F),0))","v":""},{"$f":"IF(Propostas!$C32=\"\",\"\",VLOOKUP($A25,Pontuação!$A$5:$V$203,COLUMN(G:G),0))","v":""},{"$f":"IF(Propostas!$C32=\"\",\"\",VLOOKUP($A25,Pontuação!$A$5:$V$203,COLUMN(H:H),0))","v":""},{"$f":"IF(Propostas!$C32=\"\",\"\",VLOOKUP($A25,Pontuação!$A$5:$V$203,COLUMN(I:I),0))","v":""},{"$f":"IF(Propostas!$C32=\"\",\"\",VLOOKUP($A25,Pontuação!$A$5:$V$203,COLUMN(J:J),0))","v":""},{"$f":"IF(Propostas!$C32=\"\",\"\",VLOOKUP($A25,Pontuação!$A$5:$V$203,COLUMN(K:K),0))","v":""},{"$f":"IF(Propostas!$C32=\"\",\"\",VLOOKUP($A25,Pontuação!$A$5:$V$203,COLUMN(L:L),0))","v":""},{"$f":"IF(Propostas!$C32=\"\",\"\",VLOOKUP($A25,Pontuação!$A$5:$V$203,COLUMN(M:M),0))","v":""},{"$f":"IF(Propostas!$C32=\"\",\"\",VLOOKUP($A25,Pontuação!$A$5:$V$203,COLUMN(N:N),0))","v":""},{"$f":"IF(Propostas!$C32=\"\",\"\",VLOOKUP($A25,Pontuação!$A$5:$V$203,COLUMN(O:O),0))","v":""},{"$f":"IF(Propostas!$C32=\"\",\"\",VLOOKUP($A25,Pontuação!$A$5:$V$203,COLUMN(P:P),0))","v":""},{"$f":"IF(Propostas!$C32=\"\",\"\",VLOOKUP($A25,Pontuação!$A$5:$V$203,COLUMN(Q:Q),0))","v":""},{"$f":"IF(Propostas!$C32=\"\",\"\",VLOOKUP($A25,Pontuação!$A$5:$V$203,COLUMN(R:R),0))","v":""},{"$f":"IF(Propostas!$C32=\"\",\"\",VLOOKUP($A25,Pontuação!$A$5:$V$203,COLUMN(S:S),0))","v":""},{"$f":"IF(Propostas!$C32=\"\",\"\",VLOOKUP($A25,Pontuação!$A$5:$V$203,COLUMN(T:T),0))","v":""},{"$f":"IF(Propostas!$C32=\"\",\"\",VLOOKUP($A25,Pontuação!$A$5:$V$203,COLUMN(U:U),0))","v":""},{"$f":"IF(Propostas!$B32=\"\",\"\",SUM(C25:U25))","v":""},{"$f":"IF(Propostas!$C32=\"\",\"\",RANK(V25,$V$5:$V$203,0))","v":""},{"$f":"IF(Propostas!$C32=\"\",\"\",VLOOKUP(B25,Propostas[],3,0))","v":""},{"$f":"IF(Propostas!$C32=\"\",\"\",Y24-X25)","v":""},{"$f":"IF(Propostas!$C32=\"\",\"\",IF(Y25>0,\"S\",\"N\"))","v":""}]
[{"$f":"IF(Propostas!$C33=\"\",\"\",ROW(22:22))","v":""},{"$f":"IF(Propostas!$C33=\"\",\"\",VLOOKUP($A26,Pontuação!$A$5:$V$203,COLUMN(B:B),0))","v":""},{"$f":"IF(Propostas!$C33=\"\",\"\",VLOOKUP($A26,Pontuação!$A$5:$V$203,COLUMN(C:C),0))","v":""},{"$f":"IF(Propostas!$C33=\"\",\"\",VLOOKUP($A26,Pontuação!$A$5:$V$203,COLUMN(D:D),0))","v":""},{"$f":"IF(Propostas!$C33=\"\",\"\",VLOOKUP($A26,Pontuação!$A$5:$V$203,COLUMN(E:E),0))","v":""},{"$f":"IF(Propostas!$C33=\"\",\"\",VLOOKUP($A26,Pontuação!$A$5:$V$203,COLUMN(F:F),0))","v":""},{"$f":"IF(Propostas!$C33=\"\",\"\",VLOOKUP($A26,Pontuação!$A$5:$V$203,COLUMN(G:G),0))","v":""},{"$f":"IF(Propostas!$C33=\"\",\"\",VLOOKUP($A26,Pontuação!$A$5:$V$203,COLUMN(H:H),0))","v":""},{"$f":"IF(Propostas!$C33=\"\",\"\",VLOOKUP($A26,Pontuação!$A$5:$V$203,COLUMN(I:I),0))","v":""},{"$f":"IF(Propostas!$C33=\"\",\"\",VLOOKUP($A26,Pontuação!$A$5:$V$203,COLUMN(J:J),0))","v":""},{"$f":"IF(Propostas!$C33=\"\",\"\",VLOOKUP($A26,Pontuação!$A$5:$V$203,COLUMN(K:K),0))","v":""},{"$f":"IF(Propostas!$C33=\"\",\"\",VLOOKUP($A26,Pontuação!$A$5:$V$203,COLUMN(L:L),0))","v":""},{"$f":"IF(Propostas!$C33=\"\",\"\",VLOOKUP($A26,Pontuação!$A$5:$V$203,COLUMN(M:M),0))","v":""},{"$f":"IF(Propostas!$C33=\"\",\"\",VLOOKUP($A26,Pontuação!$A$5:$V$203,COLUMN(N:N),0))","v":""},{"$f":"IF(Propostas!$C33=\"\",\"\",VLOOKUP($A26,Pontuação!$A$5:$V$203,COLUMN(O:O),0))","v":""},{"$f":"IF(Propostas!$C33=\"\",\"\",VLOOKUP($A26,Pontuação!$A$5:$V$203,COLUMN(P:P),0))","v":""},{"$f":"IF(Propostas!$C33=\"\",\"\",VLOOKUP($A26,Pontuação!$A$5:$V$203,COLUMN(Q:Q),0))","v":""},{"$f":"IF(Propostas!$C33=\"\",\"\",VLOOKUP($A26,Pontuação!$A$5:$V$203,COLUMN(R:R),0))","v":""},{"$f":"IF(Propostas!$C33=\"\",\"\",VLOOKUP($A26,Pontuação!$A$5:$V$203,COLUMN(S:S),0))","v":""},{"$f":"IF(Propostas!$C33=\"\",\"\",VLOOKUP($A26,Pontuação!$A$5:$V$203,COLUMN(T:T),0))","v":""},{"$f":"IF(Propostas!$C33=\"\",\"\",VLOOKUP($A26,Pontuação!$A$5:$V$203,COLUMN(U:U),0))","v":""},{"$f":"IF(Propostas!$B33=\"\",\"\",SUM(C26:U26))","v":""},{"$f":"IF(Propostas!$C33=\"\",\"\",RANK(V26,$V$5:$V$203,0))","v":""},{"$f":"IF(Propostas!$C33=\"\",\"\",VLOOKUP(B26,Propostas[],3,0))","v":""},{"$f":"IF(Propostas!$C33=\"\",\"\",Y25-X26)","v":""},{"$f":"IF(Propostas!$C33=\"\",\"\",IF(Y26>0,\"S\",\"N\"))","v":""}]
[{"$f":"IF(Propostas!$C34=\"\",\"\",ROW(23:23))","v":""},{"$f":"IF(Propostas!$C34=\"\",\"\",VLOOKUP($A27,Pontuação!$A$5:$V$203,COLUMN(B:B),0))","v":""},{"$f":"IF(Propostas!$C34=\"\",\"\",VLOOKUP($A27,Pontuação!$A$5:$V$203,COLUMN(C:C),0))","v":""},{"$f":"IF(Propostas!$C34=\"\",\"\",VLOOKUP($A27,Pontuação!$A$5:$V$203,COLUMN(D:D),0))","v":""},{"$f":"IF(Propostas!$C34=\"\",\"\",VLOOKUP($A27,Pontuação!$A$5:$V$203,COLUMN(E:E),0))","v":""},{"$f":"IF(Propostas!$C34=\"\",\"\",VLOOKUP($A27,Pontuação!$A$5:$V$203,COLUMN(F:F),0))","v":""},{"$f":"IF(Propostas!$C34=\"\",\"\",VLOOKUP($A27,Pontuação!$A$5:$V$203,COLUMN(G:G),0))","v":""},{"$f":"IF(Propostas!$C34=\"\",\"\",VLOOKUP($A27,Pontuação!$A$5:$V$203,COLUMN(H:H),0))","v":""},{"$f":"IF(Propostas!$C34=\"\",\"\",VLOOKUP($A27,Pontuação!$A$5:$V$203,COLUMN(I:I),0))","v":""},{"$f":"IF(Propostas!$C34=\"\",\"\",VLOOKUP($A27,Pontuação!$A$5:$V$203,COLUMN(J:J),0))","v":""},{"$f":"IF(Propostas!$C34=\"\",\"\",VLOOKUP($A27,Pontuação!$A$5:$V$203,COLUMN(K:K),0))","v":""},{"$f":"IF(Propostas!$C34=\"\",\"\",VLOOKUP($A27,Pontuação!$A$5:$V$203,COLUMN(L:L),0))","v":""},{"$f":"IF(Propostas!$C34=\"\",\"\",VLOOKUP($A27,Pontuação!$A$5:$V$203,COLUMN(M:M),0))","v":""},{"$f":"IF(Propostas!$C34=\"\",\"\",VLOOKUP($A27,Pontuação!$A$5:$V$203,COLUMN(N:N),0))","v":""},{"$f":"IF(Propostas!$C34=\"\",\"\",VLOOKUP($A27,Pontuação!$A$5:$V$203,COLUMN(O:O),0))","v":""},{"$f":"IF(Propostas!$C34=\"\",\"\",VLOOKUP($A27,Pontuação!$A$5:$V$203,COLUMN(P:P),0))","v":""},{"$f":"IF(Propostas!$C34=\"\",\"\",VLOOKUP($A27,Pontuação!$A$5:$V$203,COLUMN(Q:Q),0))","v":""},{"$f":"IF(Propostas!$C34=\"\",\"\",VLOOKUP($A27,Pontuação!$A$5:$V$203,COLUMN(R:R),0))","v":""},{"$f":"IF(Propostas!$C34=\"\",\"\",VLOOKUP($A27,Pontuação!$A$5:$V$203,COLUMN(S:S),0))","v":""},{"$f":"IF(Propostas!$C34=\"\",\"\",VLOOKUP($A27,Pontuação!$A$5:$V$203,COLUMN(T:T),0))","v":""},{"$f":"IF(Propostas!$C34=\"\",\"\",VLOOKUP($A27,Pontuação!$A$5:$V$203,COLUMN(U:U),0))","v":""},{"$f":"IF(Propostas!$B34=\"\",\"\",SUM(C27:U27))","v":""},{"$f":"IF(Propostas!$C34=\"\",\"\",RANK(V27,$V$5:$V$203,0))","v":""},{"$f":"IF(Propostas!$C34=\"\",\"\",VLOOKUP(B27,Propostas[],3,0))","v":""},{"$f":"IF(Propostas!$C34=\"\",\"\",Y26-X27)","v":""},{"$f":"IF(Propostas!$C34=\"\",\"\",IF(Y27>0,\"S\",\"N\"))","v":""}]
[{"$f":"IF(Propostas!$C35=\"\",\"\",ROW(24:24))","v":""},{"$f":"IF(Propostas!$C35=\"\",\"\",VLOOKUP($A28,Pontuação!$A$5:$V$203,COLUMN(B:B),0))","v":""},{"$f":"IF(Propostas!$C35=\"\",\"\",VLOOKUP($A28,Pontuação!$A$5:$V$203,COLUMN(C:C),0))","v":""},{"$f":"IF(Propostas!$C35=\"\",\"\",VLOOKUP($A28,Pontuação!$A$5:$V$203,COLUMN(D:D),0))","v":""},{"$f":"IF(Propostas!$C35=\"\",\"\",VLOOKUP($A28,Pontuação!$A$5:$V$203,COLUMN(E:E),0))","v":""},{"$f":"IF(Propostas!$C35=\"\",\"\",VLOOKUP($A28,Pontuação!$A$5:$V$203,COLUMN(F:F),0))","v":""},{"$f":"IF(Propostas!$C35=\"\",\"\",VLOOKUP($A28,Pontuação!$A$5:$V$203,COLUMN(G:G),0))","v":""},{"$f":"IF(Propostas!$C35=\"\",\"\",VLOOKUP($A28,Pontuação!$A$5:$V$203,COLUMN(H:H),0))","v":""},{"$f":"IF(Propostas!$C35=\"\",\"\",VLOOKUP($A28,Pontuação!$A$5:$V$203,COLUMN(I:I),0))","v":""},{"$f":"IF(Propostas!$C35=\"\",\"\",VLOOKUP($A28,Pontuação!$A$5:$V$203,COLUMN(J:J),0))","v":""},{"$f":"IF(Propostas!$C35=\"\",\"\",VLOOKUP($A28,Pontuação!$A$5:$V$203,COLUMN(K:K),0))","v":""},{"$f":"IF(Propostas!$C35=\"\",\"\",VLOOKUP($A28,Pontuação!$A$5:$V$203,COLUMN(L:L),0))","v":""},{"$f":"IF(Propostas!$C35=\"\",\"\",VLOOKUP($A28,Pontuação!$A$5:$V$203,COLUMN(M:M),0))","v":""},{"$f":"IF(Propostas!$C35=\"\",\"\",VLOOKUP($A28,Pontuação!$A$5:$V$203,COLUMN(N:N),0))","v":""},{"$f":"IF(Propostas!$C35=\"\",\"\",VLOOKUP($A28,Pontuação!$A$5:$V$203,COLUMN(O:O),0))","v":""},{"$f":"IF(Propostas!$C35=\"\",\"\",VLOOKUP($A28,Pontuação!$A$5:$V$203,COLUMN(P:P),0))","v":""},{"$f":"IF(Propostas!$C35=\"\",\"\",VLOOKUP($A28,Pontuação!$A$5:$V$203,COLUMN(Q:Q),0))","v":""},{"$f":"IF(Propostas!$C35=\"\",\"\",VLOOKUP($A28,Pontuação!$A$5:$V$203,COLUMN(R:R),0))","v":""},{"$f":"IF(Propostas!$C35=\"\",\"\",VLOOKUP($A28,Pontuação!$A$5:$V$203,COLUMN(S:S),0))","v":""},{"$f":"IF(Propostas!$C35=\"\",\"\",VLOOKUP($A28,Pontuação!$A$5:$V$203,COLUMN(T:T),0))","v":""},{"$f":"IF(Propostas!$C35=\"\",\"\",VLOOKUP($A28,Pontuação!$A$5:$V$203,COLUMN(U:U),0))","v":""},{"$f":"IF(Propostas!$B35=\"\",\"\",SUM(C28:U28))","v":""},{"$f":"IF(Propostas!$C35=\"\",\"\",RANK(V28,$V$5:$V$203,0))","v":""},{"$f":"IF(Propostas!$C35=\"\",\"\",VLOOKUP(B28,Propostas[],3,0))","v":""},{"$f":"IF(Propostas!$C35=\"\",\"\",Y27-X28)","v":""},{"$f":"IF(Propostas!$C35=\"\",\"\",IF(Y28>0,\"S\",\"N\"))","v":""}]
[{"$f":"IF(Propostas!$C36=\"\",\"\",ROW(25:25))","v":""},{"$f":"IF(Propostas!$C36=\"\",\"\",VLOOKUP($A29,Pontuação!$A$5:$V$203,COLUMN(B:B),0))","v":""},{"$f":"IF(Propostas!$C36=\"\",\"\",VLOOKUP($A29,Pontuação!$A$5:$V$203,COLUMN(C:C),0))","v":""},{"$f":"IF(Propostas!$C36=\"\",\"\",VLOOKUP($A29,Pontuação!$A$5:$V$203,COLUMN(D:D),0))","v":""},{"$f":"IF(Propostas!$C36=\"\",\"\",VLOOKUP($A29,Pontuação!$A$5:$V$203,COLUMN(E:E),0))","v":""},{"$f":"IF(Propostas!$C36=\"\",\"\",VLOOKUP($A29,Pontuação!$A$5:$V$203,COLUMN(F:F),0))","v":""},{"$f":"IF(Propostas!$C36=\"\",\"\",VLOOKUP($A29,Pontuação!$A$5:$V$203,COLUMN(G:G),0))","v":""},{"$f":"IF(Propostas!$C36=\"\",\"\",VLOOKUP($A29,Pontuação!$A$5:$V$203,COLUMN(H:H),0))","v":""},{"$f":"IF(Propostas!$C36=\"\",\"\",VLOOKUP($A29,Pontuação!$A$5:$V$203,COLUMN(I:I),0))","v":""},{"$f":"IF(Propostas!$C36=\"\",\"\",VLOOKUP($A29,Pontuação!$A$5:$V$203,COLUMN(J:J),0))","v":""},{"$f":"IF(Propostas!$C36=\"\",\"\",VLOOKUP($A29,Pontuação!$A$5:$V$203,COLUMN(K:K),0))","v":""},{"$f":"IF(Propostas!$C36=\"\",\"\",VLOOKUP($A29,Pontuação!$A$5:$V$203,COLUMN(L:L),0))","v":""},{"$f":"IF(Propostas!$C36=\"\",\"\",VLOOKUP($A29,Pontuação!$A$5:$V$203,COLUMN(M:M),0))","v":""},{"$f":"IF(Propostas!$C36=\"\",\"\",VLOOKUP($A29,Pontuação!$A$5:$V$203,COLUMN(N:N),0))","v":""},{"$f":"IF(Propostas!$C36=\"\",\"\",VLOOKUP($A29,Pontuação!$A$5:$V$203,COLUMN(O:O),0))","v":""},{"$f":"IF(Propostas!$C36=\"\",\"\",VLOOKUP($A29,Pontuação!$A$5:$V$203,COLUMN(P:P),0))","v":""},{"$f":"IF(Propostas!$C36=\"\",\"\",VLOOKUP($A29,Pontuação!$A$5:$V$203,COLUMN(Q:Q),0))","v":""},{"$f":"IF(Propostas!$C36=\"\",\"\",VLOOKUP($A29,Pontuação!$A$5:$V$203,COLUMN(R:R),0))","v":""},{"$f":"IF(Propostas!$C36=\"\",\"\",VLOOKUP($A29,Pontuação!$A$5:$V$203,COLUMN(S:S),0))","v":""},{"$f":"IF(Propostas!$C36=\"\",\"\",VLOOKUP($A29,Pontuação!$A$5:$V$203,COLUMN(T:T),0))","v":""},{"$f":"IF(Propostas!$C36=\"\",\"\",VLOOKUP($A29,Pontuação!$A$5:$V$203,COLUMN(U:U),0))","v":""},{"$f":"IF(Propostas!$B36=\"\",\"\",SUM(C29:U29))","v":""},{"$f":"IF(Propostas!$C36=\"\",\"\",RANK(V29,$V$5:$V$203,0))","v":""},{"$f":"IF(Propostas!$C36=\"\",\"\",VLOOKUP(B29,Propostas[],3,0))","v":""},{"$f":"IF(Propostas!$C36=\"\",\"\",Y28-X29)","v":""},{"$f":"IF(Propostas!$C36=\"\",\"\",IF(Y29>0,\"S\",\"N\"))","v":""}]
[{"$f":"IF(Propostas!$C37=\"\",\"\",ROW(26:26))","v":""},{"$f":"IF(Propostas!$C37=\"\",\"\",VLOOKUP($A30,Pontuação!$A$5:$V$203,COLUMN(B:B),0))","v":""},{"$f":"IF(Propostas!$C37=\"\",\"\",VLOOKUP($A30,Pontuação!$A$5:$V$203,COLUMN(C:C),0))","v":""},{"$f":"IF(Propostas!$C37=\"\",\"\",VLOOKUP($A30,Pontuação!$A$5:$V$203,COLUMN(D:D),0))","v":""},{"$f":"IF(Propostas!$C37=\"\",\"\",VLOOKUP($A30,Pontuação!$A$5:$V$203,COLUMN(E:E),0))","v":""},{"$f":"IF(Propostas!$C37=\"\",\"\",VLOOKUP($A30,Pontuação!$A$5:$V$203,COLUMN(F:F),0))","v":""},{"$f":"IF(Propostas!$C37=\"\",\"\",VLOOKUP($A30,Pontuação!$A$5:$V$203,COLUMN(G:G),0))","v":""},{"$f":"IF(Propostas!$C37=\"\",\"\",VLOOKUP($A30,Pontuação!$A$5:$V$203,COLUMN(H:H),0))","v":""},{"$f":"IF(Propostas!$C37=\"\",\"\",VLOOKUP($A30,Pontuação!$A$5:$V$203,COLUMN(I:I),0))","v":""},{"$f":"IF(Propostas!$C37=\"\",\"\",VLOOKUP($A30,Pontuação!$A$5:$V$203,COLUMN(J:J),0))","v":""},{"$f":"IF(Propostas!$C37=\"\",\"\",VLOOKUP($A30,Pontuação!$A$5:$V$203,COLUMN(K:K),0))","v":""},{"$f":"IF(Propostas!$C37=\"\",\"\",VLOOKUP($A30,Pontuação!$A$5:$V$203,COLUMN(L:L),0))","v":""},{"$f":"IF(Propostas!$C37=\"\",\"\",VLOOKUP($A30,Pontuação!$A$5:$V$203,COLUMN(M:M),0))","v":""},{"$f":"IF(Propostas!$C37=\"\",\"\",VLOOKUP($A30,Pontuação!$A$5:$V$203,COLUMN(N:N),0))","v":""},{"$f":"IF(Propostas!$C37=\"\",\"\",VLOOKUP($A30,Pontuação!$A$5:$V$203,COLUMN(O:O),0))","v":""},{"$f":"IF(Propostas!$C37=\"\",\"\",VLOOKUP($A30,Pontuação!$A$5:$V$203,COLUMN(P:P),0))","v":""},{"$f":"IF(Propostas!$C37=\"\",\"\",VLOOKUP($A30,Pontuação!$A$5:$V$203,COLUMN(Q:Q),0))","v":""},{"$f":"IF(Propostas!$C37=\"\",\"\",VLOOKUP($A30,Pontuação!$A$5:$V$203,COLUMN(R:R),0))","v":""},{"$f":"IF(Propostas!$C37=\"\",\"\",VLOOKUP($A30,Pontuação!$A$5:$V$203,COLUMN(S:S),0))","v":""},{"$f":"IF(Propostas!$C37=\"\",\"\",VLOOKUP($A30,Pontuação!$A$5:$V$203,COLUMN(T:T),0))","v":""},{"$f":"IF(Propostas!$C37=\"\",\"\",VLOOKUP($A30,Pontuação!$A$5:$V$203,COLUMN(U:U),0))","v":""},{"$f":"IF(Propostas!$B37=\"\",\"\",SUM(C30:U30))","v":""},{"$f":"IF(Propostas!$C37=\"\",\"\",RANK(V30,$V$5:$V$203,0))","v":""},{"$f":"IF(Propostas!$C37=\"\",\"\",VLOOKUP(B30,Propostas[],3,0))","v":""},{"$f":"IF(Propostas!$C37=\"\",\"\",Y29-X30)","v":""},{"$f":"IF(Propostas!$C37=\"\",\"\",IF(Y30>0,\"S\",\"N\"))","v":""}]
[{"$f":"IF(Propostas!$C38=\"\",\"\",ROW(27:27))","v":""},{"$f":"IF(Propostas!$C38=\"\",\"\",VLOOKUP($A31,Pontuação!$A$5:$V$203,COLUMN(B:B),0))","v":""},{"$f":"IF(Propostas!$C38=\"\",\"\",VLOOKUP($A31,Pontuação!$A$5:$V$203,COLUMN(C:C),0))","v":""},{"$f":"IF(Propostas!$C38=\"\",\"\",VLOOKUP($A31,Pontuação!$A$5:$V$203,COLUMN(D:D),0))","v":""},{"$f":"IF(Propostas!$C38=\"\",\"\",VLOOKUP($A31,Pontuação!$A$5:$V$203,COLUMN(E:E),0))","v":""},{"$f":"IF(Propostas!$C38=\"\",\"\",VLOOKUP($A31,Pontuação!$A$5:$V$203,COLUMN(F:F),0))","v":""},{"$f":"IF(Propostas!$C38=\"\",\"\",VLOOKUP($A31,Pontuação!$A$5:$V$203,COLUMN(G:G),0))","v":""},{"$f":"IF(Propostas!$C38=\"\",\"\",VLOOKUP($A31,Pontuação!$A$5:$V$203,COLUMN(H:H),0))","v":""},{"$f":"IF(Propostas!$C38=\"\",\"\",VLOOKUP($A31,Pontuação!$A$5:$V$203,COLUMN(I:I),0))","v":""},{"$f":"IF(Propostas!$C38=\"\",\"\",VLOOKUP($A31,Pontuação!$A$5:$V$203,COLUMN(J:J),0))","v":""},{"$f":"IF(Propostas!$C38=\"\",\"\",VLOOKUP($A31,Pontuação!$A$5:$V$203,COLUMN(K:K),0))","v":""},{"$f":"IF(Propostas!$C38=\"\",\"\",VLOOKUP($A31,Pontuação!$A$5:$V$203,COLUMN(L:L),0))","v":""},{"$f":"IF(Propostas!$C38=\"\",\"\",VLOOKUP($A31,Pontuação!$A$5:$V$203,COLUMN(M:M),0))","v":""},{"$f":"IF(Propostas!$C38=\"\",\"\",VLOOKUP($A31,Pontuação!$A$5:$V$203,COLUMN(N:N),0))","v":""},{"$f":"IF(Propostas!$C38=\"\",\"\",VLOOKUP($A31,Pontuação!$A$5:$V$203,COLUMN(O:O),0))","v":""},{"$f":"IF(Propostas!$C38=\"\",\"\",VLOOKUP($A31,Pontuação!$A$5:$V$203,COLUMN(P:P),0))","v":""},{"$f":"IF(Propostas!$C38=\"\",\"\",VLOOKUP($A31,Pontuação!$A$5:$V$203,COLUMN(Q:Q),0))","v":""},{"$f":"IF(Propostas!$C38=\"\",\"\",VLOOKUP($A31,Pontuação!$A$5:$V$203,COLUMN(R:R),0))","v":""},{"$f":"IF(Propostas!$C38=\"\",\"\",VLOOKUP($A31,Pontuação!$A$5:$V$203,COLUMN(S:S),0))","v":""},{"$f":"IF(Propostas!$C38=\"\",\"\",VLOOKUP($A31,Pontuação!$A$5:$V$203,COLUMN(T:T),0))","v":""},{"$f":"IF(Propostas!$C38=\"\",\"\",VLOOKUP($A31,Pontuação!$A$5:$V$203,COLUMN(U:U),0))","v":""},{"$f":"IF(Propostas!$B38=\"\",\"\",SUM(C31:U31))","v":""},{"$f":"IF(Propostas!$C38=\"\",\"\",RANK(V31,$V$5:$V$203,0))","v":""},{"$f":"IF(Propostas!$C38=\"\",\"\",VLOOKUP(B31,Propostas[],3,0))","v":""},{"$f":"IF(Propostas!$C38=\"\",\"\",Y30-X31)","v":""},{"$f":"IF(Propostas!$C38=\"\",\"\",IF(Y31>0,\"S\",\"N\"))","v":""}]
[{"$f":"IF(Propostas!$C39=\"\",\"\",ROW(28:28))","v":""},{"$f":"IF(Propostas!$C39=\"\",\"\",VLOOKUP($A32,Pontuação!$A$5:$V$203,COLUMN(B:B),0))","v":""},{"$f":"IF(Propostas!$C39=\"\",\"\",VLOOKUP($A32,Pontuação!$A$5:$V$203,COLUMN(C:C),0))","v":""},{"$f":"IF(Propostas!$C39=\"\",\"\",VLOOKUP($A32,Pontuação!$A$5:$V$203,COLUMN(D:D),0))","v":""},{"$f":"IF(Propostas!$C39=\"\",\"\",VLOOKUP($A32,Pontuação!$A$5:$V$203,COLUMN(E:E),0))","v":""},{"$f":"IF(Propostas!$C39=\"\",\"\",VLOOKUP($A32,Pontuação!$A$5:$V$203,COLUMN(F:F),0))","v":""},{"$f":"IF(Propostas!$C39=\"\",\"\",VLOOKUP($A32,Pontuação!$A$5:$V$203,COLUMN(G:G),0))","v":""},{"$f":"IF(Propostas!$C39=\"\",\"\",VLOOKUP($A32,Pontuação!$A$5:$V$203,COLUMN(H:H),0))","v":""},{"$f":"IF(Propostas!$C39=\"\",\"\",VLOOKUP($A32,Pontuação!$A$5:$V$203,COLUMN(I:I),0))","v":""},{"$f":"IF(Propostas!$C39=\"\",\"\",VLOOKUP($A32,Pontuação!$A$5:$V$203,COLUMN(J:J),0))","v":""},{"$f":"IF(Propostas!$C39=\"\",\"\",VLOOKUP($A32,Pontuação!$A$5:$V$203,COLUMN(K:K),0))","v":""},{"$f":"IF(Propostas!$C39=\"\",\"\",VLOOKUP($A32,Pontuação!$A$5:$V$203,COLUMN(L:L),0))","v":""},{"$f":"IF(Propostas!$C39=\"\",\"\",VLOOKUP($A32,Pontuação!$A$5:$V$203,COLUMN(M:M),0))","v":""},{"$f":"IF(Propostas!$C39=\"\",\"\",VLOOKUP($A32,Pontuação!$A$5:$V$203,COLUMN(N:N),0))","v":""},{"$f":"IF(Propostas!$C39=\"\",\"\",VLOOKUP($A32,Pontuação!$A$5:$V$203,COLUMN(O:O),0))","v":""},{"$f":"IF(Propostas!$C39=\"\",\"\",VLOOKUP($A32,Pontuação!$A$5:$V$203,COLUMN(P:P),0))","v":""},{"$f":"IF(Propostas!$C39=\"\",\"\",VLOOKUP($A32,Pontuação!$A$5:$V$203,COLUMN(Q:Q),0))","v":""},{"$f":"IF(Propostas!$C39=\"\",\"\",VLOOKUP($A32,Pontuação!$A$5:$V$203,COLUMN(R:R),0))","v":""},{"$f":"IF(Propostas!$C39=\"\",\"\",VLOOKUP($A32,Pontuação!$A$5:$V$203,COLUMN(S:S),0))","v":""},{"$f":"IF(Propostas!$C39=\"\",\"\",VLOOKUP($A32,Pontuação!$A$5:$V$203,COLUMN(T:T),0))","v":""},{"$f":"IF(Propostas!$C39=\"\",\"\",VLOOKUP($A32,Pontuação!$A$5:$V$203,COLUMN(U:U),0))","v":""},{"$f":"IF(Propostas!$B39=\"\",\"\",SUM(C32:U32))","v":""},{"$f":"IF(Propostas!$C39=\"\",\"\",RANK(V32,$V$5:$V$203,0))","v":""},{"$f":"IF(Propostas!$C39=\"\",\"\",VLOOKUP(B32,Propostas[],3,0))","v":""},{"$f":"IF(Propostas!$C39=\"\",\"\",Y31-X32)","v":""},{"$f":"IF(Propostas!$C39=\"\",\"\",IF(Y32>0,\"S\",\"N\"))","v":""}]
[{"$f":"IF(Propostas!$C40=\"\",\"\",ROW(29:29))","v":""},{"$f":"IF(Propostas!$C40=\"\",\"\",VLOOKUP($A33,Pontuação!$A$5:$V$203,COLUMN(B:B),0))","v":""},{"$f":"IF(Propostas!$C40=\"\",\"\",VLOOKUP($A33,Pontuação!$A$5:$V$203,COLUMN(C:C),0))","v":""},{"$f":"IF(Propostas!$C40=\"\",\"\",VLOOKUP($A33,Pontuação!$A$5:$V$203,COLUMN(D:D),0))","v":""},{"$f":"IF(Propostas!$C40=\"\",\"\",VLOOKUP($A33,Pontuação!$A$5:$V$203,COLUMN(E:E),0))","v":""},{"$f":"IF(Propostas!$C40=\"\",\"\",VLOOKUP($A33,Pontuação!$A$5:$V$203,COLUMN(F:F),0))","v":""},{"$f":"IF(Propostas!$C40=\"\",\"\",VLOOKUP($A33,Pontuação!$A$5:$V$203,COLUMN(G:G),0))","v":""},{"$f":"IF(Propostas!$C40=\"\",\"\",VLOOKUP($A33,Pontuação!$A$5:$V$203,COLUMN(H:H),0))","v":""},{"$f":"IF(Propostas!$C40=\"\",\"\",VLOOKUP($A33,Pontuação!$A$5:$V$203,COLUMN(I:I),0))","v":""},{"$f":"IF(Propostas!$C40=\"\",\"\",VLOOKUP($A33,Pontuação!$A$5:$V$203,COLUMN(J:J),0))","v":""},{"$f":"IF(Propostas!$C40=\"\",\"\",VLOOKUP($A33,Pontuação!$A$5:$V$203,COLUMN(K:K),0))","v":""},{"$f":"IF(Propostas!$C40=\"\",\"\",VLOOKUP($A33,Pontuação!$A$5:$V$203,COLUMN(L:L),0))","v":""},{"$f":"IF(Propostas!$C40=\"\",\"\",VLOOKUP($A33,Pontuação!$A$5:$V$203,COLUMN(M:M),0))","v":""},{"$f":"IF(Propostas!$C40=\"\",\"\",VLOOKUP($A33,Pontuação!$A$5:$V$203,COLUMN(N:N),0))","v":""},{"$f":"IF(Propostas!$C40=\"\",\"\",VLOOKUP($A33,Pontuação!$A$5:$V$203,COLUMN(O:O),0))","v":""},{"$f":"IF(Propostas!$C40=\"\",\"\",VLOOKUP($A33,Pontuação!$A$5:$V$203,COLUMN(P:P),0))","v":""},{"$f":"IF(Propostas!$C40=\"\",\"\",VLOOKUP($A33,Pontuação!$A$5:$V$203,COLUMN(Q:Q),0))","v":""},{"$f":"IF(Propostas!$C40=\"\",\"\",VLOOKUP($A33,Pontuação!$A$5:$V$203,COLUMN(R:R),0))","v":""},{"$f":"IF(Propostas!$C40=\"\",\"\",VLOOKUP($A33,Pontuação!$A$5:$V$203,COLUMN(S:S),0))","v":""},{"$f":"IF(Propostas!$C40=\"\",\"\",VLOOKUP($A33,Pontuação!$A$5:$V$203,COLUMN(T:T),0))","v":""},{"$f":"IF(Propostas!$C40=\"\",\"\",VLOOKUP($A33,Pontuação!$A$5:$V$203,COLUMN(U:U),0))","v":""},{"$f":"IF(Propostas!$B40=\"\",\"\",SUM(C33:U33))","v":""},{"$f":"IF(Propostas!$C40=\"\",\"\",RANK(V33,$V$5:$V$203,0))","v":""},{"$f":"IF(Propostas!$C40=\"\",\"\",VLOOKUP(B33,Propostas[],3,0))","v":""},{"$f":"IF(Propostas!$C40=\"\",\"\",Y32-X33)","v":""},{"$f":"IF(Propostas!$C40=\"\",\"\",IF(Y33>0,\"S\",\"N\"))","v":""}]
[{"$f":"IF(Propostas!$C41=\"\",\"\",ROW(30:30))","v":""},{"$f":"IF(Propostas!$C41=\"\",\"\",VLOOKUP($A34,Pontuação!$A$5:$V$203,COLUMN(B:B),0))","v":""},{"$f":"IF(Propostas!$C41=\"\",\"\",VLOOKUP($A34,Pontuação!$A$5:$V$203,COLUMN(C:C),0))","v":""},{"$f":"IF(Propostas!$C41=\"\",\"\",VLOOKUP($A34,Pontuação!$A$5:$V$203,COLUMN(D:D),0))","v":""},{"$f":"IF(Propostas!$C41=\"\",\"\",VLOOKUP($A34,Pontuação!$A$5:$V$203,COLUMN(E:E),0))","v":""},{"$f":"IF(Propostas!$C41=\"\",\"\",VLOOKUP($A34,Pontuação!$A$5:$V$203,COLUMN(F:F),0))","v":""},{"$f":"IF(Propostas!$C41=\"\",\"\",VLOOKUP($A34,Pontuação!$A$5:$V$203,COLUMN(G:G),0))","v":""},{"$f":"IF(Propostas!$C41=\"\",\"\",VLOOKUP($A34,Pontuação!$A$5:$V$203,COLUMN(H:H),0))","v":""},{"$f":"IF(Propostas!$C41=\"\",\"\",VLOOKUP($A34,Pontuação!$A$5:$V$203,COLUMN(I:I),0))","v":""},{"$f":"IF(Propostas!$C41=\"\",\"\",VLOOKUP($A34,Pontuação!$A$5:$V$203,COLUMN(J:J),0))","v":""},{"$f":"IF(Propostas!$C41=\"\",\"\",VLOOKUP($A34,Pontuação!$A$5:$V$203,COLUMN(K:K),0))","v":""},{"$f":"IF(Propostas!$C41=\"\",\"\",VLOOKUP($A34,Pontuação!$A$5:$V$203,COLUMN(L:L),0))","v":""},{"$f":"IF(Propostas!$C41=\"\",\"\",VLOOKUP($A34,Pontuação!$A$5:$V$203,COLUMN(M:M),0))","v":""},{"$f":"IF(Propostas!$C41=\"\",\"\",VLOOKUP($A34,Pontuação!$A$5:$V$203,COLUMN(N:N),0))","v":""},{"$f":"IF(Propostas!$C41=\"\",\"\",VLOOKUP($A34,Pontuação!$A$5:$V$203,COLUMN(O:O),0))","v":""},{"$f":"IF(Propostas!$C41=\"\",\"\",VLOOKUP($A34,Pontuação!$A$5:$V$203,COLUMN(P:P),0))","v":""},{"$f":"IF(Propostas!$C41=\"\",\"\",VLOOKUP($A34,Pontuação!$A$5:$V$203,COLUMN(Q:Q),0))","v":""},{"$f":"IF(Propostas!$C41=\"\",\"\",VLOOKUP($A34,Pontuação!$A$5:$V$203,COLUMN(R:R),0))","v":""},{"$f":"IF(Propostas!$C41=\"\",\"\",VLOOKUP($A34,Pontuação!$A$5:$V$203,COLUMN(S:S),0))","v":""},{"$f":"IF(Propostas!$C41=\"\",\"\",VLOOKUP($A34,Pontuação!$A$5:$V$203,COLUMN(T:T),0))","v":""},{"$f":"IF(Propostas!$C41=\"\",\"\",VLOOKUP($A34,Pontuação!$A$5:$V$203,COLUMN(U:U),0))","v":""},{"$f":"IF(Propostas!$B41=\"\",\"\",SUM(C34:U34))","v":""},{"$f":"IF(Propostas!$C41=\"\",\"\",RANK(V34,$V$5:$V$203,0))","v":""},{"$f":"IF(Propostas!$C41=\"\",\"\",VLOOKUP(B34,Propostas[],3,0))","v":""},{"$f":"IF(Propostas!$C41=\"\",\"\",Y33-X34)","v":""},{"$f":"IF(Propostas!$C41=\"\",\"\",IF(Y34>0,\"S\",\"N\"))","v":""}]
[{"$f":"IF(Propostas!$C42=\"\",\"\",ROW(31:31))","v":""},{"$f":"IF(Propostas!$C42=\"\",\"\",VLOOKUP($A35,Pontuação!$A$5:$V$203,COLUMN(B:B),0))","v":""},{"$f":"IF(Propostas!$C42=\"\",\"\",VLOOKUP($A35,Pontuação!$A$5:$V$203,COLUMN(C:C),0))","v":""},{"$f":"IF(Propostas!$C42=\"\",\"\",VLOOKUP($A35,Pontuação!$A$5:$V$203,COLUMN(D:D),0))","v":""},{"$f":"IF(Propostas!$C42=\"\",\"\",VLOOKUP($A35,Pontuação!$A$5:$V$203,COLUMN(E:E),0))","v":""},{"$f":"IF(Propostas!$C42=\"\",\"\",VLOOKUP($A35,Pontuação!$A$5:$V$203,COLUMN(F:F),0))","v":""},{"$f":"IF(Propostas!$C42=\"\",\"\",VLOOKUP($A35,Pontuação!$A$5:$V$203,COLUMN(G:G),0))","v":""},{"$f":"IF(Propostas!$C42=\"\",\"\",VLOOKUP($A35,Pontuação!$A$5:$V$203,COLUMN(H:H),0))","v":""},{"$f":"IF(Propostas!$C42=\"\",\"\",VLOOKUP($A35,Pontuação!$A$5:$V$203,COLUMN(I:I),0))","v":""},{"$f":"IF(Propostas!$C42=\"\",\"\",VLOOKUP($A35,Pontuação!$A$5:$V$203,COLUMN(J:J),0))","v":""},{"$f":"IF(Propostas!$C42=\"\",\"\",VLOOKUP($A35,Pontuação!$A$5:$V$203,COLUMN(K:K),0))","v":""},{"$f":"IF(Propostas!$C42=\"\",\"\",VLOOKUP($A35,Pontuação!$A$5:$V$203,COLUMN(L:L),0))","v":""},{"$f":"IF(Propostas!$C42=\"\",\"\",VLOOKUP($A35,Pontuação!$A$5:$V$203,COLUMN(M:M),0))","v":""},{"$f":"IF(Propostas!$C42=\"\",\"\",VLOOKUP($A35,Pontuação!$A$5:$V$203,COLUMN(N:N),0))","v":""},{"$f":"IF(Propostas!$C42=\"\",\"\",VLOOKUP($A35,Pontuação!$A$5:$V$203,COLUMN(O:O),0))","v":""},{"$f":"IF(Propostas!$C42=\"\",\"\",VLOOKUP($A35,Pontuação!$A$5:$V$203,COLUMN(P:P),0))","v":""},{"$f":"IF(Propostas!$C42=\"\",\"\",VLOOKUP($A35,Pontuação!$A$5:$V$203,COLUMN(Q:Q),0))","v":""},{"$f":"IF(Propostas!$C42=\"\",\"\",VLOOKUP($A35,Pontuação!$A$5:$V$203,COLUMN(R:R),0))","v":""},{"$f":"IF(Propostas!$C42=\"\",\"\",VLOOKUP($A35,Pontuação!$A$5:$V$203,COLUMN(S:S),0))","v":""},{"$f":"IF(Propostas!$C42=\"\",\"\",VLOOKUP($A35,Pontuação!$A$5:$V$203,COLUMN(T:T),0))","v":""},{"$f":"IF(Propostas!$C42=\"\",\"\",VLOOKUP($A35,Pontuação!$A$5:$V$203,COLUMN(U:U),0))","v":""},{"$f":"IF(Propostas!$B42=\"\",\"\",SUM(C35:U35))","v":""},{"$f":"IF(Propostas!$C42=\"\",\"\",RANK(V35,$V$5:$V$203,0))","v":""},{"$f":"IF(Propostas!$C42=\"\",\"\",VLOOKUP(B35,Propostas[],3,0))","v":""},{"$f":"IF(Propostas!$C42=\"\",\"\",Y34-X35)","v":""},{"$f":"IF(Propostas!$C42=\"\",\"\",IF(Y35>0,\"S\",\"N\"))","v":""}]
[{"$f":"IF(Propostas!$C43=\"\",\"\",ROW(32:32))","v":""},{"$f":"IF(Propostas!$C43=\"\",\"\",VLOOKUP($A36,Pontuação!$A$5:$V$203,COLUMN(B:B),0))","v":""},{"$f":"IF(Propostas!$C43=\"\",\"\",VLOOKUP($A36,Pontuação!$A$5:$V$203,COLUMN(C:C),0))","v":""},{"$f":"IF(Propostas!$C43=\"\",\"\",VLOOKUP($A36,Pontuação!$A$5:$V$203,COLUMN(D:D),0))","v":""},{"$f":"IF(Propostas!$C43=\"\",\"\",VLOOKUP($A36,Pontuação!$A$5:$V$203,COLUMN(E:E),0))","v":""},{"$f":"IF(Propostas!$C43=\"\",\"\",VLOOKUP($A36,Pontuação!$A$5:$V$203,COLUMN(F:F),0))","v":""},{"$f":"IF(Propostas!$C43=\"\",\"\",VLOOKUP($A36,Pontuação!$A$5:$V$203,COLUMN(G:G),0))","v":""},{"$f":"IF(Propostas!$C43=\"\",\"\",VLOOKUP($A36,Pontuação!$A$5:$V$203,COLUMN(H:H),0))","v":""},{"$f":"IF(Propostas!$C43=\"\",\"\",VLOOKUP($A36,Pontuação!$A$5:$V$203,COLUMN(I:I),0))","v":""},{"$f":"IF(Propostas!$C43=\"\",\"\",VLOOKUP($A36,Pontuação!$A$5:$V$203,COLUMN(J:J),0))","v":""},{"$f":"IF(Propostas!$C43=\"\",\"\",VLOOKUP($A36,Pontuação!$A$5:$V$203,COLUMN(K:K),0))","v":""},{"$f":"IF(Propostas!$C43=\"\",\"\",VLOOKUP($A36,Pontuação!$A$5:$V$203,COLUMN(L:L),0))","v":""},{"$f":"IF(Propostas!$C43=\"\",\"\",VLOOKUP($A36,Pontuação!$A$5:$V$203,COLUMN(M:M),0))","v":""},{"$f":"IF(Propostas!$C43=\"\",\"\",VLOOKUP($A36,Pontuação!$A$5:$V$203,COLUMN(N:N),0))","v":""},{"$f":"IF(Propostas!$C43=\"\",\"\",VLOOKUP($A36,Pontuação!$A$5:$V$203,COLUMN(O:O),0))","v":""},{"$f":"IF(Propostas!$C43=\"\",\"\",VLOOKUP($A36,Pontuação!$A$5:$V$203,COLUMN(P:P),0))","v":""},{"$f":"IF(Propostas!$C43=\"\",\"\",VLOOKUP($A36,Pontuação!$A$5:$V$203,COLUMN(Q:Q),0))","v":""},{"$f":"IF(Propostas!$C43=\"\",\"\",VLOOKUP($A36,Pontuação!$A$5:$V$203,COLUMN(R:R),0))","v":""},{"$f":"IF(Propostas!$C43=\"\",\"\",VLOOKUP($A36,Pontuação!$A$5:$V$203,COLUMN(S:S),0))","v":""},{"$f":"IF(Propostas!$C43=\"\",\"\",VLOOKUP($A36,Pontuação!$A$5:$V$203,COLUMN(T:T),0))","v":""},{"$f":"IF(Propostas!$C43=\"\",\"\",VLOOKUP($A36,Pontuação!$A$5:$V$203,COLUMN(U:U),0))","v":""},{"$f":"IF(Propostas!$B43=\"\",\"\",SUM(C36:U36))","v":""},{"$f":"IF(Propostas!$C43=\"\",\"\",RANK(V36,$V$5:$V$203,0))","v":""},{"$f":"IF(Propostas!$C43=\"\",\"\",VLOOKUP(B36,Propostas[],3,0))","v":""},{"$f":"IF(Propostas!$C43=\"\",\"\",Y35-X36)","v":""},{"$f":"IF(Propostas!$C43=\"\",\"\",IF(Y36>0,\"S\",\"N\"))","v":""}]
[{"$f":"IF(Propostas!$C44=\"\",\"\",ROW(33:33))","v":""},{"$f":"IF(Propostas!$C44=\"\",\"\",VLOOKUP($A37,Pontuação!$A$5:$V$203,COLUMN(B:B),0))","v":""},{"$f":"IF(Propostas!$C44=\"\",\"\",VLOOKUP($A37,Pontuação!$A$5:$V$203,COLUMN(C:C),0))","v":""},{"$f":"IF(Propostas!$C44=\"\",\"\",VLOOKUP($A37,Pontuação!$A$5:$V$203,COLUMN(D:D),0))","v":""},{"$f":"IF(Propostas!$C44=\"\",\"\",VLOOKUP($A37,Pontuação!$A$5:$V$203,COLUMN(E:E),0))","v":""},{"$f":"IF(Propostas!$C44=\"\",\"\",VLOOKUP($A37,Pontuação!$A$5:$V$203,COLUMN(F:F),0))","v":""},{"$f":"IF(Propostas!$C44=\"\",\"\",VLOOKUP($A37,Pontuação!$A$5:$V$203,COLUMN(G:G),0))","v":""},{"$f":"IF(Propostas!$C44=\"\",\"\",VLOOKUP($A37,Pontuação!$A$5:$V$203,COLUMN(H:H),0))","v":""},{"$f":"IF(Propostas!$C44=\"\",\"\",VLOOKUP($A37,Pontuação!$A$5:$V$203,COLUMN(I:I),0))","v":""},{"$f":"IF(Propostas!$C44=\"\",\"\",VLOOKUP($A37,Pontuação!$A$5:$V$203,COLUMN(J:J),0))","v":""},{"$f":"IF(Propostas!$C44=\"\",\"\",VLOOKUP($A37,Pontuação!$A$5:$V$203,COLUMN(K:K),0))","v":""},{"$f":"IF(Propostas!$C44=\"\",\"\",VLOOKUP($A37,Pontuação!$A$5:$V$203,COLUMN(L:L),0))","v":""},{"$f":"IF(Propostas!$C44=\"\",\"\",VLOOKUP($A37,Pontuação!$A$5:$V$203,COLUMN(M:M),0))","v":""},{"$f":"IF(Propostas!$C44=\"\",\"\",VLOOKUP($A37,Pontuação!$A$5:$V$203,COLUMN(N:N),0))","v":""},{"$f":"IF(Propostas!$C44=\"\",\"\",VLOOKUP($A37,Pontuação!$A$5:$V$203,COLUMN(O:O),0))","v":""},{"$f":"IF(Propostas!$C44=\"\",\"\",VLOOKUP($A37,Pontuação!$A$5:$V$203,COLUMN(P:P),0))","v":""},{"$f":"IF(Propostas!$C44=\"\",\"\",VLOOKUP($A37,Pontuação!$A$5:$V$203,COLUMN(Q:Q),0))","v":""},{"$f":"IF(Propostas!$C44=\"\",\"\",VLOOKUP($A37,Pontuação!$A$5:$V$203,COLUMN(R:R),0))","v":""},{"$f":"IF(Propostas!$C44=\"\",\"\",VLOOKUP($A37,Pontuação!$A$5:$V$203,COLUMN(S:S),0))","v":""},{"$f":"IF(Propostas!$C44=\"\",\"\",VLOOKUP($A37,Pontuação!$A$5:$V$203,COLUMN(T:T),0))","v":""},{"$f":"IF(Propostas!$C44=\"\",\"\",VLOOKUP($A37,Pontuação!$A$5:$V$203,COLUMN(U:U),0))","v":""},{"$f":"IF(Propostas!$B44=\"\",\"\",SUM(C37:U37))","v":""},{"$f":"IF(Propostas!$C44=\"\",\"\",RANK(V37,$V$5:$V$203,0))","v":""},{"$f":"IF(Propostas!$C44=\"\",\"\",VLOOKUP(B37,Propostas[],3,0))","v":""},{"$f":"IF(Propostas!$C44=\"\",\"\",Y36-X37)","v":""},{"$f":"IF(Propostas!$C44=\"\",\"\",IF(Y37>0,\"S\",\"N\"))","v":""}]
[{"$f":"IF(Propostas!$C45=\"\",\"\",ROW(34:34))","v":""},{"$f":"IF(Propostas!$C45=\"\",\"\",VLOOKUP($A38,Pontuação!$A$5:$V$203,COLUMN(B:B),0))","v":""},{"$f":"IF(Propostas!$C45=\"\",\"\",VLOOKUP($A38,Pontuação!$A$5:$V$203,COLUMN(C:C),0))","v":""},{"$f":"IF(Propostas!$C45=\"\",\"\",VLOOKUP($A38,Pontuação!$A$5:$V$203,COLUMN(D:D),0))","v":""},{"$f":"IF(Propostas!$C45=\"\",\"\",VLOOKUP($A38,Pontuação!$A$5:$V$203,COLUMN(E:E),0))","v":""},{"$f":"IF(Propostas!$C45=\"\",\"\",VLOOKUP($A38,Pontuação!$A$5:$V$203,COLUMN(F:F),0))","v":""},{"$f":"IF(Propostas!$C45=\"\",\"\",VLOOKUP($A38,Pontuação!$A$5:$V$203,COLUMN(G:G),0))","v":""},{"$f":"IF(Propostas!$C45=\"\",\"\",VLOOKUP($A38,Pontuação!$A$5:$V$203,COLUMN(H:H),0))","v":""},{"$f":"IF(Propostas!$C45=\"\",\"\",VLOOKUP($A38,Pontuação!$A$5:$V$203,COLUMN(I:I),0))","v":""},{"$f":"IF(Propostas!$C45=\"\",\"\",VLOOKUP($A38,Pontuação!$A$5:$V$203,COLUMN(J:J),0))","v":""},{"$f":"IF(Propostas!$C45=\"\",\"\",VLOOKUP($A38,Pontuação!$A$5:$V$203,COLUMN(K:K),0))","v":""},{"$f":"IF(Propostas!$C45=\"\",\"\",VLOOKUP($A38,Pontuação!$A$5:$V$203,COLUMN(L:L),0))","v":""},{"$f":"IF(Propostas!$C45=\"\",\"\",VLOOKUP($A38,Pontuação!$A$5:$V$203,COLUMN(M:M),0))","v":""},{"$f":"IF(Propostas!$C45=\"\",\"\",VLOOKUP($A38,Pontuação!$A$5:$V$203,COLUMN(N:N),0))","v":""},{"$f":"IF(Propostas!$C45=\"\",\"\",VLOOKUP($A38,Pontuação!$A$5:$V$203,COLUMN(O:O),0))","v":""},{"$f":"IF(Propostas!$C45=\"\",\"\",VLOOKUP($A38,Pontuação!$A$5:$V$203,COLUMN(P:P),0))","v":""},{"$f":"IF(Propostas!$C45=\"\",\"\",VLOOKUP($A38,Pontuação!$A$5:$V$203,COLUMN(Q:Q),0))","v":""},{"$f":"IF(Propostas!$C45=\"\",\"\",VLOOKUP($A38,Pontuação!$A$5:$V$203,COLUMN(R:R),0))","v":""},{"$f":"IF(Propostas!$C45=\"\",\"\",VLOOKUP($A38,Pontuação!$A$5:$V$203,COLUMN(S:S),0))","v":""},{"$f":"IF(Propostas!$C45=\"\",\"\",VLOOKUP($A38,Pontuação!$A$5:$V$203,COLUMN(T:T),0))","v":""},{"$f":"IF(Propostas!$C45=\"\",\"\",VLOOKUP($A38,Pontuação!$A$5:$V$203,COLUMN(U:U),0))","v":""},{"$f":"IF(Propostas!$B45=\"\",\"\",SUM(C38:U38))","v":""},{"$f":"IF(Propostas!$C45=\"\",\"\",RANK(V38,$V$5:$V$203,0))","v":""},{"$f":"IF(Propostas!$C45=\"\",\"\",VLOOKUP(B38,Propostas[],3,0))","v":""},{"$f":"IF(Propostas!$C45=\"\",\"\",Y37-X38)","v":""},{"$f":"IF(Propostas!$C45=\"\",\"\",IF(Y38>0,\"S\",\"N\"))","v":""}]
[{"$f":"IF(Propostas!$C46=\"\",\"\",ROW(35:35))","v":""},{"$f":"IF(Propostas!$C46=\"\",\"\",VLOOKUP($A39,Pontuação!$A$5:$V$203,COLUMN(B:B),0))","v":""},{"$f":"IF(Propostas!$C46=\"\",\"\",VLOOKUP($A39,Pontuação!$A$5:$V$203,COLUMN(C:C),0))","v":""},{"$f":"IF(Propostas!$C46=\"\",\"\",VLOOKUP($A39,Pontuação!$A$5:$V$203,COLUMN(D:D),0))","v":""},{"$f":"IF(Propostas!$C46=\"\",\"\",VLOOKUP($A39,Pontuação!$A$5:$V$203,COLUMN(E:E),0))","v":""},{"$f":"IF(Propostas!$C46=\"\",\"\",VLOOKUP($A39,Pontuação!$A$5:$V$203,COLUMN(F:F),0))","v":""},{"$f":"IF(Propostas!$C46=\"\",\"\",VLOOKUP($A39,Pontuação!$A$5:$V$203,COLUMN(G:G),0))","v":""},{"$f":"IF(Propostas!$C46=\"\",\"\",VLOOKUP($A39,Pontuação!$A$5:$V$203,COLUMN(H:H),0))","v":""},{"$f":"IF(Propostas!$C46=\"\",\"\",VLOOKUP($A39,Pontuação!$A$5:$V$203,COLUMN(I:I),0))","v":""},{"$f":"IF(Propostas!$C46=\"\",\"\",VLOOKUP($A39,Pontuação!$A$5:$V$203,COLUMN(J:J),0))","v":""},{"$f":"IF(Propostas!$C46=\"\",\"\",VLOOKUP($A39,Pontuação!$A$5:$V$203,COLUMN(K:K),0))","v":""},{"$f":"IF(Propostas!$C46=\"\",\"\",VLOOKUP($A39,Pontuação!$A$5:$V$203,COLUMN(L:L),0))","v":""},{"$f":"IF(Propostas!$C46=\"\",\"\",VLOOKUP($A39,Pontuação!$A$5:$V$203,COLUMN(M:M),0))","v":""},{"$f":"IF(Propostas!$C46=\"\",\"\",VLOOKUP($A39,Pontuação!$A$5:$V$203,COLUMN(N:N),0))","v":""},{"$f":"IF(Propostas!$C46=\"\",\"\",VLOOKUP($A39,Pontuação!$A$5:$V$203,COLUMN(O:O),0))","v":""},{"$f":"IF(Propostas!$C46=\"\",\"\",VLOOKUP($A39,Pontuação!$A$5:$V$203,COLUMN(P:P),0))","v":""},{"$f":"IF(Propostas!$C46=\"\",\"\",VLOOKUP($A39,Pontuação!$A$5:$V$203,COLUMN(Q:Q),0))","v":""},{"$f":"IF(Propostas!$C46=\"\",\"\",VLOOKUP($A39,Pontuação!$A$5:$V$203,COLUMN(R:R),0))","v":""},{"$f":"IF(Propostas!$C46=\"\",\"\",VLOOKUP($A39,Pontuação!$A$5:$V$203,COLUMN(S:S),0))","v":""},{"$f":"IF(Propostas!$C46=\"\",\"\",VLOOKUP($A39,Pontuação!$A$5:$V$203,COLUMN(T:T),0))","v":""},{"$f":"IF(Propostas!$C46=\"\",\"\",VLOOKUP($A39,Pontuação!$A$5:$V$203,COLUMN(U:U),0))","v":""},{"$f":"IF(Propostas!$B46=\"\",\"\",SUM(C39:U39))","v":""},{"$f":"IF(Propostas!$C46=\"\",\"\",RANK(V39,$V$5:$V$203,0))","v":""},{"$f":"IF(Propostas!$C46=\"\",\"\",VLOOKUP(B39,Propostas[],3,0))","v":""},{"$f":"IF(Propostas!$C46=\"\",\"\",Y38-X39)","v":""},{"$f":"IF(Propostas!$C46=\"\",\"\",IF(Y39>0,\"S\",\"N\"))","v":""}]
[{"$f":"IF(Propostas!$C47=\"\",\"\",ROW(36:36))","v":""},{"$f":"IF(Propostas!$C47=\"\",\"\",VLOOKUP($A40,Pontuação!$A$5:$V$203,COLUMN(B:B),0))","v":""},{"$f":"IF(Propostas!$C47=\"\",\"\",VLOOKUP($A40,Pontuação!$A$5:$V$203,COLUMN(C:C),0))","v":""},{"$f":"IF(Propostas!$C47=\"\",\"\",VLOOKUP($A40,Pontuação!$A$5:$V$203,COLUMN(D:D),0))","v":""},{"$f":"IF(Propostas!$C47=\"\",\"\",VLOOKUP($A40,Pontuação!$A$5:$V$203,COLUMN(E:E),0))","v":""},{"$f":"IF(Propostas!$C47=\"\",\"\",VLOOKUP($A40,Pontuação!$A$5:$V$203,COLUMN(F:F),0))","v":""},{"$f":"IF(Propostas!$C47=\"\",\"\",VLOOKUP($A40,Pontuação!$A$5:$V$203,COLUMN(G:G),0))","v":""},{"$f":"IF(Propostas!$C47=\"\",\"\",VLOOKUP($A40,Pontuação!$A$5:$V$203,COLUMN(H:H),0))","v":""},{"$f":"IF(Propostas!$C47=\"\",\"\",VLOOKUP($A40,Pontuação!$A$5:$V$203,COLUMN(I:I),0))","v":""},{"$f":"IF(Propostas!$C47=\"\",\"\",VLOOKUP($A40,Pontuação!$A$5:$V$203,COLUMN(J:J),0))","v":""},{"$f":"IF(Propostas!$C47=\"\",\"\",VLOOKUP($A40,Pontuação!$A$5:$V$203,COLUMN(K:K),0))","v":""},{"$f":"IF(Propostas!$C47=\"\",\"\",VLOOKUP($A40,Pontuação!$A$5:$V$203,COLUMN(L:L),0))","v":""},{"$f":"IF(Propostas!$C47=\"\",\"\",VLOOKUP($A40,Pontuação!$A$5:$V$203,COLUMN(M:M),0))","v":""},{"$f":"IF(Propostas!$C47=\"\",\"\",VLOOKUP($A40,Pontuação!$A$5:$V$203,COLUMN(N:N),0))","v":""},{"$f":"IF(Propostas!$C47=\"\",\"\",VLOOKUP($A40,Pontuação!$A$5:$V$203,COLUMN(O:O),0))","v":""},{"$f":"IF(Propostas!$C47=\"\",\"\",VLOOKUP($A40,Pontuação!$A$5:$V$203,COLUMN(P:P),0))","v":""},{"$f":"IF(Propostas!$C47=\"\",\"\",VLOOKUP($A40,Pontuação!$A$5:$V$203,COLUMN(Q:Q),0))","v":""},{"$f":"IF(Propostas!$C47=\"\",\"\",VLOOKUP($A40,Pontuação!$A$5:$V$203,COLUMN(R:R),0))","v":""},{"$f":"IF(Propostas!$C47=\"\",\"\",VLOOKUP($A40,Pontuação!$A$5:$V$203,COLUMN(S:S),0))","v":""},{"$f":"IF(Propostas!$C47=\"\",\"\",VLOOKUP($A40,Pontuação!$A$5:$V$203,COLUMN(T:T),0))","v":""},{"$f":"IF(Propostas!$C47=\"\",\"\",VLOOKUP($A40,Pontuação!$A$5:$V$203,COLUMN(U:U),0))","v":""},{"$f":"IF(Propostas!$B47=\"\",\"\",SUM(C40:U40))","v":""},{"$f":"IF(Propostas!$C47=\"\",\"\",RANK(V40,$V$5:$V$203,0))","v":""},{"$f":"IF(Propostas!$C47=\"\",\"\",VLOOKUP(B40,Propostas[],3,0))","v":""},{"$f":"IF(Propostas!$C47=\"\",\"\",Y39-X40)","v":""},{"$f":"IF(Propostas!$C47=\"\",\"\",IF(Y40>0,\"S\",\"N\"))","v":""}]
[{"$f":"IF(Propostas!$C48=\"\",\"\",ROW(37:37))","v":""},{"$f":"IF(Propostas!$C48=\"\",\"\",VLOOKUP($A41,Pontuação!$A$5:$V$203,COLUMN(B:B),0))","v":""},{"$f":"IF(Propostas!$C48=\"\",\"\",VLOOKUP($A41,Pontuação!$A$5:$V$203,COLUMN(C:C),0))","v":""},{"$f":"IF(Propostas!$C48=\"\",\"\",VLOOKUP($A41,Pontuação!$A$5:$V$203,COLUMN(D:D),0))","v":""},{"$f":"IF(Propostas!$C48=\"\",\"\",VLOOKUP($A41,Pontuação!$A$5:$V$203,COLUMN(E:E),0))","v":""},{"$f":"IF(Propostas!$C48=\"\",\"\",VLOOKUP($A41,Pontuação!$A$5:$V$203,COLUMN(F:F),0))","v":""},{"$f":"IF(Propostas!$C48=\"\",\"\",VLOOKUP($A41,Pontuação!$A$5:$V$203,COLUMN(G:G),0))","v":""},{"$f":"IF(Propostas!$C48=\"\",\"\",VLOOKUP($A41,Pontuação!$A$5:$V$203,COLUMN(H:H),0))","v":""},{"$f":"IF(Propostas!$C48=\"\",\"\",VLOOKUP($A41,Pontuação!$A$5:$V$203,COLUMN(I:I),0))","v":""},{"$f":"IF(Propostas!$C48=\"\",\"\",VLOOKUP($A41,Pontuação!$A$5:$V$203,COLUMN(J:J),0))","v":""},{"$f":"IF(Propostas!$C48=\"\",\"\",VLOOKUP($A41,Pontuação!$A$5:$V$203,COLUMN(K:K),0))","v":""},{"$f":"IF(Propostas!$C48=\"\",\"\",VLOOKUP($A41,Pontuação!$A$5:$V$203,COLUMN(L:L),0))","v":""},{"$f":"IF(Propostas!$C48=\"\",\"\",VLOOKUP($A41,Pontuação!$A$5:$V$203,COLUMN(M:M),0))","v":""},{"$f":"IF(Propostas!$C48=\"\",\"\",VLOOKUP($A41,Pontuação!$A$5:$V$203,COLUMN(N:N),0))","v":""},{"$f":"IF(Propostas!$C48=\"\",\"\",VLOOKUP($A41,Pontuação!$A$5:$V$203,COLUMN(O:O),0))","v":""},{"$f":"IF(Propostas!$C48=\"\",\"\",VLOOKUP($A41,Pontuação!$A$5:$V$203,COLUMN(P:P),0))","v":""},{"$f":"IF(Propostas!$C48=\"\",\"\",VLOOKUP($A41,Pontuação!$A$5:$V$203,COLUMN(Q:Q),0))","v":""},{"$f":"IF(Propostas!$C48=\"\",\"\",VLOOKUP($A41,Pontuação!$A$5:$V$203,COLUMN(R:R),0))","v":""},{"$f":"IF(Propostas!$C48=\"\",\"\",VLOOKUP($A41,Pontuação!$A$5:$V$203,COLUMN(S:S),0))","v":""},{"$f":"IF(Propostas!$C48=\"\",\"\",VLOOKUP($A41,Pontuação!$A$5:$V$203,COLUMN(T:T),0))","v":""},{"$f":"IF(Propostas!$C48=\"\",\"\",VLOOKUP($A41,Pontuação!$A$5:$V$203,COLUMN(U:U),0))","v":""},{"$f":"IF(Propostas!$B48=\"\",\"\",SUM(C41:U41))","v":""},{"$f":"IF(Propostas!$C48=\"\",\"\",RANK(V41,$V$5:$V$203,0))","v":""},{"$f":"IF(Propostas!$C48=\"\",\"\",VLOOKUP(B41,Propostas[],3,0))","v":""},{"$f":"IF(Propostas!$C48=\"\",\"\",Y40-X41)","v":""},{"$f":"IF(Propostas!$C48=\"\",\"\",IF(Y41>0,\"S\",\"N\"))","v":""}]
[{"$f":"IF(Propostas!$C49=\"\",\"\",ROW(38:38))","v":""},{"$f":"IF(Propostas!$C49=\"\",\"\",VLOOKUP($A42,Pontuação!$A$5:$V$203,COLUMN(B:B),0))","v":""},{"$f":"IF(Propostas!$C49=\"\",\"\",VLOOKUP($A42,Pontuação!$A$5:$V$203,COLUMN(C:C),0))","v":""},{"$f":"IF(Propostas!$C49=\"\",\"\",VLOOKUP($A42,Pontuação!$A$5:$V$203,COLUMN(D:D),0))","v":""},{"$f":"IF(Propostas!$C49=\"\",\"\",VLOOKUP($A42,Pontuação!$A$5:$V$203,COLUMN(E:E),0))","v":""},{"$f":"IF(Propostas!$C49=\"\",\"\",VLOOKUP($A42,Pontuação!$A$5:$V$203,COLUMN(F:F),0))","v":""},{"$f":"IF(Propostas!$C49=\"\",\"\",VLOOKUP($A42,Pontuação!$A$5:$V$203,COLUMN(G:G),0))","v":""},{"$f":"IF(Propostas!$C49=\"\",\"\",VLOOKUP($A42,Pontuação!$A$5:$V$203,COLUMN(H:H),0))","v":""},{"$f":"IF(Propostas!$C49=\"\",\"\",VLOOKUP($A42,Pontuação!$A$5:$V$203,COLUMN(I:I),0))","v":""},{"$f":"IF(Propostas!$C49=\"\",\"\",VLOOKUP($A42,Pontuação!$A$5:$V$203,COLUMN(J:J),0))","v":""},{"$f":"IF(Propostas!$C49=\"\",\"\",VLOOKUP($A42,Pontuação!$A$5:$V$203,COLUMN(K:K),0))","v":""},{"$f":"IF(Propostas!$C49=\"\",\"\",VLOOKUP($A42,Pontuação!$A$5:$V$203,COLUMN(L:L),0))","v":""},{"$f":"IF(Propostas!$C49=\"\",\"\",VLOOKUP($A42,Pontuação!$A$5:$V$203,COLUMN(M:M),0))","v":""},{"$f":"IF(Propostas!$C49=\"\",\"\",VLOOKUP($A42,Pontuação!$A$5:$V$203,COLUMN(N:N),0))","v":""},{"$f":"IF(Propostas!$C49=\"\",\"\",VLOOKUP($A42,Pontuação!$A$5:$V$203,COLUMN(O:O),0))","v":""},{"$f":"IF(Propostas!$C49=\"\",\"\",VLOOKUP($A42,Pontuação!$A$5:$V$203,COLUMN(P:P),0))","v":""},{"$f":"IF(Propostas!$C49=\"\",\"\",VLOOKUP($A42,Pontuação!$A$5:$V$203,COLUMN(Q:Q),0))","v":""},{"$f":"IF(Propostas!$C49=\"\",\"\",VLOOKUP($A42,Pontuação!$A$5:$V$203,COLUMN(R:R),0))","v":""},{"$f":"IF(Propostas!$C49=\"\",\"\",VLOOKUP($A42,Pontuação!$A$5:$V$203,COLUMN(S:S),0))","v":""},{"$f":"IF(Propostas!$C49=\"\",\"\",VLOOKUP($A42,Pontuação!$A$5:$V$203,COLUMN(T:T),0))","v":""},{"$f":"IF(Propostas!$C49=\"\",\"\",VLOOKUP($A42,Pontuação!$A$5:$V$203,COLUMN(U:U),0))","v":""},{"$f":"IF(Propostas!$B49=\"\",\"\",SUM(C42:U42))","v":""},{"$f":"IF(Propostas!$C49=\"\",\"\",RANK(V42,$V$5:$V$203,0))","v":""},{"$f":"IF(Propostas!$C49=\"\",\"\",VLOOKUP(B42,Propostas[],3,0))","v":""},{"$f":"IF(Propostas!$C49=\"\",\"\",Y41-X42)","v":""},{"$f":"IF(Propostas!$C49=\"\",\"\",IF(Y42>0,\"S\",\"N\"))","v":""}]
[{"$f":"IF(Propostas!$C50=\"\",\"\",ROW(39:39))","v":""},{"$f":"IF(Propostas!$C50=\"\",\"\",VLOOKUP($A43,Pontuação!$A$5:$V$203,COLUMN(B:B),0))","v":""},{"$f":"IF(Propostas!$C50=\"\",\"\",VLOOKUP($A43,Pontuação!$A$5:$V$203,COLUMN(C:C),0))","v":""},{"$f":"IF(Propostas!$C50=\"\",\"\",VLOOKUP($A43,Pontuação!$A$5:$V$203,COLUMN(D:D),0))","v":""},{"$f":"IF(Propostas!$C50=\"\",\"\",VLOOKUP($A43,Pontuação!$A$5:$V$203,COLUMN(E:E),0))","v":""},{"$f":"IF(Propostas!$C50=\"\",\"\",VLOOKUP($A43,Pontuação!$A$5:$V$203,COLUMN(F:F),0))","v":""},{"$f":"IF(Propostas!$C50=\"\",\"\",VLOOKUP($A43,Pontuação!$A$5:$V$203,COLUMN(G:G),0))","v":""},{"$f":"IF(Propostas!$C50=\"\",\"\",VLOOKUP($A43,Pontuação!$A$5:$V$203,COLUMN(H:H),0))","v":""},{"$f":"IF(Propostas!$C50=\"\",\"\",VLOOKUP($A43,Pontuação!$A$5:$V$203,COLUMN(I:I),0))","v":""},{"$f":"IF(Propostas!$C50=\"\",\"\",VLOOKUP($A43,Pontuação!$A$5:$V$203,COLUMN(J:J),0))","v":""},{"$f":"IF(Propostas!$C50=\"\",\"\",VLOOKUP($A43,Pontuação!$A$5:$V$203,COLUMN(K:K),0))","v":""},{"$f":"IF(Propostas!$C50=\"\",\"\",VLOOKUP($A43,Pontuação!$A$5:$V$203,COLUMN(L:L),0))","v":""},{"$f":"IF(Propostas!$C50=\"\",\"\",VLOOKUP($A43,Pontuação!$A$5:$V$203,COLUMN(M:M),0))","v":""},{"$f":"IF(Propostas!$C50=\"\",\"\",VLOOKUP($A43,Pontuação!$A$5:$V$203,COLUMN(N:N),0))","v":""},{"$f":"IF(Propostas!$C50=\"\",\"\",VLOOKUP($A43,Pontuação!$A$5:$V$203,COLUMN(O:O),0))","v":""},{"$f":"IF(Propostas!$C50=\"\",\"\",VLOOKUP($A43,Pontuação!$A$5:$V$203,COLUMN(P:P),0))","v":""},{"$f":"IF(Propostas!$C50=\"\",\"\",VLOOKUP($A43,Pontuação!$A$5:$V$203,COLUMN(Q:Q),0))","v":""},{"$f":"IF(Propostas!$C50=\"\",\"\",VLOOKUP($A43,Pontuação!$A$5:$V$203,COLUMN(R:R),0))","v":""},{"$f":"IF(Propostas!$C50=\"\",\"\",VLOOKUP($A43,Pontuação!$A$5:$V$203,COLUMN(S:S),0))","v":""},{"$f":"IF(Propostas!$C50=\"\",\"\",VLOOKUP($A43,Pontuação!$A$5:$V$203,COLUMN(T:T),0))","v":""},{"$f":"IF(Propostas!$C50=\"\",\"\",VLOOKUP($A43,Pontuação!$A$5:$V$203,COLUMN(U:U),0))","v":""},{"$f":"IF(Propostas!$B50=\"\",\"\",SUM(C43:U43))","v":""},{"$f":"IF(Propostas!$C50=\"\",\"\",RANK(V43,$V$5:$V$203,0))","v":""},{"$f":"IF(Propostas!$C50=\"\",\"\",VLOOKUP(B43,Propostas[],3,0))","v":""},{"$f":"IF(Propostas!$C50=\"\",\"\",Y42-X43)","v":""},{"$f":"IF(Propostas!$C50=\"\",\"\",IF(Y43>0,\"S\",\"N\"))","v":""}]
[{"$f":"IF(Propostas!$C51=\"\",\"\",ROW(40:40))","v":""},{"$f":"IF(Propostas!$C51=\"\",\"\",VLOOKUP($A44,Pontuação!$A$5:$V$203,COLUMN(B:B),0))","v":""},{"$f":"IF(Propostas!$C51=\"\",\"\",VLOOKUP($A44,Pontuação!$A$5:$V$203,COLUMN(C:C),0))","v":""},{"$f":"IF(Propostas!$C51=\"\",\"\",VLOOKUP($A44,Pontuação!$A$5:$V$203,COLUMN(D:D),0))","v":""},{"$f":"IF(Propostas!$C51=\"\",\"\",VLOOKUP($A44,Pontuação!$A$5:$V$203,COLUMN(E:E),0))","v":""},{"$f":"IF(Propostas!$C51=\"\",\"\",VLOOKUP($A44,Pontuação!$A$5:$V$203,COLUMN(F:F),0))","v":""},{"$f":"IF(Propostas!$C51=\"\",\"\",VLOOKUP($A44,Pontuação!$A$5:$V$203,COLUMN(G:G),0))","v":""},{"$f":"IF(Propostas!$C51=\"\",\"\",VLOOKUP($A44,Pontuação!$A$5:$V$203,COLUMN(H:H),0))","v":""},{"$f":"IF(Propostas!$C51=\"\",\"\",VLOOKUP($A44,Pontuação!$A$5:$V$203,COLUMN(I:I),0))","v":""},{"$f":"IF(Propostas!$C51=\"\",\"\",VLOOKUP($A44,Pontuação!$A$5:$V$203,COLUMN(J:J),0))","v":""},{"$f":"IF(Propostas!$C51=\"\",\"\",VLOOKUP($A44,Pontuação!$A$5:$V$203,COLUMN(K:K),0))","v":""},{"$f":"IF(Propostas!$C51=\"\",\"\",VLOOKUP($A44,Pontuação!$A$5:$V$203,COLUMN(L:L),0))","v":""},{"$f":"IF(Propostas!$C51=\"\",\"\",VLOOKUP($A44,Pontuação!$A$5:$V$203,COLUMN(M:M),0))","v":""},{"$f":"IF(Propostas!$C51=\"\",\"\",VLOOKUP($A44,Pontuação!$A$5:$V$203,COLUMN(N:N),0))","v":""},{"$f":"IF(Propostas!$C51=\"\",\"\",VLOOKUP($A44,Pontuação!$A$5:$V$203,COLUMN(O:O),0))","v":""},{"$f":"IF(Propostas!$C51=\"\",\"\",VLOOKUP($A44,Pontuação!$A$5:$V$203,COLUMN(P:P),0))","v":""},{"$f":"IF(Propostas!$C51=\"\",\"\",VLOOKUP($A44,Pontuação!$A$5:$V$203,COLUMN(Q:Q),0))","v":""},{"$f":"IF(Propostas!$C51=\"\",\"\",VLOOKUP($A44,Pontuação!$A$5:$V$203,COLUMN(R:R),0))","v":""},{"$f":"IF(Propostas!$C51=\"\",\"\",VLOOKUP($A44,Pontuação!$A$5:$V$203,COLUMN(S:S),0))","v":""},{"$f":"IF(Propostas!$C51=\"\",\"\",VLOOKUP($A44,Pontuação!$A$5:$V$203,COLUMN(T:T),0))","v":""},{"$f":"IF(Propostas!$C51=\"\",\"\",VLOOKUP($A44,Pontuação!$A$5:$V$203,COLUMN(U:U),0))","v":""},{"$f":"IF(Propostas!$B51=\"\",\"\",SUM(C44:U44))","v":""},{"$f":"IF(Propostas!$C51=\"\",\"\",RANK(V44,$V$5:$V$203,0))","v":""},{"$f":"IF(Propostas!$C51=\"\",\"\",VLOOKUP(B44,Propostas[],3,0))","v":""},{"$f":"IF(Propostas!$C51=\"\",\"\",Y43-X44)","v":""},{"$f":"IF(Propostas!$C51=\"\",\"\",IF(Y44>0,\"S\",\"N\"))","v":""}]
[{"$f":"IF(Propostas!$C52=\"\",\"\",ROW(41:41))","v":""},{"$f":"IF(Propostas!$C52=\"\",\"\",VLOOKUP($A45,Pontuação!$A$5:$V$203,COLUMN(B:B),0))","v":""},{"$f":"IF(Propostas!$C52=\"\",\"\",VLOOKUP($A45,Pontuação!$A$5:$V$203,COLUMN(C:C),0))","v":""},{"$f":"IF(Propostas!$C52=\"\",\"\",VLOOKUP($A45,Pontuação!$A$5:$V$203,COLUMN(D:D),0))","v":""},{"$f":"IF(Propostas!$C52=\"\",\"\",VLOOKUP($A45,Pontuação!$A$5:$V$203,COLUMN(E:E),0))","v":""},{"$f":"IF(Propostas!$C52=\"\",\"\",VLOOKUP($A45,Pontuação!$A$5:$V$203,COLUMN(F:F),0))","v":""},{"$f":"IF(Propostas!$C52=\"\",\"\",VLOOKUP($A45,Pontuação!$A$5:$V$203,COLUMN(G:G),0))","v":""},{"$f":"IF(Propostas!$C52=\"\",\"\",VLOOKUP($A45,Pontuação!$A$5:$V$203,COLUMN(H:H),0))","v":""},{"$f":"IF(Propostas!$C52=\"\",\"\",VLOOKUP($A45,Pontuação!$A$5:$V$203,COLUMN(I:I),0))","v":""},{"$f":"IF(Propostas!$C52=\"\",\"\",VLOOKUP($A45,Pontuação!$A$5:$V$203,COLUMN(J:J),0))","v":""},{"$f":"IF(Propostas!$C52=\"\",\"\",VLOOKUP($A45,Pontuação!$A$5:$V$203,COLUMN(K:K),0))","v":""},{"$f":"IF(Propostas!$C52=\"\",\"\",VLOOKUP($A45,Pontuação!$A$5:$V$203,COLUMN(L:L),0))","v":""},{"$f":"IF(Propostas!$C52=\"\",\"\",VLOOKUP($A45,Pontuação!$A$5:$V$203,COLUMN(M:M),0))","v":""},{"$f":"IF(Propostas!$C52=\"\",\"\",VLOOKUP($A45,Pontuação!$A$5:$V$203,COLUMN(N:N),0))","v":""},{"$f":"IF(Propostas!$C52=\"\",\"\",VLOOKUP($A45,Pontuação!$A$5:$V$203,COLUMN(O:O),0))","v":""},{"$f":"IF(Propostas!$C52=\"\",\"\",VLOOKUP($A45,Pontuação!$A$5:$V$203,COLUMN(P:P),0))","v":""},{"$f":"IF(Propostas!$C52=\"\",\"\",VLOOKUP($A45,Pontuação!$A$5:$V$203,COLUMN(Q:Q),0))","v":""},{"$f":"IF(Propostas!$C52=\"\",\"\",VLOOKUP($A45,Pontuação!$A$5:$V$203,COLUMN(R:R),0))","v":""},{"$f":"IF(Propostas!$C52=\"\",\"\",VLOOKUP($A45,Pontuação!$A$5:$V$203,COLUMN(S:S),0))","v":""},{"$f":"IF(Propostas!$C52=\"\",\"\",VLOOKUP($A45,Pontuação!$A$5:$V$203,COLUMN(T:T),0))","v":""},{"$f":"IF(Propostas!$C52=\"\",\"\",VLOOKUP($A45,Pontuação!$A$5:$V$203,COLUMN(U:U),0))","v":""},{"$f":"IF(Propostas!$B52=\"\",\"\",SUM(C45:U45))","v":""},{"$f":"IF(Propostas!$C52=\"\",\"\",RANK(V45,$V$5:$V$203,0))","v":""},{"$f":"IF(Propostas!$C52=\"\",\"\",VLOOKUP(B45,Propostas[],3,0))","v":""},{"$f":"IF(Propostas!$C52=\"\",\"\",Y44-X45)","v":""},{"$f":"IF(Propostas!$C52=\"\",\"\",IF(Y45>0,\"S\",\"N\"))","v":""}]
[{"$f":"IF(Propostas!$C53=\"\",\"\",ROW(42:42))","v":""},{"$f":"IF(Propostas!$C53=\"\",\"\",VLOOKUP($A46,Pontuação!$A$5:$V$203,COLUMN(B:B),0))","v":""},{"$f":"IF(Propostas!$C53=\"\",\"\",VLOOKUP($A46,Pontuação!$A$5:$V$203,COLUMN(C:C),0))","v":""},{"$f":"IF(Propostas!$C53=\"\",\"\",VLOOKUP($A46,Pontuação!$A$5:$V$203,COLUMN(D:D),0))","v":""},{"$f":"IF(Propostas!$C53=\"\",\"\",VLOOKUP($A46,Pontuação!$A$5:$V$203,COLUMN(E:E),0))","v":""},{"$f":"IF(Propostas!$C53=\"\",\"\",VLOOKUP($A46,Pontuação!$A$5:$V$203,COLUMN(F:F),0))","v":""},{"$f":"IF(Propostas!$C53=\"\",\"\",VLOOKUP($A46,Pontuação!$A$5:$V$203,COLUMN(G:G),0))","v":""},{"$f":"IF(Propostas!$C53=\"\",\"\",VLOOKUP($A46,Pontuação!$A$5:$V$203,COLUMN(H:H),0))","v":""},{"$f":"IF(Propostas!$C53=\"\",\"\",VLOOKUP($A46,Pontuação!$A$5:$V$203,COLUMN(I:I),0))","v":""},{"$f":"IF(Propostas!$C53=\"\",\"\",VLOOKUP($A46,Pontuação!$A$5:$V$203,COLUMN(J:J),0))","v":""},{"$f":"IF(Propostas!$C53=\"\",\"\",VLOOKUP($A46,Pontuação!$A$5:$V$203,COLUMN(K:K),0))","v":""},{"$f":"IF(Propostas!$C53=\"\",\"\",VLOOKUP($A46,Pontuação!$A$5:$V$203,COLUMN(L:L),0))","v":""},{"$f":"IF(Propostas!$C53=\"\",\"\",VLOOKUP($A46,Pontuação!$A$5:$V$203,COLUMN(M:M),0))","v":""},{"$f":"IF(Propostas!$C53=\"\",\"\",VLOOKUP($A46,Pontuação!$A$5:$V$203,COLUMN(N:N),0))","v":""},{"$f":"IF(Propostas!$C53=\"\",\"\",VLOOKUP($A46,Pontuação!$A$5:$V$203,COLUMN(O:O),0))","v":""},{"$f":"IF(Propostas!$C53=\"\",\"\",VLOOKUP($A46,Pontuação!$A$5:$V$203,COLUMN(P:P),0))","v":""},{"$f":"IF(Propostas!$C53=\"\",\"\",VLOOKUP($A46,Pontuação!$A$5:$V$203,COLUMN(Q:Q),0))","v":""},{"$f":"IF(Propostas!$C53=\"\",\"\",VLOOKUP($A46,Pontuação!$A$5:$V$203,COLUMN(R:R),0))","v":""},{"$f":"IF(Propostas!$C53=\"\",\"\",VLOOKUP($A46,Pontuação!$A$5:$V$203,COLUMN(S:S),0))","v":""},{"$f":"IF(Propostas!$C53=\"\",\"\",VLOOKUP($A46,Pontuação!$A$5:$V$203,COLUMN(T:T),0))","v":""},{"$f":"IF(Propostas!$C53=\"\",\"\",VLOOKUP($A46,Pontuação!$A$5:$V$203,COLUMN(U:U),0))","v":""},{"$f":"IF(Propostas!$B53=\"\",\"\",SUM(C46:U46))","v":""},{"$f":"IF(Propostas!$C53=\"\",\"\",RANK(V46,$V$5:$V$203,0))","v":""},{"$f":"IF(Propostas!$C53=\"\",\"\",VLOOKUP(B46,Propostas[],3,0))","v":""},{"$f":"IF(Propostas!$C53=\"\",\"\",Y45-X46)","v":""},{"$f":"IF(Propostas!$C53=\"\",\"\",IF(Y46>0,\"S\",\"N\"))","v":""}]
[{"$f":"IF(Propostas!$C54=\"\",\"\",ROW(43:43))","v":""},{"$f":"IF(Propostas!$C54=\"\",\"\",VLOOKUP($A47,Pontuação!$A$5:$V$203,COLUMN(B:B),0))","v":""},{"$f":"IF(Propostas!$C54=\"\",\"\",VLOOKUP($A47,Pontuação!$A$5:$V$203,COLUMN(C:C),0))","v":""},{"$f":"IF(Propostas!$C54=\"\",\"\",VLOOKUP($A47,Pontuação!$A$5:$V$203,COLUMN(D:D),0))","v":""},{"$f":"IF(Propostas!$C54=\"\",\"\",VLOOKUP($A47,Pontuação!$A$5:$V$203,COLUMN(E:E),0))","v":""},{"$f":"IF(Propostas!$C54=\"\",\"\",VLOOKUP($A47,Pontuação!$A$5:$V$203,COLUMN(F:F),0))","v":""},{"$f":"IF(Propostas!$C54=\"\",\"\",VLOOKUP($A47,Pontuação!$A$5:$V$203,COLUMN(G:G),0))","v":""},{"$f":"IF(Propostas!$C54=\"\",\"\",VLOOKUP($A47,Pontuação!$A$5:$V$203,COLUMN(H:H),0))","v":""},{"$f":"IF(Propostas!$C54=\"\",\"\",VLOOKUP($A47,Pontuação!$A$5:$V$203,COLUMN(I:I),0))","v":""},{"$f":"IF(Propostas!$C54=\"\",\"\",VLOOKUP($A47,Pontuação!$A$5:$V$203,COLUMN(J:J),0))","v":""},{"$f":"IF(Propostas!$C54=\"\",\"\",VLOOKUP($A47,Pontuação!$A$5:$V$203,COLUMN(K:K),0))","v":""},{"$f":"IF(Propostas!$C54=\"\",\"\",VLOOKUP($A47,Pontuação!$A$5:$V$203,COLUMN(L:L),0))","v":""},{"$f":"IF(Propostas!$C54=\"\",\"\",VLOOKUP($A47,Pontuação!$A$5:$V$203,COLUMN(M:M),0))","v":""},{"$f":"IF(Propostas!$C54=\"\",\"\",VLOOKUP($A47,Pontuação!$A$5:$V$203,COLUMN(N:N),0))","v":""},{"$f":"IF(Propostas!$C54=\"\",\"\",VLOOKUP($A47,Pontuação!$A$5:$V$203,COLUMN(O:O),0))","v":""},{"$f":"IF(Propostas!$C54=\"\",\"\",VLOOKUP($A47,Pontuação!$A$5:$V$203,COLUMN(P:P),0))","v":""},{"$f":"IF(Propostas!$C54=\"\",\"\",VLOOKUP($A47,Pontuação!$A$5:$V$203,COLUMN(Q:Q),0))","v":""},{"$f":"IF(Propostas!$C54=\"\",\"\",VLOOKUP($A47,Pontuação!$A$5:$V$203,COLUMN(R:R),0))","v":""},{"$f":"IF(Propostas!$C54=\"\",\"\",VLOOKUP($A47,Pontuação!$A$5:$V$203,COLUMN(S:S),0))","v":""},{"$f":"IF(Propostas!$C54=\"\",\"\",VLOOKUP($A47,Pontuação!$A$5:$V$203,COLUMN(T:T),0))","v":""},{"$f":"IF(Propostas!$C54=\"\",\"\",VLOOKUP($A47,Pontuação!$A$5:$V$203,COLUMN(U:U),0))","v":""},{"$f":"IF(Propostas!$B54=\"\",\"\",SUM(C47:U47))","v":""},{"$f":"IF(Propostas!$C54=\"\",\"\",RANK(V47,$V$5:$V$203,0))","v":""},{"$f":"IF(Propostas!$C54=\"\",\"\",VLOOKUP(B47,Propostas[],3,0))","v":""},{"$f":"IF(Propostas!$C54=\"\",\"\",Y46-X47)","v":""},{"$f":"IF(Propostas!$C54=\"\",\"\",IF(Y47>0,\"S\",\"N\"))","v":""}]
[{"$f":"IF(Propostas!$C55=\"\",\"\",ROW(44:44))","v":""},{"$f":"IF(Propostas!$C55=\"\",\"\",VLOOKUP($A48,Pontuação!$A$5:$V$203,COLUMN(B:B),0))","v":""},{"$f":"IF(Propostas!$C55=\"\",\"\",VLOOKUP($A48,Pontuação!$A$5:$V$203,COLUMN(C:C),0))","v":""},{"$f":"IF(Propostas!$C55=\"\",\"\",VLOOKUP($A48,Pontuação!$A$5:$V$203,COLUMN(D:D),0))","v":""},{"$f":"IF(Propostas!$C55=\"\",\"\",VLOOKUP($A48,Pontuação!$A$5:$V$203,COLUMN(E:E),0))","v":""},{"$f":"IF(Propostas!$C55=\"\",\"\",VLOOKUP($A48,Pontuação!$A$5:$V$203,COLUMN(F:F),0))","v":""},{"$f":"IF(Propostas!$C55=\"\",\"\",VLOOKUP($A48,Pontuação!$A$5:$V$203,COLUMN(G:G),0))","v":""},{"$f":"IF(Propostas!$C55=\"\",\"\",VLOOKUP($A48,Pontuação!$A$5:$V$203,COLUMN(H:H),0))","v":""},{"$f":"IF(Propostas!$C55=\"\",\"\",VLOOKUP($A48,Pontuação!$A$5:$V$203,COLUMN(I:I),0))","v":""},{"$f":"IF(Propostas!$C55=\"\",\"\",VLOOKUP($A48,Pontuação!$A$5:$V$203,COLUMN(J:J),0))","v":""},{"$f":"IF(Propostas!$C55=\"\",\"\",VLOOKUP($A48,Pontuação!$A$5:$V$203,COLUMN(K:K),0))","v":""},{"$f":"IF(Propostas!$C55=\"\",\"\",VLOOKUP($A48,Pontuação!$A$5:$V$203,COLUMN(L:L),0))","v":""},{"$f":"IF(Propostas!$C55=\"\",\"\",VLOOKUP($A48,Pontuação!$A$5:$V$203,COLUMN(M:M),0))","v":""},{"$f":"IF(Propostas!$C55=\"\",\"\",VLOOKUP($A48,Pontuação!$A$5:$V$203,COLUMN(N:N),0))","v":""},{"$f":"IF(Propostas!$C55=\"\",\"\",VLOOKUP($A48,Pontuação!$A$5:$V$203,COLUMN(O:O),0))","v":""},{"$f":"IF(Propostas!$C55=\"\",\"\",VLOOKUP($A48,Pontuação!$A$5:$V$203,COLUMN(P:P),0))","v":""},{"$f":"IF(Propostas!$C55=\"\",\"\",VLOOKUP($A48,Pontuação!$A$5:$V$203,COLUMN(Q:Q),0))","v":""},{"$f":"IF(Propostas!$C55=\"\",\"\",VLOOKUP($A48,Pontuação!$A$5:$V$203,COLUMN(R:R),0))","v":""},{"$f":"IF(Propostas!$C55=\"\",\"\",VLOOKUP($A48,Pontuação!$A$5:$V$203,COLUMN(S:S),0))","v":""},{"$f":"IF(Propostas!$C55=\"\",\"\",VLOOKUP($A48,Pontuação!$A$5:$V$203,COLUMN(T:T),0))","v":""},{"$f":"IF(Propostas!$C55=\"\",\"\",VLOOKUP($A48,Pontuação!$A$5:$V$203,COLUMN(U:U),0))","v":""},{"$f":"IF(Propostas!$B55=\"\",\"\",SUM(C48:U48))","v":""},{"$f":"IF(Propostas!$C55=\"\",\"\",RANK(V48,$V$5:$V$203,0))","v":""},{"$f":"IF(Propostas!$C55=\"\",\"\",VLOOKUP(B48,Propostas[],3,0))","v":""},{"$f":"IF(Propostas!$C55=\"\",\"\",Y47-X48)","v":""},{"$f":"IF(Propostas!$C55=\"\",\"\",IF(Y48>0,\"S\",\"N\"))","v":""}]
[{"$f":"IF(Propostas!$C56=\"\",\"\",ROW(45:45))","v":""},{"$f":"IF(Propostas!$C56=\"\",\"\",VLOOKUP($A49,Pontuação!$A$5:$V$203,COLUMN(B:B),0))","v":""},{"$f":"IF(Propostas!$C56=\"\",\"\",VLOOKUP($A49,Pontuação!$A$5:$V$203,COLUMN(C:C),0))","v":""},{"$f":"IF(Propostas!$C56=\"\",\"\",VLOOKUP($A49,Pontuação!$A$5:$V$203,COLUMN(D:D),0))","v":""},{"$f":"IF(Propostas!$C56=\"\",\"\",VLOOKUP($A49,Pontuação!$A$5:$V$203,COLUMN(E:E),0))","v":""},{"$f":"IF(Propostas!$C56=\"\",\"\",VLOOKUP($A49,Pontuação!$A$5:$V$203,COLUMN(F:F),0))","v":""},{"$f":"IF(Propostas!$C56=\"\",\"\",VLOOKUP($A49,Pontuação!$A$5:$V$203,COLUMN(G:G),0))","v":""},{"$f":"IF(Propostas!$C56=\"\",\"\",VLOOKUP($A49,Pontuação!$A$5:$V$203,COLUMN(H:H),0))","v":""},{"$f":"IF(Propostas!$C56=\"\",\"\",VLOOKUP($A49,Pontuação!$A$5:$V$203,COLUMN(I:I),0))","v":""},{"$f":"IF(Propostas!$C56=\"\",\"\",VLOOKUP($A49,Pontuação!$A$5:$V$203,COLUMN(J:J),0))","v":""},{"$f":"IF(Propostas!$C56=\"\",\"\",VLOOKUP($A49,Pontuação!$A$5:$V$203,COLUMN(K:K),0))","v":""},{"$f":"IF(Propostas!$C56=\"\",\"\",VLOOKUP($A49,Pontuação!$A$5:$V$203,COLUMN(L:L),0))","v":""},{"$f":"IF(Propostas!$C56=\"\",\"\",VLOOKUP($A49,Pontuação!$A$5:$V$203,COLUMN(M:M),0))","v":""},{"$f":"IF(Propostas!$C56=\"\",\"\",VLOOKUP($A49,Pontuação!$A$5:$V$203,COLUMN(N:N),0))","v":""},{"$f":"IF(Propostas!$C56=\"\",\"\",VLOOKUP($A49,Pontuação!$A$5:$V$203,COLUMN(O:O),0))","v":""},{"$f":"IF(Propostas!$C56=\"\",\"\",VLOOKUP($A49,Pontuação!$A$5:$V$203,COLUMN(P:P),0))","v":""},{"$f":"IF(Propostas!$C56=\"\",\"\",VLOOKUP($A49,Pontuação!$A$5:$V$203,COLUMN(Q:Q),0))","v":""},{"$f":"IF(Propostas!$C56=\"\",\"\",VLOOKUP($A49,Pontuação!$A$5:$V$203,COLUMN(R:R),0))","v":""},{"$f":"IF(Propostas!$C56=\"\",\"\",VLOOKUP($A49,Pontuação!$A$5:$V$203,COLUMN(S:S),0))","v":""},{"$f":"IF(Propostas!$C56=\"\",\"\",VLOOKUP($A49,Pontuação!$A$5:$V$203,COLUMN(T:T),0))","v":""},{"$f":"IF(Propostas!$C56=\"\",\"\",VLOOKUP($A49,Pontuação!$A$5:$V$203,COLUMN(U:U),0))","v":""},{"$f":"IF(Propostas!$B56=\"\",\"\",SUM(C49:U49))","v":""},{"$f":"IF(Propostas!$C56=\"\",\"\",RANK(V49,$V$5:$V$203,0))","v":""},{"$f":"IF(Propostas!$C56=\"\",\"\",VLOOKUP(B49,Propostas[],3,0))","v":""},{"$f":"IF(Propostas!$C56=\"\",\"\",Y48-X49)","v":""},{"$f":"IF(Propostas!$C56=\"\",\"\",IF(Y49>0,\"S\",\"N\"))","v":""}]
[{"$f":"IF(Propostas!$C57=\"\",\"\",ROW(46:46))","v":""},{"$f":"IF(Propostas!$C57=\"\",\"\",VLOOKUP($A50,Pontuação!$A$5:$V$203,COLUMN(B:B),0))","v":""},{"$f":"IF(Propostas!$C57=\"\",\"\",VLOOKUP($A50,Pontuação!$A$5:$V$203,COLUMN(C:C),0))","v":""},{"$f":"IF(Propostas!$C57=\"\",\"\",VLOOKUP($A50,Pontuação!$A$5:$V$203,COLUMN(D:D),0))","v":""},{"$f":"IF(Propostas!$C57=\"\",\"\",VLOOKUP($A50,Pontuação!$A$5:$V$203,COLUMN(E:E),0))","v":""},{"$f":"IF(Propostas!$C57=\"\",\"\",VLOOKUP($A50,Pontuação!$A$5:$V$203,COLUMN(F:F),0))","v":""},{"$f":"IF(Propostas!$C57=\"\",\"\",VLOOKUP($A50,Pontuação!$A$5:$V$203,COLUMN(G:G),0))","v":""},{"$f":"IF(Propostas!$C57=\"\",\"\",VLOOKUP($A50,Pontuação!$A$5:$V$203,COLUMN(H:H),0))","v":""},{"$f":"IF(Propostas!$C57=\"\",\"\",VLOOKUP($A50,Pontuação!$A$5:$V$203,COLUMN(I:I),0))","v":""},{"$f":"IF(Propostas!$C57=\"\",\"\",VLOOKUP($A50,Pontuação!$A$5:$V$203,COLUMN(J:J),0))","v":""},{"$f":"IF(Propostas!$C57=\"\",\"\",VLOOKUP($A50,Pontuação!$A$5:$V$203,COLUMN(K:K),0))","v":""},{"$f":"IF(Propostas!$C57=\"\",\"\",VLOOKUP($A50,Pontuação!$A$5:$V$203,COLUMN(L:L),0))","v":""},{"$f":"IF(Propostas!$C57=\"\",\"\",VLOOKUP($A50,Pontuação!$A$5:$V$203,COLUMN(M:M),0))","v":""},{"$f":"IF(Propostas!$C57=\"\",\"\",VLOOKUP($A50,Pontuação!$A$5:$V$203,COLUMN(N:N),0))","v":""},{"$f":"IF(Propostas!$C57=\"\",\"\",VLOOKUP($A50,Pontuação!$A$5:$V$203,COLUMN(O:O),0))","v":""},{"$f":"IF(Propostas!$C57=\"\",\"\",VLOOKUP($A50,Pontuação!$A$5:$V$203,COLUMN(P:P),0))","v":""},{"$f":"IF(Propostas!$C57=\"\",\"\",VLOOKUP($A50,Pontuação!$A$5:$V$203,COLUMN(Q:Q),0))","v":""},{"$f":"IF(Propostas!$C57=\"\",\"\",VLOOKUP($A50,Pontuação!$A$5:$V$203,COLUMN(R:R),0))","v":""},{"$f":"IF(Propostas!$C57=\"\",\"\",VLOOKUP($A50,Pontuação!$A$5:$V$203,COLUMN(S:S),0))","v":""},{"$f":"IF(Propostas!$C57=\"\",\"\",VLOOKUP($A50,Pontuação!$A$5:$V$203,COLUMN(T:T),0))","v":""},{"$f":"IF(Propostas!$C57=\"\",\"\",VLOOKUP($A50,Pontuação!$A$5:$V$203,COLUMN(U:U),0))","v":""},{"$f":"IF(Propostas!$B57=\"\",\"\",SUM(C50:U50))","v":""},{"$f":"IF(Propostas!$C57=\"\",\"\",RANK(V50,$V$5:$V$203,0))","v":""},{"$f":"IF(Propostas!$C57=\"\",\"\",VLOOKUP(B50,Propostas[],3,0))","v":""},{"$f":"IF(Propostas!$C57=\"\",\"\",Y49-X50)","v":""},{"$f":"IF(Propostas!$C57=\"\",\"\",IF(Y50>0,\"S\",\"N\"))","v":""}]
[{"$f":"IF(Propostas!$C58=\"\",\"\",ROW(47:47))","v":""},{"$f":"IF(Propostas!$C58=\"\",\"\",VLOOKUP($A51,Pontuação!$A$5:$V$203,COLUMN(B:B),0))","v":""},{"$f":"IF(Propostas!$C58=\"\",\"\",VLOOKUP($A51,Pontuação!$A$5:$V$203,COLUMN(C:C),0))","v":""},{"$f":"IF(Propostas!$C58=\"\",\"\",VLOOKUP($A51,Pontuação!$A$5:$V$203,COLUMN(D:D),0))","v":""},{"$f":"IF(Propostas!$C58=\"\",\"\",VLOOKUP($A51,Pontuação!$A$5:$V$203,COLUMN(E:E),0))","v":""},{"$f":"IF(Propostas!$C58=\"\",\"\",VLOOKUP($A51,Pontuação!$A$5:$V$203,COLUMN(F:F),0))","v":""},{"$f":"IF(Propostas!$C58=\"\",\"\",VLOOKUP($A51,Pontuação!$A$5:$V$203,COLUMN(G:G),0))","v":""},{"$f":"IF(Propostas!$C58=\"\",\"\",VLOOKUP($A51,Pontuação!$A$5:$V$203,COLUMN(H:H),0))","v":""},{"$f":"IF(Propostas!$C58=\"\",\"\",VLOOKUP($A51,Pontuação!$A$5:$V$203,COLUMN(I:I),0))","v":""},{"$f":"IF(Propostas!$C58=\"\",\"\",VLOOKUP($A51,Pontuação!$A$5:$V$203,COLUMN(J:J),0))","v":""},{"$f":"IF(Propostas!$C58=\"\",\"\",VLOOKUP($A51,Pontuação!$A$5:$V$203,COLUMN(K:K),0))","v":""},{"$f":"IF(Propostas!$C58=\"\",\"\",VLOOKUP($A51,Pontuação!$A$5:$V$203,COLUMN(L:L),0))","v":""},{"$f":"IF(Propostas!$C58=\"\",\"\",VLOOKUP($A51,Pontuação!$A$5:$V$203,COLUMN(M:M),0))","v":""},{"$f":"IF(Propostas!$C58=\"\",\"\",VLOOKUP($A51,Pontuação!$A$5:$V$203,COLUMN(N:N),0))","v":""},{"$f":"IF(Propostas!$C58=\"\",\"\",VLOOKUP($A51,Pontuação!$A$5:$V$203,COLUMN(O:O),0))","v":""},{"$f":"IF(Propostas!$C58=\"\",\"\",VLOOKUP($A51,Pontuação!$A$5:$V$203,COLUMN(P:P),0))","v":""},{"$f":"IF(Propostas!$C58=\"\",\"\",VLOOKUP($A51,Pontuação!$A$5:$V$203,COLUMN(Q:Q),0))","v":""},{"$f":"IF(Propostas!$C58=\"\",\"\",VLOOKUP($A51,Pontuação!$A$5:$V$203,COLUMN(R:R),0))","v":""},{"$f":"IF(Propostas!$C58=\"\",\"\",VLOOKUP($A51,Pontuação!$A$5:$V$203,COLUMN(S:S),0))","v":""},{"$f":"IF(Propostas!$C58=\"\",\"\",VLOOKUP($A51,Pontuação!$A$5:$V$203,COLUMN(T:T),0))","v":""},{"$f":"IF(Propostas!$C58=\"\",\"\",VLOOKUP($A51,Pontuação!$A$5:$V$203,COLUMN(U:U),0))","v":""},{"$f":"IF(Propostas!$B58=\"\",\"\",SUM(C51:U51))","v":""},{"$f":"IF(Propostas!$C58=\"\",\"\",RANK(V51,$V$5:$V$203,0))","v":""},{"$f":"IF(Propostas!$C58=\"\",\"\",VLOOKUP(B51,Propostas[],3,0))","v":""},{"$f":"IF(Propostas!$C58=\"\",\"\",Y50-X51)","v":""},{"$f":"IF(Propostas!$C58=\"\",\"\",IF(Y51>0,\"S\",\"N\"))","v":""}]
[{"$f":"IF(Propostas!$C59=\"\",\"\",ROW(48:48))","v":""},{"$f":"IF(Propostas!$C59=\"\",\"\",VLOOKUP($A52,Pontuação!$A$5:$V$203,COLUMN(B:B),0))","v":""},{"$f":"IF(Propostas!$C59=\"\",\"\",VLOOKUP($A52,Pontuação!$A$5:$V$203,COLUMN(C:C),0))","v":""},{"$f":"IF(Propostas!$C59=\"\",\"\",VLOOKUP($A52,Pontuação!$A$5:$V$203,COLUMN(D:D),0))","v":""},{"$f":"IF(Propostas!$C59=\"\",\"\",VLOOKUP($A52,Pontuação!$A$5:$V$203,COLUMN(E:E),0))","v":""},{"$f":"IF(Propostas!$C59=\"\",\"\",VLOOKUP($A52,Pontuação!$A$5:$V$203,COLUMN(F:F),0))","v":""},{"$f":"IF(Propostas!$C59=\"\",\"\",VLOOKUP($A52,Pontuação!$A$5:$V$203,COLUMN(G:G),0))","v":""},{"$f":"IF(Propostas!$C59=\"\",\"\",VLOOKUP($A52,Pontuação!$A$5:$V$203,COLUMN(H:H),0))","v":""},{"$f":"IF(Propostas!$C59=\"\",\"\",VLOOKUP($A52,Pontuação!$A$5:$V$203,COLUMN(I:I),0))","v":""},{"$f":"IF(Propostas!$C59=\"\",\"\",VLOOKUP($A52,Pontuação!$A$5:$V$203,COLUMN(J:J),0))","v":""},{"$f":"IF(Propostas!$C59=\"\",\"\",VLOOKUP($A52,Pontuação!$A$5:$V$203,COLUMN(K:K),0))","v":""},{"$f":"IF(Propostas!$C59=\"\",\"\",VLOOKUP($A52,Pontuação!$A$5:$V$203,COLUMN(L:L),0))","v":""},{"$f":"IF(Propostas!$C59=\"\",\"\",VLOOKUP($A52,Pontuação!$A$5:$V$203,COLUMN(M:M),0))","v":""},{"$f":"IF(Propostas!$C59=\"\",\"\",VLOOKUP($A52,Pontuação!$A$5:$V$203,COLUMN(N:N),0))","v":""},{"$f":"IF(Propostas!$C59=\"\",\"\",VLOOKUP($A52,Pontuação!$A$5:$V$203,COLUMN(O:O),0))","v":""},{"$f":"IF(Propostas!$C59=\"\",\"\",VLOOKUP($A52,Pontuação!$A$5:$V$203,COLUMN(P:P),0))","v":""},{"$f":"IF(Propostas!$C59=\"\",\"\",VLOOKUP($A52,Pontuação!$A$5:$V$203,COLUMN(Q:Q),0))","v":""},{"$f":"IF(Propostas!$C59=\"\",\"\",VLOOKUP($A52,Pontuação!$A$5:$V$203,COLUMN(R:R),0))","v":""},{"$f":"IF(Propostas!$C59=\"\",\"\",VLOOKUP($A52,Pontuação!$A$5:$V$203,COLUMN(S:S),0))","v":""},{"$f":"IF(Propostas!$C59=\"\",\"\",VLOOKUP($A52,Pontuação!$A$5:$V$203,COLUMN(T:T),0))","v":""},{"$f":"IF(Propostas!$C59=\"\",\"\",VLOOKUP($A52,Pontuação!$A$5:$V$203,COLUMN(U:U),0))","v":""},{"$f":"IF(Propostas!$B59=\"\",\"\",SUM(C52:U52))","v":""},{"$f":"IF(Propostas!$C59=\"\",\"\",RANK(V52,$V$5:$V$203,0))","v":""},{"$f":"IF(Propostas!$C59=\"\",\"\",VLOOKUP(B52,Propostas[],3,0))","v":""},{"$f":"IF(Propostas!$C59=\"\",\"\",Y51-X52)","v":""},{"$f":"IF(Propostas!$C59=\"\",\"\",IF(Y52>0,\"S\",\"N\"))","v":""}]
[{"$f":"IF(Propostas!$C60=\"\",\"\",ROW(49:49))","v":""},{"$f":"IF(Propostas!$C60=\"\",\"\",VLOOKUP($A53,Pontuação!$A$5:$V$203,COLUMN(B:B),0))","v":""},{"$f":"IF(Propostas!$C60=\"\",\"\",VLOOKUP($A53,Pontuação!$A$5:$V$203,COLUMN(C:C),0))","v":""},{"$f":"IF(Propostas!$C60=\"\",\"\",VLOOKUP($A53,Pontuação!$A$5:$V$203,COLUMN(D:D),0))","v":""},{"$f":"IF(Propostas!$C60=\"\",\"\",VLOOKUP($A53,Pontuação!$A$5:$V$203,COLUMN(E:E),0))","v":""},{"$f":"IF(Propostas!$C60=\"\",\"\",VLOOKUP($A53,Pontuação!$A$5:$V$203,COLUMN(F:F),0))","v":""},{"$f":"IF(Propostas!$C60=\"\",\"\",VLOOKUP($A53,Pontuação!$A$5:$V$203,COLUMN(G:G),0))","v":""},{"$f":"IF(Propostas!$C60=\"\",\"\",VLOOKUP($A53,Pontuação!$A$5:$V$203,COLUMN(H:H),0))","v":""},{"$f":"IF(Propostas!$C60=\"\",\"\",VLOOKUP($A53,Pontuação!$A$5:$V$203,COLUMN(I:I),0))","v":""},{"$f":"IF(Propostas!$C60=\"\",\"\",VLOOKUP($A53,Pontuação!$A$5:$V$203,COLUMN(J:J),0))","v":""},{"$f":"IF(Propostas!$C60=\"\",\"\",VLOOKUP($A53,Pontuação!$A$5:$V$203,COLUMN(K:K),0))","v":""},{"$f":"IF(Propostas!$C60=\"\",\"\",VLOOKUP($A53,Pontuação!$A$5:$V$203,COLUMN(L:L),0))","v":""},{"$f":"IF(Propostas!$C60=\"\",\"\",VLOOKUP($A53,Pontuação!$A$5:$V$203,COLUMN(M:M),0))","v":""},{"$f":"IF(Propostas!$C60=\"\",\"\",VLOOKUP($A53,Pontuação!$A$5:$V$203,COLUMN(N:N),0))","v":""},{"$f":"IF(Propostas!$C60=\"\",\"\",VLOOKUP($A53,Pontuação!$A$5:$V$203,COLUMN(O:O),0))","v":""},{"$f":"IF(Propostas!$C60=\"\",\"\",VLOOKUP($A53,Pontuação!$A$5:$V$203,COLUMN(P:P),0))","v":""},{"$f":"IF(Propostas!$C60=\"\",\"\",VLOOKUP($A53,Pontuação!$A$5:$V$203,COLUMN(Q:Q),0))","v":""},{"$f":"IF(Propostas!$C60=\"\",\"\",VLOOKUP($A53,Pontuação!$A$5:$V$203,COLUMN(R:R),0))","v":""},{"$f":"IF(Propostas!$C60=\"\",\"\",VLOOKUP($A53,Pontuação!$A$5:$V$203,COLUMN(S:S),0))","v":""},{"$f":"IF(Propostas!$C60=\"\",\"\",VLOOKUP($A53,Pontuação!$A$5:$V$203,COLUMN(T:T),0))","v":""},{"$f":"IF(Propostas!$C60=\"\",\"\",VLOOKUP($A53,Pontuação!$A$5:$V$203,COLUMN(U:U),0))","v":""},{"$f":"IF(Propostas!$B60=\"\",\"\",SUM(C53:U53))","v":""},{"$f":"IF(Propostas!$C60=\"\",\"\",RANK(V53,$V$5:$V$203,0))","v":""},{"$f":"IF(Propostas!$C60=\"\",\"\",VLOOKUP(B53,Propostas[],3,0))","v":""},{"$f":"IF(Propostas!$C60=\"\",\"\",Y52-X53)","v":""},{"$f":"IF(Propostas!$C60=\"\",\"\",IF(Y53>0,\"S\",\"N\"))","v":""}]
[{"$f":"IF(Propostas!$C61=\"\",\"\",ROW(50:50))","v":""},{"$f":"IF(Propostas!$C61=\"\",\"\",VLOOKUP($A54,Pontuação!$A$5:$V$203,COLUMN(B:B),0))","v":""},{"$f":"IF(Propostas!$C61=\"\",\"\",VLOOKUP($A54,Pontuação!$A$5:$V$203,COLUMN(C:C),0))","v":""},{"$f":"IF(Propostas!$C61=\"\",\"\",VLOOKUP($A54,Pontuação!$A$5:$V$203,COLUMN(D:D),0))","v":""},{"$f":"IF(Propostas!$C61=\"\",\"\",VLOOKUP($A54,Pontuação!$A$5:$V$203,COLUMN(E:E),0))","v":""},{"$f":"IF(Propostas!$C61=\"\",\"\",VLOOKUP($A54,Pontuação!$A$5:$V$203,COLUMN(F:F),0))","v":""},{"$f":"IF(Propostas!$C61=\"\",\"\",VLOOKUP($A54,Pontuação!$A$5:$V$203,COLUMN(G:G),0))","v":""},{"$f":"IF(Propostas!$C61=\"\",\"\",VLOOKUP($A54,Pontuação!$A$5:$V$203,COLUMN(H:H),0))","v":""},{"$f":"IF(Propostas!$C61=\"\",\"\",VLOOKUP($A54,Pontuação!$A$5:$V$203,COLUMN(I:I),0))","v":""},{"$f":"IF(Propostas!$C61=\"\",\"\",VLOOKUP($A54,Pontuação!$A$5:$V$203,COLUMN(J:J),0))","v":""},{"$f":"IF(Propostas!$C61=\"\",\"\",VLOOKUP($A54,Pontuação!$A$5:$V$203,COLUMN(K:K),0))","v":""},{"$f":"IF(Propostas!$C61=\"\",\"\",VLOOKUP($A54,Pontuação!$A$5:$V$203,COLUMN(L:L),0))","v":""},{"$f":"IF(Propostas!$C61=\"\",\"\",VLOOKUP($A54,Pontuação!$A$5:$V$203,COLUMN(M:M),0))","v":""},{"$f":"IF(Propostas!$C61=\"\",\"\",VLOOKUP($A54,Pontuação!$A$5:$V$203,COLUMN(N:N),0))","v":""},{"$f":"IF(Propostas!$C61=\"\",\"\",VLOOKUP($A54,Pontuação!$A$5:$V$203,COLUMN(O:O),0))","v":""},{"$f":"IF(Propostas!$C61=\"\",\"\",VLOOKUP($A54,Pontuação!$A$5:$V$203,COLUMN(P:P),0))","v":""},{"$f":"IF(Propostas!$C61=\"\",\"\",VLOOKUP($A54,Pontuação!$A$5:$V$203,COLUMN(Q:Q),0))","v":""},{"$f":"IF(Propostas!$C61=\"\",\"\",VLOOKUP($A54,Pontuação!$A$5:$V$203,COLUMN(R:R),0))","v":""},{"$f":"IF(Propostas!$C61=\"\",\"\",VLOOKUP($A54,Pontuação!$A$5:$V$203,COLUMN(S:S),0))","v":""},{"$f":"IF(Propostas!$C61=\"\",\"\",VLOOKUP($A54,Pontuação!$A$5:$V$203,COLUMN(T:T),0))","v":""},{"$f":"IF(Propostas!$C61=\"\",\"\",VLOOKUP($A54,Pontuação!$A$5:$V$203,COLUMN(U:U),0))","v":""},{"$f":"IF(Propostas!$B61=\"\",\"\",SUM(C54:U54))","v":""},{"$f":"IF(Propostas!$C61=\"\",\"\",RANK(V54,$V$5:$V$203,0))","v":""},{"$f":"IF(Propostas!$C61=\"\",\"\",VLOOKUP(B54,Propostas[],3,0))","v":""},{"$f":"IF(Propostas!$C61=\"\",\"\",Y53-X54)","v":""},{"$f":"IF(Propostas!$C61=\"\",\"\",IF(Y54>0,\"S\",\"N\"))","v":""}]
[{"$f":"IF(Propostas!$C62=\"\",\"\",ROW(51:51))","v":""},{"$f":"IF(Propostas!$C62=\"\",\"\",VLOOKUP($A55,Pontuação!$A$5:$V$203,COLUMN(B:B),0))","v":""},{"$f":"IF(Propostas!$C62=\"\",\"\",VLOOKUP($A55,Pontuação!$A$5:$V$203,COLUMN(C:C),0))","v":""},{"$f":"IF(Propostas!$C62=\"\",\"\",VLOOKUP($A55,Pontuação!$A$5:$V$203,COLUMN(D:D),0))","v":""},{"$f":"IF(Propostas!$C62=\"\",\"\",VLOOKUP($A55,Pontuação!$A$5:$V$203,COLUMN(E:E),0))","v":""},{"$f":"IF(Propostas!$C62=\"\",\"\",VLOOKUP($A55,Pontuação!$A$5:$V$203,COLUMN(F:F),0))","v":""},{"$f":"IF(Propostas!$C62=\"\",\"\",VLOOKUP($A55,Pontuação!$A$5:$V$203,COLUMN(G:G),0))","v":""},{"$f":"IF(Propostas!$C62=\"\",\"\",VLOOKUP($A55,Pontuação!$A$5:$V$203,COLUMN(H:H),0))","v":""},{"$f":"IF(Propostas!$C62=\"\",\"\",VLOOKUP($A55,Pontuação!$A$5:$V$203,COLUMN(I:I),0))","v":""},{"$f":"IF(Propostas!$C62=\"\",\"\",VLOOKUP($A55,Pontuação!$A$5:$V$203,COLUMN(J:J),0))","v":""},{"$f":"IF(Propostas!$C62=\"\",\"\",VLOOKUP($A55,Pontuação!$A$5:$V$203,COLUMN(K:K),0))","v":""},{"$f":"IF(Propostas!$C62=\"\",\"\",VLOOKUP($A55,Pontuação!$A$5:$V$203,COLUMN(L:L),0))","v":""},{"$f":"IF(Propostas!$C62=\"\",\"\",VLOOKUP($A55,Pontuação!$A$5:$V$203,COLUMN(M:M),0))","v":""},{"$f":"IF(Propostas!$C62=\"\",\"\",VLOOKUP($A55,Pontuação!$A$5:$V$203,COLUMN(N:N),0))","v":""},{"$f":"IF(Propostas!$C62=\"\",\"\",VLOOKUP($A55,Pontuação!$A$5:$V$203,COLUMN(O:O),0))","v":""},{"$f":"IF(Propostas!$C62=\"\",\"\",VLOOKUP($A55,Pontuação!$A$5:$V$203,COLUMN(P:P),0))","v":""},{"$f":"IF(Propostas!$C62=\"\",\"\",VLOOKUP($A55,Pontuação!$A$5:$V$203,COLUMN(Q:Q),0))","v":""},{"$f":"IF(Propostas!$C62=\"\",\"\",VLOOKUP($A55,Pontuação!$A$5:$V$203,COLUMN(R:R),0))","v":""},{"$f":"IF(Propostas!$C62=\"\",\"\",VLOOKUP($A55,Pontuação!$A$5:$V$203,COLUMN(S:S),0))","v":""},{"$f":"IF(Propostas!$C62=\"\",\"\",VLOOKUP($A55,Pontuação!$A$5:$V$203,COLUMN(T:T),0))","v":""},{"$f":"IF(Propostas!$C62=\"\",\"\",VLOOKUP($A55,Pontuação!$A$5:$V$203,COLUMN(U:U),0))","v":""},{"$f":"IF(Propostas!$B62=\"\",\"\",SUM(C55:U55))","v":""},{"$f":"IF(Propostas!$C62=\"\",\"\",RANK(V55,$V$5:$V$203,0))","v":""},{"$f":"IF(Propostas!$C62=\"\",\"\",VLOOKUP(B55,Propostas[],3,0))","v":""},{"$f":"IF(Propostas!$C62=\"\",\"\",Y54-X55)","v":""},{"$f":"IF(Propostas!$C62=\"\",\"\",IF(Y55>0,\"S\",\"N\"))","v":""}]
[{"$f":"IF(Propostas!$C63=\"\",\"\",ROW(52:52))","v":""},{"$f":"IF(Propostas!$C63=\"\",\"\",VLOOKUP($A56,Pontuação!$A$5:$V$203,COLUMN(B:B),0))","v":""},{"$f":"IF(Propostas!$C63=\"\",\"\",VLOOKUP($A56,Pontuação!$A$5:$V$203,COLUMN(C:C),0))","v":""},{"$f":"IF(Propostas!$C63=\"\",\"\",VLOOKUP($A56,Pontuação!$A$5:$V$203,COLUMN(D:D),0))","v":""},{"$f":"IF(Propostas!$C63=\"\",\"\",VLOOKUP($A56,Pontuação!$A$5:$V$203,COLUMN(E:E),0))","v":""},{"$f":"IF(Propostas!$C63=\"\",\"\",VLOOKUP($A56,Pontuação!$A$5:$V$203,COLUMN(F:F),0))","v":""},{"$f":"IF(Propostas!$C63=\"\",\"\",VLOOKUP($A56,Pontuação!$A$5:$V$203,COLUMN(G:G),0))","v":""},{"$f":"IF(Propostas!$C63=\"\",\"\",VLOOKUP($A56,Pontuação!$A$5:$V$203,COLUMN(H:H),0))","v":""},{"$f":"IF(Propostas!$C63=\"\",\"\",VLOOKUP($A56,Pontuação!$A$5:$V$203,COLUMN(I:I),0))","v":""},{"$f":"IF(Propostas!$C63=\"\",\"\",VLOOKUP($A56,Pontuação!$A$5:$V$203,COLUMN(J:J),0))","v":""},{"$f":"IF(Propostas!$C63=\"\",\"\",VLOOKUP($A56,Pontuação!$A$5:$V$203,COLUMN(K:K),0))","v":""},{"$f":"IF(Propostas!$C63=\"\",\"\",VLOOKUP($A56,Pontuação!$A$5:$V$203,COLUMN(L:L),0))","v":""},{"$f":"IF(Propostas!$C63=\"\",\"\",VLOOKUP($A56,Pontuação!$A$5:$V$203,COLUMN(M:M),0))","v":""},{"$f":"IF(Propostas!$C63=\"\",\"\",VLOOKUP($A56,Pontuação!$A$5:$V$203,COLUMN(N:N),0))","v":""},{"$f":"IF(Propostas!$C63=\"\",\"\",VLOOKUP($A56,Pontuação!$A$5:$V$203,COLUMN(O:O),0))","v":""},{"$f":"IF(Propostas!$C63=\"\",\"\",VLOOKUP($A56,Pontuação!$A$5:$V$203,COLUMN(P:P),0))","v":""},{"$f":"IF(Propostas!$C63=\"\",\"\",VLOOKUP($A56,Pontuação!$A$5:$V$203,COLUMN(Q:Q),0))","v":""},{"$f":"IF(Propostas!$C63=\"\",\"\",VLOOKUP($A56,Pontuação!$A$5:$V$203,COLUMN(R:R),0))","v":""},{"$f":"IF(Propostas!$C63=\"\",\"\",VLOOKUP($A56,Pontuação!$A$5:$V$203,COLUMN(S:S),0))","v":""},{"$f":"IF(Propostas!$C63=\"\",\"\",VLOOKUP($A56,Pontuação!$A$5:$V$203,COLUMN(T:T),0))","v":""},{"$f":"IF(Propostas!$C63=\"\",\"\",VLOOKUP($A56,Pontuação!$A$5:$V$203,COLUMN(U:U),0))","v":""},{"$f":"IF(Propostas!$B63=\"\",\"\",SUM(C56:U56))","v":""},{"$f":"IF(Propostas!$C63=\"\",\"\",RANK(V56,$V$5:$V$203,0))","v":""},{"$f":"IF(Propostas!$C63=\"\",\"\",VLOOKUP(B56,Propostas[],3,0))","v":""},{"$f":"IF(Propostas!$C63=\"\",\"\",Y55-X56)","v":""},{"$f":"IF(Propostas!$C63=\"\",\"\",IF(Y56>0,\"S\",\"N\"))","v":""}]
[{"$f":"IF(Propostas!$C64=\"\",\"\",ROW(53:53))","v":""},{"$f":"IF(Propostas!$C64=\"\",\"\",VLOOKUP($A57,Pontuação!$A$5:$V$203,COLUMN(B:B),0))","v":""},{"$f":"IF(Propostas!$C64=\"\",\"\",VLOOKUP($A57,Pontuação!$A$5:$V$203,COLUMN(C:C),0))","v":""},{"$f":"IF(Propostas!$C64=\"\",\"\",VLOOKUP($A57,Pontuação!$A$5:$V$203,COLUMN(D:D),0))","v":""},{"$f":"IF(Propostas!$C64=\"\",\"\",VLOOKUP($A57,Pontuação!$A$5:$V$203,COLUMN(E:E),0))","v":""},{"$f":"IF(Propostas!$C64=\"\",\"\",VLOOKUP($A57,Pontuação!$A$5:$V$203,COLUMN(F:F),0))","v":""},{"$f":"IF(Propostas!$C64=\"\",\"\",VLOOKUP($A57,Pontuação!$A$5:$V$203,COLUMN(G:G),0))","v":""},{"$f":"IF(Propostas!$C64=\"\",\"\",VLOOKUP($A57,Pontuação!$A$5:$V$203,COLUMN(H:H),0))","v":""},{"$f":"IF(Propostas!$C64=\"\",\"\",VLOOKUP($A57,Pontuação!$A$5:$V$203,COLUMN(I:I),0))","v":""},{"$f":"IF(Propostas!$C64=\"\",\"\",VLOOKUP($A57,Pontuação!$A$5:$V$203,COLUMN(J:J),0))","v":""},{"$f":"IF(Propostas!$C64=\"\",\"\",VLOOKUP($A57,Pontuação!$A$5:$V$203,COLUMN(K:K),0))","v":""},{"$f":"IF(Propostas!$C64=\"\",\"\",VLOOKUP($A57,Pontuação!$A$5:$V$203,COLUMN(L:L),0))","v":""},{"$f":"IF(Propostas!$C64=\"\",\"\",VLOOKUP($A57,Pontuação!$A$5:$V$203,COLUMN(M:M),0))","v":""},{"$f":"IF(Propostas!$C64=\"\",\"\",VLOOKUP($A57,Pontuação!$A$5:$V$203,COLUMN(N:N),0))","v":""},{"$f":"IF(Propostas!$C64=\"\",\"\",VLOOKUP($A57,Pontuação!$A$5:$V$203,COLUMN(O:O),0))","v":""},{"$f":"IF(Propostas!$C64=\"\",\"\",VLOOKUP($A57,Pontuação!$A$5:$V$203,COLUMN(P:P),0))","v":""},{"$f":"IF(Propostas!$C64=\"\",\"\",VLOOKUP($A57,Pontuação!$A$5:$V$203,COLUMN(Q:Q),0))","v":""},{"$f":"IF(Propostas!$C64=\"\",\"\",VLOOKUP($A57,Pontuação!$A$5:$V$203,COLUMN(R:R),0))","v":""},{"$f":"IF(Propostas!$C64=\"\",\"\",VLOOKUP($A57,Pontuação!$A$5:$V$203,COLUMN(S:S),0))","v":""},{"$f":"IF(Propostas!$C64=\"\",\"\",VLOOKUP($A57,Pontuação!$A$5:$V$203,COLUMN(T:T),0))","v":""},{"$f":"IF(Propostas!$C64=\"\",\"\",VLOOKUP($A57,Pontuação!$A$5:$V$203,COLUMN(U:U),0))","v":""},{"$f":"IF(Propostas!$B64=\"\",\"\",SUM(C57:U57))","v":""},{"$f":"IF(Propostas!$C64=\"\",\"\",RANK(V57,$V$5:$V$203,0))","v":""},{"$f":"IF(Propostas!$C64=\"\",\"\",VLOOKUP(B57,Propostas[],3,0))","v":""},{"$f":"IF(Propostas!$C64=\"\",\"\",Y56-X57)","v":""},{"$f":"IF(Propostas!$C64=\"\",\"\",IF(Y57>0,\"S\",\"N\"))","v":""}]
[{"$f":"IF(Propostas!$C65=\"\",\"\",ROW(54:54))","v":""},{"$f":"IF(Propostas!$C65=\"\",\"\",VLOOKUP($A58,Pontuação!$A$5:$V$203,COLUMN(B:B),0))","v":""},{"$f":"IF(Propostas!$C65=\"\",\"\",VLOOKUP($A58,Pontuação!$A$5:$V$203,COLUMN(C:C),0))","v":""},{"$f":"IF(Propostas!$C65=\"\",\"\",VLOOKUP($A58,Pontuação!$A$5:$V$203,COLUMN(D:D),0))","v":""},{"$f":"IF(Propostas!$C65=\"\",\"\",VLOOKUP($A58,Pontuação!$A$5:$V$203,COLUMN(E:E),0))","v":""},{"$f":"IF(Propostas!$C65=\"\",\"\",VLOOKUP($A58,Pontuação!$A$5:$V$203,COLUMN(F:F),0))","v":""},{"$f":"IF(Propostas!$C65=\"\",\"\",VLOOKUP($A58,Pontuação!$A$5:$V$203,COLUMN(G:G),0))","v":""},{"$f":"IF(Propostas!$C65=\"\",\"\",VLOOKUP($A58,Pontuação!$A$5:$V$203,COLUMN(H:H),0))","v":""},{"$f":"IF(Propostas!$C65=\"\",\"\",VLOOKUP($A58,Pontuação!$A$5:$V$203,COLUMN(I:I),0))","v":""},{"$f":"IF(Propostas!$C65=\"\",\"\",VLOOKUP($A58,Pontuação!$A$5:$V$203,COLUMN(J:J),0))","v":""},{"$f":"IF(Propostas!$C65=\"\",\"\",VLOOKUP($A58,Pontuação!$A$5:$V$203,COLUMN(K:K),0))","v":""},{"$f":"IF(Propostas!$C65=\"\",\"\",VLOOKUP($A58,Pontuação!$A$5:$V$203,COLUMN(L:L),0))","v":""},{"$f":"IF(Propostas!$C65=\"\",\"\",VLOOKUP($A58,Pontuação!$A$5:$V$203,COLUMN(M:M),0))","v":""},{"$f":"IF(Propostas!$C65=\"\",\"\",VLOOKUP($A58,Pontuação!$A$5:$V$203,COLUMN(N:N),0))","v":""},{"$f":"IF(Propostas!$C65=\"\",\"\",VLOOKUP($A58,Pontuação!$A$5:$V$203,COLUMN(O:O),0))","v":""},{"$f":"IF(Propostas!$C65=\"\",\"\",VLOOKUP($A58,Pontuação!$A$5:$V$203,COLUMN(P:P),0))","v":""},{"$f":"IF(Propostas!$C65=\"\",\"\",VLOOKUP($A58,Pontuação!$A$5:$V$203,COLUMN(Q:Q),0))","v":""},{"$f":"IF(Propostas!$C65=\"\",\"\",VLOOKUP($A58,Pontuação!$A$5:$V$203,COLUMN(R:R),0))","v":""},{"$f":"IF(Propostas!$C65=\"\",\"\",VLOOKUP($A58,Pontuação!$A$5:$V$203,COLUMN(S:S),0))","v":""},{"$f":"IF(Propostas!$C65=\"\",\"\",VLOOKUP($A58,Pontuação!$A$5:$V$203,COLUMN(T:T),0))","v":""},{"$f":"IF(Propostas!$C65=\"\",\"\",VLOOKUP($A58,Pontuação!$A$5:$V$203,COLUMN(U:U),0))","v":""},{"$f":"IF(Propostas!$B65=\"\",\"\",SUM(C58:U58))","v":""},{"$f":"IF(Propostas!$C65=\"\",\"\",RANK(V58,$V$5:$V$203,0))","v":""},{"$f":"IF(Propostas!$C65=\"\",\"\",VLOOKUP(B58,Propostas[],3,0))","v":""},{"$f":"IF(Propostas!$C65=\"\",\"\",Y57-X58)","v":""},{"$f":"IF(Propostas!$C65=\"\",\"\",IF(Y58>0,\"S\",\"N\"))","v":""}]
[{"$f":"IF(Propostas!$C66=\"\",\"\",ROW(55:55))","v":""},{"$f":"IF(Propostas!$C66=\"\",\"\",VLOOKUP($A59,Pontuação!$A$5:$V$203,COLUMN(B:B),0))","v":""},{"$f":"IF(Propostas!$C66=\"\",\"\",VLOOKUP($A59,Pontuação!$A$5:$V$203,COLUMN(C:C),0))","v":""},{"$f":"IF(Propostas!$C66=\"\",\"\",VLOOKUP($A59,Pontuação!$A$5:$V$203,COLUMN(D:D),0))","v":""},{"$f":"IF(Propostas!$C66=\"\",\"\",VLOOKUP($A59,Pontuação!$A$5:$V$203,COLUMN(E:E),0))","v":""},{"$f":"IF(Propostas!$C66=\"\",\"\",VLOOKUP($A59,Pontuação!$A$5:$V$203,COLUMN(F:F),0))","v":""},{"$f":"IF(Propostas!$C66=\"\",\"\",VLOOKUP($A59,Pontuação!$A$5:$V$203,COLUMN(G:G),0))","v":""},{"$f":"IF(Propostas!$C66=\"\",\"\",VLOOKUP($A59,Pontuação!$A$5:$V$203,COLUMN(H:H),0))","v":""},{"$f":"IF(Propostas!$C66=\"\",\"\",VLOOKUP($A59,Pontuação!$A$5:$V$203,COLUMN(I:I),0))","v":""},{"$f":"IF(Propostas!$C66=\"\",\"\",VLOOKUP($A59,Pontuação!$A$5:$V$203,COLUMN(J:J),0))","v":""},{"$f":"IF(Propostas!$C66=\"\",\"\",VLOOKUP($A59,Pontuação!$A$5:$V$203,COLUMN(K:K),0))","v":""},{"$f":"IF(Propostas!$C66=\"\",\"\",VLOOKUP($A59,Pontuação!$A$5:$V$203,COLUMN(L:L),0))","v":""},{"$f":"IF(Propostas!$C66=\"\",\"\",VLOOKUP($A59,Pontuação!$A$5:$V$203,COLUMN(M:M),0))","v":""},{"$f":"IF(Propostas!$C66=\"\",\"\",VLOOKUP($A59,Pontuação!$A$5:$V$203,COLUMN(N:N),0))","v":""},{"$f":"IF(Propostas!$C66=\"\",\"\",VLOOKUP($A59,Pontuação!$A$5:$V$203,COLUMN(O:O),0))","v":""},{"$f":"IF(Propostas!$C66=\"\",\"\",VLOOKUP($A59,Pontuação!$A$5:$V$203,COLUMN(P:P),0))","v":""},{"$f":"IF(Propostas!$C66=\"\",\"\",VLOOKUP($A59,Pontuação!$A$5:$V$203,COLUMN(Q:Q),0))","v":""},{"$f":"IF(Propostas!$C66=\"\",\"\",VLOOKUP($A59,Pontuação!$A$5:$V$203,COLUMN(R:R),0))","v":""},{"$f":"IF(Propostas!$C66=\"\",\"\",VLOOKUP($A59,Pontuação!$A$5:$V$203,COLUMN(S:S),0))","v":""},{"$f":"IF(Propostas!$C66=\"\",\"\",VLOOKUP($A59,Pontuação!$A$5:$V$203,COLUMN(T:T),0))","v":""},{"$f":"IF(Propostas!$C66=\"\",\"\",VLOOKUP($A59,Pontuação!$A$5:$V$203,COLUMN(U:U),0))","v":""},{"$f":"IF(Propostas!$B66=\"\",\"\",SUM(C59:U59))","v":""},{"$f":"IF(Propostas!$C66=\"\",\"\",RANK(V59,$V$5:$V$203,0))","v":""},{"$f":"IF(Propostas!$C66=\"\",\"\",VLOOKUP(B59,Propostas[],3,0))","v":""},{"$f":"IF(Propostas!$C66=\"\",\"\",Y58-X59)","v":""},{"$f":"IF(Propostas!$C66=\"\",\"\",IF(Y59>0,\"S\",\"N\"))","v":""}]
[{"$f":"IF(Propostas!$C67=\"\",\"\",ROW(56:56))","v":""},{"$f":"IF(Propostas!$C67=\"\",\"\",VLOOKUP($A60,Pontuação!$A$5:$V$203,COLUMN(B:B),0))","v":""},{"$f":"IF(Propostas!$C67=\"\",\"\",VLOOKUP($A60,Pontuação!$A$5:$V$203,COLUMN(C:C),0))","v":""},{"$f":"IF(Propostas!$C67=\"\",\"\",VLOOKUP($A60,Pontuação!$A$5:$V$203,COLUMN(D:D),0))","v":""},{"$f":"IF(Propostas!$C67=\"\",\"\",VLOOKUP($A60,Pontuação!$A$5:$V$203,COLUMN(E:E),0))","v":""},{"$f":"IF(Propostas!$C67=\"\",\"\",VLOOKUP($A60,Pontuação!$A$5:$V$203,COLUMN(F:F),0))","v":""},{"$f":"IF(Propostas!$C67=\"\",\"\",VLOOKUP($A60,Pontuação!$A$5:$V$203,COLUMN(G:G),0))","v":""},{"$f":"IF(Propostas!$C67=\"\",\"\",VLOOKUP($A60,Pontuação!$A$5:$V$203,COLUMN(H:H),0))","v":""},{"$f":"IF(Propostas!$C67=\"\",\"\",VLOOKUP($A60,Pontuação!$A$5:$V$203,COLUMN(I:I),0))","v":""},{"$f":"IF(Propostas!$C67=\"\",\"\",VLOOKUP($A60,Pontuação!$A$5:$V$203,COLUMN(J:J),0))","v":""},{"$f":"IF(Propostas!$C67=\"\",\"\",VLOOKUP($A60,Pontuação!$A$5:$V$203,COLUMN(K:K),0))","v":""},{"$f":"IF(Propostas!$C67=\"\",\"\",VLOOKUP($A60,Pontuação!$A$5:$V$203,COLUMN(L:L),0))","v":""},{"$f":"IF(Propostas!$C67=\"\",\"\",VLOOKUP($A60,Pontuação!$A$5:$V$203,COLUMN(M:M),0))","v":""},{"$f":"IF(Propostas!$C67=\"\",\"\",VLOOKUP($A60,Pontuação!$A$5:$V$203,COLUMN(N:N),0))","v":""},{"$f":"IF(Propostas!$C67=\"\",\"\",VLOOKUP($A60,Pontuação!$A$5:$V$203,COLUMN(O:O),0))","v":""},{"$f":"IF(Propostas!$C67=\"\",\"\",VLOOKUP($A60,Pontuação!$A$5:$V$203,COLUMN(P:P),0))","v":""},{"$f":"IF(Propostas!$C67=\"\",\"\",VLOOKUP($A60,Pontuação!$A$5:$V$203,COLUMN(Q:Q),0))","v":""},{"$f":"IF(Propostas!$C67=\"\",\"\",VLOOKUP($A60,Pontuação!$A$5:$V$203,COLUMN(R:R),0))","v":""},{"$f":"IF(Propostas!$C67=\"\",\"\",VLOOKUP($A60,Pontuação!$A$5:$V$203,COLUMN(S:S),0))","v":""},{"$f":"IF(Propostas!$C67=\"\",\"\",VLOOKUP($A60,Pontuação!$A$5:$V$203,COLUMN(T:T),0))","v":""},{"$f":"IF(Propostas!$C67=\"\",\"\",VLOOKUP($A60,Pontuação!$A$5:$V$203,COLUMN(U:U),0))","v":""},{"$f":"IF(Propostas!$B67=\"\",\"\",SUM(C60:U60))","v":""},{"$f":"IF(Propostas!$C67=\"\",\"\",RANK(V60,$V$5:$V$203,0))","v":""},{"$f":"IF(Propostas!$C67=\"\",\"\",VLOOKUP(B60,Propostas[],3,0))","v":""},{"$f":"IF(Propostas!$C67=\"\",\"\",Y59-X60)","v":""},{"$f":"IF(Propostas!$C67=\"\",\"\",IF(Y60>0,\"S\",\"N\"))","v":""}]
[{"$f":"IF(Propostas!$C68=\"\",\"\",ROW(57:57))","v":""},{"$f":"IF(Propostas!$C68=\"\",\"\",VLOOKUP($A61,Pontuação!$A$5:$V$203,COLUMN(B:B),0))","v":""},{"$f":"IF(Propostas!$C68=\"\",\"\",VLOOKUP($A61,Pontuação!$A$5:$V$203,COLUMN(C:C),0))","v":""},{"$f":"IF(Propostas!$C68=\"\",\"\",VLOOKUP($A61,Pontuação!$A$5:$V$203,COLUMN(D:D),0))","v":""},{"$f":"IF(Propostas!$C68=\"\",\"\",VLOOKUP($A61,Pontuação!$A$5:$V$203,COLUMN(E:E),0))","v":""},{"$f":"IF(Propostas!$C68=\"\",\"\",VLOOKUP($A61,Pontuação!$A$5:$V$203,COLUMN(F:F),0))","v":""},{"$f":"IF(Propostas!$C68=\"\",\"\",VLOOKUP($A61,Pontuação!$A$5:$V$203,COLUMN(G:G),0))","v":""},{"$f":"IF(Propostas!$C68=\"\",\"\",VLOOKUP($A61,Pontuação!$A$5:$V$203,COLUMN(H:H),0))","v":""},{"$f":"IF(Propostas!$C68=\"\",\"\",VLOOKUP($A61,Pontuação!$A$5:$V$203,COLUMN(I:I),0))","v":""},{"$f":"IF(Propostas!$C68=\"\",\"\",VLOOKUP($A61,Pontuação!$A$5:$V$203,COLUMN(J:J),0))","v":""},{"$f":"IF(Propostas!$C68=\"\",\"\",VLOOKUP($A61,Pontuação!$A$5:$V$203,COLUMN(K:K),0))","v":""},{"$f":"IF(Propostas!$C68=\"\",\"\",VLOOKUP($A61,Pontuação!$A$5:$V$203,COLUMN(L:L),0))","v":""},{"$f":"IF(Propostas!$C68=\"\",\"\",VLOOKUP($A61,Pontuação!$A$5:$V$203,COLUMN(M:M),0))","v":""},{"$f":"IF(Propostas!$C68=\"\",\"\",VLOOKUP($A61,Pontuação!$A$5:$V$203,COLUMN(N:N),0))","v":""},{"$f":"IF(Propostas!$C68=\"\",\"\",VLOOKUP($A61,Pontuação!$A$5:$V$203,COLUMN(O:O),0))","v":""},{"$f":"IF(Propostas!$C68=\"\",\"\",VLOOKUP($A61,Pontuação!$A$5:$V$203,COLUMN(P:P),0))","v":""},{"$f":"IF(Propostas!$C68=\"\",\"\",VLOOKUP($A61,Pontuação!$A$5:$V$203,COLUMN(Q:Q),0))","v":""},{"$f":"IF(Propostas!$C68=\"\",\"\",VLOOKUP($A61,Pontuação!$A$5:$V$203,COLUMN(R:R),0))","v":""},{"$f":"IF(Propostas!$C68=\"\",\"\",VLOOKUP($A61,Pontuação!$A$5:$V$203,COLUMN(S:S),0))","v":""},{"$f":"IF(Propostas!$C68=\"\",\"\",VLOOKUP($A61,Pontuação!$A$5:$V$203,COLUMN(T:T),0))","v":""},{"$f":"IF(Propostas!$C68=\"\",\"\",VLOOKUP($A61,Pontuação!$A$5:$V$203,COLUMN(U:U),0))","v":""},{"$f":"IF(Propostas!$B68=\"\",\"\",SUM(C61:U61))","v":""},{"$f":"IF(Propostas!$C68=\"\",\"\",RANK(V61,$V$5:$V$203,0))","v":""},{"$f":"IF(Propostas!$C68=\"\",\"\",VLOOKUP(B61,Propostas[],3,0))","v":""},{"$f":"IF(Propostas!$C68=\"\",\"\",Y60-X61)","v":""},{"$f":"IF(Propostas!$C68=\"\",\"\",IF(Y61>0,\"S\",\"N\"))","v":""}]
[{"$f":"IF(Propostas!$C69=\"\",\"\",ROW(58:58))","v":""},{"$f":"IF(Propostas!$C69=\"\",\"\",VLOOKUP($A62,Pontuação!$A$5:$V$203,COLUMN(B:B),0))","v":""},{"$f":"IF(Propostas!$C69=\"\",\"\",VLOOKUP($A62,Pontuação!$A$5:$V$203,COLUMN(C:C),0))","v":""},{"$f":"IF(Propostas!$C69=\"\",\"\",VLOOKUP($A62,Pontuação!$A$5:$V$203,COLUMN(D:D),0))","v":""},{"$f":"IF(Propostas!$C69=\"\",\"\",VLOOKUP($A62,Pontuação!$A$5:$V$203,COLUMN(E:E),0))","v":""},{"$f":"IF(Propostas!$C69=\"\",\"\",VLOOKUP($A62,Pontuação!$A$5:$V$203,COLUMN(F:F),0))","v":""},{"$f":"IF(Propostas!$C69=\"\",\"\",VLOOKUP($A62,Pontuação!$A$5:$V$203,COLUMN(G:G),0))","v":""},{"$f":"IF(Propostas!$C69=\"\",\"\",VLOOKUP($A62,Pontuação!$A$5:$V$203,COLUMN(H:H),0))","v":""},{"$f":"IF(Propostas!$C69=\"\",\"\",VLOOKUP($A62,Pontuação!$A$5:$V$203,COLUMN(I:I),0))","v":""},{"$f":"IF(Propostas!$C69=\"\",\"\",VLOOKUP($A62,Pontuação!$A$5:$V$203,COLUMN(J:J),0))","v":""},{"$f":"IF(Propostas!$C69=\"\",\"\",VLOOKUP($A62,Pontuação!$A$5:$V$203,COLUMN(K:K),0))","v":""},{"$f":"IF(Propostas!$C69=\"\",\"\",VLOOKUP($A62,Pontuação!$A$5:$V$203,COLUMN(L:L),0))","v":""},{"$f":"IF(Propostas!$C69=\"\",\"\",VLOOKUP($A62,Pontuação!$A$5:$V$203,COLUMN(M:M),0))","v":""},{"$f":"IF(Propostas!$C69=\"\",\"\",VLOOKUP($A62,Pontuação!$A$5:$V$203,COLUMN(N:N),0))","v":""},{"$f":"IF(Propostas!$C69=\"\",\"\",VLOOKUP($A62,Pontuação!$A$5:$V$203,COLUMN(O:O),0))","v":""},{"$f":"IF(Propostas!$C69=\"\",\"\",VLOOKUP($A62,Pontuação!$A$5:$V$203,COLUMN(P:P),0))","v":""},{"$f":"IF(Propostas!$C69=\"\",\"\",VLOOKUP($A62,Pontuação!$A$5:$V$203,COLUMN(Q:Q),0))","v":""},{"$f":"IF(Propostas!$C69=\"\",\"\",VLOOKUP($A62,Pontuação!$A$5:$V$203,COLUMN(R:R),0))","v":""},{"$f":"IF(Propostas!$C69=\"\",\"\",VLOOKUP($A62,Pontuação!$A$5:$V$203,COLUMN(S:S),0))","v":""},{"$f":"IF(Propostas!$C69=\"\",\"\",VLOOKUP($A62,Pontuação!$A$5:$V$203,COLUMN(T:T),0))","v":""},{"$f":"IF(Propostas!$C69=\"\",\"\",VLOOKUP($A62,Pontuação!$A$5:$V$203,COLUMN(U:U),0))","v":""},{"$f":"IF(Propostas!$B69=\"\",\"\",SUM(C62:U62))","v":""},{"$f":"IF(Propostas!$C69=\"\",\"\",RANK(V62,$V$5:$V$203,0))","v":""},{"$f":"IF(Propostas!$C69=\"\",\"\",VLOOKUP(B62,Propostas[],3,0))","v":""},{"$f":"IF(Propostas!$C69=\"\",\"\",Y61-X62)","v":""},{"$f":"IF(Propostas!$C69=\"\",\"\",IF(Y62>0,\"S\",\"N\"))","v":""}]
[{"$f":"IF(Propostas!$C70=\"\",\"\",ROW(59:59))","v":""},{"$f":"IF(Propostas!$C70=\"\",\"\",VLOOKUP($A63,Pontuação!$A$5:$V$203,COLUMN(B:B),0))","v":""},{"$f":"IF(Propostas!$C70=\"\",\"\",VLOOKUP($A63,Pontuação!$A$5:$V$203,COLUMN(C:C),0))","v":""},{"$f":"IF(Propostas!$C70=\"\",\"\",VLOOKUP($A63,Pontuação!$A$5:$V$203,COLUMN(D:D),0))","v":""},{"$f":"IF(Propostas!$C70=\"\",\"\",VLOOKUP($A63,Pontuação!$A$5:$V$203,COLUMN(E:E),0))","v":""},{"$f":"IF(Propostas!$C70=\"\",\"\",VLOOKUP($A63,Pontuação!$A$5:$V$203,COLUMN(F:F),0))","v":""},{"$f":"IF(Propostas!$C70=\"\",\"\",VLOOKUP($A63,Pontuação!$A$5:$V$203,COLUMN(G:G),0))","v":""},{"$f":"IF(Propostas!$C70=\"\",\"\",VLOOKUP($A63,Pontuação!$A$5:$V$203,COLUMN(H:H),0))","v":""},{"$f":"IF(Propostas!$C70=\"\",\"\",VLOOKUP($A63,Pontuação!$A$5:$V$203,COLUMN(I:I),0))","v":""},{"$f":"IF(Propostas!$C70=\"\",\"\",VLOOKUP($A63,Pontuação!$A$5:$V$203,COLUMN(J:J),0))","v":""},{"$f":"IF(Propostas!$C70=\"\",\"\",VLOOKUP($A63,Pontuação!$A$5:$V$203,COLUMN(K:K),0))","v":""},{"$f":"IF(Propostas!$C70=\"\",\"\",VLOOKUP($A63,Pontuação!$A$5:$V$203,COLUMN(L:L),0))","v":""},{"$f":"IF(Propostas!$C70=\"\",\"\",VLOOKUP($A63,Pontuação!$A$5:$V$203,COLUMN(M:M),0))","v":""},{"$f":"IF(Propostas!$C70=\"\",\"\",VLOOKUP($A63,Pontuação!$A$5:$V$203,COLUMN(N:N),0))","v":""},{"$f":"IF(Propostas!$C70=\"\",\"\",VLOOKUP($A63,Pontuação!$A$5:$V$203,COLUMN(O:O),0))","v":""},{"$f":"IF(Propostas!$C70=\"\",\"\",VLOOKUP($A63,Pontuação!$A$5:$V$203,COLUMN(P:P),0))","v":""},{"$f":"IF(Propostas!$C70=\"\",\"\",VLOOKUP($A63,Pontuação!$A$5:$V$203,COLUMN(Q:Q),0))","v":""},{"$f":"IF(Propostas!$C70=\"\",\"\",VLOOKUP($A63,Pontuação!$A$5:$V$203,COLUMN(R:R),0))","v":""},{"$f":"IF(Propostas!$C70=\"\",\"\",VLOOKUP($A63,Pontuação!$A$5:$V$203,COLUMN(S:S),0))","v":""},{"$f":"IF(Propostas!$C70=\"\",\"\",VLOOKUP($A63,Pontuação!$A$5:$V$203,COLUMN(T:T),0))","v":""},{"$f":"IF(Propostas!$C70=\"\",\"\",VLOOKUP($A63,Pontuação!$A$5:$V$203,COLUMN(U:U),0))","v":""},{"$f":"IF(Propostas!$B70=\"\",\"\",SUM(C63:U63))","v":""},{"$f":"IF(Propostas!$C70=\"\",\"\",RANK(V63,$V$5:$V$203,0))","v":""},{"$f":"IF(Propostas!$C70=\"\",\"\",VLOOKUP(B63,Propostas[],3,0))","v":""},{"$f":"IF(Propostas!$C70=\"\",\"\",Y62-X63)","v":""},{"$f":"IF(Propostas!$C70=\"\",\"\",IF(Y63>0,\"S\",\"N\"))","v":""}]
[{"$f":"IF(Propostas!$C71=\"\",\"\",ROW(60:60))","v":""},{"$f":"IF(Propostas!$C71=\"\",\"\",VLOOKUP($A64,Pontuação!$A$5:$V$203,COLUMN(B:B),0))","v":""},{"$f":"IF(Propostas!$C71=\"\",\"\",VLOOKUP($A64,Pontuação!$A$5:$V$203,COLUMN(C:C),0))","v":""},{"$f":"IF(Propostas!$C71=\"\",\"\",VLOOKUP($A64,Pontuação!$A$5:$V$203,COLUMN(D:D),0))","v":""},{"$f":"IF(Propostas!$C71=\"\",\"\",VLOOKUP($A64,Pontuação!$A$5:$V$203,COLUMN(E:E),0))","v":""},{"$f":"IF(Propostas!$C71=\"\",\"\",VLOOKUP($A64,Pontuação!$A$5:$V$203,COLUMN(F:F),0))","v":""},{"$f":"IF(Propostas!$C71=\"\",\"\",VLOOKUP($A64,Pontuação!$A$5:$V$203,COLUMN(G:G),0))","v":""},{"$f":"IF(Propostas!$C71=\"\",\"\",VLOOKUP($A64,Pontuação!$A$5:$V$203,COLUMN(H:H),0))","v":""},{"$f":"IF(Propostas!$C71=\"\",\"\",VLOOKUP($A64,Pontuação!$A$5:$V$203,COLUMN(I:I),0))","v":""},{"$f":"IF(Propostas!$C71=\"\",\"\",VLOOKUP($A64,Pontuação!$A$5:$V$203,COLUMN(J:J),0))","v":""},{"$f":"IF(Propostas!$C71=\"\",\"\",VLOOKUP($A64,Pontuação!$A$5:$V$203,COLUMN(K:K),0))","v":""},{"$f":"IF(Propostas!$C71=\"\",\"\",VLOOKUP($A64,Pontuação!$A$5:$V$203,COLUMN(L:L),0))","v":""},{"$f":"IF(Propostas!$C71=\"\",\"\",VLOOKUP($A64,Pontuação!$A$5:$V$203,COLUMN(M:M),0))","v":""},{"$f":"IF(Propostas!$C71=\"\",\"\",VLOOKUP($A64,Pontuação!$A$5:$V$203,COLUMN(N:N),0))","v":""},{"$f":"IF(Propostas!$C71=\"\",\"\",VLOOKUP($A64,Pontuação!$A$5:$V$203,COLUMN(O:O),0))","v":""},{"$f":"IF(Propostas!$C71=\"\",\"\",VLOOKUP($A64,Pontuação!$A$5:$V$203,COLUMN(P:P),0))","v":""},{"$f":"IF(Propostas!$C71=\"\",\"\",VLOOKUP($A64,Pontuação!$A$5:$V$203,COLUMN(Q:Q),0))","v":""},{"$f":"IF(Propostas!$C71=\"\",\"\",VLOOKUP($A64,Pontuação!$A$5:$V$203,COLUMN(R:R),0))","v":""},{"$f":"IF(Propostas!$C71=\"\",\"\",VLOOKUP($A64,Pontuação!$A$5:$V$203,COLUMN(S:S),0))","v":""},{"$f":"IF(Propostas!$C71=\"\",\"\",VLOOKUP($A64,Pontuação!$A$5:$V$203,COLUMN(T:T),0))","v":""},{"$f":"IF(Propostas!$C71=\"\",\"\",VLOOKUP($A64,Pontuação!$A$5:$V$203,COLUMN(U:U),0))","v":""},{"$f":"IF(Propostas!$B71=\"\",\"\",SUM(C64:U64))","v":""},{"$f":"IF(Propostas!$C71=\"\",\"\",RANK(V64,$V$5:$V$203,0))","v":""},{"$f":"IF(Propostas!$C71=\"\",\"\",VLOOKUP(B64,Propostas[],3,0))","v":""},{"$f":"IF(Propostas!$C71=\"\",\"\",Y63-X64)","v":""},{"$f":"IF(Propostas!$C71=\"\",\"\",IF(Y64>0,\"S\",\"N\"))","v":""}]
[{"$f":"IF(Propostas!$C72=\"\",\"\",ROW(61:61))","v":""},{"$f":"IF(Propostas!$C72=\"\",\"\",VLOOKUP($A65,Pontuação!$A$5:$V$203,COLUMN(B:B),0))","v":""},{"$f":"IF(Propostas!$C72=\"\",\"\",VLOOKUP($A65,Pontuação!$A$5:$V$203,COLUMN(C:C),0))","v":""},{"$f":"IF(Propostas!$C72=\"\",\"\",VLOOKUP($A65,Pontuação!$A$5:$V$203,COLUMN(D:D),0))","v":""},{"$f":"IF(Propostas!$C72=\"\",\"\",VLOOKUP($A65,Pontuação!$A$5:$V$203,COLUMN(E:E),0))","v":""},{"$f":"IF(Propostas!$C72=\"\",\"\",VLOOKUP($A65,Pontuação!$A$5:$V$203,COLUMN(F:F),0))","v":""},{"$f":"IF(Propostas!$C72=\"\",\"\",VLOOKUP($A65,Pontuação!$A$5:$V$203,COLUMN(G:G),0))","v":""},{"$f":"IF(Propostas!$C72=\"\",\"\",VLOOKUP($A65,Pontuação!$A$5:$V$203,COLUMN(H:H),0))","v":""},{"$f":"IF(Propostas!$C72=\"\",\"\",VLOOKUP($A65,Pontuação!$A$5:$V$203,COLUMN(I:I),0))","v":""},{"$f":"IF(Propostas!$C72=\"\",\"\",VLOOKUP($A65,Pontuação!$A$5:$V$203,COLUMN(J:J),0))","v":""},{"$f":"IF(Propostas!$C72=\"\",\"\",VLOOKUP($A65,Pontuação!$A$5:$V$203,COLUMN(K:K),0))","v":""},{"$f":"IF(Propostas!$C72=\"\",\"\",VLOOKUP($A65,Pontuação!$A$5:$V$203,COLUMN(L:L),0))","v":""},{"$f":"IF(Propostas!$C72=\"\",\"\",VLOOKUP($A65,Pontuação!$A$5:$V$203,COLUMN(M:M),0))","v":""},{"$f":"IF(Propostas!$C72=\"\",\"\",VLOOKUP($A65,Pontuação!$A$5:$V$203,COLUMN(N:N),0))","v":""},{"$f":"IF(Propostas!$C72=\"\",\"\",VLOOKUP($A65,Pontuação!$A$5:$V$203,COLUMN(O:O),0))","v":""},{"$f":"IF(Propostas!$C72=\"\",\"\",VLOOKUP($A65,Pontuação!$A$5:$V$203,COLUMN(P:P),0))","v":""},{"$f":"IF(Propostas!$C72=\"\",\"\",VLOOKUP($A65,Pontuação!$A$5:$V$203,COLUMN(Q:Q),0))","v":""},{"$f":"IF(Propostas!$C72=\"\",\"\",VLOOKUP($A65,Pontuação!$A$5:$V$203,COLUMN(R:R),0))","v":""},{"$f":"IF(Propostas!$C72=\"\",\"\",VLOOKUP($A65,Pontuação!$A$5:$V$203,COLUMN(S:S),0))","v":""},{"$f":"IF(Propostas!$C72=\"\",\"\",VLOOKUP($A65,Pontuação!$A$5:$V$203,COLUMN(T:T),0))","v":""},{"$f":"IF(Propostas!$C72=\"\",\"\",VLOOKUP($A65,Pontuação!$A$5:$V$203,COLUMN(U:U),0))","v":""},{"$f":"IF(Propostas!$B72=\"\",\"\",SUM(C65:U65))","v":""},{"$f":"IF(Propostas!$C72=\"\",\"\",RANK(V65,$V$5:$V$203,0))","v":""},{"$f":"IF(Propostas!$C72=\"\",\"\",VLOOKUP(B65,Propostas[],3,0))","v":""},{"$f":"IF(Propostas!$C72=\"\",\"\",Y64-X65)","v":""},{"$f":"IF(Propostas!$C72=\"\",\"\",IF(Y65>0,\"S\",\"N\"))","v":""}]
[{"$f":"IF(Propostas!$C73=\"\",\"\",ROW(62:62))","v":""},{"$f":"IF(Propostas!$C73=\"\",\"\",VLOOKUP($A66,Pontuação!$A$5:$V$203,COLUMN(B:B),0))","v":""},{"$f":"IF(Propostas!$C73=\"\",\"\",VLOOKUP($A66,Pontuação!$A$5:$V$203,COLUMN(C:C),0))","v":""},{"$f":"IF(Propostas!$C73=\"\",\"\",VLOOKUP($A66,Pontuação!$A$5:$V$203,COLUMN(D:D),0))","v":""},{"$f":"IF(Propostas!$C73=\"\",\"\",VLOOKUP($A66,Pontuação!$A$5:$V$203,COLUMN(E:E),0))","v":""},{"$f":"IF(Propostas!$C73=\"\",\"\",VLOOKUP($A66,Pontuação!$A$5:$V$203,COLUMN(F:F),0))","v":""},{"$f":"IF(Propostas!$C73=\"\",\"\",VLOOKUP($A66,Pontuação!$A$5:$V$203,COLUMN(G:G),0))","v":""},{"$f":"IF(Propostas!$C73=\"\",\"\",VLOOKUP($A66,Pontuação!$A$5:$V$203,COLUMN(H:H),0))","v":""},{"$f":"IF(Propostas!$C73=\"\",\"\",VLOOKUP($A66,Pontuação!$A$5:$V$203,COLUMN(I:I),0))","v":""},{"$f":"IF(Propostas!$C73=\"\",\"\",VLOOKUP($A66,Pontuação!$A$5:$V$203,COLUMN(J:J),0))","v":""},{"$f":"IF(Propostas!$C73=\"\",\"\",VLOOKUP($A66,Pontuação!$A$5:$V$203,COLUMN(K:K),0))","v":""},{"$f":"IF(Propostas!$C73=\"\",\"\",VLOOKUP($A66,Pontuação!$A$5:$V$203,COLUMN(L:L),0))","v":""},{"$f":"IF(Propostas!$C73=\"\",\"\",VLOOKUP($A66,Pontuação!$A$5:$V$203,COLUMN(M:M),0))","v":""},{"$f":"IF(Propostas!$C73=\"\",\"\",VLOOKUP($A66,Pontuação!$A$5:$V$203,COLUMN(N:N),0))","v":""},{"$f":"IF(Propostas!$C73=\"\",\"\",VLOOKUP($A66,Pontuação!$A$5:$V$203,COLUMN(O:O),0))","v":""},{"$f":"IF(Propostas!$C73=\"\",\"\",VLOOKUP($A66,Pontuação!$A$5:$V$203,COLUMN(P:P),0))","v":""},{"$f":"IF(Propostas!$C73=\"\",\"\",VLOOKUP($A66,Pontuação!$A$5:$V$203,COLUMN(Q:Q),0))","v":""},{"$f":"IF(Propostas!$C73=\"\",\"\",VLOOKUP($A66,Pontuação!$A$5:$V$203,COLUMN(R:R),0))","v":""},{"$f":"IF(Propostas!$C73=\"\",\"\",VLOOKUP($A66,Pontuação!$A$5:$V$203,COLUMN(S:S),0))","v":""},{"$f":"IF(Propostas!$C73=\"\",\"\",VLOOKUP($A66,Pontuação!$A$5:$V$203,COLUMN(T:T),0))","v":""},{"$f":"IF(Propostas!$C73=\"\",\"\",VLOOKUP($A66,Pontuação!$A$5:$V$203,COLUMN(U:U),0))","v":""},{"$f":"IF(Propostas!$B73=\"\",\"\",SUM(C66:U66))","v":""},{"$f":"IF(Propostas!$C73=\"\",\"\",RANK(V66,$V$5:$V$203,0))","v":""},{"$f":"IF(Propostas!$C73=\"\",\"\",VLOOKUP(B66,Propostas[],3,0))","v":""},{"$f":"IF(Propostas!$C73=\"\",\"\",Y65-X66)","v":""},{"$f":"IF(Propostas!$C73=\"\",\"\",IF(Y66>0,\"S\",\"N\"))","v":""}]
[{"$f":"IF(Propostas!$C74=\"\",\"\",ROW(63:63))","v":""},{"$f":"IF(Propostas!$C74=\"\",\"\",VLOOKUP($A67,Pontuação!$A$5:$V$203,COLUMN(B:B),0))","v":""},{"$f":"IF(Propostas!$C74=\"\",\"\",VLOOKUP($A67,Pontuação!$A$5:$V$203,COLUMN(C:C),0))","v":""},{"$f":"IF(Propostas!$C74=\"\",\"\",VLOOKUP($A67,Pontuação!$A$5:$V$203,COLUMN(D:D),0))","v":""},{"$f":"IF(Propostas!$C74=\"\",\"\",VLOOKUP($A67,Pontuação!$A$5:$V$203,COLUMN(E:E),0))","v":""},{"$f":"IF(Propostas!$C74=\"\",\"\",VLOOKUP($A67,Pontuação!$A$5:$V$203,COLUMN(F:F),0))","v":""},{"$f":"IF(Propostas!$C74=\"\",\"\",VLOOKUP($A67,Pontuação!$A$5:$V$203,COLUMN(G:G),0))","v":""},{"$f":"IF(Propostas!$C74=\"\",\"\",VLOOKUP($A67,Pontuação!$A$5:$V$203,COLUMN(H:H),0))","v":""},{"$f":"IF(Propostas!$C74=\"\",\"\",VLOOKUP($A67,Pontuação!$A$5:$V$203,COLUMN(I:I),0))","v":""},{"$f":"IF(Propostas!$C74=\"\",\"\",VLOOKUP($A67,Pontuação!$A$5:$V$203,COLUMN(J:J),0))","v":""},{"$f":"IF(Propostas!$C74=\"\",\"\",VLOOKUP($A67,Pontuação!$A$5:$V$203,COLUMN(K:K),0))","v":""},{"$f":"IF(Propostas!$C74=\"\",\"\",VLOOKUP($A67,Pontuação!$A$5:$V$203,COLUMN(L:L),0))","v":""},{"$f":"IF(Propostas!$C74=\"\",\"\",VLOOKUP($A67,Pontuação!$A$5:$V$203,COLUMN(M:M),0))","v":""},{"$f":"IF(Propostas!$C74=\"\",\"\",VLOOKUP($A67,Pontuação!$A$5:$V$203,COLUMN(N:N),0))","v":""},{"$f":"IF(Propostas!$C74=\"\",\"\",VLOOKUP($A67,Pontuação!$A$5:$V$203,COLUMN(O:O),0))","v":""},{"$f":"IF(Propostas!$C74=\"\",\"\",VLOOKUP($A67,Pontuação!$A$5:$V$203,COLUMN(P:P),0))","v":""},{"$f":"IF(Propostas!$C74=\"\",\"\",VLOOKUP($A67,Pontuação!$A$5:$V$203,COLUMN(Q:Q),0))","v":""},{"$f":"IF(Propostas!$C74=\"\",\"\",VLOOKUP($A67,Pontuação!$A$5:$V$203,COLUMN(R:R),0))","v":""},{"$f":"IF(Propostas!$C74=\"\",\"\",VLOOKUP($A67,Pontuação!$A$5:$V$203,COLUMN(S:S),0))","v":""},{"$f":"IF(Propostas!$C74=\"\",\"\",VLOOKUP($A67,Pontuação!$A$5:$V$203,COLUMN(T:T),0))","v":""},{"$f":"IF(Propostas!$C74=\"\",\"\",VLOOKUP($A67,Pontuação!$A$5:$V$203,COLUMN(U:U),0))","v":""},{"$f":"IF(Propostas!$B74=\"\",\"\",SUM(C67:U67))","v":""},{"$f":"IF(Propostas!$C74=\"\",\"\",RANK(V67,$V$5:$V$203,0))","v":""},{"$f":"IF(Propostas!$C74=\"\",\"\",VLOOKUP(B67,Propostas[],3,0))","v":""},{"$f":"IF(Propostas!$C74=\"\",\"\",Y66-X67)","v":""},{"$f":"IF(Propostas!$C74=\"\",\"\",IF(Y67>0,\"S\",\"N\"))","v":""}]
[{"$f":"IF(Propostas!$C75=\"\",\"\",ROW(64:64))","v":""},{"$f":"IF(Propostas!$C75=\"\",\"\",VLOOKUP($A68,Pontuação!$A$5:$V$203,COLUMN(B:B),0))","v":""},{"$f":"IF(Propostas!$C75=\"\",\"\",VLOOKUP($A68,Pontuação!$A$5:$V$203,COLUMN(C:C),0))","v":""},{"$f":"IF(Propostas!$C75=\"\",\"\",VLOOKUP($A68,Pontuação!$A$5:$V$203,COLUMN(D:D),0))","v":""},{"$f":"IF(Propostas!$C75=\"\",\"\",VLOOKUP($A68,Pontuação!$A$5:$V$203,COLUMN(E:E),0))","v":""},{"$f":"IF(Propostas!$C75=\"\",\"\",VLOOKUP($A68,Pontuação!$A$5:$V$203,COLUMN(F:F),0))","v":""},{"$f":"IF(Propostas!$C75=\"\",\"\",VLOOKUP($A68,Pontuação!$A$5:$V$203,COLUMN(G:G),0))","v":""},{"$f":"IF(Propostas!$C75=\"\",\"\",VLOOKUP($A68,Pontuação!$A$5:$V$203,COLUMN(H:H),0))","v":""},{"$f":"IF(Propostas!$C75=\"\",\"\",VLOOKUP($A68,Pontuação!$A$5:$V$203,COLUMN(I:I),0))","v":""},{"$f":"IF(Propostas!$C75=\"\",\"\",VLOOKUP($A68,Pontuação!$A$5:$V$203,COLUMN(J:J),0))","v":""},{"$f":"IF(Propostas!$C75=\"\",\"\",VLOOKUP($A68,Pontuação!$A$5:$V$203,COLUMN(K:K),0))","v":""},{"$f":"IF(Propostas!$C75=\"\",\"\",VLOOKUP($A68,Pontuação!$A$5:$V$203,COLUMN(L:L),0))","v":""},{"$f":"IF(Propostas!$C75=\"\",\"\",VLOOKUP($A68,Pontuação!$A$5:$V$203,COLUMN(M:M),0))","v":""},{"$f":"IF(Propostas!$C75=\"\",\"\",VLOOKUP($A68,Pontuação!$A$5:$V$203,COLUMN(N:N),0))","v":""},{"$f":"IF(Propostas!$C75=\"\",\"\",VLOOKUP($A68,Pontuação!$A$5:$V$203,COLUMN(O:O),0))","v":""},{"$f":"IF(Propostas!$C75=\"\",\"\",VLOOKUP($A68,Pontuação!$A$5:$V$203,COLUMN(P:P),0))","v":""},{"$f":"IF(Propostas!$C75=\"\",\"\",VLOOKUP($A68,Pontuação!$A$5:$V$203,COLUMN(Q:Q),0))","v":""},{"$f":"IF(Propostas!$C75=\"\",\"\",VLOOKUP($A68,Pontuação!$A$5:$V$203,COLUMN(R:R),0))","v":""},{"$f":"IF(Propostas!$C75=\"\",\"\",VLOOKUP($A68,Pontuação!$A$5:$V$203,COLUMN(S:S),0))","v":""},{"$f":"IF(Propostas!$C75=\"\",\"\",VLOOKUP($A68,Pontuação!$A$5:$V$203,COLUMN(T:T),0))","v":""},{"$f":"IF(Propostas!$C75=\"\",\"\",VLOOKUP($A68,Pontuação!$A$5:$V$203,COLUMN(U:U),0))","v":""},{"$f":"IF(Propostas!$B75=\"\",\"\",SUM(C68:U68))","v":""},{"$f":"IF(Propostas!$C75=\"\",\"\",RANK(V68,$V$5:$V$203,0))","v":""},{"$f":"IF(Propostas!$C75=\"\",\"\",VLOOKUP(B68,Propostas[],3,0))","v":""},{"$f":"IF(Propostas!$C75=\"\",\"\",Y67-X68)","v":""},{"$f":"IF(Propostas!$C75=\"\",\"\",IF(Y68>0,\"S\",\"N\"))","v":""}]
[{"$f":"IF(Propostas!$C76=\"\",\"\",ROW(65:65))","v":""},{"$f":"IF(Propostas!$C76=\"\",\"\",VLOOKUP($A69,Pontuação!$A$5:$V$203,COLUMN(B:B),0))","v":""},{"$f":"IF(Propostas!$C76=\"\",\"\",VLOOKUP($A69,Pontuação!$A$5:$V$203,COLUMN(C:C),0))","v":""},{"$f":"IF(Propostas!$C76=\"\",\"\",VLOOKUP($A69,Pontuação!$A$5:$V$203,COLUMN(D:D),0))","v":""},{"$f":"IF(Propostas!$C76=\"\",\"\",VLOOKUP($A69,Pontuação!$A$5:$V$203,COLUMN(E:E),0))","v":""},{"$f":"IF(Propostas!$C76=\"\",\"\",VLOOKUP($A69,Pontuação!$A$5:$V$203,COLUMN(F:F),0))","v":""},{"$f":"IF(Propostas!$C76=\"\",\"\",VLOOKUP($A69,Pontuação!$A$5:$V$203,COLUMN(G:G),0))","v":""},{"$f":"IF(Propostas!$C76=\"\",\"\",VLOOKUP($A69,Pontuação!$A$5:$V$203,COLUMN(H:H),0))","v":""},{"$f":"IF(Propostas!$C76=\"\",\"\",VLOOKUP($A69,Pontuação!$A$5:$V$203,COLUMN(I:I),0))","v":""},{"$f":"IF(Propostas!$C76=\"\",\"\",VLOOKUP($A69,Pontuação!$A$5:$V$203,COLUMN(J:J),0))","v":""},{"$f":"IF(Propostas!$C76=\"\",\"\",VLOOKUP($A69,Pontuação!$A$5:$V$203,COLUMN(K:K),0))","v":""},{"$f":"IF(Propostas!$C76=\"\",\"\",VLOOKUP($A69,Pontuação!$A$5:$V$203,COLUMN(L:L),0))","v":""},{"$f":"IF(Propostas!$C76=\"\",\"\",VLOOKUP($A69,Pontuação!$A$5:$V$203,COLUMN(M:M),0))","v":""},{"$f":"IF(Propostas!$C76=\"\",\"\",VLOOKUP($A69,Pontuação!$A$5:$V$203,COLUMN(N:N),0))","v":""},{"$f":"IF(Propostas!$C76=\"\",\"\",VLOOKUP($A69,Pontuação!$A$5:$V$203,COLUMN(O:O),0))","v":""},{"$f":"IF(Propostas!$C76=\"\",\"\",VLOOKUP($A69,Pontuação!$A$5:$V$203,COLUMN(P:P),0))","v":""},{"$f":"IF(Propostas!$C76=\"\",\"\",VLOOKUP($A69,Pontuação!$A$5:$V$203,COLUMN(Q:Q),0))","v":""},{"$f":"IF(Propostas!$C76=\"\",\"\",VLOOKUP($A69,Pontuação!$A$5:$V$203,COLUMN(R:R),0))","v":""},{"$f":"IF(Propostas!$C76=\"\",\"\",VLOOKUP($A69,Pontuação!$A$5:$V$203,COLUMN(S:S),0))","v":""},{"$f":"IF(Propostas!$C76=\"\",\"\",VLOOKUP($A69,Pontuação!$A$5:$V$203,COLUMN(T:T),0))","v":""},{"$f":"IF(Propostas!$C76=\"\",\"\",VLOOKUP($A69,Pontuação!$A$5:$V$203,COLUMN(U:U),0))","v":""},{"$f":"IF(Propostas!$B76=\"\",\"\",SUM(C69:U69))","v":""},{"$f":"IF(Propostas!$C76=\"\",\"\",RANK(V69,$V$5:$V$203,0))","v":""},{"$f":"IF(Propostas!$C76=\"\",\"\",VLOOKUP(B69,Propostas[],3,0))","v":""},{"$f":"IF(Propostas!$C76=\"\",\"\",Y68-X69)","v":""},{"$f":"IF(Propostas!$C76=\"\",\"\",IF(Y69>0,\"S\",\"N\"))","v":""}]
[{"$f":"IF(Propostas!$C77=\"\",\"\",ROW(66:66))","v":""},{"$f":"IF(Propostas!$C77=\"\",\"\",VLOOKUP($A70,Pontuação!$A$5:$V$203,COLUMN(B:B),0))","v":""},{"$f":"IF(Propostas!$C77=\"\",\"\",VLOOKUP($A70,Pontuação!$A$5:$V$203,COLUMN(C:C),0))","v":""},{"$f":"IF(Propostas!$C77=\"\",\"\",VLOOKUP($A70,Pontuação!$A$5:$V$203,COLUMN(D:D),0))","v":""},{"$f":"IF(Propostas!$C77=\"\",\"\",VLOOKUP($A70,Pontuação!$A$5:$V$203,COLUMN(E:E),0))","v":""},{"$f":"IF(Propostas!$C77=\"\",\"\",VLOOKUP($A70,Pontuação!$A$5:$V$203,COLUMN(F:F),0))","v":""},{"$f":"IF(Propostas!$C77=\"\",\"\",VLOOKUP($A70,Pontuação!$A$5:$V$203,COLUMN(G:G),0))","v":""},{"$f":"IF(Propostas!$C77=\"\",\"\",VLOOKUP($A70,Pontuação!$A$5:$V$203,COLUMN(H:H),0))","v":""},{"$f":"IF(Propostas!$C77=\"\",\"\",VLOOKUP($A70,Pontuação!$A$5:$V$203,COLUMN(I:I),0))","v":""},{"$f":"IF(Propostas!$C77=\"\",\"\",VLOOKUP($A70,Pontuação!$A$5:$V$203,COLUMN(J:J),0))","v":""},{"$f":"IF(Propostas!$C77=\"\",\"\",VLOOKUP($A70,Pontuação!$A$5:$V$203,COLUMN(K:K),0))","v":""},{"$f":"IF(Propostas!$C77=\"\",\"\",VLOOKUP($A70,Pontuação!$A$5:$V$203,COLUMN(L:L),0))","v":""},{"$f":"IF(Propostas!$C77=\"\",\"\",VLOOKUP($A70,Pontuação!$A$5:$V$203,COLUMN(M:M),0))","v":""},{"$f":"IF(Propostas!$C77=\"\",\"\",VLOOKUP($A70,Pontuação!$A$5:$V$203,COLUMN(N:N),0))","v":""},{"$f":"IF(Propostas!$C77=\"\",\"\",VLOOKUP($A70,Pontuação!$A$5:$V$203,COLUMN(O:O),0))","v":""},{"$f":"IF(Propostas!$C77=\"\",\"\",VLOOKUP($A70,Pontuação!$A$5:$V$203,COLUMN(P:P),0))","v":""},{"$f":"IF(Propostas!$C77=\"\",\"\",VLOOKUP($A70,Pontuação!$A$5:$V$203,COLUMN(Q:Q),0))","v":""},{"$f":"IF(Propostas!$C77=\"\",\"\",VLOOKUP($A70,Pontuação!$A$5:$V$203,COLUMN(R:R),0))","v":""},{"$f":"IF(Propostas!$C77=\"\",\"\",VLOOKUP($A70,Pontuação!$A$5:$V$203,COLUMN(S:S),0))","v":""},{"$f":"IF(Propostas!$C77=\"\",\"\",VLOOKUP($A70,Pontuação!$A$5:$V$203,COLUMN(T:T),0))","v":""},{"$f":"IF(Propostas!$C77=\"\",\"\",VLOOKUP($A70,Pontuação!$A$5:$V$203,COLUMN(U:U),0))","v":""},{"$f":"IF(Propostas!$B77=\"\",\"\",SUM(C70:U70))","v":""},{"$f":"IF(Propostas!$C77=\"\",\"\",RANK(V70,$V$5:$V$203,0))","v":""},{"$f":"IF(Propostas!$C77=\"\",\"\",VLOOKUP(B70,Propostas[],3,0))","v":""},{"$f":"IF(Propostas!$C77=\"\",\"\",Y69-X70)","v":""},{"$f":"IF(Propostas!$C77=\"\",\"\",IF(Y70>0,\"S\",\"N\"))","v":""}]
[{"$f":"IF(Propostas!$C78=\"\",\"\",ROW(67:67))","v":""},{"$f":"IF(Propostas!$C78=\"\",\"\",VLOOKUP($A71,Pontuação!$A$5:$V$203,COLUMN(B:B),0))","v":""},{"$f":"IF(Propostas!$C78=\"\",\"\",VLOOKUP($A71,Pontuação!$A$5:$V$203,COLUMN(C:C),0))","v":""},{"$f":"IF(Propostas!$C78=\"\",\"\",VLOOKUP($A71,Pontuação!$A$5:$V$203,COLUMN(D:D),0))","v":""},{"$f":"IF(Propostas!$C78=\"\",\"\",VLOOKUP($A71,Pontuação!$A$5:$V$203,COLUMN(E:E),0))","v":""},{"$f":"IF(Propostas!$C78=\"\",\"\",VLOOKUP($A71,Pontuação!$A$5:$V$203,COLUMN(F:F),0))","v":""},{"$f":"IF(Propostas!$C78=\"\",\"\",VLOOKUP($A71,Pontuação!$A$5:$V$203,COLUMN(G:G),0))","v":""},{"$f":"IF(Propostas!$C78=\"\",\"\",VLOOKUP($A71,Pontuação!$A$5:$V$203,COLUMN(H:H),0))","v":""},{"$f":"IF(Propostas!$C78=\"\",\"\",VLOOKUP($A71,Pontuação!$A$5:$V$203,COLUMN(I:I),0))","v":""},{"$f":"IF(Propostas!$C78=\"\",\"\",VLOOKUP($A71,Pontuação!$A$5:$V$203,COLUMN(J:J),0))","v":""},{"$f":"IF(Propostas!$C78=\"\",\"\",VLOOKUP($A71,Pontuação!$A$5:$V$203,COLUMN(K:K),0))","v":""},{"$f":"IF(Propostas!$C78=\"\",\"\",VLOOKUP($A71,Pontuação!$A$5:$V$203,COLUMN(L:L),0))","v":""},{"$f":"IF(Propostas!$C78=\"\",\"\",VLOOKUP($A71,Pontuação!$A$5:$V$203,COLUMN(M:M),0))","v":""},{"$f":"IF(Propostas!$C78=\"\",\"\",VLOOKUP($A71,Pontuação!$A$5:$V$203,COLUMN(N:N),0))","v":""},{"$f":"IF(Propostas!$C78=\"\",\"\",VLOOKUP($A71,Pontuação!$A$5:$V$203,COLUMN(O:O),0))","v":""},{"$f":"IF(Propostas!$C78=\"\",\"\",VLOOKUP($A71,Pontuação!$A$5:$V$203,COLUMN(P:P),0))","v":""},{"$f":"IF(Propostas!$C78=\"\",\"\",VLOOKUP($A71,Pontuação!$A$5:$V$203,COLUMN(Q:Q),0))","v":""},{"$f":"IF(Propostas!$C78=\"\",\"\",VLOOKUP($A71,Pontuação!$A$5:$V$203,COLUMN(R:R),0))","v":""},{"$f":"IF(Propostas!$C78=\"\",\"\",VLOOKUP($A71,Pontuação!$A$5:$V$203,COLUMN(S:S),0))","v":""},{"$f":"IF(Propostas!$C78=\"\",\"\",VLOOKUP($A71,Pontuação!$A$5:$V$203,COLUMN(T:T),0))","v":""},{"$f":"IF(Propostas!$C78=\"\",\"\",VLOOKUP($A71,Pontuação!$A$5:$V$203,COLUMN(U:U),0))","v":""},{"$f":"IF(Propostas!$B78=\"\",\"\",SUM(C71:U71))","v":""},{"$f":"IF(Propostas!$C78=\"\",\"\",RANK(V71,$V$5:$V$203,0))","v":""},{"$f":"IF(Propostas!$C78=\"\",\"\",VLOOKUP(B71,Propostas[],3,0))","v":""},{"$f":"IF(Propostas!$C78=\"\",\"\",Y70-X71)","v":""},{"$f":"IF(Propostas!$C78=\"\",\"\",IF(Y71>0,\"S\",\"N\"))","v":""}]
[{"$f":"IF(Propostas!$C79=\"\",\"\",ROW(68:68))","v":""},{"$f":"IF(Propostas!$C79=\"\",\"\",VLOOKUP($A72,Pontuação!$A$5:$V$203,COLUMN(B:B),0))","v":""},{"$f":"IF(Propostas!$C79=\"\",\"\",VLOOKUP($A72,Pontuação!$A$5:$V$203,COLUMN(C:C),0))","v":""},{"$f":"IF(Propostas!$C79=\"\",\"\",VLOOKUP($A72,Pontuação!$A$5:$V$203,COLUMN(D:D),0))","v":""},{"$f":"IF(Propostas!$C79=\"\",\"\",VLOOKUP($A72,Pontuação!$A$5:$V$203,COLUMN(E:E),0))","v":""},{"$f":"IF(Propostas!$C79=\"\",\"\",VLOOKUP($A72,Pontuação!$A$5:$V$203,COLUMN(F:F),0))","v":""},{"$f":"IF(Propostas!$C79=\"\",\"\",VLOOKUP($A72,Pontuação!$A$5:$V$203,COLUMN(G:G),0))","v":""},{"$f":"IF(Propostas!$C79=\"\",\"\",VLOOKUP($A72,Pontuação!$A$5:$V$203,COLUMN(H:H),0))","v":""},{"$f":"IF(Propostas!$C79=\"\",\"\",VLOOKUP($A72,Pontuação!$A$5:$V$203,COLUMN(I:I),0))","v":""},{"$f":"IF(Propostas!$C79=\"\",\"\",VLOOKUP($A72,Pontuação!$A$5:$V$203,COLUMN(J:J),0))","v":""},{"$f":"IF(Propostas!$C79=\"\",\"\",VLOOKUP($A72,Pontuação!$A$5:$V$203,COLUMN(K:K),0))","v":""},{"$f":"IF(Propostas!$C79=\"\",\"\",VLOOKUP($A72,Pontuação!$A$5:$V$203,COLUMN(L:L),0))","v":""},{"$f":"IF(Propostas!$C79=\"\",\"\",VLOOKUP($A72,Pontuação!$A$5:$V$203,COLUMN(M:M),0))","v":""},{"$f":"IF(Propostas!$C79=\"\",\"\",VLOOKUP($A72,Pontuação!$A$5:$V$203,COLUMN(N:N),0))","v":""},{"$f":"IF(Propostas!$C79=\"\",\"\",VLOOKUP($A72,Pontuação!$A$5:$V$203,COLUMN(O:O),0))","v":""},{"$f":"IF(Propostas!$C79=\"\",\"\",VLOOKUP($A72,Pontuação!$A$5:$V$203,COLUMN(P:P),0))","v":""},{"$f":"IF(Propostas!$C79=\"\",\"\",VLOOKUP($A72,Pontuação!$A$5:$V$203,COLUMN(Q:Q),0))","v":""},{"$f":"IF(Propostas!$C79=\"\",\"\",VLOOKUP($A72,Pontuação!$A$5:$V$203,COLUMN(R:R),0))","v":""},{"$f":"IF(Propostas!$C79=\"\",\"\",VLOOKUP($A72,Pontuação!$A$5:$V$203,COLUMN(S:S),0))","v":""},{"$f":"IF(Propostas!$C79=\"\",\"\",VLOOKUP($A72,Pontuação!$A$5:$V$203,COLUMN(T:T),0))","v":""},{"$f":"IF(Propostas!$C79=\"\",\"\",VLOOKUP($A72,Pontuação!$A$5:$V$203,COLUMN(U:U),0))","v":""},{"$f":"IF(Propostas!$B79=\"\",\"\",SUM(C72:U72))","v":""},{"$f":"IF(Propostas!$C79=\"\",\"\",RANK(V72,$V$5:$V$203,0))","v":""},{"$f":"IF(Propostas!$C79=\"\",\"\",VLOOKUP(B72,Propostas[],3,0))","v":""},{"$f":"IF(Propostas!$C79=\"\",\"\",Y71-X72)","v":""},{"$f":"IF(Propostas!$C79=\"\",\"\",IF(Y72>0,\"S\",\"N\"))","v":""}]
[{"$f":"IF(Propostas!$C80=\"\",\"\",ROW(69:69))","v":""},{"$f":"IF(Propostas!$C80=\"\",\"\",VLOOKUP($A73,Pontuação!$A$5:$V$203,COLUMN(B:B),0))","v":""},{"$f":"IF(Propostas!$C80=\"\",\"\",VLOOKUP($A73,Pontuação!$A$5:$V$203,COLUMN(C:C),0))","v":""},{"$f":"IF(Propostas!$C80=\"\",\"\",VLOOKUP($A73,Pontuação!$A$5:$V$203,COLUMN(D:D),0))","v":""},{"$f":"IF(Propostas!$C80=\"\",\"\",VLOOKUP($A73,Pontuação!$A$5:$V$203,COLUMN(E:E),0))","v":""},{"$f":"IF(Propostas!$C80=\"\",\"\",VLOOKUP($A73,Pontuação!$A$5:$V$203,COLUMN(F:F),0))","v":""},{"$f":"IF(Propostas!$C80=\"\",\"\",VLOOKUP($A73,Pontuação!$A$5:$V$203,COLUMN(G:G),0))","v":""},{"$f":"IF(Propostas!$C80=\"\",\"\",VLOOKUP($A73,Pontuação!$A$5:$V$203,COLUMN(H:H),0))","v":""},{"$f":"IF(Propostas!$C80=\"\",\"\",VLOOKUP($A73,Pontuação!$A$5:$V$203,COLUMN(I:I),0))","v":""},{"$f":"IF(Propostas!$C80=\"\",\"\",VLOOKUP($A73,Pontuação!$A$5:$V$203,COLUMN(J:J),0))","v":""},{"$f":"IF(Propostas!$C80=\"\",\"\",VLOOKUP($A73,Pontuação!$A$5:$V$203,COLUMN(K:K),0))","v":""},{"$f":"IF(Propostas!$C80=\"\",\"\",VLOOKUP($A73,Pontuação!$A$5:$V$203,COLUMN(L:L),0))","v":""},{"$f":"IF(Propostas!$C80=\"\",\"\",VLOOKUP($A73,Pontuação!$A$5:$V$203,COLUMN(M:M),0))","v":""},{"$f":"IF(Propostas!$C80=\"\",\"\",VLOOKUP($A73,Pontuação!$A$5:$V$203,COLUMN(N:N),0))","v":""},{"$f":"IF(Propostas!$C80=\"\",\"\",VLOOKUP($A73,Pontuação!$A$5:$V$203,COLUMN(O:O),0))","v":""},{"$f":"IF(Propostas!$C80=\"\",\"\",VLOOKUP($A73,Pontuação!$A$5:$V$203,COLUMN(P:P),0))","v":""},{"$f":"IF(Propostas!$C80=\"\",\"\",VLOOKUP($A73,Pontuação!$A$5:$V$203,COLUMN(Q:Q),0))","v":""},{"$f":"IF(Propostas!$C80=\"\",\"\",VLOOKUP($A73,Pontuação!$A$5:$V$203,COLUMN(R:R),0))","v":""},{"$f":"IF(Propostas!$C80=\"\",\"\",VLOOKUP($A73,Pontuação!$A$5:$V$203,COLUMN(S:S),0))","v":""},{"$f":"IF(Propostas!$C80=\"\",\"\",VLOOKUP($A73,Pontuação!$A$5:$V$203,COLUMN(T:T),0))","v":""},{"$f":"IF(Propostas!$C80=\"\",\"\",VLOOKUP($A73,Pontuação!$A$5:$V$203,COLUMN(U:U),0))","v":""},{"$f":"IF(Propostas!$B80=\"\",\"\",SUM(C73:U73))","v":""},{"$f":"IF(Propostas!$C80=\"\",\"\",RANK(V73,$V$5:$V$203,0))","v":""},{"$f":"IF(Propostas!$C80=\"\",\"\",VLOOKUP(B73,Propostas[],3,0))","v":""},{"$f":"IF(Propostas!$C80=\"\",\"\",Y72-X73)","v":""},{"$f":"IF(Propostas!$C80=\"\",\"\",IF(Y73>0,\"S\",\"N\"))","v":""}]
[{"$f":"IF(Propostas!$C81=\"\",\"\",ROW(70:70))","v":""},{"$f":"IF(Propostas!$C81=\"\",\"\",VLOOKUP($A74,Pontuação!$A$5:$V$203,COLUMN(B:B),0))","v":""},{"$f":"IF(Propostas!$C81=\"\",\"\",VLOOKUP($A74,Pontuação!$A$5:$V$203,COLUMN(C:C),0))","v":""},{"$f":"IF(Propostas!$C81=\"\",\"\",VLOOKUP($A74,Pontuação!$A$5:$V$203,COLUMN(D:D),0))","v":""},{"$f":"IF(Propostas!$C81=\"\",\"\",VLOOKUP($A74,Pontuação!$A$5:$V$203,COLUMN(E:E),0))","v":""},{"$f":"IF(Propostas!$C81=\"\",\"\",VLOOKUP($A74,Pontuação!$A$5:$V$203,COLUMN(F:F),0))","v":""},{"$f":"IF(Propostas!$C81=\"\",\"\",VLOOKUP($A74,Pontuação!$A$5:$V$203,COLUMN(G:G),0))","v":""},{"$f":"IF(Propostas!$C81=\"\",\"\",VLOOKUP($A74,Pontuação!$A$5:$V$203,COLUMN(H:H),0))","v":""},{"$f":"IF(Propostas!$C81=\"\",\"\",VLOOKUP($A74,Pontuação!$A$5:$V$203,COLUMN(I:I),0))","v":""},{"$f":"IF(Propostas!$C81=\"\",\"\",VLOOKUP($A74,Pontuação!$A$5:$V$203,COLUMN(J:J),0))","v":""},{"$f":"IF(Propostas!$C81=\"\",\"\",VLOOKUP($A74,Pontuação!$A$5:$V$203,COLUMN(K:K),0))","v":""},{"$f":"IF(Propostas!$C81=\"\",\"\",VLOOKUP($A74,Pontuação!$A$5:$V$203,COLUMN(L:L),0))","v":""},{"$f":"IF(Propostas!$C81=\"\",\"\",VLOOKUP($A74,Pontuação!$A$5:$V$203,COLUMN(M:M),0))","v":""},{"$f":"IF(Propostas!$C81=\"\",\"\",VLOOKUP($A74,Pontuação!$A$5:$V$203,COLUMN(N:N),0))","v":""},{"$f":"IF(Propostas!$C81=\"\",\"\",VLOOKUP($A74,Pontuação!$A$5:$V$203,COLUMN(O:O),0))","v":""},{"$f":"IF(Propostas!$C81=\"\",\"\",VLOOKUP($A74,Pontuação!$A$5:$V$203,COLUMN(P:P),0))","v":""},{"$f":"IF(Propostas!$C81=\"\",\"\",VLOOKUP($A74,Pontuação!$A$5:$V$203,COLUMN(Q:Q),0))","v":""},{"$f":"IF(Propostas!$C81=\"\",\"\",VLOOKUP($A74,Pontuação!$A$5:$V$203,COLUMN(R:R),0))","v":""},{"$f":"IF(Propostas!$C81=\"\",\"\",VLOOKUP($A74,Pontuação!$A$5:$V$203,COLUMN(S:S),0))","v":""},{"$f":"IF(Propostas!$C81=\"\",\"\",VLOOKUP($A74,Pontuação!$A$5:$V$203,COLUMN(T:T),0))","v":""},{"$f":"IF(Propostas!$C81=\"\",\"\",VLOOKUP($A74,Pontuação!$A$5:$V$203,COLUMN(U:U),0))","v":""},{"$f":"IF(Propostas!$B81=\"\",\"\",SUM(C74:U74))","v":""},{"$f":"IF(Propostas!$C81=\"\",\"\",RANK(V74,$V$5:$V$203,0))","v":""},{"$f":"IF(Propostas!$C81=\"\",\"\",VLOOKUP(B74,Propostas[],3,0))","v":""},{"$f":"IF(Propostas!$C81=\"\",\"\",Y73-X74)","v":""},{"$f":"IF(Propostas!$C81=\"\",\"\",IF(Y74>0,\"S\",\"N\"))","v":""}]
[{"$f":"IF(Propostas!$C82=\"\",\"\",ROW(71:71))","v":""},{"$f":"IF(Propostas!$C82=\"\",\"\",VLOOKUP($A75,Pontuação!$A$5:$V$203,COLUMN(B:B),0))","v":""},{"$f":"IF(Propostas!$C82=\"\",\"\",VLOOKUP($A75,Pontuação!$A$5:$V$203,COLUMN(C:C),0))","v":""},{"$f":"IF(Propostas!$C82=\"\",\"\",VLOOKUP($A75,Pontuação!$A$5:$V$203,COLUMN(D:D),0))","v":""},{"$f":"IF(Propostas!$C82=\"\",\"\",VLOOKUP($A75,Pontuação!$A$5:$V$203,COLUMN(E:E),0))","v":""},{"$f":"IF(Propostas!$C82=\"\",\"\",VLOOKUP($A75,Pontuação!$A$5:$V$203,COLUMN(F:F),0))","v":""},{"$f":"IF(Propostas!$C82=\"\",\"\",VLOOKUP($A75,Pontuação!$A$5:$V$203,COLUMN(G:G),0))","v":""},{"$f":"IF(Propostas!$C82=\"\",\"\",VLOOKUP($A75,Pontuação!$A$5:$V$203,COLUMN(H:H),0))","v":""},{"$f":"IF(Propostas!$C82=\"\",\"\",VLOOKUP($A75,Pontuação!$A$5:$V$203,COLUMN(I:I),0))","v":""},{"$f":"IF(Propostas!$C82=\"\",\"\",VLOOKUP($A75,Pontuação!$A$5:$V$203,COLUMN(J:J),0))","v":""},{"$f":"IF(Propostas!$C82=\"\",\"\",VLOOKUP($A75,Pontuação!$A$5:$V$203,COLUMN(K:K),0))","v":""},{"$f":"IF(Propostas!$C82=\"\",\"\",VLOOKUP($A75,Pontuação!$A$5:$V$203,COLUMN(L:L),0))","v":""},{"$f":"IF(Propostas!$C82=\"\",\"\",VLOOKUP($A75,Pontuação!$A$5:$V$203,COLUMN(M:M),0))","v":""},{"$f":"IF(Propostas!$C82=\"\",\"\",VLOOKUP($A75,Pontuação!$A$5:$V$203,COLUMN(N:N),0))","v":""},{"$f":"IF(Propostas!$C82=\"\",\"\",VLOOKUP($A75,Pontuação!$A$5:$V$203,COLUMN(O:O),0))","v":""},{"$f":"IF(Propostas!$C82=\"\",\"\",VLOOKUP($A75,Pontuação!$A$5:$V$203,COLUMN(P:P),0))","v":""},{"$f":"IF(Propostas!$C82=\"\",\"\",VLOOKUP($A75,Pontuação!$A$5:$V$203,COLUMN(Q:Q),0))","v":""},{"$f":"IF(Propostas!$C82=\"\",\"\",VLOOKUP($A75,Pontuação!$A$5:$V$203,COLUMN(R:R),0))","v":""},{"$f":"IF(Propostas!$C82=\"\",\"\",VLOOKUP($A75,Pontuação!$A$5:$V$203,COLUMN(S:S),0))","v":""},{"$f":"IF(Propostas!$C82=\"\",\"\",VLOOKUP($A75,Pontuação!$A$5:$V$203,COLUMN(T:T),0))","v":""},{"$f":"IF(Propostas!$C82=\"\",\"\",VLOOKUP($A75,Pontuação!$A$5:$V$203,COLUMN(U:U),0))","v":""},{"$f":"IF(Propostas!$B82=\"\",\"\",SUM(C75:U75))","v":""},{"$f":"IF(Propostas!$C82=\"\",\"\",RANK(V75,$V$5:$V$203,0))","v":""},{"$f":"IF(Propostas!$C82=\"\",\"\",VLOOKUP(B75,Propostas[],3,0))","v":""},{"$f":"IF(Propostas!$C82=\"\",\"\",Y74-X75)","v":""},{"$f":"IF(Propostas!$C82=\"\",\"\",IF(Y75>0,\"S\",\"N\"))","v":""}]
[{"$f":"IF(Propostas!$C83=\"\",\"\",ROW(72:72))","v":""},{"$f":"IF(Propostas!$C83=\"\",\"\",VLOOKUP($A76,Pontuação!$A$5:$V$203,COLUMN(B:B),0))","v":""},{"$f":"IF(Propostas!$C83=\"\",\"\",VLOOKUP($A76,Pontuação!$A$5:$V$203,COLUMN(C:C),0))","v":""},{"$f":"IF(Propostas!$C83=\"\",\"\",VLOOKUP($A76,Pontuação!$A$5:$V$203,COLUMN(D:D),0))","v":""},{"$f":"IF(Propostas!$C83=\"\",\"\",VLOOKUP($A76,Pontuação!$A$5:$V$203,COLUMN(E:E),0))","v":""},{"$f":"IF(Propostas!$C83=\"\",\"\",VLOOKUP($A76,Pontuação!$A$5:$V$203,COLUMN(F:F),0))","v":""},{"$f":"IF(Propostas!$C83=\"\",\"\",VLOOKUP($A76,Pontuação!$A$5:$V$203,COLUMN(G:G),0))","v":""},{"$f":"IF(Propostas!$C83=\"\",\"\",VLOOKUP($A76,Pontuação!$A$5:$V$203,COLUMN(H:H),0))","v":""},{"$f":"IF(Propostas!$C83=\"\",\"\",VLOOKUP($A76,Pontuação!$A$5:$V$203,COLUMN(I:I),0))","v":""},{"$f":"IF(Propostas!$C83=\"\",\"\",VLOOKUP($A76,Pontuação!$A$5:$V$203,COLUMN(J:J),0))","v":""},{"$f":"IF(Propostas!$C83=\"\",\"\",VLOOKUP($A76,Pontuação!$A$5:$V$203,COLUMN(K:K),0))","v":""},{"$f":"IF(Propostas!$C83=\"\",\"\",VLOOKUP($A76,Pontuação!$A$5:$V$203,COLUMN(L:L),0))","v":""},{"$f":"IF(Propostas!$C83=\"\",\"\",VLOOKUP($A76,Pontuação!$A$5:$V$203,COLUMN(M:M),0))","v":""},{"$f":"IF(Propostas!$C83=\"\",\"\",VLOOKUP($A76,Pontuação!$A$5:$V$203,COLUMN(N:N),0))","v":""},{"$f":"IF(Propostas!$C83=\"\",\"\",VLOOKUP($A76,Pontuação!$A$5:$V$203,COLUMN(O:O),0))","v":""},{"$f":"IF(Propostas!$C83=\"\",\"\",VLOOKUP($A76,Pontuação!$A$5:$V$203,COLUMN(P:P),0))","v":""},{"$f":"IF(Propostas!$C83=\"\",\"\",VLOOKUP($A76,Pontuação!$A$5:$V$203,COLUMN(Q:Q),0))","v":""},{"$f":"IF(Propostas!$C83=\"\",\"\",VLOOKUP($A76,Pontuação!$A$5:$V$203,COLUMN(R:R),0))","v":""},{"$f":"IF(Propostas!$C83=\"\",\"\",VLOOKUP($A76,Pontuação!$A$5:$V$203,COLUMN(S:S),0))","v":""},{"$f":"IF(Propostas!$C83=\"\",\"\",VLOOKUP($A76,Pontuação!$A$5:$V$203,COLUMN(T:T),0))","v":""},{"$f":"IF(Propostas!$C83=\"\",\"\",VLOOKUP($A76,Pontuação!$A$5:$V$203,COLUMN(U:U),0))","v":""},{"$f":"IF(Propostas!$B83=\"\",\"\",SUM(C76:U76))","v":""},{"$f":"IF(Propostas!$C83=\"\",\"\",RANK(V76,$V$5:$V$203,0))","v":""},{"$f":"IF(Propostas!$C83=\"\",\"\",VLOOKUP(B76,Propostas[],3,0))","v":""},{"$f":"IF(Propostas!$C83=\"\",\"\",Y75-X76)","v":""},{"$f":"IF(Propostas!$C83=\"\",\"\",IF(Y76>0,\"S\",\"N\"))","v":""}]
[{"$f":"IF(Propostas!$C84=\"\",\"\",ROW(73:73))","v":""},{"$f":"IF(Propostas!$C84=\"\",\"\",VLOOKUP($A77,Pontuação!$A$5:$V$203,COLUMN(B:B),0))","v":""},{"$f":"IF(Propostas!$C84=\"\",\"\",VLOOKUP($A77,Pontuação!$A$5:$V$203,COLUMN(C:C),0))","v":""},{"$f":"IF(Propostas!$C84=\"\",\"\",VLOOKUP($A77,Pontuação!$A$5:$V$203,COLUMN(D:D),0))","v":""},{"$f":"IF(Propostas!$C84=\"\",\"\",VLOOKUP($A77,Pontuação!$A$5:$V$203,COLUMN(E:E),0))","v":""},{"$f":"IF(Propostas!$C84=\"\",\"\",VLOOKUP($A77,Pontuação!$A$5:$V$203,COLUMN(F:F),0))","v":""},{"$f":"IF(Propostas!$C84=\"\",\"\",VLOOKUP($A77,Pontuação!$A$5:$V$203,COLUMN(G:G),0))","v":""},{"$f":"IF(Propostas!$C84=\"\",\"\",VLOOKUP($A77,Pontuação!$A$5:$V$203,COLUMN(H:H),0))","v":""},{"$f":"IF(Propostas!$C84=\"\",\"\",VLOOKUP($A77,Pontuação!$A$5:$V$203,COLUMN(I:I),0))","v":""},{"$f":"IF(Propostas!$C84=\"\",\"\",VLOOKUP($A77,Pontuação!$A$5:$V$203,COLUMN(J:J),0))","v":""},{"$f":"IF(Propostas!$C84=\"\",\"\",VLOOKUP($A77,Pontuação!$A$5:$V$203,COLUMN(K:K),0))","v":""},{"$f":"IF(Propostas!$C84=\"\",\"\",VLOOKUP($A77,Pontuação!$A$5:$V$203,COLUMN(L:L),0))","v":""},{"$f":"IF(Propostas!$C84=\"\",\"\",VLOOKUP($A77,Pontuação!$A$5:$V$203,COLUMN(M:M),0))","v":""},{"$f":"IF(Propostas!$C84=\"\",\"\",VLOOKUP($A77,Pontuação!$A$5:$V$203,COLUMN(N:N),0))","v":""},{"$f":"IF(Propostas!$C84=\"\",\"\",VLOOKUP($A77,Pontuação!$A$5:$V$203,COLUMN(O:O),0))","v":""},{"$f":"IF(Propostas!$C84=\"\",\"\",VLOOKUP($A77,Pontuação!$A$5:$V$203,COLUMN(P:P),0))","v":""},{"$f":"IF(Propostas!$C84=\"\",\"\",VLOOKUP($A77,Pontuação!$A$5:$V$203,COLUMN(Q:Q),0))","v":""},{"$f":"IF(Propostas!$C84=\"\",\"\",VLOOKUP($A77,Pontuação!$A$5:$V$203,COLUMN(R:R),0))","v":""},{"$f":"IF(Propostas!$C84=\"\",\"\",VLOOKUP($A77,Pontuação!$A$5:$V$203,COLUMN(S:S),0))","v":""},{"$f":"IF(Propostas!$C84=\"\",\"\",VLOOKUP($A77,Pontuação!$A$5:$V$203,COLUMN(T:T),0))","v":""},{"$f":"IF(Propostas!$C84=\"\",\"\",VLOOKUP($A77,Pontuação!$A$5:$V$203,COLUMN(U:U),0))","v":""},{"$f":"IF(Propostas!$B84=\"\",\"\",SUM(C77:U77))","v":""},{"$f":"IF(Propostas!$C84=\"\",\"\",RANK(V77,$V$5:$V$203,0))","v":""},{"$f":"IF(Propostas!$C84=\"\",\"\",VLOOKUP(B77,Propostas[],3,0))","v":""},{"$f":"IF(Propostas!$C84=\"\",\"\",Y76-X77)","v":""},{"$f":"IF(Propostas!$C84=\"\",\"\",IF(Y77>0,\"S\",\"N\"))","v":""}]
[{"$f":"IF(Propostas!$C85=\"\",\"\",ROW(74:74))","v":""},{"$f":"IF(Propostas!$C85=\"\",\"\",VLOOKUP($A78,Pontuação!$A$5:$V$203,COLUMN(B:B),0))","v":""},{"$f":"IF(Propostas!$C85=\"\",\"\",VLOOKUP($A78,Pontuação!$A$5:$V$203,COLUMN(C:C),0))","v":""},{"$f":"IF(Propostas!$C85=\"\",\"\",VLOOKUP($A78,Pontuação!$A$5:$V$203,COLUMN(D:D),0))","v":""},{"$f":"IF(Propostas!$C85=\"\",\"\",VLOOKUP($A78,Pontuação!$A$5:$V$203,COLUMN(E:E),0))","v":""},{"$f":"IF(Propostas!$C85=\"\",\"\",VLOOKUP($A78,Pontuação!$A$5:$V$203,COLUMN(F:F),0))","v":""},{"$f":"IF(Propostas!$C85=\"\",\"\",VLOOKUP($A78,Pontuação!$A$5:$V$203,COLUMN(G:G),0))","v":""},{"$f":"IF(Propostas!$C85=\"\",\"\",VLOOKUP($A78,Pontuação!$A$5:$V$203,COLUMN(H:H),0))","v":""},{"$f":"IF(Propostas!$C85=\"\",\"\",VLOOKUP($A78,Pontuação!$A$5:$V$203,COLUMN(I:I),0))","v":""},{"$f":"IF(Propostas!$C85=\"\",\"\",VLOOKUP($A78,Pontuação!$A$5:$V$203,COLUMN(J:J),0))","v":""},{"$f":"IF(Propostas!$C85=\"\",\"\",VLOOKUP($A78,Pontuação!$A$5:$V$203,COLUMN(K:K),0))","v":""},{"$f":"IF(Propostas!$C85=\"\",\"\",VLOOKUP($A78,Pontuação!$A$5:$V$203,COLUMN(L:L),0))","v":""},{"$f":"IF(Propostas!$C85=\"\",\"\",VLOOKUP($A78,Pontuação!$A$5:$V$203,COLUMN(M:M),0))","v":""},{"$f":"IF(Propostas!$C85=\"\",\"\",VLOOKUP($A78,Pontuação!$A$5:$V$203,COLUMN(N:N),0))","v":""},{"$f":"IF(Propostas!$C85=\"\",\"\",VLOOKUP($A78,Pontuação!$A$5:$V$203,COLUMN(O:O),0))","v":""},{"$f":"IF(Propostas!$C85=\"\",\"\",VLOOKUP($A78,Pontuação!$A$5:$V$203,COLUMN(P:P),0))","v":""},{"$f":"IF(Propostas!$C85=\"\",\"\",VLOOKUP($A78,Pontuação!$A$5:$V$203,COLUMN(Q:Q),0))","v":""},{"$f":"IF(Propostas!$C85=\"\",\"\",VLOOKUP($A78,Pontuação!$A$5:$V$203,COLUMN(R:R),0))","v":""},{"$f":"IF(Propostas!$C85=\"\",\"\",VLOOKUP($A78,Pontuação!$A$5:$V$203,COLUMN(S:S),0))","v":""},{"$f":"IF(Propostas!$C85=\"\",\"\",VLOOKUP($A78,Pontuação!$A$5:$V$203,COLUMN(T:T),0))","v":""},{"$f":"IF(Propostas!$C85=\"\",\"\",VLOOKUP($A78,Pontuação!$A$5:$V$203,COLUMN(U:U),0))","v":""},{"$f":"IF(Propostas!$B85=\"\",\"\",SUM(C78:U78))","v":""},{"$f":"IF(Propostas!$C85=\"\",\"\",RANK(V78,$V$5:$V$203,0))","v":""},{"$f":"IF(Propostas!$C85=\"\",\"\",VLOOKUP(B78,Propostas[],3,0))","v":""},{"$f":"IF(Propostas!$C85=\"\",\"\",Y77-X78)","v":""},{"$f":"IF(Propostas!$C85=\"\",\"\",IF(Y78>0,\"S\",\"N\"))","v":""}]
[{"$f":"IF(Propostas!$C86=\"\",\"\",ROW(75:75))","v":""},{"$f":"IF(Propostas!$C86=\"\",\"\",VLOOKUP($A79,Pontuação!$A$5:$V$203,COLUMN(B:B),0))","v":""},{"$f":"IF(Propostas!$C86=\"\",\"\",VLOOKUP($A79,Pontuação!$A$5:$V$203,COLUMN(C:C),0))","v":""},{"$f":"IF(Propostas!$C86=\"\",\"\",VLOOKUP($A79,Pontuação!$A$5:$V$203,COLUMN(D:D),0))","v":""},{"$f":"IF(Propostas!$C86=\"\",\"\",VLOOKUP($A79,Pontuação!$A$5:$V$203,COLUMN(E:E),0))","v":""},{"$f":"IF(Propostas!$C86=\"\",\"\",VLOOKUP($A79,Pontuação!$A$5:$V$203,COLUMN(F:F),0))","v":""},{"$f":"IF(Propostas!$C86=\"\",\"\",VLOOKUP($A79,Pontuação!$A$5:$V$203,COLUMN(G:G),0))","v":""},{"$f":"IF(Propostas!$C86=\"\",\"\",VLOOKUP($A79,Pontuação!$A$5:$V$203,COLUMN(H:H),0))","v":""},{"$f":"IF(Propostas!$C86=\"\",\"\",VLOOKUP($A79,Pontuação!$A$5:$V$203,COLUMN(I:I),0))","v":""},{"$f":"IF(Propostas!$C86=\"\",\"\",VLOOKUP($A79,Pontuação!$A$5:$V$203,COLUMN(J:J),0))","v":""},{"$f":"IF(Propostas!$C86=\"\",\"\",VLOOKUP($A79,Pontuação!$A$5:$V$203,COLUMN(K:K),0))","v":""},{"$f":"IF(Propostas!$C86=\"\",\"\",VLOOKUP($A79,Pontuação!$A$5:$V$203,COLUMN(L:L),0))","v":""},{"$f":"IF(Propostas!$C86=\"\",\"\",VLOOKUP($A79,Pontuação!$A$5:$V$203,COLUMN(M:M),0))","v":""},{"$f":"IF(Propostas!$C86=\"\",\"\",VLOOKUP($A79,Pontuação!$A$5:$V$203,COLUMN(N:N),0))","v":""},{"$f":"IF(Propostas!$C86=\"\",\"\",VLOOKUP($A79,Pontuação!$A$5:$V$203,COLUMN(O:O),0))","v":""},{"$f":"IF(Propostas!$C86=\"\",\"\",VLOOKUP($A79,Pontuação!$A$5:$V$203,COLUMN(P:P),0))","v":""},{"$f":"IF(Propostas!$C86=\"\",\"\",VLOOKUP($A79,Pontuação!$A$5:$V$203,COLUMN(Q:Q),0))","v":""},{"$f":"IF(Propostas!$C86=\"\",\"\",VLOOKUP($A79,Pontuação!$A$5:$V$203,COLUMN(R:R),0))","v":""},{"$f":"IF(Propostas!$C86=\"\",\"\",VLOOKUP($A79,Pontuação!$A$5:$V$203,COLUMN(S:S),0))","v":""},{"$f":"IF(Propostas!$C86=\"\",\"\",VLOOKUP($A79,Pontuação!$A$5:$V$203,COLUMN(T:T),0))","v":""},{"$f":"IF(Propostas!$C86=\"\",\"\",VLOOKUP($A79,Pontuação!$A$5:$V$203,COLUMN(U:U),0))","v":""},{"$f":"IF(Propostas!$B86=\"\",\"\",SUM(C79:U79))","v":""},{"$f":"IF(Propostas!$C86=\"\",\"\",RANK(V79,$V$5:$V$203,0))","v":""},{"$f":"IF(Propostas!$C86=\"\",\"\",VLOOKUP(B79,Propostas[],3,0))","v":""},{"$f":"IF(Propostas!$C86=\"\",\"\",Y78-X79)","v":""},{"$f":"IF(Propostas!$C86=\"\",\"\",IF(Y79>0,\"S\",\"N\"))","v":""}]
[{"$f":"IF(Propostas!$C87=\"\",\"\",ROW(76:76))","v":""},{"$f":"IF(Propostas!$C87=\"\",\"\",VLOOKUP($A80,Pontuação!$A$5:$V$203,COLUMN(B:B),0))","v":""},{"$f":"IF(Propostas!$C87=\"\",\"\",VLOOKUP($A80,Pontuação!$A$5:$V$203,COLUMN(C:C),0))","v":""},{"$f":"IF(Propostas!$C87=\"\",\"\",VLOOKUP($A80,Pontuação!$A$5:$V$203,COLUMN(D:D),0))","v":""},{"$f":"IF(Propostas!$C87=\"\",\"\",VLOOKUP($A80,Pontuação!$A$5:$V$203,COLUMN(E:E),0))","v":""},{"$f":"IF(Propostas!$C87=\"\",\"\",VLOOKUP($A80,Pontuação!$A$5:$V$203,COLUMN(F:F),0))","v":""},{"$f":"IF(Propostas!$C87=\"\",\"\",VLOOKUP($A80,Pontuação!$A$5:$V$203,COLUMN(G:G),0))","v":""},{"$f":"IF(Propostas!$C87=\"\",\"\",VLOOKUP($A80,Pontuação!$A$5:$V$203,COLUMN(H:H),0))","v":""},{"$f":"IF(Propostas!$C87=\"\",\"\",VLOOKUP($A80,Pontuação!$A$5:$V$203,COLUMN(I:I),0))","v":""},{"$f":"IF(Propostas!$C87=\"\",\"\",VLOOKUP($A80,Pontuação!$A$5:$V$203,COLUMN(J:J),0))","v":""},{"$f":"IF(Propostas!$C87=\"\",\"\",VLOOKUP($A80,Pontuação!$A$5:$V$203,COLUMN(K:K),0))","v":""},{"$f":"IF(Propostas!$C87=\"\",\"\",VLOOKUP($A80,Pontuação!$A$5:$V$203,COLUMN(L:L),0))","v":""},{"$f":"IF(Propostas!$C87=\"\",\"\",VLOOKUP($A80,Pontuação!$A$5:$V$203,COLUMN(M:M),0))","v":""},{"$f":"IF(Propostas!$C87=\"\",\"\",VLOOKUP($A80,Pontuação!$A$5:$V$203,COLUMN(N:N),0))","v":""},{"$f":"IF(Propostas!$C87=\"\",\"\",VLOOKUP($A80,Pontuação!$A$5:$V$203,COLUMN(O:O),0))","v":""},{"$f":"IF(Propostas!$C87=\"\",\"\",VLOOKUP($A80,Pontuação!$A$5:$V$203,COLUMN(P:P),0))","v":""},{"$f":"IF(Propostas!$C87=\"\",\"\",VLOOKUP($A80,Pontuação!$A$5:$V$203,COLUMN(Q:Q),0))","v":""},{"$f":"IF(Propostas!$C87=\"\",\"\",VLOOKUP($A80,Pontuação!$A$5:$V$203,COLUMN(R:R),0))","v":""},{"$f":"IF(Propostas!$C87=\"\",\"\",VLOOKUP($A80,Pontuação!$A$5:$V$203,COLUMN(S:S),0))","v":""},{"$f":"IF(Propostas!$C87=\"\",\"\",VLOOKUP($A80,Pontuação!$A$5:$V$203,COLUMN(T:T),0))","v":""},{"$f":"IF(Propostas!$C87=\"\",\"\",VLOOKUP($A80,Pontuação!$A$5:$V$203,COLUMN(U:U),0))","v":""},{"$f":"IF(Propostas!$B87=\"\",\"\",SUM(C80:U80))","v":""},{"$f":"IF(Propostas!$C87=\"\",\"\",RANK(V80,$V$5:$V$203,0))","v":""},{"$f":"IF(Propostas!$C87=\"\",\"\",VLOOKUP(B80,Propostas[],3,0))","v":""},{"$f":"IF(Propostas!$C87=\"\",\"\",Y79-X80)","v":""},{"$f":"IF(Propostas!$C87=\"\",\"\",IF(Y80>0,\"S\",\"N\"))","v":""}]
[{"$f":"IF(Propostas!$C88=\"\",\"\",ROW(77:77))","v":""},{"$f":"IF(Propostas!$C88=\"\",\"\",VLOOKUP($A81,Pontuação!$A$5:$V$203,COLUMN(B:B),0))","v":""},{"$f":"IF(Propostas!$C88=\"\",\"\",VLOOKUP($A81,Pontuação!$A$5:$V$203,COLUMN(C:C),0))","v":""},{"$f":"IF(Propostas!$C88=\"\",\"\",VLOOKUP($A81,Pontuação!$A$5:$V$203,COLUMN(D:D),0))","v":""},{"$f":"IF(Propostas!$C88=\"\",\"\",VLOOKUP($A81,Pontuação!$A$5:$V$203,COLUMN(E:E),0))","v":""},{"$f":"IF(Propostas!$C88=\"\",\"\",VLOOKUP($A81,Pontuação!$A$5:$V$203,COLUMN(F:F),0))","v":""},{"$f":"IF(Propostas!$C88=\"\",\"\",VLOOKUP($A81,Pontuação!$A$5:$V$203,COLUMN(G:G),0))","v":""},{"$f":"IF(Propostas!$C88=\"\",\"\",VLOOKUP($A81,Pontuação!$A$5:$V$203,COLUMN(H:H),0))","v":""},{"$f":"IF(Propostas!$C88=\"\",\"\",VLOOKUP($A81,Pontuação!$A$5:$V$203,COLUMN(I:I),0))","v":""},{"$f":"IF(Propostas!$C88=\"\",\"\",VLOOKUP($A81,Pontuação!$A$5:$V$203,COLUMN(J:J),0))","v":""},{"$f":"IF(Propostas!$C88=\"\",\"\",VLOOKUP($A81,Pontuação!$A$5:$V$203,COLUMN(K:K),0))","v":""},{"$f":"IF(Propostas!$C88=\"\",\"\",VLOOKUP($A81,Pontuação!$A$5:$V$203,COLUMN(L:L),0))","v":""},{"$f":"IF(Propostas!$C88=\"\",\"\",VLOOKUP($A81,Pontuação!$A$5:$V$203,COLUMN(M:M),0))","v":""},{"$f":"IF(Propostas!$C88=\"\",\"\",VLOOKUP($A81,Pontuação!$A$5:$V$203,COLUMN(N:N),0))","v":""},{"$f":"IF(Propostas!$C88=\"\",\"\",VLOOKUP($A81,Pontuação!$A$5:$V$203,COLUMN(O:O),0))","v":""},{"$f":"IF(Propostas!$C88=\"\",\"\",VLOOKUP($A81,Pontuação!$A$5:$V$203,COLUMN(P:P),0))","v":""},{"$f":"IF(Propostas!$C88=\"\",\"\",VLOOKUP($A81,Pontuação!$A$5:$V$203,COLUMN(Q:Q),0))","v":""},{"$f":"IF(Propostas!$C88=\"\",\"\",VLOOKUP($A81,Pontuação!$A$5:$V$203,COLUMN(R:R),0))","v":""},{"$f":"IF(Propostas!$C88=\"\",\"\",VLOOKUP($A81,Pontuação!$A$5:$V$203,COLUMN(S:S),0))","v":""},{"$f":"IF(Propostas!$C88=\"\",\"\",VLOOKUP($A81,Pontuação!$A$5:$V$203,COLUMN(T:T),0))","v":""},{"$f":"IF(Propostas!$C88=\"\",\"\",VLOOKUP($A81,Pontuação!$A$5:$V$203,COLUMN(U:U),0))","v":""},{"$f":"IF(Propostas!$B88=\"\",\"\",SUM(C81:U81))","v":""},{"$f":"IF(Propostas!$C88=\"\",\"\",RANK(V81,$V$5:$V$203,0))","v":""},{"$f":"IF(Propostas!$C88=\"\",\"\",VLOOKUP(B81,Propostas[],3,0))","v":""},{"$f":"IF(Propostas!$C88=\"\",\"\",Y80-X81)","v":""},{"$f":"IF(Propostas!$C88=\"\",\"\",IF(Y81>0,\"S\",\"N\"))","v":""}]
[{"$f":"IF(Propostas!$C89=\"\",\"\",ROW(78:78))","v":""},{"$f":"IF(Propostas!$C89=\"\",\"\",VLOOKUP($A82,Pontuação!$A$5:$V$203,COLUMN(B:B),0))","v":""},{"$f":"IF(Propostas!$C89=\"\",\"\",VLOOKUP($A82,Pontuação!$A$5:$V$203,COLUMN(C:C),0))","v":""},{"$f":"IF(Propostas!$C89=\"\",\"\",VLOOKUP($A82,Pontuação!$A$5:$V$203,COLUMN(D:D),0))","v":""},{"$f":"IF(Propostas!$C89=\"\",\"\",VLOOKUP($A82,Pontuação!$A$5:$V$203,COLUMN(E:E),0))","v":""},{"$f":"IF(Propostas!$C89=\"\",\"\",VLOOKUP($A82,Pontuação!$A$5:$V$203,COLUMN(F:F),0))","v":""},{"$f":"IF(Propostas!$C89=\"\",\"\",VLOOKUP($A82,Pontuação!$A$5:$V$203,COLUMN(G:G),0))","v":""},{"$f":"IF(Propostas!$C89=\"\",\"\",VLOOKUP($A82,Pontuação!$A$5:$V$203,COLUMN(H:H),0))","v":""},{"$f":"IF(Propostas!$C89=\"\",\"\",VLOOKUP($A82,Pontuação!$A$5:$V$203,COLUMN(I:I),0))","v":""},{"$f":"IF(Propostas!$C89=\"\",\"\",VLOOKUP($A82,Pontuação!$A$5:$V$203,COLUMN(J:J),0))","v":""},{"$f":"IF(Propostas!$C89=\"\",\"\",VLOOKUP($A82,Pontuação!$A$5:$V$203,COLUMN(K:K),0))","v":""},{"$f":"IF(Propostas!$C89=\"\",\"\",VLOOKUP($A82,Pontuação!$A$5:$V$203,COLUMN(L:L),0))","v":""},{"$f":"IF(Propostas!$C89=\"\",\"\",VLOOKUP($A82,Pontuação!$A$5:$V$203,COLUMN(M:M),0))","v":""},{"$f":"IF(Propostas!$C89=\"\",\"\",VLOOKUP($A82,Pontuação!$A$5:$V$203,COLUMN(N:N),0))","v":""},{"$f":"IF(Propostas!$C89=\"\",\"\",VLOOKUP($A82,Pontuação!$A$5:$V$203,COLUMN(O:O),0))","v":""},{"$f":"IF(Propostas!$C89=\"\",\"\",VLOOKUP($A82,Pontuação!$A$5:$V$203,COLUMN(P:P),0))","v":""},{"$f":"IF(Propostas!$C89=\"\",\"\",VLOOKUP($A82,Pontuação!$A$5:$V$203,COLUMN(Q:Q),0))","v":""},{"$f":"IF(Propostas!$C89=\"\",\"\",VLOOKUP($A82,Pontuação!$A$5:$V$203,COLUMN(R:R),0))","v":""},{"$f":"IF(Propostas!$C89=\"\",\"\",VLOOKUP($A82,Pontuação!$A$5:$V$203,COLUMN(S:S),0))","v":""},{"$f":"IF(Propostas!$C89=\"\",\"\",VLOOKUP($A82,Pontuação!$A$5:$V$203,COLUMN(T:T),0))","v":""},{"$f":"IF(Propostas!$C89=\"\",\"\",VLOOKUP($A82,Pontuação!$A$5:$V$203,COLUMN(U:U),0))","v":""},{"$f":"IF(Propostas!$B89=\"\",\"\",SUM(C82:U82))","v":""},{"$f":"IF(Propostas!$C89=\"\",\"\",RANK(V82,$V$5:$V$203,0))","v":""},{"$f":"IF(Propostas!$C89=\"\",\"\",VLOOKUP(B82,Propostas[],3,0))","v":""},{"$f":"IF(Propostas!$C89=\"\",\"\",Y81-X82)","v":""},{"$f":"IF(Propostas!$C89=\"\",\"\",IF(Y82>0,\"S\",\"N\"))","v":""}]
[{"$f":"IF(Propostas!$C90=\"\",\"\",ROW(79:79))","v":""},{"$f":"IF(Propostas!$C90=\"\",\"\",VLOOKUP($A83,Pontuação!$A$5:$V$203,COLUMN(B:B),0))","v":""},{"$f":"IF(Propostas!$C90=\"\",\"\",VLOOKUP($A83,Pontuação!$A$5:$V$203,COLUMN(C:C),0))","v":""},{"$f":"IF(Propostas!$C90=\"\",\"\",VLOOKUP($A83,Pontuação!$A$5:$V$203,COLUMN(D:D),0))","v":""},{"$f":"IF(Propostas!$C90=\"\",\"\",VLOOKUP($A83,Pontuação!$A$5:$V$203,COLUMN(E:E),0))","v":""},{"$f":"IF(Propostas!$C90=\"\",\"\",VLOOKUP($A83,Pontuação!$A$5:$V$203,COLUMN(F:F),0))","v":""},{"$f":"IF(Propostas!$C90=\"\",\"\",VLOOKUP($A83,Pontuação!$A$5:$V$203,COLUMN(G:G),0))","v":""},{"$f":"IF(Propostas!$C90=\"\",\"\",VLOOKUP($A83,Pontuação!$A$5:$V$203,COLUMN(H:H),0))","v":""},{"$f":"IF(Propostas!$C90=\"\",\"\",VLOOKUP($A83,Pontuação!$A$5:$V$203,COLUMN(I:I),0))","v":""},{"$f":"IF(Propostas!$C90=\"\",\"\",VLOOKUP($A83,Pontuação!$A$5:$V$203,COLUMN(J:J),0))","v":""},{"$f":"IF(Propostas!$C90=\"\",\"\",VLOOKUP($A83,Pontuação!$A$5:$V$203,COLUMN(K:K),0))","v":""},{"$f":"IF(Propostas!$C90=\"\",\"\",VLOOKUP($A83,Pontuação!$A$5:$V$203,COLUMN(L:L),0))","v":""},{"$f":"IF(Propostas!$C90=\"\",\"\",VLOOKUP($A83,Pontuação!$A$5:$V$203,COLUMN(M:M),0))","v":""},{"$f":"IF(Propostas!$C90=\"\",\"\",VLOOKUP($A83,Pontuação!$A$5:$V$203,COLUMN(N:N),0))","v":""},{"$f":"IF(Propostas!$C90=\"\",\"\",VLOOKUP($A83,Pontuação!$A$5:$V$203,COLUMN(O:O),0))","v":""},{"$f":"IF(Propostas!$C90=\"\",\"\",VLOOKUP($A83,Pontuação!$A$5:$V$203,COLUMN(P:P),0))","v":""},{"$f":"IF(Propostas!$C90=\"\",\"\",VLOOKUP($A83,Pontuação!$A$5:$V$203,COLUMN(Q:Q),0))","v":""},{"$f":"IF(Propostas!$C90=\"\",\"\",VLOOKUP($A83,Pontuação!$A$5:$V$203,COLUMN(R:R),0))","v":""},{"$f":"IF(Propostas!$C90=\"\",\"\",VLOOKUP($A83,Pontuação!$A$5:$V$203,COLUMN(S:S),0))","v":""},{"$f":"IF(Propostas!$C90=\"\",\"\",VLOOKUP($A83,Pontuação!$A$5:$V$203,COLUMN(T:T),0))","v":""},{"$f":"IF(Propostas!$C90=\"\",\"\",VLOOKUP($A83,Pontuação!$A$5:$V$203,COLUMN(U:U),0))","v":""},{"$f":"IF(Propostas!$B90=\"\",\"\",SUM(C83:U83))","v":""},{"$f":"IF(Propostas!$C90=\"\",\"\",RANK(V83,$V$5:$V$203,0))","v":""},{"$f":"IF(Propostas!$C90=\"\",\"\",VLOOKUP(B83,Propostas[],3,0))","v":""},{"$f":"IF(Propostas!$C90=\"\",\"\",Y82-X83)","v":""},{"$f":"IF(Propostas!$C90=\"\",\"\",IF(Y83>0,\"S\",\"N\"))","v":""}]
[{"$f":"IF(Propostas!$C91=\"\",\"\",ROW(80:80))","v":""},{"$f":"IF(Propostas!$C91=\"\",\"\",VLOOKUP($A84,Pontuação!$A$5:$V$203,COLUMN(B:B),0))","v":""},{"$f":"IF(Propostas!$C91=\"\",\"\",VLOOKUP($A84,Pontuação!$A$5:$V$203,COLUMN(C:C),0))","v":""},{"$f":"IF(Propostas!$C91=\"\",\"\",VLOOKUP($A84,Pontuação!$A$5:$V$203,COLUMN(D:D),0))","v":""},{"$f":"IF(Propostas!$C91=\"\",\"\",VLOOKUP($A84,Pontuação!$A$5:$V$203,COLUMN(E:E),0))","v":""},{"$f":"IF(Propostas!$C91=\"\",\"\",VLOOKUP($A84,Pontuação!$A$5:$V$203,COLUMN(F:F),0))","v":""},{"$f":"IF(Propostas!$C91=\"\",\"\",VLOOKUP($A84,Pontuação!$A$5:$V$203,COLUMN(G:G),0))","v":""},{"$f":"IF(Propostas!$C91=\"\",\"\",VLOOKUP($A84,Pontuação!$A$5:$V$203,COLUMN(H:H),0))","v":""},{"$f":"IF(Propostas!$C91=\"\",\"\",VLOOKUP($A84,Pontuação!$A$5:$V$203,COLUMN(I:I),0))","v":""},{"$f":"IF(Propostas!$C91=\"\",\"\",VLOOKUP($A84,Pontuação!$A$5:$V$203,COLUMN(J:J),0))","v":""},{"$f":"IF(Propostas!$C91=\"\",\"\",VLOOKUP($A84,Pontuação!$A$5:$V$203,COLUMN(K:K),0))","v":""},{"$f":"IF(Propostas!$C91=\"\",\"\",VLOOKUP($A84,Pontuação!$A$5:$V$203,COLUMN(L:L),0))","v":""},{"$f":"IF(Propostas!$C91=\"\",\"\",VLOOKUP($A84,Pontuação!$A$5:$V$203,COLUMN(M:M),0))","v":""},{"$f":"IF(Propostas!$C91=\"\",\"\",VLOOKUP($A84,Pontuação!$A$5:$V$203,COLUMN(N:N),0))","v":""},{"$f":"IF(Propostas!$C91=\"\",\"\",VLOOKUP($A84,Pontuação!$A$5:$V$203,COLUMN(O:O),0))","v":""},{"$f":"IF(Propostas!$C91=\"\",\"\",VLOOKUP($A84,Pontuação!$A$5:$V$203,COLUMN(P:P),0))","v":""},{"$f":"IF(Propostas!$C91=\"\",\"\",VLOOKUP($A84,Pontuação!$A$5:$V$203,COLUMN(Q:Q),0))","v":""},{"$f":"IF(Propostas!$C91=\"\",\"\",VLOOKUP($A84,Pontuação!$A$5:$V$203,COLUMN(R:R),0))","v":""},{"$f":"IF(Propostas!$C91=\"\",\"\",VLOOKUP($A84,Pontuação!$A$5:$V$203,COLUMN(S:S),0))","v":""},{"$f":"IF(Propostas!$C91=\"\",\"\",VLOOKUP($A84,Pontuação!$A$5:$V$203,COLUMN(T:T),0))","v":""},{"$f":"IF(Propostas!$C91=\"\",\"\",VLOOKUP($A84,Pontuação!$A$5:$V$203,COLUMN(U:U),0))","v":""},{"$f":"IF(Propostas!$B91=\"\",\"\",SUM(C84:U84))","v":""},{"$f":"IF(Propostas!$C91=\"\",\"\",RANK(V84,$V$5:$V$203,0))","v":""},{"$f":"IF(Propostas!$C91=\"\",\"\",VLOOKUP(B84,Propostas[],3,0))","v":""},{"$f":"IF(Propostas!$C91=\"\",\"\",Y83-X84)","v":""},{"$f":"IF(Propostas!$C91=\"\",\"\",IF(Y84>0,\"S\",\"N\"))","v":""}]
[{"$f":"IF(Propostas!$C92=\"\",\"\",ROW(81:81))","v":""},{"$f":"IF(Propostas!$C92=\"\",\"\",VLOOKUP($A85,Pontuação!$A$5:$V$203,COLUMN(B:B),0))","v":""},{"$f":"IF(Propostas!$C92=\"\",\"\",VLOOKUP($A85,Pontuação!$A$5:$V$203,COLUMN(C:C),0))","v":""},{"$f":"IF(Propostas!$C92=\"\",\"\",VLOOKUP($A85,Pontuação!$A$5:$V$203,COLUMN(D:D),0))","v":""},{"$f":"IF(Propostas!$C92=\"\",\"\",VLOOKUP($A85,Pontuação!$A$5:$V$203,COLUMN(E:E),0))","v":""},{"$f":"IF(Propostas!$C92=\"\",\"\",VLOOKUP($A85,Pontuação!$A$5:$V$203,COLUMN(F:F),0))","v":""},{"$f":"IF(Propostas!$C92=\"\",\"\",VLOOKUP($A85,Pontuação!$A$5:$V$203,COLUMN(G:G),0))","v":""},{"$f":"IF(Propostas!$C92=\"\",\"\",VLOOKUP($A85,Pontuação!$A$5:$V$203,COLUMN(H:H),0))","v":""},{"$f":"IF(Propostas!$C92=\"\",\"\",VLOOKUP($A85,Pontuação!$A$5:$V$203,COLUMN(I:I),0))","v":""},{"$f":"IF(Propostas!$C92=\"\",\"\",VLOOKUP($A85,Pontuação!$A$5:$V$203,COLUMN(J:J),0))","v":""},{"$f":"IF(Propostas!$C92=\"\",\"\",VLOOKUP($A85,Pontuação!$A$5:$V$203,COLUMN(K:K),0))","v":""},{"$f":"IF(Propostas!$C92=\"\",\"\",VLOOKUP($A85,Pontuação!$A$5:$V$203,COLUMN(L:L),0))","v":""},{"$f":"IF(Propostas!$C92=\"\",\"\",VLOOKUP($A85,Pontuação!$A$5:$V$203,COLUMN(M:M),0))","v":""},{"$f":"IF(Propostas!$C92=\"\",\"\",VLOOKUP($A85,Pontuação!$A$5:$V$203,COLUMN(N:N),0))","v":""},{"$f":"IF(Propostas!$C92=\"\",\"\",VLOOKUP($A85,Pontuação!$A$5:$V$203,COLUMN(O:O),0))","v":""},{"$f":"IF(Propostas!$C92=\"\",\"\",VLOOKUP($A85,Pontuação!$A$5:$V$203,COLUMN(P:P),0))","v":""},{"$f":"IF(Propostas!$C92=\"\",\"\",VLOOKUP($A85,Pontuação!$A$5:$V$203,COLUMN(Q:Q),0))","v":""},{"$f":"IF(Propostas!$C92=\"\",\"\",VLOOKUP($A85,Pontuação!$A$5:$V$203,COLUMN(R:R),0))","v":""},{"$f":"IF(Propostas!$C92=\"\",\"\",VLOOKUP($A85,Pontuação!$A$5:$V$203,COLUMN(S:S),0))","v":""},{"$f":"IF(Propostas!$C92=\"\",\"\",VLOOKUP($A85,Pontuação!$A$5:$V$203,COLUMN(T:T),0))","v":""},{"$f":"IF(Propostas!$C92=\"\",\"\",VLOOKUP($A85,Pontuação!$A$5:$V$203,COLUMN(U:U),0))","v":""},{"$f":"IF(Propostas!$B92=\"\",\"\",SUM(C85:U85))","v":""},{"$f":"IF(Propostas!$C92=\"\",\"\",RANK(V85,$V$5:$V$203,0))","v":""},{"$f":"IF(Propostas!$C92=\"\",\"\",VLOOKUP(B85,Propostas[],3,0))","v":""},{"$f":"IF(Propostas!$C92=\"\",\"\",Y84-X85)","v":""},{"$f":"IF(Propostas!$C92=\"\",\"\",IF(Y85>0,\"S\",\"N\"))","v":""}]
[{"$f":"IF(Propostas!$C93=\"\",\"\",ROW(82:82))","v":""},{"$f":"IF(Propostas!$C93=\"\",\"\",VLOOKUP($A86,Pontuação!$A$5:$V$203,COLUMN(B:B),0))","v":""},{"$f":"IF(Propostas!$C93=\"\",\"\",VLOOKUP($A86,Pontuação!$A$5:$V$203,COLUMN(C:C),0))","v":""},{"$f":"IF(Propostas!$C93=\"\",\"\",VLOOKUP($A86,Pontuação!$A$5:$V$203,COLUMN(D:D),0))","v":""},{"$f":"IF(Propostas!$C93=\"\",\"\",VLOOKUP($A86,Pontuação!$A$5:$V$203,COLUMN(E:E),0))","v":""},{"$f":"IF(Propostas!$C93=\"\",\"\",VLOOKUP($A86,Pontuação!$A$5:$V$203,COLUMN(F:F),0))","v":""},{"$f":"IF(Propostas!$C93=\"\",\"\",VLOOKUP($A86,Pontuação!$A$5:$V$203,COLUMN(G:G),0))","v":""},{"$f":"IF(Propostas!$C93=\"\",\"\",VLOOKUP($A86,Pontuação!$A$5:$V$203,COLUMN(H:H),0))","v":""},{"$f":"IF(Propostas!$C93=\"\",\"\",VLOOKUP($A86,Pontuação!$A$5:$V$203,COLUMN(I:I),0))","v":""},{"$f":"IF(Propostas!$C93=\"\",\"\",VLOOKUP($A86,Pontuação!$A$5:$V$203,COLUMN(J:J),0))","v":""},{"$f":"IF(Propostas!$C93=\"\",\"\",VLOOKUP($A86,Pontuação!$A$5:$V$203,COLUMN(K:K),0))","v":""},{"$f":"IF(Propostas!$C93=\"\",\"\",VLOOKUP($A86,Pontuação!$A$5:$V$203,COLUMN(L:L),0))","v":""},{"$f":"IF(Propostas!$C93=\"\",\"\",VLOOKUP($A86,Pontuação!$A$5:$V$203,COLUMN(M:M),0))","v":""},{"$f":"IF(Propostas!$C93=\"\",\"\",VLOOKUP($A86,Pontuação!$A$5:$V$203,COLUMN(N:N),0))","v":""},{"$f":"IF(Propostas!$C93=\"\",\"\",VLOOKUP($A86,Pontuação!$A$5:$V$203,COLUMN(O:O),0))","v":""},{"$f":"IF(Propostas!$C93=\"\",\"\",VLOOKUP($A86,Pontuação!$A$5:$V$203,COLUMN(P:P),0))","v":""},{"$f":"IF(Propostas!$C93=\"\",\"\",VLOOKUP($A86,Pontuação!$A$5:$V$203,COLUMN(Q:Q),0))","v":""},{"$f":"IF(Propostas!$C93=\"\",\"\",VLOOKUP($A86,Pontuação!$A$5:$V$203,COLUMN(R:R),0))","v":""},{"$f":"IF(Propostas!$C93=\"\",\"\",VLOOKUP($A86,Pontuação!$A$5:$V$203,COLUMN(S:S),0))","v":""},{"$f":"IF(Propostas!$C93=\"\",\"\",VLOOKUP($A86,Pontuação!$A$5:$V$203,COLUMN(T:T),0))","v":""},{"$f":"IF(Propostas!$C93=\"\",\"\",VLOOKUP($A86,Pontuação!$A$5:$V$203,COLUMN(U:U),0))","v":""},{"$f":"IF(Propostas!$B93=\"\",\"\",SUM(C86:U86))","v":""},{"$f":"IF(Propostas!$C93=\"\",\"\",RANK(V86,$V$5:$V$203,0))","v":""},{"$f":"IF(Propostas!$C93=\"\",\"\",VLOOKUP(B86,Propostas[],3,0))","v":""},{"$f":"IF(Propostas!$C93=\"\",\"\",Y85-X86)","v":""},{"$f":"IF(Propostas!$C93=\"\",\"\",IF(Y86>0,\"S\",\"N\"))","v":""}]
[{"$f":"IF(Propostas!$C94=\"\",\"\",ROW(83:83))","v":""},{"$f":"IF(Propostas!$C94=\"\",\"\",VLOOKUP($A87,Pontuação!$A$5:$V$203,COLUMN(B:B),0))","v":""},{"$f":"IF(Propostas!$C94=\"\",\"\",VLOOKUP($A87,Pontuação!$A$5:$V$203,COLUMN(C:C),0))","v":""},{"$f":"IF(Propostas!$C94=\"\",\"\",VLOOKUP($A87,Pontuação!$A$5:$V$203,COLUMN(D:D),0))","v":""},{"$f":"IF(Propostas!$C94=\"\",\"\",VLOOKUP($A87,Pontuação!$A$5:$V$203,COLUMN(E:E),0))","v":""},{"$f":"IF(Propostas!$C94=\"\",\"\",VLOOKUP($A87,Pontuação!$A$5:$V$203,COLUMN(F:F),0))","v":""},{"$f":"IF(Propostas!$C94=\"\",\"\",VLOOKUP($A87,Pontuação!$A$5:$V$203,COLUMN(G:G),0))","v":""},{"$f":"IF(Propostas!$C94=\"\",\"\",VLOOKUP($A87,Pontuação!$A$5:$V$203,COLUMN(H:H),0))","v":""},{"$f":"IF(Propostas!$C94=\"\",\"\",VLOOKUP($A87,Pontuação!$A$5:$V$203,COLUMN(I:I),0))","v":""},{"$f":"IF(Propostas!$C94=\"\",\"\",VLOOKUP($A87,Pontuação!$A$5:$V$203,COLUMN(J:J),0))","v":""},{"$f":"IF(Propostas!$C94=\"\",\"\",VLOOKUP($A87,Pontuação!$A$5:$V$203,COLUMN(K:K),0))","v":""},{"$f":"IF(Propostas!$C94=\"\",\"\",VLOOKUP($A87,Pontuação!$A$5:$V$203,COLUMN(L:L),0))","v":""},{"$f":"IF(Propostas!$C94=\"\",\"\",VLOOKUP($A87,Pontuação!$A$5:$V$203,COLUMN(M:M),0))","v":""},{"$f":"IF(Propostas!$C94=\"\",\"\",VLOOKUP($A87,Pontuação!$A$5:$V$203,COLUMN(N:N),0))","v":""},{"$f":"IF(Propostas!$C94=\"\",\"\",VLOOKUP($A87,Pontuação!$A$5:$V$203,COLUMN(O:O),0))","v":""},{"$f":"IF(Propostas!$C94=\"\",\"\",VLOOKUP($A87,Pontuação!$A$5:$V$203,COLUMN(P:P),0))","v":""},{"$f":"IF(Propostas!$C94=\"\",\"\",VLOOKUP($A87,Pontuação!$A$5:$V$203,COLUMN(Q:Q),0))","v":""},{"$f":"IF(Propostas!$C94=\"\",\"\",VLOOKUP($A87,Pontuação!$A$5:$V$203,COLUMN(R:R),0))","v":""},{"$f":"IF(Propostas!$C94=\"\",\"\",VLOOKUP($A87,Pontuação!$A$5:$V$203,COLUMN(S:S),0))","v":""},{"$f":"IF(Propostas!$C94=\"\",\"\",VLOOKUP($A87,Pontuação!$A$5:$V$203,COLUMN(T:T),0))","v":""},{"$f":"IF(Propostas!$C94=\"\",\"\",VLOOKUP($A87,Pontuação!$A$5:$V$203,COLUMN(U:U),0))","v":""},{"$f":"IF(Propostas!$B94=\"\",\"\",SUM(C87:U87))","v":""},{"$f":"IF(Propostas!$C94=\"\",\"\",RANK(V87,$V$5:$V$203,0))","v":""},{"$f":"IF(Propostas!$C94=\"\",\"\",VLOOKUP(B87,Propostas[],3,0))","v":""},{"$f":"IF(Propostas!$C94=\"\",\"\",Y86-X87)","v":""},{"$f":"IF(Propostas!$C94=\"\",\"\",IF(Y87>0,\"S\",\"N\"))","v":""}]
[{"$f":"IF(Propostas!$C95=\"\",\"\",ROW(84:84))","v":""},{"$f":"IF(Propostas!$C95=\"\",\"\",VLOOKUP($A88,Pontuação!$A$5:$V$203,COLUMN(B:B),0))","v":""},{"$f":"IF(Propostas!$C95=\"\",\"\",VLOOKUP($A88,Pontuação!$A$5:$V$203,COLUMN(C:C),0))","v":""},{"$f":"IF(Propostas!$C95=\"\",\"\",VLOOKUP($A88,Pontuação!$A$5:$V$203,COLUMN(D:D),0))","v":""},{"$f":"IF(Propostas!$C95=\"\",\"\",VLOOKUP($A88,Pontuação!$A$5:$V$203,COLUMN(E:E),0))","v":""},{"$f":"IF(Propostas!$C95=\"\",\"\",VLOOKUP($A88,Pontuação!$A$5:$V$203,COLUMN(F:F),0))","v":""},{"$f":"IF(Propostas!$C95=\"\",\"\",VLOOKUP($A88,Pontuação!$A$5:$V$203,COLUMN(G:G),0))","v":""},{"$f":"IF(Propostas!$C95=\"\",\"\",VLOOKUP($A88,Pontuação!$A$5:$V$203,COLUMN(H:H),0))","v":""},{"$f":"IF(Propostas!$C95=\"\",\"\",VLOOKUP($A88,Pontuação!$A$5:$V$203,COLUMN(I:I),0))","v":""},{"$f":"IF(Propostas!$C95=\"\",\"\",VLOOKUP($A88,Pontuação!$A$5:$V$203,COLUMN(J:J),0))","v":""},{"$f":"IF(Propostas!$C95=\"\",\"\",VLOOKUP($A88,Pontuação!$A$5:$V$203,COLUMN(K:K),0))","v":""},{"$f":"IF(Propostas!$C95=\"\",\"\",VLOOKUP($A88,Pontuação!$A$5:$V$203,COLUMN(L:L),0))","v":""},{"$f":"IF(Propostas!$C95=\"\",\"\",VLOOKUP($A88,Pontuação!$A$5:$V$203,COLUMN(M:M),0))","v":""},{"$f":"IF(Propostas!$C95=\"\",\"\",VLOOKUP($A88,Pontuação!$A$5:$V$203,COLUMN(N:N),0))","v":""},{"$f":"IF(Propostas!$C95=\"\",\"\",VLOOKUP($A88,Pontuação!$A$5:$V$203,COLUMN(O:O),0))","v":""},{"$f":"IF(Propostas!$C95=\"\",\"\",VLOOKUP($A88,Pontuação!$A$5:$V$203,COLUMN(P:P),0))","v":""},{"$f":"IF(Propostas!$C95=\"\",\"\",VLOOKUP($A88,Pontuação!$A$5:$V$203,COLUMN(Q:Q),0))","v":""},{"$f":"IF(Propostas!$C95=\"\",\"\",VLOOKUP($A88,Pontuação!$A$5:$V$203,COLUMN(R:R),0))","v":""},{"$f":"IF(Propostas!$C95=\"\",\"\",VLOOKUP($A88,Pontuação!$A$5:$V$203,COLUMN(S:S),0))","v":""},{"$f":"IF(Propostas!$C95=\"\",\"\",VLOOKUP($A88,Pontuação!$A$5:$V$203,COLUMN(T:T),0))","v":""},{"$f":"IF(Propostas!$C95=\"\",\"\",VLOOKUP($A88,Pontuação!$A$5:$V$203,COLUMN(U:U),0))","v":""},{"$f":"IF(Propostas!$B95=\"\",\"\",SUM(C88:U88))","v":""},{"$f":"IF(Propostas!$C95=\"\",\"\",RANK(V88,$V$5:$V$203,0))","v":""},{"$f":"IF(Propostas!$C95=\"\",\"\",VLOOKUP(B88,Propostas[],3,0))","v":""},{"$f":"IF(Propostas!$C95=\"\",\"\",Y87-X88)","v":""},{"$f":"IF(Propostas!$C95=\"\",\"\",IF(Y88>0,\"S\",\"N\"))","v":""}]
[{"$f":"IF(Propostas!$C96=\"\",\"\",ROW(85:85))","v":""},{"$f":"IF(Propostas!$C96=\"\",\"\",VLOOKUP($A89,Pontuação!$A$5:$V$203,COLUMN(B:B),0))","v":""},{"$f":"IF(Propostas!$C96=\"\",\"\",VLOOKUP($A89,Pontuação!$A$5:$V$203,COLUMN(C:C),0))","v":""},{"$f":"IF(Propostas!$C96=\"\",\"\",VLOOKUP($A89,Pontuação!$A$5:$V$203,COLUMN(D:D),0))","v":""},{"$f":"IF(Propostas!$C96=\"\",\"\",VLOOKUP($A89,Pontuação!$A$5:$V$203,COLUMN(E:E),0))","v":""},{"$f":"IF(Propostas!$C96=\"\",\"\",VLOOKUP($A89,Pontuação!$A$5:$V$203,COLUMN(F:F),0))","v":""},{"$f":"IF(Propostas!$C96=\"\",\"\",VLOOKUP($A89,Pontuação!$A$5:$V$203,COLUMN(G:G),0))","v":""},{"$f":"IF(Propostas!$C96=\"\",\"\",VLOOKUP($A89,Pontuação!$A$5:$V$203,COLUMN(H:H),0))","v":""},{"$f":"IF(Propostas!$C96=\"\",\"\",VLOOKUP($A89,Pontuação!$A$5:$V$203,COLUMN(I:I),0))","v":""},{"$f":"IF(Propostas!$C96=\"\",\"\",VLOOKUP($A89,Pontuação!$A$5:$V$203,COLUMN(J:J),0))","v":""},{"$f":"IF(Propostas!$C96=\"\",\"\",VLOOKUP($A89,Pontuação!$A$5:$V$203,COLUMN(K:K),0))","v":""},{"$f":"IF(Propostas!$C96=\"\",\"\",VLOOKUP($A89,Pontuação!$A$5:$V$203,COLUMN(L:L),0))","v":""},{"$f":"IF(Propostas!$C96=\"\",\"\",VLOOKUP($A89,Pontuação!$A$5:$V$203,COLUMN(M:M),0))","v":""},{"$f":"IF(Propostas!$C96=\"\",\"\",VLOOKUP($A89,Pontuação!$A$5:$V$203,COLUMN(N:N),0))","v":""},{"$f":"IF(Propostas!$C96=\"\",\"\",VLOOKUP($A89,Pontuação!$A$5:$V$203,COLUMN(O:O),0))","v":""},{"$f":"IF(Propostas!$C96=\"\",\"\",VLOOKUP($A89,Pontuação!$A$5:$V$203,COLUMN(P:P),0))","v":""},{"$f":"IF(Propostas!$C96=\"\",\"\",VLOOKUP($A89,Pontuação!$A$5:$V$203,COLUMN(Q:Q),0))","v":""},{"$f":"IF(Propostas!$C96=\"\",\"\",VLOOKUP($A89,Pontuação!$A$5:$V$203,COLUMN(R:R),0))","v":""},{"$f":"IF(Propostas!$C96=\"\",\"\",VLOOKUP($A89,Pontuação!$A$5:$V$203,COLUMN(S:S),0))","v":""},{"$f":"IF(Propostas!$C96=\"\",\"\",VLOOKUP($A89,Pontuação!$A$5:$V$203,COLUMN(T:T),0))","v":""},{"$f":"IF(Propostas!$C96=\"\",\"\",VLOOKUP($A89,Pontuação!$A$5:$V$203,COLUMN(U:U),0))","v":""},{"$f":"IF(Propostas!$B96=\"\",\"\",SUM(C89:U89))","v":""},{"$f":"IF(Propostas!$C96=\"\",\"\",RANK(V89,$V$5:$V$203,0))","v":""},{"$f":"IF(Propostas!$C96=\"\",\"\",VLOOKUP(B89,Propostas[],3,0))","v":""},{"$f":"IF(Propostas!$C96=\"\",\"\",Y88-X89)","v":""},{"$f":"IF(Propostas!$C96=\"\",\"\",IF(Y89>0,\"S\",\"N\"))","v":""}]
[{"$f":"IF(Propostas!$C97=\"\",\"\",ROW(86:86))","v":""},{"$f":"IF(Propostas!$C97=\"\",\"\",VLOOKUP($A90,Pontuação!$A$5:$V$203,COLUMN(B:B),0))","v":""},{"$f":"IF(Propostas!$C97=\"\",\"\",VLOOKUP($A90,Pontuação!$A$5:$V$203,COLUMN(C:C),0))","v":""},{"$f":"IF(Propostas!$C97=\"\",\"\",VLOOKUP($A90,Pontuação!$A$5:$V$203,COLUMN(D:D),0))","v":""},{"$f":"IF(Propostas!$C97=\"\",\"\",VLOOKUP($A90,Pontuação!$A$5:$V$203,COLUMN(E:E),0))","v":""},{"$f":"IF(Propostas!$C97=\"\",\"\",VLOOKUP($A90,Pontuação!$A$5:$V$203,COLUMN(F:F),0))","v":""},{"$f":"IF(Propostas!$C97=\"\",\"\",VLOOKUP($A90,Pontuação!$A$5:$V$203,COLUMN(G:G),0))","v":""},{"$f":"IF(Propostas!$C97=\"\",\"\",VLOOKUP($A90,Pontuação!$A$5:$V$203,COLUMN(H:H),0))","v":""},{"$f":"IF(Propostas!$C97=\"\",\"\",VLOOKUP($A90,Pontuação!$A$5:$V$203,COLUMN(I:I),0))","v":""},{"$f":"IF(Propostas!$C97=\"\",\"\",VLOOKUP($A90,Pontuação!$A$5:$V$203,COLUMN(J:J),0))","v":""},{"$f":"IF(Propostas!$C97=\"\",\"\",VLOOKUP($A90,Pontuação!$A$5:$V$203,COLUMN(K:K),0))","v":""},{"$f":"IF(Propostas!$C97=\"\",\"\",VLOOKUP($A90,Pontuação!$A$5:$V$203,COLUMN(L:L),0))","v":""},{"$f":"IF(Propostas!$C97=\"\",\"\",VLOOKUP($A90,Pontuação!$A$5:$V$203,COLUMN(M:M),0))","v":""},{"$f":"IF(Propostas!$C97=\"\",\"\",VLOOKUP($A90,Pontuação!$A$5:$V$203,COLUMN(N:N),0))","v":""},{"$f":"IF(Propostas!$C97=\"\",\"\",VLOOKUP($A90,Pontuação!$A$5:$V$203,COLUMN(O:O),0))","v":""},{"$f":"IF(Propostas!$C97=\"\",\"\",VLOOKUP($A90,Pontuação!$A$5:$V$203,COLUMN(P:P),0))","v":""},{"$f":"IF(Propostas!$C97=\"\",\"\",VLOOKUP($A90,Pontuação!$A$5:$V$203,COLUMN(Q:Q),0))","v":""},{"$f":"IF(Propostas!$C97=\"\",\"\",VLOOKUP($A90,Pontuação!$A$5:$V$203,COLUMN(R:R),0))","v":""},{"$f":"IF(Propostas!$C97=\"\",\"\",VLOOKUP($A90,Pontuação!$A$5:$V$203,COLUMN(S:S),0))","v":""},{"$f":"IF(Propostas!$C97=\"\",\"\",VLOOKUP($A90,Pontuação!$A$5:$V$203,COLUMN(T:T),0))","v":""},{"$f":"IF(Propostas!$C97=\"\",\"\",VLOOKUP($A90,Pontuação!$A$5:$V$203,COLUMN(U:U),0))","v":""},{"$f":"IF(Propostas!$B97=\"\",\"\",SUM(C90:U90))","v":""},{"$f":"IF(Propostas!$C97=\"\",\"\",RANK(V90,$V$5:$V$203,0))","v":""},{"$f":"IF(Propostas!$C97=\"\",\"\",VLOOKUP(B90,Propostas[],3,0))","v":""},{"$f":"IF(Propostas!$C97=\"\",\"\",Y89-X90)","v":""},{"$f":"IF(Propostas!$C97=\"\",\"\",IF(Y90>0,\"S\",\"N\"))","v":""}]
[{"$f":"IF(Propostas!$C98=\"\",\"\",ROW(87:87))","v":""},{"$f":"IF(Propostas!$C98=\"\",\"\",VLOOKUP($A91,Pontuação!$A$5:$V$203,COLUMN(B:B),0))","v":""},{"$f":"IF(Propostas!$C98=\"\",\"\",VLOOKUP($A91,Pontuação!$A$5:$V$203,COLUMN(C:C),0))","v":""},{"$f":"IF(Propostas!$C98=\"\",\"\",VLOOKUP($A91,Pontuação!$A$5:$V$203,COLUMN(D:D),0))","v":""},{"$f":"IF(Propostas!$C98=\"\",\"\",VLOOKUP($A91,Pontuação!$A$5:$V$203,COLUMN(E:E),0))","v":""},{"$f":"IF(Propostas!$C98=\"\",\"\",VLOOKUP($A91,Pontuação!$A$5:$V$203,COLUMN(F:F),0))","v":""},{"$f":"IF(Propostas!$C98=\"\",\"\",VLOOKUP($A91,Pontuação!$A$5:$V$203,COLUMN(G:G),0))","v":""},{"$f":"IF(Propostas!$C98=\"\",\"\",VLOOKUP($A91,Pontuação!$A$5:$V$203,COLUMN(H:H),0))","v":""},{"$f":"IF(Propostas!$C98=\"\",\"\",VLOOKUP($A91,Pontuação!$A$5:$V$203,COLUMN(I:I),0))","v":""},{"$f":"IF(Propostas!$C98=\"\",\"\",VLOOKUP($A91,Pontuação!$A$5:$V$203,COLUMN(J:J),0))","v":""},{"$f":"IF(Propostas!$C98=\"\",\"\",VLOOKUP($A91,Pontuação!$A$5:$V$203,COLUMN(K:K),0))","v":""},{"$f":"IF(Propostas!$C98=\"\",\"\",VLOOKUP($A91,Pontuação!$A$5:$V$203,COLUMN(L:L),0))","v":""},{"$f":"IF(Propostas!$C98=\"\",\"\",VLOOKUP($A91,Pontuação!$A$5:$V$203,COLUMN(M:M),0))","v":""},{"$f":"IF(Propostas!$C98=\"\",\"\",VLOOKUP($A91,Pontuação!$A$5:$V$203,COLUMN(N:N),0))","v":""},{"$f":"IF(Propostas!$C98=\"\",\"\",VLOOKUP($A91,Pontuação!$A$5:$V$203,COLUMN(O:O),0))","v":""},{"$f":"IF(Propostas!$C98=\"\",\"\",VLOOKUP($A91,Pontuação!$A$5:$V$203,COLUMN(P:P),0))","v":""},{"$f":"IF(Propostas!$C98=\"\",\"\",VLOOKUP($A91,Pontuação!$A$5:$V$203,COLUMN(Q:Q),0))","v":""},{"$f":"IF(Propostas!$C98=\"\",\"\",VLOOKUP($A91,Pontuação!$A$5:$V$203,COLUMN(R:R),0))","v":""},{"$f":"IF(Propostas!$C98=\"\",\"\",VLOOKUP($A91,Pontuação!$A$5:$V$203,COLUMN(S:S),0))","v":""},{"$f":"IF(Propostas!$C98=\"\",\"\",VLOOKUP($A91,Pontuação!$A$5:$V$203,COLUMN(T:T),0))","v":""},{"$f":"IF(Propostas!$C98=\"\",\"\",VLOOKUP($A91,Pontuação!$A$5:$V$203,COLUMN(U:U),0))","v":""},{"$f":"IF(Propostas!$B98=\"\",\"\",SUM(C91:U91))","v":""},{"$f":"IF(Propostas!$C98=\"\",\"\",RANK(V91,$V$5:$V$203,0))","v":""},{"$f":"IF(Propostas!$C98=\"\",\"\",VLOOKUP(B91,Propostas[],3,0))","v":""},{"$f":"IF(Propostas!$C98=\"\",\"\",Y90-X91)","v":""},{"$f":"IF(Propostas!$C98=\"\",\"\",IF(Y91>0,\"S\",\"N\"))","v":""}]
[{"$f":"IF(Propostas!$C99=\"\",\"\",ROW(88:88))","v":""},{"$f":"IF(Propostas!$C99=\"\",\"\",VLOOKUP($A92,Pontuação!$A$5:$V$203,COLUMN(B:B),0))","v":""},{"$f":"IF(Propostas!$C99=\"\",\"\",VLOOKUP($A92,Pontuação!$A$5:$V$203,COLUMN(C:C),0))","v":""},{"$f":"IF(Propostas!$C99=\"\",\"\",VLOOKUP($A92,Pontuação!$A$5:$V$203,COLUMN(D:D),0))","v":""},{"$f":"IF(Propostas!$C99=\"\",\"\",VLOOKUP($A92,Pontuação!$A$5:$V$203,COLUMN(E:E),0))","v":""},{"$f":"IF(Propostas!$C99=\"\",\"\",VLOOKUP($A92,Pontuação!$A$5:$V$203,COLUMN(F:F),0))","v":""},{"$f":"IF(Propostas!$C99=\"\",\"\",VLOOKUP($A92,Pontuação!$A$5:$V$203,COLUMN(G:G),0))","v":""},{"$f":"IF(Propostas!$C99=\"\",\"\",VLOOKUP($A92,Pontuação!$A$5:$V$203,COLUMN(H:H),0))","v":""},{"$f":"IF(Propostas!$C99=\"\",\"\",VLOOKUP($A92,Pontuação!$A$5:$V$203,COLUMN(I:I),0))","v":""},{"$f":"IF(Propostas!$C99=\"\",\"\",VLOOKUP($A92,Pontuação!$A$5:$V$203,COLUMN(J:J),0))","v":""},{"$f":"IF(Propostas!$C99=\"\",\"\",VLOOKUP($A92,Pontuação!$A$5:$V$203,COLUMN(K:K),0))","v":""},{"$f":"IF(Propostas!$C99=\"\",\"\",VLOOKUP($A92,Pontuação!$A$5:$V$203,COLUMN(L:L),0))","v":""},{"$f":"IF(Propostas!$C99=\"\",\"\",VLOOKUP($A92,Pontuação!$A$5:$V$203,COLUMN(M:M),0))","v":""},{"$f":"IF(Propostas!$C99=\"\",\"\",VLOOKUP($A92,Pontuação!$A$5:$V$203,COLUMN(N:N),0))","v":""},{"$f":"IF(Propostas!$C99=\"\",\"\",VLOOKUP($A92,Pontuação!$A$5:$V$203,COLUMN(O:O),0))","v":""},{"$f":"IF(Propostas!$C99=\"\",\"\",VLOOKUP($A92,Pontuação!$A$5:$V$203,COLUMN(P:P),0))","v":""},{"$f":"IF(Propostas!$C99=\"\",\"\",VLOOKUP($A92,Pontuação!$A$5:$V$203,COLUMN(Q:Q),0))","v":""},{"$f":"IF(Propostas!$C99=\"\",\"\",VLOOKUP($A92,Pontuação!$A$5:$V$203,COLUMN(R:R),0))","v":""},{"$f":"IF(Propostas!$C99=\"\",\"\",VLOOKUP($A92,Pontuação!$A$5:$V$203,COLUMN(S:S),0))","v":""},{"$f":"IF(Propostas!$C99=\"\",\"\",VLOOKUP($A92,Pontuação!$A$5:$V$203,COLUMN(T:T),0))","v":""},{"$f":"IF(Propostas!$C99=\"\",\"\",VLOOKUP($A92,Pontuação!$A$5:$V$203,COLUMN(U:U),0))","v":""},{"$f":"IF(Propostas!$B99=\"\",\"\",SUM(C92:U92))","v":""},{"$f":"IF(Propostas!$C99=\"\",\"\",RANK(V92,$V$5:$V$203,0))","v":""},{"$f":"IF(Propostas!$C99=\"\",\"\",VLOOKUP(B92,Propostas[],3,0))","v":""},{"$f":"IF(Propostas!$C99=\"\",\"\",Y91-X92)","v":""},{"$f":"IF(Propostas!$C99=\"\",\"\",IF(Y92>0,\"S\",\"N\"))","v":""}]
[{"$f":"IF(Propostas!$C100=\"\",\"\",ROW(89:89))","v":""},{"$f":"IF(Propostas!$C100=\"\",\"\",VLOOKUP($A93,Pontuação!$A$5:$V$203,COLUMN(B:B),0))","v":""},{"$f":"IF(Propostas!$C100=\"\",\"\",VLOOKUP($A93,Pontuação!$A$5:$V$203,COLUMN(C:C),0))","v":""},{"$f":"IF(Propostas!$C100=\"\",\"\",VLOOKUP($A93,Pontuação!$A$5:$V$203,COLUMN(D:D),0))","v":""},{"$f":"IF(Propostas!$C100=\"\",\"\",VLOOKUP($A93,Pontuação!$A$5:$V$203,COLUMN(E:E),0))","v":""},{"$f":"IF(Propostas!$C100=\"\",\"\",VLOOKUP($A93,Pontuação!$A$5:$V$203,COLUMN(F:F),0))","v":""},{"$f":"IF(Propostas!$C100=\"\",\"\",VLOOKUP($A93,Pontuação!$A$5:$V$203,COLUMN(G:G),0))","v":""},{"$f":"IF(Propostas!$C100=\"\",\"\",VLOOKUP($A93,Pontuação!$A$5:$V$203,COLUMN(H:H),0))","v":""},{"$f":"IF(Propostas!$C100=\"\",\"\",VLOOKUP($A93,Pontuação!$A$5:$V$203,COLUMN(I:I),0))","v":""},{"$f":"IF(Propostas!$C100=\"\",\"\",VLOOKUP($A93,Pontuação!$A$5:$V$203,COLUMN(J:J),0))","v":""},{"$f":"IF(Propostas!$C100=\"\",\"\",VLOOKUP($A93,Pontuação!$A$5:$V$203,COLUMN(K:K),0))","v":""},{"$f":"IF(Propostas!$C100=\"\",\"\",VLOOKUP($A93,Pontuação!$A$5:$V$203,COLUMN(L:L),0))","v":""},{"$f":"IF(Propostas!$C100=\"\",\"\",VLOOKUP($A93,Pontuação!$A$5:$V$203,COLUMN(M:M),0))","v":""},{"$f":"IF(Propostas!$C100=\"\",\"\",VLOOKUP($A93,Pontuação!$A$5:$V$203,COLUMN(N:N),0))","v":""},{"$f":"IF(Propostas!$C100=\"\",\"\",VLOOKUP($A93,Pontuação!$A$5:$V$203,COLUMN(O:O),0))","v":""},{"$f":"IF(Propostas!$C100=\"\",\"\",VLOOKUP($A93,Pontuação!$A$5:$V$203,COLUMN(P:P),0))","v":""},{"$f":"IF(Propostas!$C100=\"\",\"\",VLOOKUP($A93,Pontuação!$A$5:$V$203,COLUMN(Q:Q),0))","v":""},{"$f":"IF(Propostas!$C100=\"\",\"\",VLOOKUP($A93,Pontuação!$A$5:$V$203,COLUMN(R:R),0))","v":""},{"$f":"IF(Propostas!$C100=\"\",\"\",VLOOKUP($A93,Pontuação!$A$5:$V$203,COLUMN(S:S),0))","v":""},{"$f":"IF(Propostas!$C100=\"\",\"\",VLOOKUP($A93,Pontuação!$A$5:$V$203,COLUMN(T:T),0))","v":""},{"$f":"IF(Propostas!$C100=\"\",\"\",VLOOKUP($A93,Pontuação!$A$5:$V$203,COLUMN(U:U),0))","v":""},{"$f":"IF(Propostas!$B100=\"\",\"\",SUM(C93:U93))","v":""},{"$f":"IF(Propostas!$C100=\"\",\"\",RANK(V93,$V$5:$V$203,0))","v":""},{"$f":"IF(Propostas!$C100=\"\",\"\",VLOOKUP(B93,Propostas[],3,0))","v":""},{"$f":"IF(Propostas!$C100=\"\",\"\",Y92-X93)","v":""},{"$f":"IF(Propostas!$C100=\"\",\"\",IF(Y93>0,\"S\",\"N\"))","v":""}]
[{"$f":"IF(Propostas!$C101=\"\",\"\",ROW(90:90))","v":""},{"$f":"IF(Propostas!$C101=\"\",\"\",VLOOKUP($A94,Pontuação!$A$5:$V$203,COLUMN(B:B),0))","v":""},{"$f":"IF(Propostas!$C101=\"\",\"\",VLOOKUP($A94,Pontuação!$A$5:$V$203,COLUMN(C:C),0))","v":""},{"$f":"IF(Propostas!$C101=\"\",\"\",VLOOKUP($A94,Pontuação!$A$5:$V$203,COLUMN(D:D),0))","v":""},{"$f":"IF(Propostas!$C101=\"\",\"\",VLOOKUP($A94,Pontuação!$A$5:$V$203,COLUMN(E:E),0))","v":""},{"$f":"IF(Propostas!$C101=\"\",\"\",VLOOKUP($A94,Pontuação!$A$5:$V$203,COLUMN(F:F),0))","v":""},{"$f":"IF(Propostas!$C101=\"\",\"\",VLOOKUP($A94,Pontuação!$A$5:$V$203,COLUMN(G:G),0))","v":""},{"$f":"IF(Propostas!$C101=\"\",\"\",VLOOKUP($A94,Pontuação!$A$5:$V$203,COLUMN(H:H),0))","v":""},{"$f":"IF(Propostas!$C101=\"\",\"\",VLOOKUP($A94,Pontuação!$A$5:$V$203,COLUMN(I:I),0))","v":""},{"$f":"IF(Propostas!$C101=\"\",\"\",VLOOKUP($A94,Pontuação!$A$5:$V$203,COLUMN(J:J),0))","v":""},{"$f":"IF(Propostas!$C101=\"\",\"\",VLOOKUP($A94,Pontuação!$A$5:$V$203,COLUMN(K:K),0))","v":""},{"$f":"IF(Propostas!$C101=\"\",\"\",VLOOKUP($A94,Pontuação!$A$5:$V$203,COLUMN(L:L),0))","v":""},{"$f":"IF(Propostas!$C101=\"\",\"\",VLOOKUP($A94,Pontuação!$A$5:$V$203,COLUMN(M:M),0))","v":""},{"$f":"IF(Propostas!$C101=\"\",\"\",VLOOKUP($A94,Pontuação!$A$5:$V$203,COLUMN(N:N),0))","v":""},{"$f":"IF(Propostas!$C101=\"\",\"\",VLOOKUP($A94,Pontuação!$A$5:$V$203,COLUMN(O:O),0))","v":""},{"$f":"IF(Propostas!$C101=\"\",\"\",VLOOKUP($A94,Pontuação!$A$5:$V$203,COLUMN(P:P),0))","v":""},{"$f":"IF(Propostas!$C101=\"\",\"\",VLOOKUP($A94,Pontuação!$A$5:$V$203,COLUMN(Q:Q),0))","v":""},{"$f":"IF(Propostas!$C101=\"\",\"\",VLOOKUP($A94,Pontuação!$A$5:$V$203,COLUMN(R:R),0))","v":""},{"$f":"IF(Propostas!$C101=\"\",\"\",VLOOKUP($A94,Pontuação!$A$5:$V$203,COLUMN(S:S),0))","v":""},{"$f":"IF(Propostas!$C101=\"\",\"\",VLOOKUP($A94,Pontuação!$A$5:$V$203,COLUMN(T:T),0))","v":""},{"$f":"IF(Propostas!$C101=\"\",\"\",VLOOKUP($A94,Pontuação!$A$5:$V$203,COLUMN(U:U),0))","v":""},{"$f":"IF(Propostas!$B101=\"\",\"\",SUM(C94:U94))","v":""},{"$f":"IF(Propostas!$C101=\"\",\"\",RANK(V94,$V$5:$V$203,0))","v":""},{"$f":"IF(Propostas!$C101=\"\",\"\",VLOOKUP(B94,Propostas[],3,0))","v":""},{"$f":"IF(Propostas!$C101=\"\",\"\",Y93-X94)","v":""},{"$f":"IF(Propostas!$C101=\"\",\"\",IF(Y94>0,\"S\",\"N\"))","v":""}]
[{"$f":"IF(Propostas!$C102=\"\",\"\",ROW(91:91))","v":""},{"$f":"IF(Propostas!$C102=\"\",\"\",VLOOKUP($A95,Pontuação!$A$5:$V$203,COLUMN(B:B),0))","v":""},{"$f":"IF(Propostas!$C102=\"\",\"\",VLOOKUP($A95,Pontuação!$A$5:$V$203,COLUMN(C:C),0))","v":""},{"$f":"IF(Propostas!$C102=\"\",\"\",VLOOKUP($A95,Pontuação!$A$5:$V$203,COLUMN(D:D),0))","v":""},{"$f":"IF(Propostas!$C102=\"\",\"\",VLOOKUP($A95,Pontuação!$A$5:$V$203,COLUMN(E:E),0))","v":""},{"$f":"IF(Propostas!$C102=\"\",\"\",VLOOKUP($A95,Pontuação!$A$5:$V$203,COLUMN(F:F),0))","v":""},{"$f":"IF(Propostas!$C102=\"\",\"\",VLOOKUP($A95,Pontuação!$A$5:$V$203,COLUMN(G:G),0))","v":""},{"$f":"IF(Propostas!$C102=\"\",\"\",VLOOKUP($A95,Pontuação!$A$5:$V$203,COLUMN(H:H),0))","v":""},{"$f":"IF(Propostas!$C102=\"\",\"\",VLOOKUP($A95,Pontuação!$A$5:$V$203,COLUMN(I:I),0))","v":""},{"$f":"IF(Propostas!$C102=\"\",\"\",VLOOKUP($A95,Pontuação!$A$5:$V$203,COLUMN(J:J),0))","v":""},{"$f":"IF(Propostas!$C102=\"\",\"\",VLOOKUP($A95,Pontuação!$A$5:$V$203,COLUMN(K:K),0))","v":""},{"$f":"IF(Propostas!$C102=\"\",\"\",VLOOKUP($A95,Pontuação!$A$5:$V$203,COLUMN(L:L),0))","v":""},{"$f":"IF(Propostas!$C102=\"\",\"\",VLOOKUP($A95,Pontuação!$A$5:$V$203,COLUMN(M:M),0))","v":""},{"$f":"IF(Propostas!$C102=\"\",\"\",VLOOKUP($A95,Pontuação!$A$5:$V$203,COLUMN(N:N),0))","v":""},{"$f":"IF(Propostas!$C102=\"\",\"\",VLOOKUP($A95,Pontuação!$A$5:$V$203,COLUMN(O:O),0))","v":""},{"$f":"IF(Propostas!$C102=\"\",\"\",VLOOKUP($A95,Pontuação!$A$5:$V$203,COLUMN(P:P),0))","v":""},{"$f":"IF(Propostas!$C102=\"\",\"\",VLOOKUP($A95,Pontuação!$A$5:$V$203,COLUMN(Q:Q),0))","v":""},{"$f":"IF(Propostas!$C102=\"\",\"\",VLOOKUP($A95,Pontuação!$A$5:$V$203,COLUMN(R:R),0))","v":""},{"$f":"IF(Propostas!$C102=\"\",\"\",VLOOKUP($A95,Pontuação!$A$5:$V$203,COLUMN(S:S),0))","v":""},{"$f":"IF(Propostas!$C102=\"\",\"\",VLOOKUP($A95,Pontuação!$A$5:$V$203,COLUMN(T:T),0))","v":""},{"$f":"IF(Propostas!$C102=\"\",\"\",VLOOKUP($A95,Pontuação!$A$5:$V$203,COLUMN(U:U),0))","v":""},{"$f":"IF(Propostas!$B102=\"\",\"\",SUM(C95:U95))","v":""},{"$f":"IF(Propostas!$C102=\"\",\"\",RANK(V95,$V$5:$V$203,0))","v":""},{"$f":"IF(Propostas!$C102=\"\",\"\",VLOOKUP(B95,Propostas[],3,0))","v":""},{"$f":"IF(Propostas!$C102=\"\",\"\",Y94-X95)","v":""},{"$f":"IF(Propostas!$C102=\"\",\"\",IF(Y95>0,\"S\",\"N\"))","v":""}]
[{"$f":"IF(Propostas!$C103=\"\",\"\",ROW(92:92))","v":""},{"$f":"IF(Propostas!$C103=\"\",\"\",VLOOKUP($A96,Pontuação!$A$5:$V$203,COLUMN(B:B),0))","v":""},{"$f":"IF(Propostas!$C103=\"\",\"\",VLOOKUP($A96,Pontuação!$A$5:$V$203,COLUMN(C:C),0))","v":""},{"$f":"IF(Propostas!$C103=\"\",\"\",VLOOKUP($A96,Pontuação!$A$5:$V$203,COLUMN(D:D),0))","v":""},{"$f":"IF(Propostas!$C103=\"\",\"\",VLOOKUP($A96,Pontuação!$A$5:$V$203,COLUMN(E:E),0))","v":""},{"$f":"IF(Propostas!$C103=\"\",\"\",VLOOKUP($A96,Pontuação!$A$5:$V$203,COLUMN(F:F),0))","v":""},{"$f":"IF(Propostas!$C103=\"\",\"\",VLOOKUP($A96,Pontuação!$A$5:$V$203,COLUMN(G:G),0))","v":""},{"$f":"IF(Propostas!$C103=\"\",\"\",VLOOKUP($A96,Pontuação!$A$5:$V$203,COLUMN(H:H),0))","v":""},{"$f":"IF(Propostas!$C103=\"\",\"\",VLOOKUP($A96,Pontuação!$A$5:$V$203,COLUMN(I:I),0))","v":""},{"$f":"IF(Propostas!$C103=\"\",\"\",VLOOKUP($A96,Pontuação!$A$5:$V$203,COLUMN(J:J),0))","v":""},{"$f":"IF(Propostas!$C103=\"\",\"\",VLOOKUP($A96,Pontuação!$A$5:$V$203,COLUMN(K:K),0))","v":""},{"$f":"IF(Propostas!$C103=\"\",\"\",VLOOKUP($A96,Pontuação!$A$5:$V$203,COLUMN(L:L),0))","v":""},{"$f":"IF(Propostas!$C103=\"\",\"\",VLOOKUP($A96,Pontuação!$A$5:$V$203,COLUMN(M:M),0))","v":""},{"$f":"IF(Propostas!$C103=\"\",\"\",VLOOKUP($A96,Pontuação!$A$5:$V$203,COLUMN(N:N),0))","v":""},{"$f":"IF(Propostas!$C103=\"\",\"\",VLOOKUP($A96,Pontuação!$A$5:$V$203,COLUMN(O:O),0))","v":""},{"$f":"IF(Propostas!$C103=\"\",\"\",VLOOKUP($A96,Pontuação!$A$5:$V$203,COLUMN(P:P),0))","v":""},{"$f":"IF(Propostas!$C103=\"\",\"\",VLOOKUP($A96,Pontuação!$A$5:$V$203,COLUMN(Q:Q),0))","v":""},{"$f":"IF(Propostas!$C103=\"\",\"\",VLOOKUP($A96,Pontuação!$A$5:$V$203,COLUMN(R:R),0))","v":""},{"$f":"IF(Propostas!$C103=\"\",\"\",VLOOKUP($A96,Pontuação!$A$5:$V$203,COLUMN(S:S),0))","v":""},{"$f":"IF(Propostas!$C103=\"\",\"\",VLOOKUP($A96,Pontuação!$A$5:$V$203,COLUMN(T:T),0))","v":""},{"$f":"IF(Propostas!$C103=\"\",\"\",VLOOKUP($A96,Pontuação!$A$5:$V$203,COLUMN(U:U),0))","v":""},{"$f":"IF(Propostas!$B103=\"\",\"\",SUM(C96:U96))","v":""},{"$f":"IF(Propostas!$C103=\"\",\"\",RANK(V96,$V$5:$V$203,0))","v":""},{"$f":"IF(Propostas!$C103=\"\",\"\",VLOOKUP(B96,Propostas[],3,0))","v":""},{"$f":"IF(Propostas!$C103=\"\",\"\",Y95-X96)","v":""},{"$f":"IF(Propostas!$C103=\"\",\"\",IF(Y96>0,\"S\",\"N\"))","v":""}]
[{"$f":"IF(Propostas!$C104=\"\",\"\",ROW(93:93))","v":""},{"$f":"IF(Propostas!$C104=\"\",\"\",VLOOKUP($A97,Pontuação!$A$5:$V$203,COLUMN(B:B),0))","v":""},{"$f":"IF(Propostas!$C104=\"\",\"\",VLOOKUP($A97,Pontuação!$A$5:$V$203,COLUMN(C:C),0))","v":""},{"$f":"IF(Propostas!$C104=\"\",\"\",VLOOKUP($A97,Pontuação!$A$5:$V$203,COLUMN(D:D),0))","v":""},{"$f":"IF(Propostas!$C104=\"\",\"\",VLOOKUP($A97,Pontuação!$A$5:$V$203,COLUMN(E:E),0))","v":""},{"$f":"IF(Propostas!$C104=\"\",\"\",VLOOKUP($A97,Pontuação!$A$5:$V$203,COLUMN(F:F),0))","v":""},{"$f":"IF(Propostas!$C104=\"\",\"\",VLOOKUP($A97,Pontuação!$A$5:$V$203,COLUMN(G:G),0))","v":""},{"$f":"IF(Propostas!$C104=\"\",\"\",VLOOKUP($A97,Pontuação!$A$5:$V$203,COLUMN(H:H),0))","v":""},{"$f":"IF(Propostas!$C104=\"\",\"\",VLOOKUP($A97,Pontuação!$A$5:$V$203,COLUMN(I:I),0))","v":""},{"$f":"IF(Propostas!$C104=\"\",\"\",VLOOKUP($A97,Pontuação!$A$5:$V$203,COLUMN(J:J),0))","v":""},{"$f":"IF(Propostas!$C104=\"\",\"\",VLOOKUP($A97,Pontuação!$A$5:$V$203,COLUMN(K:K),0))","v":""},{"$f":"IF(Propostas!$C104=\"\",\"\",VLOOKUP($A97,Pontuação!$A$5:$V$203,COLUMN(L:L),0))","v":""},{"$f":"IF(Propostas!$C104=\"\",\"\",VLOOKUP($A97,Pontuação!$A$5:$V$203,COLUMN(M:M),0))","v":""},{"$f":"IF(Propostas!$C104=\"\",\"\",VLOOKUP($A97,Pontuação!$A$5:$V$203,COLUMN(N:N),0))","v":""},{"$f":"IF(Propostas!$C104=\"\",\"\",VLOOKUP($A97,Pontuação!$A$5:$V$203,COLUMN(O:O),0))","v":""},{"$f":"IF(Propostas!$C104=\"\",\"\",VLOOKUP($A97,Pontuação!$A$5:$V$203,COLUMN(P:P),0))","v":""},{"$f":"IF(Propostas!$C104=\"\",\"\",VLOOKUP($A97,Pontuação!$A$5:$V$203,COLUMN(Q:Q),0))","v":""},{"$f":"IF(Propostas!$C104=\"\",\"\",VLOOKUP($A97,Pontuação!$A$5:$V$203,COLUMN(R:R),0))","v":""},{"$f":"IF(Propostas!$C104=\"\",\"\",VLOOKUP($A97,Pontuação!$A$5:$V$203,COLUMN(S:S),0))","v":""},{"$f":"IF(Propostas!$C104=\"\",\"\",VLOOKUP($A97,Pontuação!$A$5:$V$203,COLUMN(T:T),0))","v":""},{"$f":"IF(Propostas!$C104=\"\",\"\",VLOOKUP($A97,Pontuação!$A$5:$V$203,COLUMN(U:U),0))","v":""},{"$f":"IF(Propostas!$B104=\"\",\"\",SUM(C97:U97))","v":""},{"$f":"IF(Propostas!$C104=\"\",\"\",RANK(V97,$V$5:$V$203,0))","v":""},{"$f":"IF(Propostas!$C104=\"\",\"\",VLOOKUP(B97,Propostas[],3,0))","v":""},{"$f":"IF(Propostas!$C104=\"\",\"\",Y96-X97)","v":""},{"$f":"IF(Propostas!$C104=\"\",\"\",IF(Y97>0,\"S\",\"N\"))","v":""}]
[{"$f":"IF(Propostas!$C105=\"\",\"\",ROW(94:94))","v":""},{"$f":"IF(Propostas!$C105=\"\",\"\",VLOOKUP($A98,Pontuação!$A$5:$V$203,COLUMN(B:B),0))","v":""},{"$f":"IF(Propostas!$C105=\"\",\"\",VLOOKUP($A98,Pontuação!$A$5:$V$203,COLUMN(C:C),0))","v":""},{"$f":"IF(Propostas!$C105=\"\",\"\",VLOOKUP($A98,Pontuação!$A$5:$V$203,COLUMN(D:D),0))","v":""},{"$f":"IF(Propostas!$C105=\"\",\"\",VLOOKUP($A98,Pontuação!$A$5:$V$203,COLUMN(E:E),0))","v":""},{"$f":"IF(Propostas!$C105=\"\",\"\",VLOOKUP($A98,Pontuação!$A$5:$V$203,COLUMN(F:F),0))","v":""},{"$f":"IF(Propostas!$C105=\"\",\"\",VLOOKUP($A98,Pontuação!$A$5:$V$203,COLUMN(G:G),0))","v":""},{"$f":"IF(Propostas!$C105=\"\",\"\",VLOOKUP($A98,Pontuação!$A$5:$V$203,COLUMN(H:H),0))","v":""},{"$f":"IF(Propostas!$C105=\"\",\"\",VLOOKUP($A98,Pontuação!$A$5:$V$203,COLUMN(I:I),0))","v":""},{"$f":"IF(Propostas!$C105=\"\",\"\",VLOOKUP($A98,Pontuação!$A$5:$V$203,COLUMN(J:J),0))","v":""},{"$f":"IF(Propostas!$C105=\"\",\"\",VLOOKUP($A98,Pontuação!$A$5:$V$203,COLUMN(K:K),0))","v":""},{"$f":"IF(Propostas!$C105=\"\",\"\",VLOOKUP($A98,Pontuação!$A$5:$V$203,COLUMN(L:L),0))","v":""},{"$f":"IF(Propostas!$C105=\"\",\"\",VLOOKUP($A98,Pontuação!$A$5:$V$203,COLUMN(M:M),0))","v":""},{"$f":"IF(Propostas!$C105=\"\",\"\",VLOOKUP($A98,Pontuação!$A$5:$V$203,COLUMN(N:N),0))","v":""},{"$f":"IF(Propostas!$C105=\"\",\"\",VLOOKUP($A98,Pontuação!$A$5:$V$203,COLUMN(O:O),0))","v":""},{"$f":"IF(Propostas!$C105=\"\",\"\",VLOOKUP($A98,Pontuação!$A$5:$V$203,COLUMN(P:P),0))","v":""},{"$f":"IF(Propostas!$C105=\"\",\"\",VLOOKUP($A98,Pontuação!$A$5:$V$203,COLUMN(Q:Q),0))","v":""},{"$f":"IF(Propostas!$C105=\"\",\"\",VLOOKUP($A98,Pontuação!$A$5:$V$203,COLUMN(R:R),0))","v":""},{"$f":"IF(Propostas!$C105=\"\",\"\",VLOOKUP($A98,Pontuação!$A$5:$V$203,COLUMN(S:S),0))","v":""},{"$f":"IF(Propostas!$C105=\"\",\"\",VLOOKUP($A98,Pontuação!$A$5:$V$203,COLUMN(T:T),0))","v":""},{"$f":"IF(Propostas!$C105=\"\",\"\",VLOOKUP($A98,Pontuação!$A$5:$V$203,COLUMN(U:U),0))","v":""},{"$f":"IF(Propostas!$B105=\"\",\"\",SUM(C98:U98))","v":""},{"$f":"IF(Propostas!$C105=\"\",\"\",RANK(V98,$V$5:$V$203,0))","v":""},{"$f":"IF(Propostas!$C105=\"\",\"\",VLOOKUP(B98,Propostas[],3,0))","v":""},{"$f":"IF(Propostas!$C105=\"\",\"\",Y97-X98)","v":""},{"$f":"IF(Propostas!$C105=\"\",\"\",IF(Y98>0,\"S\",\"N\"))","v":""}]
[{"$f":"IF(Propostas!$C106=\"\",\"\",ROW(95:95))","v":""},{"$f":"IF(Propostas!$C106=\"\",\"\",VLOOKUP($A99,Pontuação!$A$5:$V$203,COLUMN(B:B),0))","v":""},{"$f":"IF(Propostas!$C106=\"\",\"\",VLOOKUP($A99,Pontuação!$A$5:$V$203,COLUMN(C:C),0))","v":""},{"$f":"IF(Propostas!$C106=\"\",\"\",VLOOKUP($A99,Pontuação!$A$5:$V$203,COLUMN(D:D),0))","v":""},{"$f":"IF(Propostas!$C106=\"\",\"\",VLOOKUP($A99,Pontuação!$A$5:$V$203,COLUMN(E:E),0))","v":""},{"$f":"IF(Propostas!$C106=\"\",\"\",VLOOKUP($A99,Pontuação!$A$5:$V$203,COLUMN(F:F),0))","v":""},{"$f":"IF(Propostas!$C106=\"\",\"\",VLOOKUP($A99,Pontuação!$A$5:$V$203,COLUMN(G:G),0))","v":""},{"$f":"IF(Propostas!$C106=\"\",\"\",VLOOKUP($A99,Pontuação!$A$5:$V$203,COLUMN(H:H),0))","v":""},{"$f":"IF(Propostas!$C106=\"\",\"\",VLOOKUP($A99,Pontuação!$A$5:$V$203,COLUMN(I:I),0))","v":""},{"$f":"IF(Propostas!$C106=\"\",\"\",VLOOKUP($A99,Pontuação!$A$5:$V$203,COLUMN(J:J),0))","v":""},{"$f":"IF(Propostas!$C106=\"\",\"\",VLOOKUP($A99,Pontuação!$A$5:$V$203,COLUMN(K:K),0))","v":""},{"$f":"IF(Propostas!$C106=\"\",\"\",VLOOKUP($A99,Pontuação!$A$5:$V$203,COLUMN(L:L),0))","v":""},{"$f":"IF(Propostas!$C106=\"\",\"\",VLOOKUP($A99,Pontuação!$A$5:$V$203,COLUMN(M:M),0))","v":""},{"$f":"IF(Propostas!$C106=\"\",\"\",VLOOKUP($A99,Pontuação!$A$5:$V$203,COLUMN(N:N),0))","v":""},{"$f":"IF(Propostas!$C106=\"\",\"\",VLOOKUP($A99,Pontuação!$A$5:$V$203,COLUMN(O:O),0))","v":""},{"$f":"IF(Propostas!$C106=\"\",\"\",VLOOKUP($A99,Pontuação!$A$5:$V$203,COLUMN(P:P),0))","v":""},{"$f":"IF(Propostas!$C106=\"\",\"\",VLOOKUP($A99,Pontuação!$A$5:$V$203,COLUMN(Q:Q),0))","v":""},{"$f":"IF(Propostas!$C106=\"\",\"\",VLOOKUP($A99,Pontuação!$A$5:$V$203,COLUMN(R:R),0))","v":""},{"$f":"IF(Propostas!$C106=\"\",\"\",VLOOKUP($A99,Pontuação!$A$5:$V$203,COLUMN(S:S),0))","v":""},{"$f":"IF(Propostas!$C106=\"\",\"\",VLOOKUP($A99,Pontuação!$A$5:$V$203,COLUMN(T:T),0))","v":""},{"$f":"IF(Propostas!$C106=\"\",\"\",VLOOKUP($A99,Pontuação!$A$5:$V$203,COLUMN(U:U),0))","v":""},{"$f":"IF(Propostas!$B106=\"\",\"\",SUM(C99:U99))","v":""},{"$f":"IF(Propostas!$C106=\"\",\"\",RANK(V99,$V$5:$V$203,0))","v":""},{"$f":"IF(Propostas!$C106=\"\",\"\",VLOOKUP(B99,Propostas[],3,0))","v":""},{"$f":"IF(Propostas!$C106=\"\",\"\",Y98-X99)","v":""},{"$f":"IF(Propostas!$C106=\"\",\"\",IF(Y99>0,\"S\",\"N\"))","v":""}]
[{"$f":"IF(Propostas!$C107=\"\",\"\",ROW(96:96))","v":""},{"$f":"IF(Propostas!$C107=\"\",\"\",VLOOKUP($A100,Pontuação!$A$5:$V$203,COLUMN(B:B),0))","v":""},{"$f":"IF(Propostas!$C107=\"\",\"\",VLOOKUP($A100,Pontuação!$A$5:$V$203,COLUMN(C:C),0))","v":""},{"$f":"IF(Propostas!$C107=\"\",\"\",VLOOKUP($A100,Pontuação!$A$5:$V$203,COLUMN(D:D),0))","v":""},{"$f":"IF(Propostas!$C107=\"\",\"\",VLOOKUP($A100,Pontuação!$A$5:$V$203,COLUMN(E:E),0))","v":""},{"$f":"IF(Propostas!$C107=\"\",\"\",VLOOKUP($A100,Pontuação!$A$5:$V$203,COLUMN(F:F),0))","v":""},{"$f":"IF(Propostas!$C107=\"\",\"\",VLOOKUP($A100,Pontuação!$A$5:$V$203,COLUMN(G:G),0))","v":""},{"$f":"IF(Propostas!$C107=\"\",\"\",VLOOKUP($A100,Pontuação!$A$5:$V$203,COLUMN(H:H),0))","v":""},{"$f":"IF(Propostas!$C107=\"\",\"\",VLOOKUP($A100,Pontuação!$A$5:$V$203,COLUMN(I:I),0))","v":""},{"$f":"IF(Propostas!$C107=\"\",\"\",VLOOKUP($A100,Pontuação!$A$5:$V$203,COLUMN(J:J),0))","v":""},{"$f":"IF(Propostas!$C107=\"\",\"\",VLOOKUP($A100,Pontuação!$A$5:$V$203,COLUMN(K:K),0))","v":""},{"$f":"IF(Propostas!$C107=\"\",\"\",VLOOKUP($A100,Pontuação!$A$5:$V$203,COLUMN(L:L),0))","v":""},{"$f":"IF(Propostas!$C107=\"\",\"\",VLOOKUP($A100,Pontuação!$A$5:$V$203,COLUMN(M:M),0))","v":""},{"$f":"IF(Propostas!$C107=\"\",\"\",VLOOKUP($A100,Pontuação!$A$5:$V$203,COLUMN(N:N),0))","v":""},{"$f":"IF(Propostas!$C107=\"\",\"\",VLOOKUP($A100,Pontuação!$A$5:$V$203,COLUMN(O:O),0))","v":""},{"$f":"IF(Propostas!$C107=\"\",\"\",VLOOKUP($A100,Pontuação!$A$5:$V$203,COLUMN(P:P),0))","v":""},{"$f":"IF(Propostas!$C107=\"\",\"\",VLOOKUP($A100,Pontuação!$A$5:$V$203,COLUMN(Q:Q),0))","v":""},{"$f":"IF(Propostas!$C107=\"\",\"\",VLOOKUP($A100,Pontuação!$A$5:$V$203,COLUMN(R:R),0))","v":""},{"$f":"IF(Propostas!$C107=\"\",\"\",VLOOKUP($A100,Pontuação!$A$5:$V$203,COLUMN(S:S),0))","v":""},{"$f":"IF(Propostas!$C107=\"\",\"\",VLOOKUP($A100,Pontuação!$A$5:$V$203,COLUMN(T:T),0))","v":""},{"$f":"IF(Propostas!$C107=\"\",\"\",VLOOKUP($A100,Pontuação!$A$5:$V$203,COLUMN(U:U),0))","v":""},{"$f":"IF(Propostas!$B107=\"\",\"\",SUM(C100:U100))","v":""},{"$f":"IF(Propostas!$C107=\"\",\"\",RANK(V100,$V$5:$V$203,0))","v":""},{"$f":"IF(Propostas!$C107=\"\",\"\",VLOOKUP(B100,Propostas[],3,0))","v":""},{"$f":"IF(Propostas!$C107=\"\",\"\",Y99-X100)","v":""},{"$f":"IF(Propostas!$C107=\"\",\"\",IF(Y100>0,\"S\",\"N\"))","v":""}]
[{"$f":"IF(Propostas!$C108=\"\",\"\",ROW(97:97))","v":""},{"$f":"IF(Propostas!$C108=\"\",\"\",VLOOKUP($A101,Pontuação!$A$5:$V$203,COLUMN(B:B),0))","v":""},{"$f":"IF(Propostas!$C108=\"\",\"\",VLOOKUP($A101,Pontuação!$A$5:$V$203,COLUMN(C:C),0))","v":""},{"$f":"IF(Propostas!$C108=\"\",\"\",VLOOKUP($A101,Pontuação!$A$5:$V$203,COLUMN(D:D),0))","v":""},{"$f":"IF(Propostas!$C108=\"\",\"\",VLOOKUP($A101,Pontuação!$A$5:$V$203,COLUMN(E:E),0))","v":""},{"$f":"IF(Propostas!$C108=\"\",\"\",VLOOKUP($A101,Pontuação!$A$5:$V$203,COLUMN(F:F),0))","v":""},{"$f":"IF(Propostas!$C108=\"\",\"\",VLOOKUP($A101,Pontuação!$A$5:$V$203,COLUMN(G:G),0))","v":""},{"$f":"IF(Propostas!$C108=\"\",\"\",VLOOKUP($A101,Pontuação!$A$5:$V$203,COLUMN(H:H),0))","v":""},{"$f":"IF(Propostas!$C108=\"\",\"\",VLOOKUP($A101,Pontuação!$A$5:$V$203,COLUMN(I:I),0))","v":""},{"$f":"IF(Propostas!$C108=\"\",\"\",VLOOKUP($A101,Pontuação!$A$5:$V$203,COLUMN(J:J),0))","v":""},{"$f":"IF(Propostas!$C108=\"\",\"\",VLOOKUP($A101,Pontuação!$A$5:$V$203,COLUMN(K:K),0))","v":""},{"$f":"IF(Propostas!$C108=\"\",\"\",VLOOKUP($A101,Pontuação!$A$5:$V$203,COLUMN(L:L),0))","v":""},{"$f":"IF(Propostas!$C108=\"\",\"\",VLOOKUP($A101,Pontuação!$A$5:$V$203,COLUMN(M:M),0))","v":""},{"$f":"IF(Propostas!$C108=\"\",\"\",VLOOKUP($A101,Pontuação!$A$5:$V$203,COLUMN(N:N),0))","v":""},{"$f":"IF(Propostas!$C108=\"\",\"\",VLOOKUP($A101,Pontuação!$A$5:$V$203,COLUMN(O:O),0))","v":""},{"$f":"IF(Propostas!$C108=\"\",\"\",VLOOKUP($A101,Pontuação!$A$5:$V$203,COLUMN(P:P),0))","v":""},{"$f":"IF(Propostas!$C108=\"\",\"\",VLOOKUP($A101,Pontuação!$A$5:$V$203,COLUMN(Q:Q),0))","v":""},{"$f":"IF(Propostas!$C108=\"\",\"\",VLOOKUP($A101,Pontuação!$A$5:$V$203,COLUMN(R:R),0))","v":""},{"$f":"IF(Propostas!$C108=\"\",\"\",VLOOKUP($A101,Pontuação!$A$5:$V$203,COLUMN(S:S),0))","v":""},{"$f":"IF(Propostas!$C108=\"\",\"\",VLOOKUP($A101,Pontuação!$A$5:$V$203,COLUMN(T:T),0))","v":""},{"$f":"IF(Propostas!$C108=\"\",\"\",VLOOKUP($A101,Pontuação!$A$5:$V$203,COLUMN(U:U),0))","v":""},{"$f":"IF(Propostas!$B108=\"\",\"\",SUM(C101:U101))","v":""},{"$f":"IF(Propostas!$C108=\"\",\"\",RANK(V101,$V$5:$V$203,0))","v":""},{"$f":"IF(Propostas!$C108=\"\",\"\",VLOOKUP(B101,Propostas[],3,0))","v":""},{"$f":"IF(Propostas!$C108=\"\",\"\",Y100-X101)","v":""},{"$f":"IF(Propostas!$C108=\"\",\"\",IF(Y101>0,\"S\",\"N\"))","v":""}]
[{"$f":"IF(Propostas!$C109=\"\",\"\",ROW(98:98))","v":""},{"$f":"IF(Propostas!$C109=\"\",\"\",VLOOKUP($A102,Pontuação!$A$5:$V$203,COLUMN(B:B),0))","v":""},{"$f":"IF(Propostas!$C109=\"\",\"\",VLOOKUP($A102,Pontuação!$A$5:$V$203,COLUMN(C:C),0))","v":""},{"$f":"IF(Propostas!$C109=\"\",\"\",VLOOKUP($A102,Pontuação!$A$5:$V$203,COLUMN(D:D),0))","v":""},{"$f":"IF(Propostas!$C109=\"\",\"\",VLOOKUP($A102,Pontuação!$A$5:$V$203,COLUMN(E:E),0))","v":""},{"$f":"IF(Propostas!$C109=\"\",\"\",VLOOKUP($A102,Pontuação!$A$5:$V$203,COLUMN(F:F),0))","v":""},{"$f":"IF(Propostas!$C109=\"\",\"\",VLOOKUP($A102,Pontuação!$A$5:$V$203,COLUMN(G:G),0))","v":""},{"$f":"IF(Propostas!$C109=\"\",\"\",VLOOKUP($A102,Pontuação!$A$5:$V$203,COLUMN(H:H),0))","v":""},{"$f":"IF(Propostas!$C109=\"\",\"\",VLOOKUP($A102,Pontuação!$A$5:$V$203,COLUMN(I:I),0))","v":""},{"$f":"IF(Propostas!$C109=\"\",\"\",VLOOKUP($A102,Pontuação!$A$5:$V$203,COLUMN(J:J),0))","v":""},{"$f":"IF(Propostas!$C109=\"\",\"\",VLOOKUP($A102,Pontuação!$A$5:$V$203,COLUMN(K:K),0))","v":""},{"$f":"IF(Propostas!$C109=\"\",\"\",VLOOKUP($A102,Pontuação!$A$5:$V$203,COLUMN(L:L),0))","v":""},{"$f":"IF(Propostas!$C109=\"\",\"\",VLOOKUP($A102,Pontuação!$A$5:$V$203,COLUMN(M:M),0))","v":""},{"$f":"IF(Propostas!$C109=\"\",\"\",VLOOKUP($A102,Pontuação!$A$5:$V$203,COLUMN(N:N),0))","v":""},{"$f":"IF(Propostas!$C109=\"\",\"\",VLOOKUP($A102,Pontuação!$A$5:$V$203,COLUMN(O:O),0))","v":""},{"$f":"IF(Propostas!$C109=\"\",\"\",VLOOKUP($A102,Pontuação!$A$5:$V$203,COLUMN(P:P),0))","v":""},{"$f":"IF(Propostas!$C109=\"\",\"\",VLOOKUP($A102,Pontuação!$A$5:$V$203,COLUMN(Q:Q),0))","v":""},{"$f":"IF(Propostas!$C109=\"\",\"\",VLOOKUP($A102,Pontuação!$A$5:$V$203,COLUMN(R:R),0))","v":""},{"$f":"IF(Propostas!$C109=\"\",\"\",VLOOKUP($A102,Pontuação!$A$5:$V$203,COLUMN(S:S),0))","v":""},{"$f":"IF(Propostas!$C109=\"\",\"\",VLOOKUP($A102,Pontuação!$A$5:$V$203,COLUMN(T:T),0))","v":""},{"$f":"IF(Propostas!$C109=\"\",\"\",VLOOKUP($A102,Pontuação!$A$5:$V$203,COLUMN(U:U),0))","v":""},{"$f":"IF(Propostas!$B109=\"\",\"\",SUM(C102:U102))","v":""},{"$f":"IF(Propostas!$C109=\"\",\"\",RANK(V102,$V$5:$V$203,0))","v":""},{"$f":"IF(Propostas!$C109=\"\",\"\",VLOOKUP(B102,Propostas[],3,0))","v":""},{"$f":"IF(Propostas!$C109=\"\",\"\",Y101-X102)","v":""},{"$f":"IF(Propostas!$C109=\"\",\"\",IF(Y102>0,\"S\",\"N\"))","v":""}]
[{"$f":"IF(Propostas!$C110=\"\",\"\",ROW(99:99))","v":""},{"$f":"IF(Propostas!$C110=\"\",\"\",VLOOKUP($A103,Pontuação!$A$5:$V$203,COLUMN(B:B),0))","v":""},{"$f":"IF(Propostas!$C110=\"\",\"\",VLOOKUP($A103,Pontuação!$A$5:$V$203,COLUMN(C:C),0))","v":""},{"$f":"IF(Propostas!$C110=\"\",\"\",VLOOKUP($A103,Pontuação!$A$5:$V$203,COLUMN(D:D),0))","v":""},{"$f":"IF(Propostas!$C110=\"\",\"\",VLOOKUP($A103,Pontuação!$A$5:$V$203,COLUMN(E:E),0))","v":""},{"$f":"IF(Propostas!$C110=\"\",\"\",VLOOKUP($A103,Pontuação!$A$5:$V$203,COLUMN(F:F),0))","v":""},{"$f":"IF(Propostas!$C110=\"\",\"\",VLOOKUP($A103,Pontuação!$A$5:$V$203,COLUMN(G:G),0))","v":""},{"$f":"IF(Propostas!$C110=\"\",\"\",VLOOKUP($A103,Pontuação!$A$5:$V$203,COLUMN(H:H),0))","v":""},{"$f":"IF(Propostas!$C110=\"\",\"\",VLOOKUP($A103,Pontuação!$A$5:$V$203,COLUMN(I:I),0))","v":""},{"$f":"IF(Propostas!$C110=\"\",\"\",VLOOKUP($A103,Pontuação!$A$5:$V$203,COLUMN(J:J),0))","v":""},{"$f":"IF(Propostas!$C110=\"\",\"\",VLOOKUP($A103,Pontuação!$A$5:$V$203,COLUMN(K:K),0))","v":""},{"$f":"IF(Propostas!$C110=\"\",\"\",VLOOKUP($A103,Pontuação!$A$5:$V$203,COLUMN(L:L),0))","v":""},{"$f":"IF(Propostas!$C110=\"\",\"\",VLOOKUP($A103,Pontuação!$A$5:$V$203,COLUMN(M:M),0))","v":""},{"$f":"IF(Propostas!$C110=\"\",\"\",VLOOKUP($A103,Pontuação!$A$5:$V$203,COLUMN(N:N),0))","v":""},{"$f":"IF(Propostas!$C110=\"\",\"\",VLOOKUP($A103,Pontuação!$A$5:$V$203,COLUMN(O:O),0))","v":""},{"$f":"IF(Propostas!$C110=\"\",\"\",VLOOKUP($A103,Pontuação!$A$5:$V$203,COLUMN(P:P),0))","v":""},{"$f":"IF(Propostas!$C110=\"\",\"\",VLOOKUP($A103,Pontuação!$A$5:$V$203,COLUMN(Q:Q),0))","v":""},{"$f":"IF(Propostas!$C110=\"\",\"\",VLOOKUP($A103,Pontuação!$A$5:$V$203,COLUMN(R:R),0))","v":""},{"$f":"IF(Propostas!$C110=\"\",\"\",VLOOKUP($A103,Pontuação!$A$5:$V$203,COLUMN(S:S),0))","v":""},{"$f":"IF(Propostas!$C110=\"\",\"\",VLOOKUP($A103,Pontuação!$A$5:$V$203,COLUMN(T:T),0))","v":""},{"$f":"IF(Propostas!$C110=\"\",\"\",VLOOKUP($A103,Pontuação!$A$5:$V$203,COLUMN(U:U),0))","v":""},{"$f":"IF(Propostas!$B110=\"\",\"\",SUM(C103:U103))","v":""},{"$f":"IF(Propostas!$C110=\"\",\"\",RANK(V103,$V$5:$V$203,0))","v":""},{"$f":"IF(Propostas!$C110=\"\",\"\",VLOOKUP(B103,Propostas[],3,0))","v":""},{"$f":"IF(Propostas!$C110=\"\",\"\",Y102-X103)","v":""},{"$f":"IF(Propostas!$C110=\"\",\"\",IF(Y103>0,\"S\",\"N\"))","v":""}]
[{"$f":"IF(Propostas!$C111=\"\",\"\",ROW(100:100))","v":""},{"$f":"IF(Propostas!$C111=\"\",\"\",VLOOKUP($A104,Pontuação!$A$5:$V$203,COLUMN(B:B),0))","v":""},{"$f":"IF(Propostas!$C111=\"\",\"\",VLOOKUP($A104,Pontuação!$A$5:$V$203,COLUMN(C:C),0))","v":""},{"$f":"IF(Propostas!$C111=\"\",\"\",VLOOKUP($A104,Pontuação!$A$5:$V$203,COLUMN(D:D),0))","v":""},{"$f":"IF(Propostas!$C111=\"\",\"\",VLOOKUP($A104,Pontuação!$A$5:$V$203,COLUMN(E:E),0))","v":""},{"$f":"IF(Propostas!$C111=\"\",\"\",VLOOKUP($A104,Pontuação!$A$5:$V$203,COLUMN(F:F),0))","v":""},{"$f":"IF(Propostas!$C111=\"\",\"\",VLOOKUP($A104,Pontuação!$A$5:$V$203,COLUMN(G:G),0))","v":""},{"$f":"IF(Propostas!$C111=\"\",\"\",VLOOKUP($A104,Pontuação!$A$5:$V$203,COLUMN(H:H),0))","v":""},{"$f":"IF(Propostas!$C111=\"\",\"\",VLOOKUP($A104,Pontuação!$A$5:$V$203,COLUMN(I:I),0))","v":""},{"$f":"IF(Propostas!$C111=\"\",\"\",VLOOKUP($A104,Pontuação!$A$5:$V$203,COLUMN(J:J),0))","v":""},{"$f":"IF(Propostas!$C111=\"\",\"\",VLOOKUP($A104,Pontuação!$A$5:$V$203,COLUMN(K:K),0))","v":""},{"$f":"IF(Propostas!$C111=\"\",\"\",VLOOKUP($A104,Pontuação!$A$5:$V$203,COLUMN(L:L),0))","v":""},{"$f":"IF(Propostas!$C111=\"\",\"\",VLOOKUP($A104,Pontuação!$A$5:$V$203,COLUMN(M:M),0))","v":""},{"$f":"IF(Propostas!$C111=\"\",\"\",VLOOKUP($A104,Pontuação!$A$5:$V$203,COLUMN(N:N),0))","v":""},{"$f":"IF(Propostas!$C111=\"\",\"\",VLOOKUP($A104,Pontuação!$A$5:$V$203,COLUMN(O:O),0))","v":""},{"$f":"IF(Propostas!$C111=\"\",\"\",VLOOKUP($A104,Pontuação!$A$5:$V$203,COLUMN(P:P),0))","v":""},{"$f":"IF(Propostas!$C111=\"\",\"\",VLOOKUP($A104,Pontuação!$A$5:$V$203,COLUMN(Q:Q),0))","v":""},{"$f":"IF(Propostas!$C111=\"\",\"\",VLOOKUP($A104,Pontuação!$A$5:$V$203,COLUMN(R:R),0))","v":""},{"$f":"IF(Propostas!$C111=\"\",\"\",VLOOKUP($A104,Pontuação!$A$5:$V$203,COLUMN(S:S),0))","v":""},{"$f":"IF(Propostas!$C111=\"\",\"\",VLOOKUP($A104,Pontuação!$A$5:$V$203,COLUMN(T:T),0))","v":""},{"$f":"IF(Propostas!$C111=\"\",\"\",VLOOKUP($A104,Pontuação!$A$5:$V$203,COLUMN(U:U),0))","v":""},{"$f":"IF(Propostas!$B111=\"\",\"\",SUM(C104:U104))","v":""},{"$f":"IF(Propostas!$C111=\"\",\"\",RANK(V104,$V$5:$V$203,0))","v":""},{"$f":"IF(Propostas!$C111=\"\",\"\",VLOOKUP(B104,Propostas[],3,0))","v":""},{"$f":"IF(Propostas!$C111=\"\",\"\",Y103-X104)","v":""},{"$f":"IF(Propostas!$C111=\"\",\"\",IF(Y104>0,\"S\",\"N\"))","v":""}]
[{"$f":"IF(Propostas!$C112=\"\",\"\",ROW(101:101))","v":""},{"$f":"IF(Propostas!$C112=\"\",\"\",VLOOKUP($A105,Pontuação!$A$5:$V$203,COLUMN(B:B),0))","v":""},{"$f":"IF(Propostas!$C112=\"\",\"\",VLOOKUP($A105,Pontuação!$A$5:$V$203,COLUMN(C:C),0))","v":""},{"$f":"IF(Propostas!$C112=\"\",\"\",VLOOKUP($A105,Pontuação!$A$5:$V$203,COLUMN(D:D),0))","v":""},{"$f":"IF(Propostas!$C112=\"\",\"\",VLOOKUP($A105,Pontuação!$A$5:$V$203,COLUMN(E:E),0))","v":""},{"$f":"IF(Propostas!$C112=\"\",\"\",VLOOKUP($A105,Pontuação!$A$5:$V$203,COLUMN(F:F),0))","v":""},{"$f":"IF(Propostas!$C112=\"\",\"\",VLOOKUP($A105,Pontuação!$A$5:$V$203,COLUMN(G:G),0))","v":""},{"$f":"IF(Propostas!$C112=\"\",\"\",VLOOKUP($A105,Pontuação!$A$5:$V$203,COLUMN(H:H),0))","v":""},{"$f":"IF(Propostas!$C112=\"\",\"\",VLOOKUP($A105,Pontuação!$A$5:$V$203,COLUMN(I:I),0))","v":""},{"$f":"IF(Propostas!$C112=\"\",\"\",VLOOKUP($A105,Pontuação!$A$5:$V$203,COLUMN(J:J),0))","v":""},{"$f":"IF(Propostas!$C112=\"\",\"\",VLOOKUP($A105,Pontuação!$A$5:$V$203,COLUMN(K:K),0))","v":""},{"$f":"IF(Propostas!$C112=\"\",\"\",VLOOKUP($A105,Pontuação!$A$5:$V$203,COLUMN(L:L),0))","v":""},{"$f":"IF(Propostas!$C112=\"\",\"\",VLOOKUP($A105,Pontuação!$A$5:$V$203,COLUMN(M:M),0))","v":""},{"$f":"IF(Propostas!$C112=\"\",\"\",VLOOKUP($A105,Pontuação!$A$5:$V$203,COLUMN(N:N),0))","v":""},{"$f":"IF(Propostas!$C112=\"\",\"\",VLOOKUP($A105,Pontuação!$A$5:$V$203,COLUMN(O:O),0))","v":""},{"$f":"IF(Propostas!$C112=\"\",\"\",VLOOKUP($A105,Pontuação!$A$5:$V$203,COLUMN(P:P),0))","v":""},{"$f":"IF(Propostas!$C112=\"\",\"\",VLOOKUP($A105,Pontuação!$A$5:$V$203,COLUMN(Q:Q),0))","v":""},{"$f":"IF(Propostas!$C112=\"\",\"\",VLOOKUP($A105,Pontuação!$A$5:$V$203,COLUMN(R:R),0))","v":""},{"$f":"IF(Propostas!$C112=\"\",\"\",VLOOKUP($A105,Pontuação!$A$5:$V$203,COLUMN(S:S),0))","v":""},{"$f":"IF(Propostas!$C112=\"\",\"\",VLOOKUP($A105,Pontuação!$A$5:$V$203,COLUMN(T:T),0))","v":""},{"$f":"IF(Propostas!$C112=\"\",\"\",VLOOKUP($A105,Pontuação!$A$5:$V$203,COLUMN(U:U),0))","v":""},{"$f":"IF(Propostas!$B112=\"\",\"\",SUM(C105:U105))","v":""},{"$f":"IF(Propostas!$C112=\"\",\"\",RANK(V105,$V$5:$V$203,0))","v":""},{"$f":"IF(Propostas!$C112=\"\",\"\",VLOOKUP(B105,Propostas[],3,0))","v":""},{"$f":"IF(Propostas!$C112=\"\",\"\",Y104-X105)","v":""},{"$f":"IF(Propostas!$C112=\"\",\"\",IF(Y105>0,\"S\",\"N\"))","v":""}]
[{"$f":"IF(Propostas!$C113=\"\",\"\",ROW(102:102))","v":""},{"$f":"IF(Propostas!$C113=\"\",\"\",VLOOKUP($A106,Pontuação!$A$5:$V$203,COLUMN(B:B),0))","v":""},{"$f":"IF(Propostas!$C113=\"\",\"\",VLOOKUP($A106,Pontuação!$A$5:$V$203,COLUMN(C:C),0))","v":""},{"$f":"IF(Propostas!$C113=\"\",\"\",VLOOKUP($A106,Pontuação!$A$5:$V$203,COLUMN(D:D),0))","v":""},{"$f":"IF(Propostas!$C113=\"\",\"\",VLOOKUP($A106,Pontuação!$A$5:$V$203,COLUMN(E:E),0))","v":""},{"$f":"IF(Propostas!$C113=\"\",\"\",VLOOKUP($A106,Pontuação!$A$5:$V$203,COLUMN(F:F),0))","v":""},{"$f":"IF(Propostas!$C113=\"\",\"\",VLOOKUP($A106,Pontuação!$A$5:$V$203,COLUMN(G:G),0))","v":""},{"$f":"IF(Propostas!$C113=\"\",\"\",VLOOKUP($A106,Pontuação!$A$5:$V$203,COLUMN(H:H),0))","v":""},{"$f":"IF(Propostas!$C113=\"\",\"\",VLOOKUP($A106,Pontuação!$A$5:$V$203,COLUMN(I:I),0))","v":""},{"$f":"IF(Propostas!$C113=\"\",\"\",VLOOKUP($A106,Pontuação!$A$5:$V$203,COLUMN(J:J),0))","v":""},{"$f":"IF(Propostas!$C113=\"\",\"\",VLOOKUP($A106,Pontuação!$A$5:$V$203,COLUMN(K:K),0))","v":""},{"$f":"IF(Propostas!$C113=\"\",\"\",VLOOKUP($A106,Pontuação!$A$5:$V$203,COLUMN(L:L),0))","v":""},{"$f":"IF(Propostas!$C113=\"\",\"\",VLOOKUP($A106,Pontuação!$A$5:$V$203,COLUMN(M:M),0))","v":""},{"$f":"IF(Propostas!$C113=\"\",\"\",VLOOKUP($A106,Pontuação!$A$5:$V$203,COLUMN(N:N),0))","v":""},{"$f":"IF(Propostas!$C113=\"\",\"\",VLOOKUP($A106,Pontuação!$A$5:$V$203,COLUMN(O:O),0))","v":""},{"$f":"IF(Propostas!$C113=\"\",\"\",VLOOKUP($A106,Pontuação!$A$5:$V$203,COLUMN(P:P),0))","v":""},{"$f":"IF(Propostas!$C113=\"\",\"\",VLOOKUP($A106,Pontuação!$A$5:$V$203,COLUMN(Q:Q),0))","v":""},{"$f":"IF(Propostas!$C113=\"\",\"\",VLOOKUP($A106,Pontuação!$A$5:$V$203,COLUMN(R:R),0))","v":""},{"$f":"IF(Propostas!$C113=\"\",\"\",VLOOKUP($A106,Pontuação!$A$5:$V$203,COLUMN(S:S),0))","v":""},{"$f":"IF(Propostas!$C113=\"\",\"\",VLOOKUP($A106,Pontuação!$A$5:$V$203,COLUMN(T:T),0))","v":""},{"$f":"IF(Propostas!$C113=\"\",\"\",VLOOKUP($A106,Pontuação!$A$5:$V$203,COLUMN(U:U),0))","v":""},{"$f":"IF(Propostas!$B113=\"\",\"\",SUM(C106:U106))","v":""},{"$f":"IF(Propostas!$C113=\"\",\"\",RANK(V106,$V$5:$V$203,0))","v":""},{"$f":"IF(Propostas!$C113=\"\",\"\",VLOOKUP(B106,Propostas[],3,0))","v":""},{"$f":"IF(Propostas!$C113=\"\",\"\",Y105-X106)","v":""},{"$f":"IF(Propostas!$C113=\"\",\"\",IF(Y106>0,\"S\",\"N\"))","v":""}]
[{"$f":"IF(Propostas!$C114=\"\",\"\",ROW(103:103))","v":""},{"$f":"IF(Propostas!$C114=\"\",\"\",VLOOKUP($A107,Pontuação!$A$5:$V$203,COLUMN(B:B),0))","v":""},{"$f":"IF(Propostas!$C114=\"\",\"\",VLOOKUP($A107,Pontuação!$A$5:$V$203,COLUMN(C:C),0))","v":""},{"$f":"IF(Propostas!$C114=\"\",\"\",VLOOKUP($A107,Pontuação!$A$5:$V$203,COLUMN(D:D),0))","v":""},{"$f":"IF(Propostas!$C114=\"\",\"\",VLOOKUP($A107,Pontuação!$A$5:$V$203,COLUMN(E:E),0))","v":""},{"$f":"IF(Propostas!$C114=\"\",\"\",VLOOKUP($A107,Pontuação!$A$5:$V$203,COLUMN(F:F),0))","v":""},{"$f":"IF(Propostas!$C114=\"\",\"\",VLOOKUP($A107,Pontuação!$A$5:$V$203,COLUMN(G:G),0))","v":""},{"$f":"IF(Propostas!$C114=\"\",\"\",VLOOKUP($A107,Pontuação!$A$5:$V$203,COLUMN(H:H),0))","v":""},{"$f":"IF(Propostas!$C114=\"\",\"\",VLOOKUP($A107,Pontuação!$A$5:$V$203,COLUMN(I:I),0))","v":""},{"$f":"IF(Propostas!$C114=\"\",\"\",VLOOKUP($A107,Pontuação!$A$5:$V$203,COLUMN(J:J),0))","v":""},{"$f":"IF(Propostas!$C114=\"\",\"\",VLOOKUP($A107,Pontuação!$A$5:$V$203,COLUMN(K:K),0))","v":""},{"$f":"IF(Propostas!$C114=\"\",\"\",VLOOKUP($A107,Pontuação!$A$5:$V$203,COLUMN(L:L),0))","v":""},{"$f":"IF(Propostas!$C114=\"\",\"\",VLOOKUP($A107,Pontuação!$A$5:$V$203,COLUMN(M:M),0))","v":""},{"$f":"IF(Propostas!$C114=\"\",\"\",VLOOKUP($A107,Pontuação!$A$5:$V$203,COLUMN(N:N),0))","v":""},{"$f":"IF(Propostas!$C114=\"\",\"\",VLOOKUP($A107,Pontuação!$A$5:$V$203,COLUMN(O:O),0))","v":""},{"$f":"IF(Propostas!$C114=\"\",\"\",VLOOKUP($A107,Pontuação!$A$5:$V$203,COLUMN(P:P),0))","v":""},{"$f":"IF(Propostas!$C114=\"\",\"\",VLOOKUP($A107,Pontuação!$A$5:$V$203,COLUMN(Q:Q),0))","v":""},{"$f":"IF(Propostas!$C114=\"\",\"\",VLOOKUP($A107,Pontuação!$A$5:$V$203,COLUMN(R:R),0))","v":""},{"$f":"IF(Propostas!$C114=\"\",\"\",VLOOKUP($A107,Pontuação!$A$5:$V$203,COLUMN(S:S),0))","v":""},{"$f":"IF(Propostas!$C114=\"\",\"\",VLOOKUP($A107,Pontuação!$A$5:$V$203,COLUMN(T:T),0))","v":""},{"$f":"IF(Propostas!$C114=\"\",\"\",VLOOKUP($A107,Pontuação!$A$5:$V$203,COLUMN(U:U),0))","v":""},{"$f":"IF(Propostas!$B114=\"\",\"\",SUM(C107:U107))","v":""},{"$f":"IF(Propostas!$C114=\"\",\"\",RANK(V107,$V$5:$V$203,0))","v":""},{"$f":"IF(Propostas!$C114=\"\",\"\",VLOOKUP(B107,Propostas[],3,0))","v":""},{"$f":"IF(Propostas!$C114=\"\",\"\",Y106-X107)","v":""},{"$f":"IF(Propostas!$C114=\"\",\"\",IF(Y107>0,\"S\",\"N\"))","v":""}]
[{"$f":"IF(Propostas!$C115=\"\",\"\",ROW(104:104))","v":""},{"$f":"IF(Propostas!$C115=\"\",\"\",VLOOKUP($A108,Pontuação!$A$5:$V$203,COLUMN(B:B),0))","v":""},{"$f":"IF(Propostas!$C115=\"\",\"\",VLOOKUP($A108,Pontuação!$A$5:$V$203,COLUMN(C:C),0))","v":""},{"$f":"IF(Propostas!$C115=\"\",\"\",VLOOKUP($A108,Pontuação!$A$5:$V$203,COLUMN(D:D),0))","v":""},{"$f":"IF(Propostas!$C115=\"\",\"\",VLOOKUP($A108,Pontuação!$A$5:$V$203,COLUMN(E:E),0))","v":""},{"$f":"IF(Propostas!$C115=\"\",\"\",VLOOKUP($A108,Pontuação!$A$5:$V$203,COLUMN(F:F),0))","v":""},{"$f":"IF(Propostas!$C115=\"\",\"\",VLOOKUP($A108,Pontuação!$A$5:$V$203,COLUMN(G:G),0))","v":""},{"$f":"IF(Propostas!$C115=\"\",\"\",VLOOKUP($A108,Pontuação!$A$5:$V$203,COLUMN(H:H),0))","v":""},{"$f":"IF(Propostas!$C115=\"\",\"\",VLOOKUP($A108,Pontuação!$A$5:$V$203,COLUMN(I:I),0))","v":""},{"$f":"IF(Propostas!$C115=\"\",\"\",VLOOKUP($A108,Pontuação!$A$5:$V$203,COLUMN(J:J),0))","v":""},{"$f":"IF(Propostas!$C115=\"\",\"\",VLOOKUP($A108,Pontuação!$A$5:$V$203,COLUMN(K:K),0))","v":""},{"$f":"IF(Propostas!$C115=\"\",\"\",VLOOKUP($A108,Pontuação!$A$5:$V$203,COLUMN(L:L),0))","v":""},{"$f":"IF(Propostas!$C115=\"\",\"\",VLOOKUP($A108,Pontuação!$A$5:$V$203,COLUMN(M:M),0))","v":""},{"$f":"IF(Propostas!$C115=\"\",\"\",VLOOKUP($A108,Pontuação!$A$5:$V$203,COLUMN(N:N),0))","v":""},{"$f":"IF(Propostas!$C115=\"\",\"\",VLOOKUP($A108,Pontuação!$A$5:$V$203,COLUMN(O:O),0))","v":""},{"$f":"IF(Propostas!$C115=\"\",\"\",VLOOKUP($A108,Pontuação!$A$5:$V$203,COLUMN(P:P),0))","v":""},{"$f":"IF(Propostas!$C115=\"\",\"\",VLOOKUP($A108,Pontuação!$A$5:$V$203,COLUMN(Q:Q),0))","v":""},{"$f":"IF(Propostas!$C115=\"\",\"\",VLOOKUP($A108,Pontuação!$A$5:$V$203,COLUMN(R:R),0))","v":""},{"$f":"IF(Propostas!$C115=\"\",\"\",VLOOKUP($A108,Pontuação!$A$5:$V$203,COLUMN(S:S),0))","v":""},{"$f":"IF(Propostas!$C115=\"\",\"\",VLOOKUP($A108,Pontuação!$A$5:$V$203,COLUMN(T:T),0))","v":""},{"$f":"IF(Propostas!$C115=\"\",\"\",VLOOKUP($A108,Pontuação!$A$5:$V$203,COLUMN(U:U),0))","v":""},{"$f":"IF(Propostas!$B115=\"\",\"\",SUM(C108:U108))","v":""},{"$f":"IF(Propostas!$C115=\"\",\"\",RANK(V108,$V$5:$V$203,0))","v":""},{"$f":"IF(Propostas!$C115=\"\",\"\",VLOOKUP(B108,Propostas[],3,0))","v":""},{"$f":"IF(Propostas!$C115=\"\",\"\",Y107-X108)","v":""},{"$f":"IF(Propostas!$C115=\"\",\"\",IF(Y108>0,\"S\",\"N\"))","v":""}]
[{"$f":"IF(Propostas!$C116=\"\",\"\",ROW(105:105))","v":""},{"$f":"IF(Propostas!$C116=\"\",\"\",VLOOKUP($A109,Pontuação!$A$5:$V$203,COLUMN(B:B),0))","v":""},{"$f":"IF(Propostas!$C116=\"\",\"\",VLOOKUP($A109,Pontuação!$A$5:$V$203,COLUMN(C:C),0))","v":""},{"$f":"IF(Propostas!$C116=\"\",\"\",VLOOKUP($A109,Pontuação!$A$5:$V$203,COLUMN(D:D),0))","v":""},{"$f":"IF(Propostas!$C116=\"\",\"\",VLOOKUP($A109,Pontuação!$A$5:$V$203,COLUMN(E:E),0))","v":""},{"$f":"IF(Propostas!$C116=\"\",\"\",VLOOKUP($A109,Pontuação!$A$5:$V$203,COLUMN(F:F),0))","v":""},{"$f":"IF(Propostas!$C116=\"\",\"\",VLOOKUP($A109,Pontuação!$A$5:$V$203,COLUMN(G:G),0))","v":""},{"$f":"IF(Propostas!$C116=\"\",\"\",VLOOKUP($A109,Pontuação!$A$5:$V$203,COLUMN(H:H),0))","v":""},{"$f":"IF(Propostas!$C116=\"\",\"\",VLOOKUP($A109,Pontuação!$A$5:$V$203,COLUMN(I:I),0))","v":""},{"$f":"IF(Propostas!$C116=\"\",\"\",VLOOKUP($A109,Pontuação!$A$5:$V$203,COLUMN(J:J),0))","v":""},{"$f":"IF(Propostas!$C116=\"\",\"\",VLOOKUP($A109,Pontuação!$A$5:$V$203,COLUMN(K:K),0))","v":""},{"$f":"IF(Propostas!$C116=\"\",\"\",VLOOKUP($A109,Pontuação!$A$5:$V$203,COLUMN(L:L),0))","v":""},{"$f":"IF(Propostas!$C116=\"\",\"\",VLOOKUP($A109,Pontuação!$A$5:$V$203,COLUMN(M:M),0))","v":""},{"$f":"IF(Propostas!$C116=\"\",\"\",VLOOKUP($A109,Pontuação!$A$5:$V$203,COLUMN(N:N),0))","v":""},{"$f":"IF(Propostas!$C116=\"\",\"\",VLOOKUP($A109,Pontuação!$A$5:$V$203,COLUMN(O:O),0))","v":""},{"$f":"IF(Propostas!$C116=\"\",\"\",VLOOKUP($A109,Pontuação!$A$5:$V$203,COLUMN(P:P),0))","v":""},{"$f":"IF(Propostas!$C116=\"\",\"\",VLOOKUP($A109,Pontuação!$A$5:$V$203,COLUMN(Q:Q),0))","v":""},{"$f":"IF(Propostas!$C116=\"\",\"\",VLOOKUP($A109,Pontuação!$A$5:$V$203,COLUMN(R:R),0))","v":""},{"$f":"IF(Propostas!$C116=\"\",\"\",VLOOKUP($A109,Pontuação!$A$5:$V$203,COLUMN(S:S),0))","v":""},{"$f":"IF(Propostas!$C116=\"\",\"\",VLOOKUP($A109,Pontuação!$A$5:$V$203,COLUMN(T:T),0))","v":""},{"$f":"IF(Propostas!$C116=\"\",\"\",VLOOKUP($A109,Pontuação!$A$5:$V$203,COLUMN(U:U),0))","v":""},{"$f":"IF(Propostas!$B116=\"\",\"\",SUM(C109:U109))","v":""},{"$f":"IF(Propostas!$C116=\"\",\"\",RANK(V109,$V$5:$V$203,0))","v":""},{"$f":"IF(Propostas!$C116=\"\",\"\",VLOOKUP(B109,Propostas[],3,0))","v":""},{"$f":"IF(Propostas!$C116=\"\",\"\",Y108-X109)","v":""},{"$f":"IF(Propostas!$C116=\"\",\"\",IF(Y109>0,\"S\",\"N\"))","v":""}]
[{"$f":"IF(Propostas!$C117=\"\",\"\",ROW(106:106))","v":""},{"$f":"IF(Propostas!$C117=\"\",\"\",VLOOKUP($A110,Pontuação!$A$5:$V$203,COLUMN(B:B),0))","v":""},{"$f":"IF(Propostas!$C117=\"\",\"\",VLOOKUP($A110,Pontuação!$A$5:$V$203,COLUMN(C:C),0))","v":""},{"$f":"IF(Propostas!$C117=\"\",\"\",VLOOKUP($A110,Pontuação!$A$5:$V$203,COLUMN(D:D),0))","v":""},{"$f":"IF(Propostas!$C117=\"\",\"\",VLOOKUP($A110,Pontuação!$A$5:$V$203,COLUMN(E:E),0))","v":""},{"$f":"IF(Propostas!$C117=\"\",\"\",VLOOKUP($A110,Pontuação!$A$5:$V$203,COLUMN(F:F),0))","v":""},{"$f":"IF(Propostas!$C117=\"\",\"\",VLOOKUP($A110,Pontuação!$A$5:$V$203,COLUMN(G:G),0))","v":""},{"$f":"IF(Propostas!$C117=\"\",\"\",VLOOKUP($A110,Pontuação!$A$5:$V$203,COLUMN(H:H),0))","v":""},{"$f":"IF(Propostas!$C117=\"\",\"\",VLOOKUP($A110,Pontuação!$A$5:$V$203,COLUMN(I:I),0))","v":""},{"$f":"IF(Propostas!$C117=\"\",\"\",VLOOKUP($A110,Pontuação!$A$5:$V$203,COLUMN(J:J),0))","v":""},{"$f":"IF(Propostas!$C117=\"\",\"\",VLOOKUP($A110,Pontuação!$A$5:$V$203,COLUMN(K:K),0))","v":""},{"$f":"IF(Propostas!$C117=\"\",\"\",VLOOKUP($A110,Pontuação!$A$5:$V$203,COLUMN(L:L),0))","v":""},{"$f":"IF(Propostas!$C117=\"\",\"\",VLOOKUP($A110,Pontuação!$A$5:$V$203,COLUMN(M:M),0))","v":""},{"$f":"IF(Propostas!$C117=\"\",\"\",VLOOKUP($A110,Pontuação!$A$5:$V$203,COLUMN(N:N),0))","v":""},{"$f":"IF(Propostas!$C117=\"\",\"\",VLOOKUP($A110,Pontuação!$A$5:$V$203,COLUMN(O:O),0))","v":""},{"$f":"IF(Propostas!$C117=\"\",\"\",VLOOKUP($A110,Pontuação!$A$5:$V$203,COLUMN(P:P),0))","v":""},{"$f":"IF(Propostas!$C117=\"\",\"\",VLOOKUP($A110,Pontuação!$A$5:$V$203,COLUMN(Q:Q),0))","v":""},{"$f":"IF(Propostas!$C117=\"\",\"\",VLOOKUP($A110,Pontuação!$A$5:$V$203,COLUMN(R:R),0))","v":""},{"$f":"IF(Propostas!$C117=\"\",\"\",VLOOKUP($A110,Pontuação!$A$5:$V$203,COLUMN(S:S),0))","v":""},{"$f":"IF(Propostas!$C117=\"\",\"\",VLOOKUP($A110,Pontuação!$A$5:$V$203,COLUMN(T:T),0))","v":""},{"$f":"IF(Propostas!$C117=\"\",\"\",VLOOKUP($A110,Pontuação!$A$5:$V$203,COLUMN(U:U),0))","v":""},{"$f":"IF(Propostas!$B117=\"\",\"\",SUM(C110:U110))","v":""},{"$f":"IF(Propostas!$C117=\"\",\"\",RANK(V110,$V$5:$V$203,0))","v":""},{"$f":"IF(Propostas!$C117=\"\",\"\",VLOOKUP(B110,Propostas[],3,0))","v":""},{"$f":"IF(Propostas!$C117=\"\",\"\",Y109-X110)","v":""},{"$f":"IF(Propostas!$C117=\"\",\"\",IF(Y110>0,\"S\",\"N\"))","v":""}]
[{"$f":"IF(Propostas!$C118=\"\",\"\",ROW(107:107))","v":""},{"$f":"IF(Propostas!$C118=\"\",\"\",VLOOKUP($A111,Pontuação!$A$5:$V$203,COLUMN(B:B),0))","v":""},{"$f":"IF(Propostas!$C118=\"\",\"\",VLOOKUP($A111,Pontuação!$A$5:$V$203,COLUMN(C:C),0))","v":""},{"$f":"IF(Propostas!$C118=\"\",\"\",VLOOKUP($A111,Pontuação!$A$5:$V$203,COLUMN(D:D),0))","v":""},{"$f":"IF(Propostas!$C118=\"\",\"\",VLOOKUP($A111,Pontuação!$A$5:$V$203,COLUMN(E:E),0))","v":""},{"$f":"IF(Propostas!$C118=\"\",\"\",VLOOKUP($A111,Pontuação!$A$5:$V$203,COLUMN(F:F),0))","v":""},{"$f":"IF(Propostas!$C118=\"\",\"\",VLOOKUP($A111,Pontuação!$A$5:$V$203,COLUMN(G:G),0))","v":""},{"$f":"IF(Propostas!$C118=\"\",\"\",VLOOKUP($A111,Pontuação!$A$5:$V$203,COLUMN(H:H),0))","v":""},{"$f":"IF(Propostas!$C118=\"\",\"\",VLOOKUP($A111,Pontuação!$A$5:$V$203,COLUMN(I:I),0))","v":""},{"$f":"IF(Propostas!$C118=\"\",\"\",VLOOKUP($A111,Pontuação!$A$5:$V$203,COLUMN(J:J),0))","v":""},{"$f":"IF(Propostas!$C118=\"\",\"\",VLOOKUP($A111,Pontuação!$A$5:$V$203,COLUMN(K:K),0))","v":""},{"$f":"IF(Propostas!$C118=\"\",\"\",VLOOKUP($A111,Pontuação!$A$5:$V$203,COLUMN(L:L),0))","v":""},{"$f":"IF(Propostas!$C118=\"\",\"\",VLOOKUP($A111,Pontuação!$A$5:$V$203,COLUMN(M:M),0))","v":""},{"$f":"IF(Propostas!$C118=\"\",\"\",VLOOKUP($A111,Pontuação!$A$5:$V$203,COLUMN(N:N),0))","v":""},{"$f":"IF(Propostas!$C118=\"\",\"\",VLOOKUP($A111,Pontuação!$A$5:$V$203,COLUMN(O:O),0))","v":""},{"$f":"IF(Propostas!$C118=\"\",\"\",VLOOKUP($A111,Pontuação!$A$5:$V$203,COLUMN(P:P),0))","v":""},{"$f":"IF(Propostas!$C118=\"\",\"\",VLOOKUP($A111,Pontuação!$A$5:$V$203,COLUMN(Q:Q),0))","v":""},{"$f":"IF(Propostas!$C118=\"\",\"\",VLOOKUP($A111,Pontuação!$A$5:$V$203,COLUMN(R:R),0))","v":""},{"$f":"IF(Propostas!$C118=\"\",\"\",VLOOKUP($A111,Pontuação!$A$5:$V$203,COLUMN(S:S),0))","v":""},{"$f":"IF(Propostas!$C118=\"\",\"\",VLOOKUP($A111,Pontuação!$A$5:$V$203,COLUMN(T:T),0))","v":""},{"$f":"IF(Propostas!$C118=\"\",\"\",VLOOKUP($A111,Pontuação!$A$5:$V$203,COLUMN(U:U),0))","v":""},{"$f":"IF(Propostas!$B118=\"\",\"\",SUM(C111:U111))","v":""},{"$f":"IF(Propostas!$C118=\"\",\"\",RANK(V111,$V$5:$V$203,0))","v":""},{"$f":"IF(Propostas!$C118=\"\",\"\",VLOOKUP(B111,Propostas[],3,0))","v":""},{"$f":"IF(Propostas!$C118=\"\",\"\",Y110-X111)","v":""},{"$f":"IF(Propostas!$C118=\"\",\"\",IF(Y111>0,\"S\",\"N\"))","v":""}]
[{"$f":"IF(Propostas!$C119=\"\",\"\",ROW(108:108))","v":""},{"$f":"IF(Propostas!$C119=\"\",\"\",VLOOKUP($A112,Pontuação!$A$5:$V$203,COLUMN(B:B),0))","v":""},{"$f":"IF(Propostas!$C119=\"\",\"\",VLOOKUP($A112,Pontuação!$A$5:$V$203,COLUMN(C:C),0))","v":""},{"$f":"IF(Propostas!$C119=\"\",\"\",VLOOKUP($A112,Pontuação!$A$5:$V$203,COLUMN(D:D),0))","v":""},{"$f":"IF(Propostas!$C119=\"\",\"\",VLOOKUP($A112,Pontuação!$A$5:$V$203,COLUMN(E:E),0))","v":""},{"$f":"IF(Propostas!$C119=\"\",\"\",VLOOKUP($A112,Pontuação!$A$5:$V$203,COLUMN(F:F),0))","v":""},{"$f":"IF(Propostas!$C119=\"\",\"\",VLOOKUP($A112,Pontuação!$A$5:$V$203,COLUMN(G:G),0))","v":""},{"$f":"IF(Propostas!$C119=\"\",\"\",VLOOKUP($A112,Pontuação!$A$5:$V$203,COLUMN(H:H),0))","v":""},{"$f":"IF(Propostas!$C119=\"\",\"\",VLOOKUP($A112,Pontuação!$A$5:$V$203,COLUMN(I:I),0))","v":""},{"$f":"IF(Propostas!$C119=\"\",\"\",VLOOKUP($A112,Pontuação!$A$5:$V$203,COLUMN(J:J),0))","v":""},{"$f":"IF(Propostas!$C119=\"\",\"\",VLOOKUP($A112,Pontuação!$A$5:$V$203,COLUMN(K:K),0))","v":""},{"$f":"IF(Propostas!$C119=\"\",\"\",VLOOKUP($A112,Pontuação!$A$5:$V$203,COLUMN(L:L),0))","v":""},{"$f":"IF(Propostas!$C119=\"\",\"\",VLOOKUP($A112,Pontuação!$A$5:$V$203,COLUMN(M:M),0))","v":""},{"$f":"IF(Propostas!$C119=\"\",\"\",VLOOKUP($A112,Pontuação!$A$5:$V$203,COLUMN(N:N),0))","v":""},{"$f":"IF(Propostas!$C119=\"\",\"\",VLOOKUP($A112,Pontuação!$A$5:$V$203,COLUMN(O:O),0))","v":""},{"$f":"IF(Propostas!$C119=\"\",\"\",VLOOKUP($A112,Pontuação!$A$5:$V$203,COLUMN(P:P),0))","v":""},{"$f":"IF(Propostas!$C119=\"\",\"\",VLOOKUP($A112,Pontuação!$A$5:$V$203,COLUMN(Q:Q),0))","v":""},{"$f":"IF(Propostas!$C119=\"\",\"\",VLOOKUP($A112,Pontuação!$A$5:$V$203,COLUMN(R:R),0))","v":""},{"$f":"IF(Propostas!$C119=\"\",\"\",VLOOKUP($A112,Pontuação!$A$5:$V$203,COLUMN(S:S),0))","v":""},{"$f":"IF(Propostas!$C119=\"\",\"\",VLOOKUP($A112,Pontuação!$A$5:$V$203,COLUMN(T:T),0))","v":""},{"$f":"IF(Propostas!$C119=\"\",\"\",VLOOKUP($A112,Pontuação!$A$5:$V$203,COLUMN(U:U),0))","v":""},{"$f":"IF(Propostas!$B119=\"\",\"\",SUM(C112:U112))","v":""},{"$f":"IF(Propostas!$C119=\"\",\"\",RANK(V112,$V$5:$V$203,0))","v":""},{"$f":"IF(Propostas!$C119=\"\",\"\",VLOOKUP(B112,Propostas[],3,0))","v":""},{"$f":"IF(Propostas!$C119=\"\",\"\",Y111-X112)","v":""},{"$f":"IF(Propostas!$C119=\"\",\"\",IF(Y112>0,\"S\",\"N\"))","v":""}]
[{"$f":"IF(Propostas!$C120=\"\",\"\",ROW(109:109))","v":""},{"$f":"IF(Propostas!$C120=\"\",\"\",VLOOKUP($A113,Pontuação!$A$5:$V$203,COLUMN(B:B),0))","v":""},{"$f":"IF(Propostas!$C120=\"\",\"\",VLOOKUP($A113,Pontuação!$A$5:$V$203,COLUMN(C:C),0))","v":""},{"$f":"IF(Propostas!$C120=\"\",\"\",VLOOKUP($A113,Pontuação!$A$5:$V$203,COLUMN(D:D),0))","v":""},{"$f":"IF(Propostas!$C120=\"\",\"\",VLOOKUP($A113,Pontuação!$A$5:$V$203,COLUMN(E:E),0))","v":""},{"$f":"IF(Propostas!$C120=\"\",\"\",VLOOKUP($A113,Pontuação!$A$5:$V$203,COLUMN(F:F),0))","v":""},{"$f":"IF(Propostas!$C120=\"\",\"\",VLOOKUP($A113,Pontuação!$A$5:$V$203,COLUMN(G:G),0))","v":""},{"$f":"IF(Propostas!$C120=\"\",\"\",VLOOKUP($A113,Pontuação!$A$5:$V$203,COLUMN(H:H),0))","v":""},{"$f":"IF(Propostas!$C120=\"\",\"\",VLOOKUP($A113,Pontuação!$A$5:$V$203,COLUMN(I:I),0))","v":""},{"$f":"IF(Propostas!$C120=\"\",\"\",VLOOKUP($A113,Pontuação!$A$5:$V$203,COLUMN(J:J),0))","v":""},{"$f":"IF(Propostas!$C120=\"\",\"\",VLOOKUP($A113,Pontuação!$A$5:$V$203,COLUMN(K:K),0))","v":""},{"$f":"IF(Propostas!$C120=\"\",\"\",VLOOKUP($A113,Pontuação!$A$5:$V$203,COLUMN(L:L),0))","v":""},{"$f":"IF(Propostas!$C120=\"\",\"\",VLOOKUP($A113,Pontuação!$A$5:$V$203,COLUMN(M:M),0))","v":""},{"$f":"IF(Propostas!$C120=\"\",\"\",VLOOKUP($A113,Pontuação!$A$5:$V$203,COLUMN(N:N),0))","v":""},{"$f":"IF(Propostas!$C120=\"\",\"\",VLOOKUP($A113,Pontuação!$A$5:$V$203,COLUMN(O:O),0))","v":""},{"$f":"IF(Propostas!$C120=\"\",\"\",VLOOKUP($A113,Pontuação!$A$5:$V$203,COLUMN(P:P),0))","v":""},{"$f":"IF(Propostas!$C120=\"\",\"\",VLOOKUP($A113,Pontuação!$A$5:$V$203,COLUMN(Q:Q),0))","v":""},{"$f":"IF(Propostas!$C120=\"\",\"\",VLOOKUP($A113,Pontuação!$A$5:$V$203,COLUMN(R:R),0))","v":""},{"$f":"IF(Propostas!$C120=\"\",\"\",VLOOKUP($A113,Pontuação!$A$5:$V$203,COLUMN(S:S),0))","v":""},{"$f":"IF(Propostas!$C120=\"\",\"\",VLOOKUP($A113,Pontuação!$A$5:$V$203,COLUMN(T:T),0))","v":""},{"$f":"IF(Propostas!$C120=\"\",\"\",VLOOKUP($A113,Pontuação!$A$5:$V$203,COLUMN(U:U),0))","v":""},{"$f":"IF(Propostas!$B120=\"\",\"\",SUM(C113:U113))","v":""},{"$f":"IF(Propostas!$C120=\"\",\"\",RANK(V113,$V$5:$V$203,0))","v":""},{"$f":"IF(Propostas!$C120=\"\",\"\",VLOOKUP(B113,Propostas[],3,0))","v":""},{"$f":"IF(Propostas!$C120=\"\",\"\",Y112-X113)","v":""},{"$f":"IF(Propostas!$C120=\"\",\"\",IF(Y113>0,\"S\",\"N\"))","v":""}]
[{"$f":"IF(Propostas!$C121=\"\",\"\",ROW(110:110))","v":""},{"$f":"IF(Propostas!$C121=\"\",\"\",VLOOKUP($A114,Pontuação!$A$5:$V$203,COLUMN(B:B),0))","v":""},{"$f":"IF(Propostas!$C121=\"\",\"\",VLOOKUP($A114,Pontuação!$A$5:$V$203,COLUMN(C:C),0))","v":""},{"$f":"IF(Propostas!$C121=\"\",\"\",VLOOKUP($A114,Pontuação!$A$5:$V$203,COLUMN(D:D),0))","v":""},{"$f":"IF(Propostas!$C121=\"\",\"\",VLOOKUP($A114,Pontuação!$A$5:$V$203,COLUMN(E:E),0))","v":""},{"$f":"IF(Propostas!$C121=\"\",\"\",VLOOKUP($A114,Pontuação!$A$5:$V$203,COLUMN(F:F),0))","v":""},{"$f":"IF(Propostas!$C121=\"\",\"\",VLOOKUP($A114,Pontuação!$A$5:$V$203,COLUMN(G:G),0))","v":""},{"$f":"IF(Propostas!$C121=\"\",\"\",VLOOKUP($A114,Pontuação!$A$5:$V$203,COLUMN(H:H),0))","v":""},{"$f":"IF(Propostas!$C121=\"\",\"\",VLOOKUP($A114,Pontuação!$A$5:$V$203,COLUMN(I:I),0))","v":""},{"$f":"IF(Propostas!$C121=\"\",\"\",VLOOKUP($A114,Pontuação!$A$5:$V$203,COLUMN(J:J),0))","v":""},{"$f":"IF(Propostas!$C121=\"\",\"\",VLOOKUP($A114,Pontuação!$A$5:$V$203,COLUMN(K:K),0))","v":""},{"$f":"IF(Propostas!$C121=\"\",\"\",VLOOKUP($A114,Pontuação!$A$5:$V$203,COLUMN(L:L),0))","v":""},{"$f":"IF(Propostas!$C121=\"\",\"\",VLOOKUP($A114,Pontuação!$A$5:$V$203,COLUMN(M:M),0))","v":""},{"$f":"IF(Propostas!$C121=\"\",\"\",VLOOKUP($A114,Pontuação!$A$5:$V$203,COLUMN(N:N),0))","v":""},{"$f":"IF(Propostas!$C121=\"\",\"\",VLOOKUP($A114,Pontuação!$A$5:$V$203,COLUMN(O:O),0))","v":""},{"$f":"IF(Propostas!$C121=\"\",\"\",VLOOKUP($A114,Pontuação!$A$5:$V$203,COLUMN(P:P),0))","v":""},{"$f":"IF(Propostas!$C121=\"\",\"\",VLOOKUP($A114,Pontuação!$A$5:$V$203,COLUMN(Q:Q),0))","v":""},{"$f":"IF(Propostas!$C121=\"\",\"\",VLOOKUP($A114,Pontuação!$A$5:$V$203,COLUMN(R:R),0))","v":""},{"$f":"IF(Propostas!$C121=\"\",\"\",VLOOKUP($A114,Pontuação!$A$5:$V$203,COLUMN(S:S),0))","v":""},{"$f":"IF(Propostas!$C121=\"\",\"\",VLOOKUP($A114,Pontuação!$A$5:$V$203,COLUMN(T:T),0))","v":""},{"$f":"IF(Propostas!$C121=\"\",\"\",VLOOKUP($A114,Pontuação!$A$5:$V$203,COLUMN(U:U),0))","v":""},{"$f":"IF(Propostas!$B121=\"\",\"\",SUM(C114:U114))","v":""},{"$f":"IF(Propostas!$C121=\"\",\"\",RANK(V114,$V$5:$V$203,0))","v":""},{"$f":"IF(Propostas!$C121=\"\",\"\",VLOOKUP(B114,Propostas[],3,0))","v":""},{"$f":"IF(Propostas!$C121=\"\",\"\",Y113-X114)","v":""},{"$f":"IF(Propostas!$C121=\"\",\"\",IF(Y114>0,\"S\",\"N\"))","v":""}]
[{"$f":"IF(Propostas!$C122=\"\",\"\",ROW(111:111))","v":""},{"$f":"IF(Propostas!$C122=\"\",\"\",VLOOKUP($A115,Pontuação!$A$5:$V$203,COLUMN(B:B),0))","v":""},{"$f":"IF(Propostas!$C122=\"\",\"\",VLOOKUP($A115,Pontuação!$A$5:$V$203,COLUMN(C:C),0))","v":""},{"$f":"IF(Propostas!$C122=\"\",\"\",VLOOKUP($A115,Pontuação!$A$5:$V$203,COLUMN(D:D),0))","v":""},{"$f":"IF(Propostas!$C122=\"\",\"\",VLOOKUP($A115,Pontuação!$A$5:$V$203,COLUMN(E:E),0))","v":""},{"$f":"IF(Propostas!$C122=\"\",\"\",VLOOKUP($A115,Pontuação!$A$5:$V$203,COLUMN(F:F),0))","v":""},{"$f":"IF(Propostas!$C122=\"\",\"\",VLOOKUP($A115,Pontuação!$A$5:$V$203,COLUMN(G:G),0))","v":""},{"$f":"IF(Propostas!$C122=\"\",\"\",VLOOKUP($A115,Pontuação!$A$5:$V$203,COLUMN(H:H),0))","v":""},{"$f":"IF(Propostas!$C122=\"\",\"\",VLOOKUP($A115,Pontuação!$A$5:$V$203,COLUMN(I:I),0))","v":""},{"$f":"IF(Propostas!$C122=\"\",\"\",VLOOKUP($A115,Pontuação!$A$5:$V$203,COLUMN(J:J),0))","v":""},{"$f":"IF(Propostas!$C122=\"\",\"\",VLOOKUP($A115,Pontuação!$A$5:$V$203,COLUMN(K:K),0))","v":""},{"$f":"IF(Propostas!$C122=\"\",\"\",VLOOKUP($A115,Pontuação!$A$5:$V$203,COLUMN(L:L),0))","v":""},{"$f":"IF(Propostas!$C122=\"\",\"\",VLOOKUP($A115,Pontuação!$A$5:$V$203,COLUMN(M:M),0))","v":""},{"$f":"IF(Propostas!$C122=\"\",\"\",VLOOKUP($A115,Pontuação!$A$5:$V$203,COLUMN(N:N),0))","v":""},{"$f":"IF(Propostas!$C122=\"\",\"\",VLOOKUP($A115,Pontuação!$A$5:$V$203,COLUMN(O:O),0))","v":""},{"$f":"IF(Propostas!$C122=\"\",\"\",VLOOKUP($A115,Pontuação!$A$5:$V$203,COLUMN(P:P),0))","v":""},{"$f":"IF(Propostas!$C122=\"\",\"\",VLOOKUP($A115,Pontuação!$A$5:$V$203,COLUMN(Q:Q),0))","v":""},{"$f":"IF(Propostas!$C122=\"\",\"\",VLOOKUP($A115,Pontuação!$A$5:$V$203,COLUMN(R:R),0))","v":""},{"$f":"IF(Propostas!$C122=\"\",\"\",VLOOKUP($A115,Pontuação!$A$5:$V$203,COLUMN(S:S),0))","v":""},{"$f":"IF(Propostas!$C122=\"\",\"\",VLOOKUP($A115,Pontuação!$A$5:$V$203,COLUMN(T:T),0))","v":""},{"$f":"IF(Propostas!$C122=\"\",\"\",VLOOKUP($A115,Pontuação!$A$5:$V$203,COLUMN(U:U),0))","v":""},{"$f":"IF(Propostas!$B122=\"\",\"\",SUM(C115:U115))","v":""},{"$f":"IF(Propostas!$C122=\"\",\"\",RANK(V115,$V$5:$V$203,0))","v":""},{"$f":"IF(Propostas!$C122=\"\",\"\",VLOOKUP(B115,Propostas[],3,0))","v":""},{"$f":"IF(Propostas!$C122=\"\",\"\",Y114-X115)","v":""},{"$f":"IF(Propostas!$C122=\"\",\"\",IF(Y115>0,\"S\",\"N\"))","v":""}]
[{"$f":"IF(Propostas!$C123=\"\",\"\",ROW(112:112))","v":""},{"$f":"IF(Propostas!$C123=\"\",\"\",VLOOKUP($A116,Pontuação!$A$5:$V$203,COLUMN(B:B),0))","v":""},{"$f":"IF(Propostas!$C123=\"\",\"\",VLOOKUP($A116,Pontuação!$A$5:$V$203,COLUMN(C:C),0))","v":""},{"$f":"IF(Propostas!$C123=\"\",\"\",VLOOKUP($A116,Pontuação!$A$5:$V$203,COLUMN(D:D),0))","v":""},{"$f":"IF(Propostas!$C123=\"\",\"\",VLOOKUP($A116,Pontuação!$A$5:$V$203,COLUMN(E:E),0))","v":""},{"$f":"IF(Propostas!$C123=\"\",\"\",VLOOKUP($A116,Pontuação!$A$5:$V$203,COLUMN(F:F),0))","v":""},{"$f":"IF(Propostas!$C123=\"\",\"\",VLOOKUP($A116,Pontuação!$A$5:$V$203,COLUMN(G:G),0))","v":""},{"$f":"IF(Propostas!$C123=\"\",\"\",VLOOKUP($A116,Pontuação!$A$5:$V$203,COLUMN(H:H),0))","v":""},{"$f":"IF(Propostas!$C123=\"\",\"\",VLOOKUP($A116,Pontuação!$A$5:$V$203,COLUMN(I:I),0))","v":""},{"$f":"IF(Propostas!$C123=\"\",\"\",VLOOKUP($A116,Pontuação!$A$5:$V$203,COLUMN(J:J),0))","v":""},{"$f":"IF(Propostas!$C123=\"\",\"\",VLOOKUP($A116,Pontuação!$A$5:$V$203,COLUMN(K:K),0))","v":""},{"$f":"IF(Propostas!$C123=\"\",\"\",VLOOKUP($A116,Pontuação!$A$5:$V$203,COLUMN(L:L),0))","v":""},{"$f":"IF(Propostas!$C123=\"\",\"\",VLOOKUP($A116,Pontuação!$A$5:$V$203,COLUMN(M:M),0))","v":""},{"$f":"IF(Propostas!$C123=\"\",\"\",VLOOKUP($A116,Pontuação!$A$5:$V$203,COLUMN(N:N),0))","v":""},{"$f":"IF(Propostas!$C123=\"\",\"\",VLOOKUP($A116,Pontuação!$A$5:$V$203,COLUMN(O:O),0))","v":""},{"$f":"IF(Propostas!$C123=\"\",\"\",VLOOKUP($A116,Pontuação!$A$5:$V$203,COLUMN(P:P),0))","v":""},{"$f":"IF(Propostas!$C123=\"\",\"\",VLOOKUP($A116,Pontuação!$A$5:$V$203,COLUMN(Q:Q),0))","v":""},{"$f":"IF(Propostas!$C123=\"\",\"\",VLOOKUP($A116,Pontuação!$A$5:$V$203,COLUMN(R:R),0))","v":""},{"$f":"IF(Propostas!$C123=\"\",\"\",VLOOKUP($A116,Pontuação!$A$5:$V$203,COLUMN(S:S),0))","v":""},{"$f":"IF(Propostas!$C123=\"\",\"\",VLOOKUP($A116,Pontuação!$A$5:$V$203,COLUMN(T:T),0))","v":""},{"$f":"IF(Propostas!$C123=\"\",\"\",VLOOKUP($A116,Pontuação!$A$5:$V$203,COLUMN(U:U),0))","v":""},{"$f":"IF(Propostas!$B123=\"\",\"\",SUM(C116:U116))","v":""},{"$f":"IF(Propostas!$C123=\"\",\"\",RANK(V116,$V$5:$V$203,0))","v":""},{"$f":"IF(Propostas!$C123=\"\",\"\",VLOOKUP(B116,Propostas[],3,0))","v":""},{"$f":"IF(Propostas!$C123=\"\",\"\",Y115-X116)","v":""},{"$f":"IF(Propostas!$C123=\"\",\"\",IF(Y116>0,\"S\",\"N\"))","v":""}]
[{"$f":"IF(Propostas!$C124=\"\",\"\",ROW(113:113))","v":""},{"$f":"IF(Propostas!$C124=\"\",\"\",VLOOKUP($A117,Pontuação!$A$5:$V$203,COLUMN(B:B),0))","v":""},{"$f":"IF(Propostas!$C124=\"\",\"\",VLOOKUP($A117,Pontuação!$A$5:$V$203,COLUMN(C:C),0))","v":""},{"$f":"IF(Propostas!$C124=\"\",\"\",VLOOKUP($A117,Pontuação!$A$5:$V$203,COLUMN(D:D),0))","v":""},{"$f":"IF(Propostas!$C124=\"\",\"\",VLOOKUP($A117,Pontuação!$A$5:$V$203,COLUMN(E:E),0))","v":""},{"$f":"IF(Propostas!$C124=\"\",\"\",VLOOKUP($A117,Pontuação!$A$5:$V$203,COLUMN(F:F),0))","v":""},{"$f":"IF(Propostas!$C124=\"\",\"\",VLOOKUP($A117,Pontuação!$A$5:$V$203,COLUMN(G:G),0))","v":""},{"$f":"IF(Propostas!$C124=\"\",\"\",VLOOKUP($A117,Pontuação!$A$5:$V$203,COLUMN(H:H),0))","v":""},{"$f":"IF(Propostas!$C124=\"\",\"\",VLOOKUP($A117,Pontuação!$A$5:$V$203,COLUMN(I:I),0))","v":""},{"$f":"IF(Propostas!$C124=\"\",\"\",VLOOKUP($A117,Pontuação!$A$5:$V$203,COLUMN(J:J),0))","v":""},{"$f":"IF(Propostas!$C124=\"\",\"\",VLOOKUP($A117,Pontuação!$A$5:$V$203,COLUMN(K:K),0))","v":""},{"$f":"IF(Propostas!$C124=\"\",\"\",VLOOKUP($A117,Pontuação!$A$5:$V$203,COLUMN(L:L),0))","v":""},{"$f":"IF(Propostas!$C124=\"\",\"\",VLOOKUP($A117,Pontuação!$A$5:$V$203,COLUMN(M:M),0))","v":""},{"$f":"IF(Propostas!$C124=\"\",\"\",VLOOKUP($A117,Pontuação!$A$5:$V$203,COLUMN(N:N),0))","v":""},{"$f":"IF(Propostas!$C124=\"\",\"\",VLOOKUP($A117,Pontuação!$A$5:$V$203,COLUMN(O:O),0))","v":""},{"$f":"IF(Propostas!$C124=\"\",\"\",VLOOKUP($A117,Pontuação!$A$5:$V$203,COLUMN(P:P),0))","v":""},{"$f":"IF(Propostas!$C124=\"\",\"\",VLOOKUP($A117,Pontuação!$A$5:$V$203,COLUMN(Q:Q),0))","v":""},{"$f":"IF(Propostas!$C124=\"\",\"\",VLOOKUP($A117,Pontuação!$A$5:$V$203,COLUMN(R:R),0))","v":""},{"$f":"IF(Propostas!$C124=\"\",\"\",VLOOKUP($A117,Pontuação!$A$5:$V$203,COLUMN(S:S),0))","v":""},{"$f":"IF(Propostas!$C124=\"\",\"\",VLOOKUP($A117,Pontuação!$A$5:$V$203,COLUMN(T:T),0))","v":""},{"$f":"IF(Propostas!$C124=\"\",\"\",VLOOKUP($A117,Pontuação!$A$5:$V$203,COLUMN(U:U),0))","v":""},{"$f":"IF(Propostas!$B124=\"\",\"\",SUM(C117:U117))","v":""},{"$f":"IF(Propostas!$C124=\"\",\"\",RANK(V117,$V$5:$V$203,0))","v":""},{"$f":"IF(Propostas!$C124=\"\",\"\",VLOOKUP(B117,Propostas[],3,0))","v":""},{"$f":"IF(Propostas!$C124=\"\",\"\",Y116-X117)","v":""},{"$f":"IF(Propostas!$C124=\"\",\"\",IF(Y117>0,\"S\",\"N\"))","v":""}]
[{"$f":"IF(Propostas!$C125=\"\",\"\",ROW(114:114))","v":""},{"$f":"IF(Propostas!$C125=\"\",\"\",VLOOKUP($A118,Pontuação!$A$5:$V$203,COLUMN(B:B),0))","v":""},{"$f":"IF(Propostas!$C125=\"\",\"\",VLOOKUP($A118,Pontuação!$A$5:$V$203,COLUMN(C:C),0))","v":""},{"$f":"IF(Propostas!$C125=\"\",\"\",VLOOKUP($A118,Pontuação!$A$5:$V$203,COLUMN(D:D),0))","v":""},{"$f":"IF(Propostas!$C125=\"\",\"\",VLOOKUP($A118,Pontuação!$A$5:$V$203,COLUMN(E:E),0))","v":""},{"$f":"IF(Propostas!$C125=\"\",\"\",VLOOKUP($A118,Pontuação!$A$5:$V$203,COLUMN(F:F),0))","v":""},{"$f":"IF(Propostas!$C125=\"\",\"\",VLOOKUP($A118,Pontuação!$A$5:$V$203,COLUMN(G:G),0))","v":""},{"$f":"IF(Propostas!$C125=\"\",\"\",VLOOKUP($A118,Pontuação!$A$5:$V$203,COLUMN(H:H),0))","v":""},{"$f":"IF(Propostas!$C125=\"\",\"\",VLOOKUP($A118,Pontuação!$A$5:$V$203,COLUMN(I:I),0))","v":""},{"$f":"IF(Propostas!$C125=\"\",\"\",VLOOKUP($A118,Pontuação!$A$5:$V$203,COLUMN(J:J),0))","v":""},{"$f":"IF(Propostas!$C125=\"\",\"\",VLOOKUP($A118,Pontuação!$A$5:$V$203,COLUMN(K:K),0))","v":""},{"$f":"IF(Propostas!$C125=\"\",\"\",VLOOKUP($A118,Pontuação!$A$5:$V$203,COLUMN(L:L),0))","v":""},{"$f":"IF(Propostas!$C125=\"\",\"\",VLOOKUP($A118,Pontuação!$A$5:$V$203,COLUMN(M:M),0))","v":""},{"$f":"IF(Propostas!$C125=\"\",\"\",VLOOKUP($A118,Pontuação!$A$5:$V$203,COLUMN(N:N),0))","v":""},{"$f":"IF(Propostas!$C125=\"\",\"\",VLOOKUP($A118,Pontuação!$A$5:$V$203,COLUMN(O:O),0))","v":""},{"$f":"IF(Propostas!$C125=\"\",\"\",VLOOKUP($A118,Pontuação!$A$5:$V$203,COLUMN(P:P),0))","v":""},{"$f":"IF(Propostas!$C125=\"\",\"\",VLOOKUP($A118,Pontuação!$A$5:$V$203,COLUMN(Q:Q),0))","v":""},{"$f":"IF(Propostas!$C125=\"\",\"\",VLOOKUP($A118,Pontuação!$A$5:$V$203,COLUMN(R:R),0))","v":""},{"$f":"IF(Propostas!$C125=\"\",\"\",VLOOKUP($A118,Pontuação!$A$5:$V$203,COLUMN(S:S),0))","v":""},{"$f":"IF(Propostas!$C125=\"\",\"\",VLOOKUP($A118,Pontuação!$A$5:$V$203,COLUMN(T:T),0))","v":""},{"$f":"IF(Propostas!$C125=\"\",\"\",VLOOKUP($A118,Pontuação!$A$5:$V$203,COLUMN(U:U),0))","v":""},{"$f":"IF(Propostas!$B125=\"\",\"\",SUM(C118:U118))","v":""},{"$f":"IF(Propostas!$C125=\"\",\"\",RANK(V118,$V$5:$V$203,0))","v":""},{"$f":"IF(Propostas!$C125=\"\",\"\",VLOOKUP(B118,Propostas[],3,0))","v":""},{"$f":"IF(Propostas!$C125=\"\",\"\",Y117-X118)","v":""},{"$f":"IF(Propostas!$C125=\"\",\"\",IF(Y118>0,\"S\",\"N\"))","v":""}]
[{"$f":"IF(Propostas!$C126=\"\",\"\",ROW(115:115))","v":""},{"$f":"IF(Propostas!$C126=\"\",\"\",VLOOKUP($A119,Pontuação!$A$5:$V$203,COLUMN(B:B),0))","v":""},{"$f":"IF(Propostas!$C126=\"\",\"\",VLOOKUP($A119,Pontuação!$A$5:$V$203,COLUMN(C:C),0))","v":""},{"$f":"IF(Propostas!$C126=\"\",\"\",VLOOKUP($A119,Pontuação!$A$5:$V$203,COLUMN(D:D),0))","v":""},{"$f":"IF(Propostas!$C126=\"\",\"\",VLOOKUP($A119,Pontuação!$A$5:$V$203,COLUMN(E:E),0))","v":""},{"$f":"IF(Propostas!$C126=\"\",\"\",VLOOKUP($A119,Pontuação!$A$5:$V$203,COLUMN(F:F),0))","v":""},{"$f":"IF(Propostas!$C126=\"\",\"\",VLOOKUP($A119,Pontuação!$A$5:$V$203,COLUMN(G:G),0))","v":""},{"$f":"IF(Propostas!$C126=\"\",\"\",VLOOKUP($A119,Pontuação!$A$5:$V$203,COLUMN(H:H),0))","v":""},{"$f":"IF(Propostas!$C126=\"\",\"\",VLOOKUP($A119,Pontuação!$A$5:$V$203,COLUMN(I:I),0))","v":""},{"$f":"IF(Propostas!$C126=\"\",\"\",VLOOKUP($A119,Pontuação!$A$5:$V$203,COLUMN(J:J),0))","v":""},{"$f":"IF(Propostas!$C126=\"\",\"\",VLOOKUP($A119,Pontuação!$A$5:$V$203,COLUMN(K:K),0))","v":""},{"$f":"IF(Propostas!$C126=\"\",\"\",VLOOKUP($A119,Pontuação!$A$5:$V$203,COLUMN(L:L),0))","v":""},{"$f":"IF(Propostas!$C126=\"\",\"\",VLOOKUP($A119,Pontuação!$A$5:$V$203,COLUMN(M:M),0))","v":""},{"$f":"IF(Propostas!$C126=\"\",\"\",VLOOKUP($A119,Pontuação!$A$5:$V$203,COLUMN(N:N),0))","v":""},{"$f":"IF(Propostas!$C126=\"\",\"\",VLOOKUP($A119,Pontuação!$A$5:$V$203,COLUMN(O:O),0))","v":""},{"$f":"IF(Propostas!$C126=\"\",\"\",VLOOKUP($A119,Pontuação!$A$5:$V$203,COLUMN(P:P),0))","v":""},{"$f":"IF(Propostas!$C126=\"\",\"\",VLOOKUP($A119,Pontuação!$A$5:$V$203,COLUMN(Q:Q),0))","v":""},{"$f":"IF(Propostas!$C126=\"\",\"\",VLOOKUP($A119,Pontuação!$A$5:$V$203,COLUMN(R:R),0))","v":""},{"$f":"IF(Propostas!$C126=\"\",\"\",VLOOKUP($A119,Pontuação!$A$5:$V$203,COLUMN(S:S),0))","v":""},{"$f":"IF(Propostas!$C126=\"\",\"\",VLOOKUP($A119,Pontuação!$A$5:$V$203,COLUMN(T:T),0))","v":""},{"$f":"IF(Propostas!$C126=\"\",\"\",VLOOKUP($A119,Pontuação!$A$5:$V$203,COLUMN(U:U),0))","v":""},{"$f":"IF(Propostas!$B126=\"\",\"\",SUM(C119:U119))","v":""},{"$f":"IF(Propostas!$C126=\"\",\"\",RANK(V119,$V$5:$V$203,0))","v":""},{"$f":"IF(Propostas!$C126=\"\",\"\",VLOOKUP(B119,Propostas[],3,0))","v":""},{"$f":"IF(Propostas!$C126=\"\",\"\",Y118-X119)","v":""},{"$f":"IF(Propostas!$C126=\"\",\"\",IF(Y119>0,\"S\",\"N\"))","v":""}]
[{"$f":"IF(Propostas!$C127=\"\",\"\",ROW(116:116))","v":""},{"$f":"IF(Propostas!$C127=\"\",\"\",VLOOKUP($A120,Pontuação!$A$5:$V$203,COLUMN(B:B),0))","v":""},{"$f":"IF(Propostas!$C127=\"\",\"\",VLOOKUP($A120,Pontuação!$A$5:$V$203,COLUMN(C:C),0))","v":""},{"$f":"IF(Propostas!$C127=\"\",\"\",VLOOKUP($A120,Pontuação!$A$5:$V$203,COLUMN(D:D),0))","v":""},{"$f":"IF(Propostas!$C127=\"\",\"\",VLOOKUP($A120,Pontuação!$A$5:$V$203,COLUMN(E:E),0))","v":""},{"$f":"IF(Propostas!$C127=\"\",\"\",VLOOKUP($A120,Pontuação!$A$5:$V$203,COLUMN(F:F),0))","v":""},{"$f":"IF(Propostas!$C127=\"\",\"\",VLOOKUP($A120,Pontuação!$A$5:$V$203,COLUMN(G:G),0))","v":""},{"$f":"IF(Propostas!$C127=\"\",\"\",VLOOKUP($A120,Pontuação!$A$5:$V$203,COLUMN(H:H),0))","v":""},{"$f":"IF(Propostas!$C127=\"\",\"\",VLOOKUP($A120,Pontuação!$A$5:$V$203,COLUMN(I:I),0))","v":""},{"$f":"IF(Propostas!$C127=\"\",\"\",VLOOKUP($A120,Pontuação!$A$5:$V$203,COLUMN(J:J),0))","v":""},{"$f":"IF(Propostas!$C127=\"\",\"\",VLOOKUP($A120,Pontuação!$A$5:$V$203,COLUMN(K:K),0))","v":""},{"$f":"IF(Propostas!$C127=\"\",\"\",VLOOKUP($A120,Pontuação!$A$5:$V$203,COLUMN(L:L),0))","v":""},{"$f":"IF(Propostas!$C127=\"\",\"\",VLOOKUP($A120,Pontuação!$A$5:$V$203,COLUMN(M:M),0))","v":""},{"$f":"IF(Propostas!$C127=\"\",\"\",VLOOKUP($A120,Pontuação!$A$5:$V$203,COLUMN(N:N),0))","v":""},{"$f":"IF(Propostas!$C127=\"\",\"\",VLOOKUP($A120,Pontuação!$A$5:$V$203,COLUMN(O:O),0))","v":""},{"$f":"IF(Propostas!$C127=\"\",\"\",VLOOKUP($A120,Pontuação!$A$5:$V$203,COLUMN(P:P),0))","v":""},{"$f":"IF(Propostas!$C127=\"\",\"\",VLOOKUP($A120,Pontuação!$A$5:$V$203,COLUMN(Q:Q),0))","v":""},{"$f":"IF(Propostas!$C127=\"\",\"\",VLOOKUP($A120,Pontuação!$A$5:$V$203,COLUMN(R:R),0))","v":""},{"$f":"IF(Propostas!$C127=\"\",\"\",VLOOKUP($A120,Pontuação!$A$5:$V$203,COLUMN(S:S),0))","v":""},{"$f":"IF(Propostas!$C127=\"\",\"\",VLOOKUP($A120,Pontuação!$A$5:$V$203,COLUMN(T:T),0))","v":""},{"$f":"IF(Propostas!$C127=\"\",\"\",VLOOKUP($A120,Pontuação!$A$5:$V$203,COLUMN(U:U),0))","v":""},{"$f":"IF(Propostas!$B127=\"\",\"\",SUM(C120:U120))","v":""},{"$f":"IF(Propostas!$C127=\"\",\"\",RANK(V120,$V$5:$V$203,0))","v":""},{"$f":"IF(Propostas!$C127=\"\",\"\",VLOOKUP(B120,Propostas[],3,0))","v":""},{"$f":"IF(Propostas!$C127=\"\",\"\",Y119-X120)","v":""},{"$f":"IF(Propostas!$C127=\"\",\"\",IF(Y120>0,\"S\",\"N\"))","v":""}]

{"sheet":"Posição","index":6,"n_rows":114,"n_cols":23,"rows_kept":114,"cut":false,"hidden":false,"merged":[[0,14,0,17],[0,2,0,3],[0,5,0,6],[0,7,0,10],[0,11,0,13]]}
[null,null,"A",null,"B","C",null,"D",null,null,null,"E",null,null,"F"]
[null,null,"A1","A2","B","C1","C2","D1","D2","D3","D4","E1","E2","E3","F1","F2","F3","F4","G","H","I"]
["Ordem","Proposta","Relação custo-benefício proporcional","Relação custo-benefício ordenada","Peso do investimento em equipamentos no custo total","Impacto direto na economia de energia","Impacto direto na redução de demanda na ponta","Qualidade global da apresentação do projeto","Bases da proposta"," Consistência do cronograma apresentado","Estratégia de M&V","Eficácia na quebra de barreiras de mercado","Induz comportamentos de uso eficiente da energia","Destina-se a segmentos com barreiras mais relevantes","Experiência nos usos finais propostos","Experiência no PEE","Certificação CMVP da EVO","Outras certificações pertinentes","Contrapartida","Diversidade e priorização de usos finais","Ações educacionais","Total","Ordem"]
[{"$f":"IF(Propostas!$C12=\"\",\"\",ROW(1:1))","v":1},{"$f":"IF(Propostas!$C12=\"\",\"\",VLOOKUP($A4,Pontuação!$A$5:$V$203,COLUMN(B:B),0))","v":"P2"},{"$f":"IFERROR(RANK(Ordenada!C5,Ordenada!C$5:C$203,0),\"\")","v":3},{"$f":"IFERROR(RANK(Ordenada!D5,Ordenada!D$5:D$203,0),\"\")","v":3},{"$f":"IFERROR(RANK(Ordenada!E5,Ordenada!E$5:E$203,0),\"\")","v":9},{"$f":"IFERROR(RANK(Ordenada!F5,Ordenada!F$5:F$203,0),\"\")","v":2},{"$f":"IFERROR(RANK(Ordenada!G5,Ordenada!G$5:G$203,0),\"\")","v":1},{"$f":"IFERROR(RANK(Ordenada!H5,Ordenada!H$5:H$203,0),\"\")","v":5},{"$f":"IFERROR(RANK(Ordenada!I5,Ordenada!I$5:I$203,0),\"\")","v":1},{"$f":"IFERROR(RANK(Ordenada!J5,Ordenada!J$5:J$203,0),\"\")","v":1},{"$f":"IFERROR(RANK(Ordenada!K5,Ordenada!K$5:K$203,0),\"\")","v":1},{"$f":"IFERROR(RANK(Ordenada!L5,Ordenada!L$5:L$203,0),\"\")","v":1},{"$f":"IFERROR(RANK(Ordenada!M5,Ordenada!M$5:M$203,0),\"\")","v":7},{"$f":"IFERROR(RANK(Ordenada!N5,Ordenada!N$5:N$203,0),\"\")","v":1},{"$f":"IFERROR(RANK(Ordenada!O5,Ordenada!O$5:O$203,0),\"\")","v":1},{"$f":"IFERROR(RANK(Ordenada!P5,Ordenada!P$5:P$203,0),\"\")","v":1},{"$f":"IFERROR(RANK(Ordenada!Q5,Ordenada!Q$5:Q$203,0),\"\")","v":1},{"$f":"IFERROR(RANK(Ordenada!O5,Ordenada!O$5:O$203,0),\"\")","v":1},{"$f":"IFERROR(RANK(Ordenada!S5,Ordenada!S$5:S$203,0),\"\")","v":1},{"$f":"IFERROR(RANK(Ordenada!T5,Ordenada!T$5:T$203,0),\"\")","v":3},{"$f":"IFERROR(RANK(Ordenada!U5,Ordenada!U$5:U$203,0),\"\")","v":3},{"$f":"IFERROR(RANK(Ordenada!V5,Ordenada!V$5:V$203,0),\"\")","v":1},{"$f":"IFERROR(RANK(Ordenada!W5,Ordenada!W$5:W$203,1),\"\")","v":1}]
[{"$f":"IF(Propostas!$C13=\"\",\"\",ROW(2:2))","v":2},{"$f":"IF(Propostas!$C13=\"\",\"\",VLOOKUP($A5,Pontuação!$A$5:$V$203,COLUMN(B:B),0))","v":"P9"},{"$f":"IFERROR(RANK(Ordenada!C6,Ordenada!C$5:C$203,0),\"\")","v":4},{"$f":"IFERROR(RANK(Ordenada!D6,Ordenada!D$5:D$203,0),\"\")","v":4},{"$f":"IFERROR(RANK(Ordenada!E6,Ordenada!E$5:E$203,0),\"\")","v":8},{"$f":"IFERROR(RANK(Ordenada!F6,Ordenada!F$5:F$203,0),\"\")","v":8},{"$f":"IFERROR(RANK(Ordenada!G6,Ordenada!G$5:G$203,0),\"\")","v":8},{"$f":"IFERROR(RANK(Ordenada!H6,Ordenada!H$5:H$203,0),\"\")","v":1},{"$f":"IFERROR(RANK(Ordenada!I6,Ordenada!I$5:I$203,0),\"\")","v":1},{"$f":"IFERROR(RANK(Ordenada!J6,Ordenada!J$5:J$203,0),\"\")","v":1},{"$f":"IFERROR(RANK(Ordenada!K6,Ordenada!K$5:K$203,0),\"\")","v":1},{"$f":"IFERROR(RANK(Ordenada!L6,Ordenada!L$5:L$203,0),\"\")","v":1},{"$f":"IFERROR(RANK(Ordenada!M6,Ordenada!M$5:M$203,0),\"\")","v":2},{"$f":"IFERROR(RANK(Ordenada!N6,Ordenada!N$5:N$203,0),\"\")","v":1},{"$f":"IFERROR(RANK(Ordenada!O6,Ordenada!O$5:O$203,0),\"\")","v":1},{"$f":"IFERROR(RANK(Ordenada!P6,Ordenada!P$5:P$203,0),\"\")","v":1},{"$f":"IFERROR(RANK(Ordenada!Q6,Ordenada!Q$5:Q$203,0),\"\")","v":1},{"$f":"IFERROR(RANK(Ordenada!O6,Ordenada!O$5:O$203,0),\"\")","v":1},{"$f":"IFERROR(RANK(Ordenada!S6,Ordenada!S$5:S$203,0),\"\")","v":5},{"$f":"IFERROR(RANK(Ordenada!T6,Ordenada!T$5:T$203,0),\"\")","v":1},{"$f":"IFERROR(RANK(Ordenada!U6,Ordenada!U$5:U$203,0),\"\")","v":1},{"$f":"IFERROR(RANK(Ordenada!V6,Ordenada!V$5:V$203,0),\"\")","v":2},{"$f":"IFERROR(RANK(Ordenada!W6,Ordenada!W$5:W$203,1),\"\")","v":2}]
[{"$f":"IF(Propostas!$C14=\"\",\"\",ROW(3:3))","v":3},{"$f":"IF(Propostas!$C14=\"\",\"\",VLOOKUP($A6,Pontuação!$A$5:$V$203,COLUMN(B:B),0))","v":"P7"},{"$f":"IFERROR(RANK(Ordenada!C7,Ordenada!C$5:C$203,0),\"\")","v":8},{"$f":"IFERROR(RANK(Ordenada!D7,Ordenada!D$5:D$203,0),\"\")","v":8},{"$f":"IFERROR(RANK(Ordenada!E7,Ordenada!E$5:E$203,0),\"\")","v":1},{"$f":"IFERROR(RANK(Ordenada!F7,Ordenada!F$5:F$203,0),\"\")","v":3},{"$f":"IFERROR(RANK(Ordenada!G7,Ordenada!G$5:G$203,0),\"\")","v":2},{"$f":"IFERROR(RANK(Ordenada!H7,Ordenada!H$5:H$203,0),\"\")","v":5},{"$f":"IFERROR(RANK(Ordenada!I7,Ordenada!I$5:I$203,0),\"\")","v":1},{"$f":"IFERROR(RANK(Ordenada!J7,Ordenada!J$5:J$203,0),\"\")","v":1},{"$f":"IFERROR(RANK(Ordenada!K7,Ordenada!K$5:K$203,0),\"\")","v":1},{"$f":"IFERROR(RANK(Ordenada!L7,Ordenada!L$5:L$203,0),\"\")","v":1},{"$f":"IFERROR(RANK(Ordenada!M7,Ordenada!M$5:M$203,0),\"\")","v":7},{"$f":"IFERROR(RANK(Ordenada!N7,Ordenada!N$5:N$203,0),\"\")","v":1},{"$f":"IFERROR(RANK(Ordenada!O7,Ordenada!O$5:O$203,0),\"\")","v":1},{"$f":"IFERROR(RANK(Ordenada!P7,Ordenada!P$5:P$203,0),\"\")","v":1},{"$f":"IFERROR(RANK(Ordenada!Q7,Ordenada!Q$5:Q$203,0),\"\")","v":1},{"$f":"IFERROR(RANK(Ordenada!O7,Ordenada!O$5:O$203,0),\"\")","v":1},{"$f":"IFERROR(RANK(Ordenada!S7,Ordenada!S$5:S$203,0),\"\")","v":2},{"$f":"IFERROR(RANK(Ordenada!T7,Ordenada!T$5:T$203,0),\"\")","v":4},{"$f":"IFERROR(RANK(Ordenada!U7,Ordenada!U$5:U$203,0),\"\")","v":8},{"$f":"IFERROR(RANK(Ordenada!V7,Ordenada!V$5:V$203,0),\"\")","v":3},{"$f":"IFERROR(RANK(Ordenada!W7,Ordenada!W$5:W$203,1),\"\")","v":3}]
[{"$f":"IF(Propostas!$C15=\"\",\"\",ROW(4:4))","v":4},{"$f":"IF(Propostas!$C15=\"\",\"\",VLOOKUP($A7,Pontuação!$A$5:$V$203,COLUMN(B:B),0))","v":"P1"},{"$f":"IFERROR(RANK(Ordenada!C8,Ordenada!C$5:C$203,0),\"\")","v":2},{"$f":"IFERROR(RANK(Ordenada!D8,Ordenada!D$5:D$203,0),\"\")","v":2},{"$f":"IFERROR(RANK(Ordenada!E8,Ordenada!E$5:E$203,0),\"\")","v":6},{"$f":"IFERROR(RANK(Ordenada!F8,Ordenada!F$5:F$203,0),\"\")","v":4},{"$f":"IFERROR(RANK(Ordenada!G8,Ordenada!G$5:G$203,0),\"\")","v":3},{"$f":"IFERROR(RANK(Ordenada!H8,Ordenada!H$5:H$203,0),\"\")","v":5},{"$f":"IFERROR(RANK(Ordenada!I8,Ordenada!I$5:I$203,0),\"\")","v":1},{"$f":"IFERROR(RANK(Ordenada!J8,Ordenada!J$5:J$203,0),\"\")","v":1},{"$f":"IFERROR(RANK(Ordenada!K8,Ordenada!K$5:K$203,0),\"\")","v":1},{"$f":"IFERROR(RANK(Ordenada!L8,Ordenada!L$5:L$203,0),\"\")","v":1},{"$f":"IFERROR(RANK(Ordenada!M8,Ordenada!M$5:M$203,0),\"\")","v":7},{"$f":"IFERROR(RANK(Ordenada!N8,Ordenada!N$5:N$203,0),\"\")","v":1},{"$f":"IFERROR(RANK(Ordenada!O8,Ordenada!O$5:O$203,0),\"\")","v":1},{"$f":"IFERROR(RANK(Ordenada!P8,Ordenada!P$5:P$203,0),\"\")","v":1},{"$f":"IFERROR(RANK(Ordenada!Q8,Ordenada!Q$5:Q$203,0),\"\")","v":1},{"$f":"IFERROR(RANK(Ordenada!O8,Ordenada!O$5:O$203,0),\"\")","v":1},{"$f":"IFERROR(RANK(Ordenada!S8,Ordenada!S$5:S$203,0),\"\")","v":8},{"$f":"IFERROR(RANK(Ordenada!T8,Ordenada!T$5:T$203,0),\"\")","v":4},{"$f":"IFERROR(RANK(Ordenada!U8,Ordenada!U$5:U$203,0),\"\")","v":10},{"$f":"IFERROR(RANK(Ordenada!V8,Ordenada!V$5:V$203,0),\"\")","v":4},{"$f":"IFERROR(RANK(Ordenada!W8,Ordenada!W$5:W$203,1),\"\")","v":4}]
[{"$f":"IF(Propostas!$C16=\"\",\"\",ROW(5:5))","v":5},{"$f":"IF(Propostas!$C16=\"\",\"\",VLOOKUP($A8,Pontuação!$A$5:$V$203,COLUMN(B:B),0))","v":"P4"},{"$f":"IFERROR(RANK(Ordenada!C9,Ordenada!C$5:C$203,0),\"\")","v":5},{"$f":"IFERROR(RANK(Ordenada!D9,Ordenada!D$5:D$203,0),\"\")","v":5},{"$f":"IFERROR(RANK(Ordenada!E9,Ordenada!E$5:E$203,0),\"\")","v":3},{"$f":"IFERROR(RANK(Ordenada!F9,Ordenada!F$5:F$203,0),\"\")","v":7},{"$f":"IFERROR(RANK(Ordenada!G9,Ordenada!G$5:G$203,0),\"\")","v":6},{"$f":"IFERROR(RANK(Ordenada!H9,Ordenada!H$5:H$203,0),\"\")","v":1},{"$f":"IFERROR(RANK(Ordenada!I9,Ordenada!I$5:I$203,0),\"\")","v":1},{"$f":"IFERROR(RANK(Ordenada!J9,Ordenada!J$5:J$203,0),\"\")","v":1},{"$f":"IFERROR(RANK(Ordenada!K9,Ordenada!K$5:K$203,0),\"\")","v":1},{"$f":"IFERROR(RANK(Ordenada!L9,Ordenada!L$5:L$203,0),\"\")","v":1},{"$f":"IFERROR(RANK(Ordenada!M9,Ordenada!M$5:M$203,0),\"\")","v":2},{"$f":"IFERROR(RANK(Ordenada!N9,Ordenada!N$5:N$203,0),\"\")","v":1},{"$f":"IFERROR(RANK(Ordenada!O9,Ordenada!O$5:O$203,0),\"\")","v":1},{"$f":"IFERROR(RANK(Ordenada!P9,Ordenada!P$5:P$203,0),\"\")","v":1},{"$f":"IFERROR(RANK(Ordenada!Q9,Ordenada!Q$5:Q$203,0),\"\")","v":1},{"$f":"IFERROR(RANK(Ordenada!O9,Ordenada!O$5:O$203,0),\"\")","v":1},{"$f":"IFERROR(RANK(Ordenada!S9,Ordenada!S$5:S$203,0),\"\")","v":4},{"$f":"IFERROR(RANK(Ordenada!T9,Ordenada!T$5:T$203,0),\"\")","v":4},{"$f":"IFERROR(RANK(Ordenada!U9,Ordenada!U$5:U$203,0),\"\")","v":7},{"$f":"IFERROR(RANK(Ordenada!V9,Ordenada!V$5:V$203,0),\"\")","v":5},{"$f":"IFERROR(RANK(Ordenada!W9,Ordenada!W$5:W$203,1),\"\")","v":5}]
[{"$f":"IF(Propostas!$C17=\"\",\"\",ROW(6:6))","v":6},{"$f":"IF(Propostas!$C17=\"\",\"\",VLOOKUP($A9,Pontuação!$A$5:$V$203,COLUMN(B:B),0))","v":"P8"},{"$f":"IFERROR(RANK(Ordenada!C10,Ordenada!C$5:C$203,0),\"\")","v":7},{"$f":"IFERROR(RANK(Ordenada!D10,Ordenada!D$5:D$203,0),\"\")","v":7},{"$f":"IFERROR(RANK(Ordenada!E10,Ordenada!E$5:E$203,0),\"\")","v":7},{"$f":"IFERROR(RANK(Ordenada!F10,Ordenada!F$5:F$203,0),\"\")","v":6},{"$f":"IFERROR(RANK(Ordenada!G10,Ordenada!G$5:G$203,0),\"\")","v":7},{"$f":"IFERROR(RANK(Ordenada!H10,Ordenada!H$5:H$203,0),\"\")","v":1},{"$f":"IFERROR(RANK(Ordenada!I10,Ordenada!I$5:I$203,0),\"\")","v":1},{"$f":"IFERROR(RANK(Ordenada!J10,Ordenada!J$5:J$203,0),\"\")","v":1},{"$f":"IFERROR(RANK(Ordenada!K10,Ordenada!K$5:K$203,0),\"\")","v":1},{"$f":"IFERROR(RANK(Ordenada!L10,Ordenada!L$5:L$203,0),\"\")","v":1},{"$f":"IFERROR(RANK(Ordenada!M10,Ordenada!M$5:M$203,0),\"\")","v":2},{"$f":"IFERROR(RANK(Ordenada!N10,Ordenada!N$5:N$203,0),\"\")","v":1},{"$f":"IFERROR(RANK(Ordenada!O10,Ordenada!O$5:O$203,0),\"\")","v":1},{"$f":"IFERROR(RANK(Ordenada!P10,Ordenada!P$5:P$203,0),\"\")","v":1},{"$f":"IFERROR(RANK(Ordenada!Q10,Ordenada!Q$5:Q$203,0),\"\")","v":1},{"$f":"IFERROR(RANK(Ordenada!O10,Ordenada!O$5:O$203,0),\"\")","v":1},{"$f":"IFERROR(RANK(Ordenada!S10,Ordenada!S$5:S$203,0),\"\")","v":6},{"$f":"IFERROR(RANK(Ordenada!T10,Ordenada!T$5:T$203,0),\"\")","v":2},{"$f":"IFERROR(RANK(Ordenada!U10,Ordenada!U$5:U$203,0),\"\")","v":2},{"$f":"IFERROR(RANK(Ordenada!V10,Ordenada!V$5:V$203,0),\"\")","v":6},{"$f":"IFERROR(RANK(Ordenada!W10,Ordenada!W$5:W$203,1),\"\")","v":6}]
[{"$f":"IF(Propostas!$C18=\"\",\"\",ROW(7:7))","v":7},{"$f":"IF(Propostas!$C18=\"\",\"\",VLOOKUP($A10,Pontuação!$A$5:$V$203,COLUMN(B:B),0))","v":"P3"},{"$f":"IFERROR(RANK(Ordenada!C11,Ordenada!C$5:C$203,0),\"\")","v":1},{"$f":"IFERROR(RANK(Ordenada!D11,Ordenada!D$5:D$203,0),\"\")","v":1},{"$f":"IFERROR(RANK(Ordenada!E11,Ordenada!E$5:E$203,0),\"\")","v":4},{"$f":"IFERROR(RANK(Ordenada!F11,Ordenada!F$5:F$203,0),\"\")","v":9},{"$f":"IFERROR(RANK(Ordenada!G11,Ordenada!G$5:G$203,0),\"\")","v":10},{"$f":"IFERROR(RANK(Ordenada!H11,Ordenada!H$5:H$203,0),\"\")","v":10},{"$f":"IFERROR(RANK(Ordenada!I11,Ordenada!I$5:I$203,0),\"\")","v":1},{"$f":"IFERROR(RANK(Ordenada!J11,Ordenada!J$5:J$203,0),\"\")","v":1},{"$f":"IFERROR(RANK(Ordenada!K11,Ordenada!K$5:K$203,0),\"\")","v":1},{"$f":"IFERROR(RANK(Ordenada!L11,Ordenada!L$5:L$203,0),\"\")","v":1},{"$f":"IFERROR(RANK(Ordenada!M11,Ordenada!M$5:M$203,0),\"\")","v":7},{"$f":"IFERROR(RANK(Ordenada!N11,Ordenada!N$5:N$203,0),\"\")","v":1},{"$f":"IFERROR(RANK(Ordenada!O11,Ordenada!O$5:O$203,0),\"\")","v":1},{"$f":"IFERROR(RANK(Ordenada!P11,Ordenada!P$5:P$203,0),\"\")","v":1},{"$f":"IFERROR(RANK(Ordenada!Q11,Ordenada!Q$5:Q$203,0),\"\")","v":1},{"$f":"IFERROR(RANK(Ordenada!O11,Ordenada!O$5:O$203,0),\"\")","v":1},{"$f":"IFERROR(RANK(Ordenada!S11,Ordenada!S$5:S$203,0),\"\")","v":7},{"$f":"IFERROR(RANK(Ordenada!T11,Ordenada!T$5:T$203,0),\"\")","v":4},{"$f":"IFERROR(RANK(Ordenada!U11,Ordenada!U$5:U$203,0),\"\")","v":4},{"$f":"IFERROR(RANK(Ordenada!V11,Ordenada!V$5:V$203,0),\"\")","v":7},{"$f":"IFERROR(RANK(Ordenada!W11,Ordenada!W$5:W$203,1),\"\")","v":7}]
[{"$f":"IF(Propostas!$C19=\"\",\"\",ROW(8:8))","v":8},{"$f":"IF(Propostas!$C19=\"\",\"\",VLOOKUP($A11,Pontuação!$A$5:$V$203,COLUMN(B:B),0))","v":"P6"},{"$f":"IFERROR(RANK(Ordenada!C12,Ordenada!C$5:C$203,0),\"\")","v":6},{"$f":"IFERROR(RANK(Ordenada!D12,Ordenada!D$5:D$203,0),\"\")","v":6},{"$f":"IFERROR(RANK(Ordenada!E12,Ordenada!E$5:E$203,0),\"\")","v":5},{"$f":"IFERROR(RANK(Ordenada!F12,Ordenada!F$5:F$203,0),\"\")","v":1},{"$f":"IFERROR(RANK(Ordenada!G12,Ordenada!G$5:G$203,0),\"\")","v":5},{"$f":"IFERROR(RANK(Ordenada!H12,Ordenada!H$5:H$203,0),\"\")","v":1},{"$f":"IFERROR(RANK(Ordenada!I12,Ordenada!I$5:I$203,0),\"\")","v":1},{"$f":"IFERROR(RANK(Ordenada!J12,Ordenada!J$5:J$203,0),\"\")","v":1},{"$f":"IFERROR(RANK(Ordenada!K12,Ordenada!K$5:K$203,0),\"\")","v":1},{"$f":"IFERROR(RANK(Ordenada!L12,Ordenada!L$5:L$203,0),\"\")","v":1},{"$f":"IFERROR(RANK(Ordenada!M12,Ordenada!M$5:M$203,0),\"\")","v":1},{"$f":"IFERROR(RANK(Ordenada!N12,Ordenada!N$5:N$203,0),\"\")","v":1},{"$f":"IFERROR(RANK(Ordenada!O12,Ordenada!O$5:O$203,0),\"\")","v":1},{"$f":"IFERROR(RANK(Ordenada!P12,Ordenada!P$5:P$203,0),\"\")","v":1},{"$f":"IFERROR(RANK(Ordenada!Q12,Ordenada!Q$5:Q$203,0),\"\")","v":1},{"$f":"IFERROR(RANK(Ordenada!O12,Ordenada!O$5:O$203,0),\"\")","v":1},{"$f":"IFERROR(RANK(Ordenada!S12,Ordenada!S$5:S$203,0),\"\")","v":8},{"$f":"IFERROR(RANK(Ordenada!T12,Ordenada!T$5:T$203,0),\"\")","v":4},{"$f":"IFERROR(RANK(Ordenada!U12,Ordenada!U$5:U$203,0),\"\")","v":9},{"$f":"IFERROR(RANK(Ordenada!V12,Ordenada!V$5:V$203,0),\"\")","v":8},{"$f":"IFERROR(RANK(Ordenada!W12,Ordenada!W$5:W$203,1),\"\")","v":8}]
[{"$f":"IF(Propostas!$C20=\"\",\"\",ROW(9:9))","v":9},{"$f":"IF(Propostas!$C20=\"\",\"\",VLOOKUP($A12,Pontuação!$A$5:$V$203,COLUMN(B:B),0))","v":"P5"},{"$f":"IFERROR(RANK(Ordenada!C13,Ordenada!C$5:C$203,0),\"\")","v":9},{"$f":"IFERROR(RANK(Ordenada!D13,Ordenada!D$5:D$203,0),\"\")","v":9},{"$f":"IFERROR(RANK(Ordenada!E13,Ordenada!E$5:E$203,0),\"\")","v":2},{"$f":"IFERROR(RANK(Ordenada!F13,Ordenada!F$5:F$203,0),\"\")","v":5},{"$f":"IFERROR(RANK(Ordenada!G13,Ordenada!G$5:G$203,0),\"\")","v":4},{"$f":"IFERROR(RANK(Ordenada!H13,Ordenada!H$5:H$203,0),\"\")","v":5},{"$f":"IFERROR(RANK(Ordenada!I13,Ordenada!I$5:I$203,0),\"\")","v":1},{"$f":"IFERROR(RANK(Ordenada!J13,Ordenada!J$5:J$203,0),\"\")","v":1},{"$f":"IFERROR(RANK(Ordenada!K13,Ordenada!K$5:K$203,0),\"\")","v":1},{"$f":"IFERROR(RANK(Ordenada!L13,Ordenada!L$5:L$203,0),\"\")","v":1},{"$f":"IFERROR(RANK(Ordenada!M13,Ordenada!M$5:M$203,0),\"\")","v":2},{"$f":"IFERROR(RANK(Ordenada!N13,Ordenada!N$5:N$203,0),\"\")","v":1},{"$f":"IFERROR(RANK(Ordenada!O13,Ordenada!O$5:O$203,0),\"\")","v":1},{"$f":"IFERROR(RANK(Ordenada!P13,Ordenada!P$5:P$203,0),\"\")","v":1},{"$f":"IFERROR(RANK(Ordenada!Q13,Ordenada!Q$5:Q$203,0),\"\")","v":1},{"$f":"IFERROR(RANK(Ordenada!O13,Ordenada!O$5:O$203,0),\"\")","v":1},{"$f":"IFERROR(RANK(Ordenada!S13,Ordenada!S$5:S$203,0),\"\")","v":3},{"$f":"IFERROR(RANK(Ordenada!T13,Ordenada!T$5:T$203,0),\"\")","v":4},{"$f":"IFERROR(RANK(Ordenada!U13,Ordenada!U$5:U$203,0),\"\")","v":6},{"$f":"IFERROR(RANK(Ordenada!V13,Ordenada!V$5:V$203,0),\"\")","v":9},{"$f":"IFERROR(RANK(Ordenada!W13,Ordenada!W$5:W$203,1),\"\")","v":9}]
[{"$f":"IF(Propostas!$C21=\"\",\"\",ROW(10:10))","v":10},{"$f":"IF(Propostas!$C21=\"\",\"\",VLOOKUP($A13,Pontuação!$A$5:$V$203,COLUMN(B:B),0))","v":"P10"},{"$f":"IFERROR(RANK(Ordenada!C14,Ordenada!C$5:C$203,0),\"\")","v":10},{"$f":"IFERROR(RANK(Ordenada!D14,Ordenada!D$5:D$203,0),\"\")","v":10},{"$f":"IFERROR(RANK(Ordenada!E14,Ordenada!E$5:E$203,0),\"\")","v":10},{"$f":"IFERROR(RANK(Ordenada!F14,Ordenada!F$5:F$203,0),\"\")","v":10},{"$f":"IFERROR(RANK(Ordenada!G14,Ordenada!G$5:G$203,0),\"\")","v":9},{"$f":"IFERROR(RANK(Ordenada!H14,Ordenada!H$5:H$203,0),\"\")","v":5},{"$f":"IFERROR(RANK(Ordenada!I14,Ordenada!I$5:I$203,0),\"\")","v":1},{"$f":"IFERROR(RANK(Ordenada!J14,Ordenada!J$5:J$203,0),\"\")","v":1},{"$f":"IFERROR(RANK(Ordenada!K14,Ordenada!K$5:K$203,0),\"\")","v":1},{"$f":"IFERROR(RANK(Ordenada!L14,Ordenada!L$5:L$203,0),\"\")","v":1},{"$f":"IFERROR(RANK(Ordenada!M14,Ordenada!M$5:M$203,0),\"\")","v":2},{"$f":"IFERROR(RANK(Ordenada!N14,Ordenada!N$5:N$203,0),\"\")","v":1},{"$f":"IFERROR(RANK(Ordenada!O14,Ordenada!O$5:O$203,0),\"\")","v":1},{"$f":"IFERROR(RANK(Ordenada!P14,Ordenada!P$5:P$203,0),\"\")","v":1},{"$f":"IFERROR(RANK(Ordenada!Q14,Ordenada!Q$5:Q$203,0),\"\")","v":1},{"$f":"IFERROR(RANK(Ordenada!O14,Ordenada!O$5:O$203,0),\"\")","v":1},{"$f":"IFERROR(RANK(Ordenada!S14,Ordenada!S$5:S$203,0),\"\")","v":8},{"$f":"IFERROR(RANK(Ordenada!T14,Ordenada!T$5:T$203,0),\"\")","v":4},{"$f":"IFERROR(RANK(Ordenada!U14,Ordenada!U$5:U$203,0),\"\")","v":5},{"$f":"IFERROR(RANK(Ordenada!V14,Ordenada!V$5:V$203,0),\"\")","v":10},{"$f":"IFERROR(RANK(Ordenada!W14,Ordenada!W$5:W$203,1),\"\")","v":10}]
[{"$f":"IF(Propostas!$C22=\"\",\"\",ROW(11:11))","v":""},{"$f":"IF(Propostas!$C22=\"\",\"\",VLOOKUP($A14,Pontuação!$A$5:$V$203,COLUMN(B:B),0))","v":""},{"$f":"IFERROR(RANK(Ordenada!C15,Ordenada!C$5:C$203,0),\"\")","v":""},{"$f":"IFERROR(RANK(Ordenada!D15,Ordenada!D$5:D$203,0),\"\")","v":""},{"$f":"IFERROR(RANK(Ordenada!E15,Ordenada!E$5:E$203,0),\"\")","v":""},{"$f":"IFERROR(RANK(Ordenada!F15,Ordenada!F$5:F$203,0),\"\")","v":""},{"$f":"IFERROR(RANK(Ordenada!G15,Ordenada!G$5:G$203,0),\"\")","v":""},{"$f":"IFERROR(RANK(Ordenada!H15,Ordenada!H$5:H$203,0),\"\")","v":""},{"$f":"IFERROR(RANK(Ordenada!I15,Ordenada!I$5:I$203,0),\"\")","v":""},{"$f":"IFERROR(RANK(Ordenada!J15,Ordenada!J$5:J$203,0),\"\")","v":""},{"$f":"IFERROR(RANK(Ordenada!K15,Ordenada!K$5:K$203,0),\"\")","v":""},{"$f":"IFERROR(RANK(Ordenada!L15,Ordenada!L$5:L$203,0),\"\")","v":""},{"$f":"IFERROR(RANK(Ordenada!M15,Ordenada!M$5:M$203,0),\"\")","v":""},{"$f":"IFERROR(RANK(Ordenada!N15,Ordenada!N$5:N$203,0),\"\")","v":""},{"$f":"IFERROR(RANK(Ordenada!O15,Ordenada!O$5:O$203,0),\"\")","v":""},{"$f":"IFERROR(RANK(Ordenada!P15,Ordenada!P$5:P$203,0),\"\")","v":""},{"$f":"IFERROR(RANK(Ordenada!Q15,Ordenada!Q$5:Q$203,0),\"\")","v":""},{"$f":"IFERROR(RANK(Ordenada!O15,Ordenada!O$5:O$203,0),\"\")","v":""},{"$f":"IFERROR(RANK(Ordenada!S15,Ordenada!S$5:S$203,0),\"\")","v":""},{"$f":"IFERROR(RANK(Ordenada!T15,Ordenada!T$5:T$203,0),\"\")","v":""},{"$f":"IFERROR(RANK(Ordenada!U15,Ordenada!U$5:U$203,0),\"\")","v":""},{"$f":"IFERROR(RANK(Ordenada!V15,Ordenada!V$5:V$203,0),\"\")","v":""},{"$f":"IFERROR(RANK(Ordenada!W15,Ordenada!W$5:W$203,1),\"\")","v":""}]
[{"$f":"IF(Propostas!$C23=\"\",\"\",ROW(12:12))","v":""},{"$f":"IF(Propostas!$C23=\"\",\"\",VLOOKUP($A15,Pontuação!$A$5:$V$203,COLUMN(B:B),0))","v":""},{"$f":"IFERROR(RANK(Ordenada!C16,Ordenada!C$5:C$203,0),\"\")","v":""},{"$f":"IFERROR(RANK(Ordenada!D16,Ordenada!D$5:D$203,0),\"\")","v":""},{"$f":"IFERROR(RANK(Ordenada!E16,Ordenada!E$5:E$203,0),\"\")","v":""},{"$f":"IFERROR(RANK(Ordenada!F16,Ordenada!F$5:F$203,0),\"\")","v":""},{"$f":"IFERROR(RANK(Ordenada!G16,Ordenada!G$5:G$203,0),\"\")","v":""},{"$f":"IFERROR(RANK(Ordenada!H16,Ordenada!H$5:H$203,0),\"\")","v":""},{"$f":"IFERROR(RANK(Ordenada!I16,Ordenada!I$5:I$203,0),\"\")","v":""},{"$f":"IFERROR(RANK(Ordenada!J16,Ordenada!J$5:J$203,0),\"\")","v":""},{"$f":"IFERROR(RANK(Ordenada!K16,Ordenada!K$5:K$203,0),\"\")","v":""},{"$f":"IFERROR(RANK(Ordenada!L16,Ordenada!L$5:L$203,0),\"\")","v":""},{"$f":"IFERROR(RANK(Ordenada!M16,Ordenada!M$5:M$203,0),\"\")","v":""},{"$f":"IFERROR(RANK(Ordenada!N16,Ordenada!N$5:N$203,0),\"\")","v":""},{"$f":"IFERROR(RANK(Ordenada!O16,Ordenada!O$5:O$203,0),\"\")","v":""},{"$f":"IFERROR(RANK(Ordenada!P16,Ordenada!P$5:P$203,0),\"\")","v":""},{"$f":"IFERROR(RANK(Ordenada!Q16,Ordenada!Q$5:Q$203,0),\"\")","v":""},{"$f":"IFERROR(RANK(Ordenada!O16,Ordenada!O$5:O$203,0),\"\")","v":""},{"$f":"IFERROR(RANK(Ordenada!S16,Ordenada!S$5:S$203,0),\"\")","v":""},{"$f":"IFERROR(RANK(Ordenada!T16,Ordenada!T$5:T$203,0),\"\")","v":""},{"$f":"IFERROR(RANK(Ordenada!U16,Ordenada!U$5:U$203,0),\"\")","v":""},{"$f":"IFERROR(RANK(Ordenada!V16,Ordenada!V$5:V$203,0),\"\")","v":""},{"$f":"IFERROR(RANK(Ordenada!W16,Ordenada!W$5:W$203,1),\"\")","v":""}]
[{"$f":"IF(Propostas!$C24=\"\",\"\",ROW(13:13))","v":""},{"$f":"IF(Propostas!$C24=\"\",\"\",VLOOKUP($A16,Pontuação!$A$5:$V$203,COLUMN(B:B),0))","v":""},{"$f":"IFERROR(RANK(Ordenada!C17,Ordenada!C$5:C$203,0),\"\")","v":""},{"$f":"IFERROR(RANK(Ordenada!D17,Ordenada!D$5:D$203,0),\"\")","v":""},{"$f":"IFERROR(RANK(Ordenada!E17,Ordenada!E$5:E$203,0),\"\")","v":""},{"$f":"IFERROR(RANK(Ordenada!F17,Ordenada!F$5:F$203,0),\"\")","v":""},{"$f":"IFERROR(RANK(Ordenada!G17,Ordenada!G$5:G$203,0),\"\")","v":""},{"$f":"IFERROR(RANK(Ordenada!H17,Ordenada!H$5:H$203,0),\"\")","v":""},{"$f":"IFERROR(RANK(Ordenada!I17,Ordenada!I$5:I$203,0),\"\")","v":""},{"$f":"IFERROR(RANK(Ordenada!J17,Ordenada!J$5:J$203,0),\"\")","v":""},{"$f":"IFERROR(RANK(Ordenada!K17,Ordenada!K$5:K$203,0),\"\")","v":""},{"$f":"IFERROR(RANK(Ordenada!L17,Ordenada!L$5:L$203,0),\"\")","v":""},{"$f":"IFERROR(RANK(Ordenada!M17,Ordenada!M$5:M$203,0),\"\")","v":""},{"$f":"IFERROR(RANK(Ordenada!N17,Ordenada!N$5:N$203,0),\"\")","v":""},{"$f":"IFERROR(RANK(Ordenada!O17,Ordenada!O$5:O$203,0),\"\")","v":""},{"$f":"IFERROR(RANK(Ordenada!P17,Ordenada!P$5:P$203,0),\"\")","v":""},{"$f":"IFERROR(RANK(Ordenada!Q17,Ordenada!Q$5:Q$203,0),\"\")","v":""},{"$f":"IFERROR(RANK(Ordenada!O17,Ordenada!O$5:O$203,0),\"\")","v":""},{"$f":"IFERROR(RANK(Ordenada!S17,Ordenada!S$5:S$203,0),\"\")","v":""},{"$f":"IFERROR(RANK(Ordenada!T17,Ordenada!T$5:T$203,0),\"\")","v":""},{"$f":"IFERROR(RANK(Ordenada!U17,Ordenada!U$5:U$203,0),\"\")","v":""},{"$f":"IFERROR(RANK(Ordenada!V17,Ordenada!V$5:V$203,0),\"\")","v":""},{"$f":"IFERROR(RANK(Ordenada!W17,Ordenada!W$5:W$203,1),\"\")","v":""}]
[{"$f":"IF(Propostas!$C25=\"\",\"\",ROW(14:14))","v":""},{"$f":"IF(Propostas!$C25=\"\",\"\",VLOOKUP($A17,Pontuação!$A$5:$V$203,COLUMN(B:B),0))","v":""},{"$f":"IFERROR(RANK(Ordenada!C18,Ordenada!C$5:C$203,0),\"\")","v":""},{"$f":"IFERROR(RANK(Ordenada!D18,Ordenada!D$5:D$203,0),\"\")","v":""},{"$f":"IFERROR(RANK(Ordenada!E18,Ordenada!E$5:E$203,0),\"\")","v":""},{"$f":"IFERROR(RANK(Ordenada!F18,Ordenada!F$5:F$203,0),\"\")","v":""},{"$f":"IFERROR(RANK(Ordenada!G18,Ordenada!G$5:G$203,0),\"\")","v":""},{"$f":"IFERROR(RANK(Ordenada!H18,Ordenada!H$5:H$203,0),\"\")","v":""},{"$f":"IFERROR(RANK(Ordenada!I18,Ordenada!I$5:I$203,0),\"\")","v":""},{"$f":"IFERROR(RANK(Ordenada!J18,Ordenada!J$5:J$203,0),\"\")","v":""},{"$f":"IFERROR(RANK(Ordenada!K18,Ordenada!K$5:K$203,0),\"\")","v":""},{"$f":"IFERROR(RANK(Ordenada!L18,Ordenada!L$5:L$203,0),\"\")","v":""},{"$f":"IFERROR(RANK(Ordenada!M18,Ordenada!M$5:M$203,0),\"\")","v":""},{"$f":"IFERROR(RANK(Ordenada!N18,Ordenada!N$5:N$203,0),\"\")","v":""},{"$f":"IFERROR(RANK(Ordenada!O18,Ordenada!O$5:O$203,0),\"\")","v":""},{"$f":"IFERROR(RANK(Ordenada!P18,Ordenada!P$5:P$203,0),\"\")","v":""},{"$f":"IFERROR(RANK(Ordenada!Q18,Ordenada!Q$5:Q$203,0),\"\")","v":""},{"$f":"IFERROR(RANK(Ordenada!O18,Ordenada!O$5:O$203,0),\"\")","v":""},{"$f":"IFERROR(RANK(Ordenada!S18,Ordenada!S$5:S$203,0),\"\")","v":""},{"$f":"IFERROR(RANK(Ordenada!T18,Ordenada!T$5:T$203,0),\"\")","v":""},{"$f":"IFERROR(RANK(Ordenada!U18,Ordenada!U$5:U$203,0),\"\")","v":""},{"$f":"IFERROR(RANK(Ordenada!V18,Ordenada!V$5:V$203,0),\"\")","v":""},{"$f":"IFERROR(RANK(Ordenada!W18,Ordenada!W$5:W$203,1),\"\")","v":""}]
[{"$f":"IF(Propostas!$C26=\"\",\"\",ROW(15:15))","v":""},{"$f":"IF(Propostas!$C26=\"\",\"\",VLOOKUP($A18,Pontuação!$A$5:$V$203,COLUMN(B:B),0))","v":""},{"$f":"IFERROR(RANK(Ordenada!C19,Ordenada!C$5:C$203,0),\"\")","v":""},{"$f":"IFERROR(RANK(Ordenada!D19,Ordenada!D$5:D$203,0),\"\")","v":""},{"$f":"IFERROR(RANK(Ordenada!E19,Ordenada!E$5:E$203,0),\"\")","v":""},{"$f":"IFERROR(RANK(Ordenada!F19,Ordenada!F$5:F$203,0),\"\")","v":""},{"$f":"IFERROR(RANK(Ordenada!G19,Ordenada!G$5:G$203,0),\"\")","v":""},{"$f":"IFERROR(RANK(Ordenada!H19,Ordenada!H$5:H$203,0),\"\")","v":""},{"$f":"IFERROR(RANK(Ordenada!I19,Ordenada!I$5:I$203,0),\"\")","v":""},{"$f":"IFERROR(RANK(Ordenada!J19,Ordenada!J$5:J$203,0),\"\")","v":""},{"$f":"IFERROR(RANK(Ordenada!K19,Ordenada!K$5:K$203,0),\"\")","v":""},{"$f":"IFERROR(RANK(Ordenada!L19,Ordenada!L$5:L$203,0),\"\")","v":""},{"$f":"IFERROR(RANK(Ordenada!M19,Ordenada!M$5:M$203,0),\"\")","v":""},{"$f":"IFERROR(RANK(Ordenada!N19,Ordenada!N$5:N$203,0),\"\")","v":""},{"$f":"IFERROR(RANK(Ordenada!O19,Ordenada!O$5:O$203,0),\"\")","v":""},{"$f":"IFERROR(RANK(Ordenada!P19,Ordenada!P$5:P$203,0),\"\")","v":""},{"$f":"IFERROR(RANK(Ordenada!Q19,Ordenada!Q$5:Q$203,0),\"\")","v":""},{"$f":"IFERROR(RANK(Ordenada!O19,Ordenada!O$5:O$203,0),\"\")","v":""},{"$f":"IFERROR(RANK(Ordenada!S19,Ordenada!S$5:S$203,0),\"\")","v":""},{"$f":"IFERROR(RANK(Ordenada!T19,Ordenada!T$5:T$203,0),\"\")","v":""},{"$f":"IFERROR(RANK(Ordenada!U19,Ordenada!U$5:U$203,0),\"\")","v":""},{"$f":"IFERROR(RANK(Ordenada!V19,Ordenada!V$5:V$203,0),\"\")","v":""},{"$f":"IFERROR(RANK(Ordenada!W19,Ordenada!W$5:W$203,1),\"\")","v":""}]
[{"$f":"IF(Propostas!$C27=\"\",\"\",ROW(16:16))","v":""},{"$f":"IF(Propostas!$C27=\"\",\"\",VLOOKUP($A19,Pontuação!$A$5:$V$203,COLUMN(B:B),0))","v":""},{"$f":"IFERROR(RANK(Ordenada!C20,Ordenada!C$5:C$203,0),\"\")","v":""},{"$f":"IFERROR(RANK(Ordenada!D20,Ordenada!D$5:D$203,0),\"\")","v":""},{"$f":"IFERROR(RANK(Ordenada!E20,Ordenada!E$5:E$203,0),\"\")","v":""},{"$f":"IFERROR(RANK(Ordenada!F20,Ordenada!F$5:F$203,0),\"\")","v":""},{"$f":"IFERROR(RANK(Ordenada!G20,Ordenada!G$5:G$203,0),\"\")","v":""},{"$f":"IFERROR(RANK(Ordenada!H20,Ordenada!H$5:H$203,0),\"\")","v":""},{"$f":"IFERROR(RANK(Ordenada!I20,Ordenada!I$5:I$203,0),\"\")","v":""},{"$f":"IFERROR(RANK(Ordenada!J20,Ordenada!J$5:J$203,0),\"\")","v":""},{"$f":"IFERROR(RANK(Ordenada!K20,Ordenada!K$5:K$203,0),\"\")","v":""},{"$f":"IFERROR(RANK(Ordenada!L20,Ordenada!L$5:L$203,0),\"\")","v":""},{"$f":"IFERROR(RANK(Ordenada!M20,Ordenada!M$5:M$203,0),\"\")","v":""},{"$f":"IFERROR(RANK(Ordenada!N20,Ordenada!N$5:N$203,0),\"\")","v":""},{"$f":"IFERROR(RANK(Ordenada!O20,Ordenada!O$5:O$203,0),\"\")","v":""},{"$f":"IFERROR(RANK(Ordenada!P20,Ordenada!P$5:P$203,0),\"\")","v":""},{"$f":"IFERROR(RANK(Ordenada!Q20,Ordenada!Q$5:Q$203,0),\"\")","v":""},{"$f":"IFERROR(RANK(Ordenada!O20,Ordenada!O$5:O$203,0),\"\")","v":""},{"$f":"IFERROR(RANK(Ordenada!S20,Ordenada!S$5:S$203,0),\"\")","v":""},{"$f":"IFERROR(RANK(Ordenada!T20,Ordenada!T$5:T$203,0),\"\")","v":""},{"$f":"IFERROR(RANK(Ordenada!U20,Ordenada!U$5:U$203,0),\"\")","v":""},{"$f":"IFERROR(RANK(Ordenada!V20,Ordenada!V$5:V$203,0),\"\")","v":""},{"$f":"IFERROR(RANK(Ordenada!W20,Ordenada!W$5:W$203,1),\"\")","v":""}]
[{"$f":"IF(Propostas!$C28=\"\",\"\",ROW(17:17))","v":""},{"$f":"IF(Propostas!$C28=\"\",\"\",VLOOKUP($A20,Pontuação!$A$5:$V$203,COLUMN(B:B),0))","v":""},{"$f":"IFERROR(RANK(Ordenada!C21,Ordenada!C$5:C$203,0),\"\")","v":""},{"$f":"IFERROR(RANK(Ordenada!D21,Ordenada!D$5:D$203,0),\"\")","v":""},{"$f":"IFERROR(RANK(Ordenada!E21,Ordenada!E$5:E$203,0),\"\")","v":""},{"$f":"IFERROR(RANK(Ordenada!F21,Ordenada!F$5:F$203,0),\"\")","v":""},{"$f":"IFERROR(RANK(Ordenada!G21,Ordenada!G$5:G$203,0),\"\")","v":""},{"$f":"IFERROR(RANK(Ordenada!H21,Ordenada!H$5:H$203,0),\"\")","v":""},{"$f":"IFERROR(RANK(Ordenada!I21,Ordenada!I$5:I$203,0),\"\")","v":""},{"$f":"IFERROR(RANK(Ordenada!J21,Ordenada!J$5:J$203,0),\"\")","v":""},{"$f":"IFERROR(RANK(Ordenada!K21,Ordenada!K$5:K$203,0),\"\")","v":""},{"$f":"IFERROR(RANK(Ordenada!L21,Ordenada!L$5:L$203,0),\"\")","v":""},{"$f":"IFERROR(RANK(Ordenada!M21,Ordenada!M$5:M$203,0),\"\")","v":""},{"$f":"IFERROR(RANK(Ordenada!N21,Ordenada!N$5:N$203,0),\"\")","v":""},{"$f":"IFERROR(RANK(Ordenada!O21,Ordenada!O$5:O$203,0),\"\")","v":""},{"$f":"IFERROR(RANK(Ordenada!P21,Ordenada!P$5:P$203,0),\"\")","v":""},{"$f":"IFERROR(RANK(Ordenada!Q21,Ordenada!Q$5:Q$203,0),\"\")","v":""},{"$f":"IFERROR(RANK(Ordenada!O21,Ordenada!O$5:O$203,0),\"\")","v":""},{"$f":"IFERROR(RANK(Ordenada!S21,Ordenada!S$5:S$203,0),\"\")","v":""},{"$f":"IFERROR(RANK(Ordenada!T21,Ordenada!T$5:T$203,0),\"\")","v":""},{"$f":"IFERROR(RANK(Ordenada!U21,Ordenada!U$5:U$203,0),\"\")","v":""},{"$f":"IFERROR(RANK(Ordenada!V21,Ordenada!V$5:V$203,0),\"\")","v":""},{"$f":"IFERROR(RANK(Ordenada!W21,Ordenada!W$5:W$203,1),\"\")","v":""}]
[{"$f":"IF(Propostas!$C29=\"\",\"\",ROW(18:18))","v":""},{"$f":"IF(Propostas!$C29=\"\",\"\",VLOOKUP($A21,Pontuação!$A$5:$V$203,COLUMN(B:B),0))","v":""},{"$f":"IFERROR(RANK(Ordenada!C22,Ordenada!C$5:C$203,0),\"\")","v":""},{"$f":"IFERROR(RANK(Ordenada!D22,Ordenada!D$5:D$203,0),\"\")","v":""},{"$f":"IFERROR(RANK(Ordenada!E22,Ordenada!E$5:E$203,0),\"\")","v":""},{"$f":"IFERROR(RANK(Ordenada!F22,Ordenada!F$5:F$203,0),\"\")","v":""},{"$f":"IFERROR(RANK(Ordenada!G22,Ordenada!G$5:G$203,0),\"\")","v":""},{"$f":"IFERROR(RANK(Ordenada!H22,Ordenada!H$5:H$203,0),\"\")","v":""},{"$f":"IFERROR(RANK(Ordenada!I22,Ordenada!I$5:I$203,0),\"\")","v":""},{"$f":"IFERROR(RANK(Ordenada!J22,Ordenada!J$5:J$203,0),\"\")","v":""},{"$f":"IFERROR(RANK(Ordenada!K22,Ordenada!K$5:K$203,0),\"\")","v":""},{"$f":"IFERROR(RANK(Ordenada!L22,Ordenada!L$5:L$203,0),\"\")","v":""},{"$f":"IFERROR(RANK(Ordenada!M22,Ordenada!M$5:M$203,0),\"\")","v":""},{"$f":"IFERROR(RANK(Ordenada!N22,Ordenada!N$5:N$203,0),\"\")","v":""},{"$f":"IFERROR(RANK(Ordenada!O22,Ordenada!O$5:O$203,0),\"\")","v":""},{"$f":"IFERROR(RANK(Ordenada!P22,Ordenada!P$5:P$203,0),\"\")","v":""},{"$f":"IFERROR(RANK(Ordenada!Q22,Ordenada!Q$5:Q$203,0),\"\")","v":""},{"$f":"IFERROR(RANK(Ordenada!O22,Ordenada!O$5:O$203,0),\"\")","v":""},{"$f":"IFERROR(RANK(Ordenada!S22,Ordenada!S$5:S$203,0),\"\")","v":""},{"$f":"IFERROR(RANK(Ordenada!T22,Ordenada!T$5:T$203,0),\"\")","v":""},{"$f":"IFERROR(RANK(Ordenada!U22,Ordenada!U$5:U$203,0),\"\")","v":""},{"$f":"IFERROR(RANK(Ordenada!V22,Ordenada!V$5:V$203,0),\"\")","v":""},{"$f":"IFERROR(RANK(Ordenada!W22,Ordenada!W$5:W$203,1),\"\")","v":""}]
[{"$f":"IF(Propostas!$C30=\"\",\"\",ROW(19:19))","v":""},{"$f":"IF(Propostas!$C30=\"\",\"\",VLOOKUP($A22,Pontuação!$A$5:$V$203,COLUMN(B:B),0))","v":""},{"$f":"IFERROR(RANK(Ordenada!C23,Ordenada!C$5:C$203,0),\"\")","v":""},{"$f":"IFERROR(RANK(Ordenada!D23,Ordenada!D$5:D$203,0),\"\")","v":""},{"$f":"IFERROR(RANK(Ordenada!E23,Ordenada!E$5:E$203,0),\"\")","v":""},{"$f":"IFERROR(RANK(Ordenada!F23,Ordenada!F$5:F$203,0),\"\")","v":""},{"$f":"IFERROR(RANK(Ordenada!G23,Ordenada!G$5:G$203,0),\"\")","v":""},{"$f":"IFERROR(RANK(Ordenada!H23,Ordenada!H$5:H$203,0),\"\")","v":""},{"$f":"IFERROR(RANK(Ordenada!I23,Ordenada!I$5:I$203,0),\"\")","v":""},{"$f":"IFERROR(RANK(Ordenada!J23,Ordenada!J$5:J$203,0),\"\")","v":""},{"$f":"IFERROR(RANK(Ordenada!K23,Ordenada!K$5:K$203,0),\"\")","v":""},{"$f":"IFERROR(RANK(Ordenada!L23,Ordenada!L$5:L$203,0),\"\")","v":""},{"$f":"IFERROR(RANK(Ordenada!M23,Ordenada!M$5:M$203,0),\"\")","v":""},{"$f":"IFERROR(RANK(Ordenada!N23,Ordenada!N$5:N$203,0),\"\")","v":""},{"$f":"IFERROR(RANK(Ordenada!O23,Ordenada!O$5:O$203,0),\"\")","v":""},{"$f":"IFERROR(RANK(Ordenada!P23,Ordenada!P$5:P$203,0),\"\")","v":""},{"$f":"IFERROR(RANK(Ordenada!Q23,Ordenada!Q$5:Q$203,0),\"\")","v":""},{"$f":"IFERROR(RANK(Ordenada!O23,Ordenada!O$5:O$203,0),\"\")","v":""},{"$f":"IFERROR(RANK(Ordenada!S23,Ordenada!S$5:S$203,0),\"\")","v":""},{"$f":"IFERROR(RANK(Ordenada!T23,Ordenada!T$5:T$203,0),\"\")","v":""},{"$f":"IFERROR(RANK(Ordenada!U23,Ordenada!U$5:U$203,0),\"\")","v":""},{"$f":"IFERROR(RANK(Ordenada!V23,Ordenada!V$5:V$203,0),\"\")","v":""},{"$f":"IFERROR(RANK(Ordenada!W23,Ordenada!W$5:W$203,1),\"\")","v":""}]
[{"$f":"IF(Propostas!$C31=\"\",\"\",ROW(20:20))","v":""},{"$f":"IF(Propostas!$C31=\"\",\"\",VLOOKUP($A23,Pontuação!$A$5:$V$203,COLUMN(B:B),0))","v":""},{"$f":"IFERROR(RANK(Ordenada!C24,Ordenada!C$5:C$203,0),\"\")","v":""},{"$f":"IFERROR(RANK(Ordenada!D24,Ordenada!D$5:D$203,0),\"\")","v":""},{"$f":"IFERROR(RANK(Ordenada!E24,Ordenada!E$5:E$203,0),\"\")","v":""},{"$f":"IFERROR(RANK(Ordenada!F24,Ordenada!F$5:F$203,0),\"\")","v":""},{"$f":"IFERROR(RANK(Ordenada!G24,Ordenada!G$5:G$203,0),\"\")","v":""},{"$f":"IFERROR(RANK(Ordenada!H24,Ordenada!H$5:H$203,0),\"\")","v":""},{"$f":"IFERROR(RANK(Ordenada!I24,Ordenada!I$5:I$203,0),\"\")","v":""},{"$f":"IFERROR(RANK(Ordenada!J24,Ordenada!J$5:J$203,0),\"\")","v":""},{"$f":"IFERROR(RANK(Ordenada!K24,Ordenada!K$5:K$203,0),\"\")","v":""},{"$f":"IFERROR(RANK(Ordenada!L24,Ordenada!L$5:L$203,0),\"\")","v":""},{"$f":"IFERROR(RANK(Ordenada!M24,Ordenada!M$5:M$203,0),\"\")","v":""},{"$f":"IFERROR(RANK(Ordenada!N24,Ordenada!N$5:N$203,0),\"\")","v":""},{"$f":"IFERROR(RANK(Ordenada!O24,Ordenada!O$5:O$203,0),\"\")","v":""},{"$f":"IFERROR(RANK(Ordenada!P24,Ordenada!P$5:P$203,0),\"\")","v":""},{"$f":"IFERROR(RANK(Ordenada!Q24,Ordenada!Q$5:Q$203,0),\"\")","v":""},{"$f":"IFERROR(RANK(Ordenada!O24,Ordenada!O$5:O$203,0),\"\")","v":""},{"$f":"IFERROR(RANK(Ordenada!S24,Ordenada!S$5:S$203,0),\"\")","v":""},{"$f":"IFERROR(RANK(Ordenada!T24,Ordenada!T$5:T$203,0),\"\")","v":""},{"$f":"IFERROR(RANK(Ordenada!U24,Ordenada!U$5:U$203,0),\"\")","v":""},{"$f":"IFERROR(RANK(Ordenada!V24,Ordenada!V$5:V$203,0),\"\")","v":""},{"$f":"IFERROR(RANK(Ordenada!W24,Ordenada!W$5:W$203,1),\"\")","v":""}]
[{"$f":"IF(Propostas!$C32=\"\",\"\",ROW(21:21))","v":""},{"$f":"IF(Propostas!$C32=\"\",\"\",VLOOKUP($A24,Pontuação!$A$5:$V$203,COLUMN(B:B),0))","v":""},{"$f":"IFERROR(RANK(Ordenada!C25,Ordenada!C$5:C$203,0),\"\")","v":""},{"$f":"IFERROR(RANK(Ordenada!D25,Ordenada!D$5:D$203,0),\"\")","v":""},{"$f":"IFERROR(RANK(Ordenada!E25,Ordenada!E$5:E$203,0),\"\")","v":""},{"$f":"IFERROR(RANK(Ordenada!F25,Ordenada!F$5:F$203,0),\"\")","v":""},{"$f":"IFERROR(RANK(Ordenada!G25,Ordenada!G$5:G$203,0),\"\")","v":""},{"$f":"IFERROR(RANK(Ordenada!H25,Ordenada!H$5:H$203,0),\"\")","v":""},{"$f":"IFERROR(RANK(Ordenada!I25,Ordenada!I$5:I$203,0),\"\")","v":""},{"$f":"IFERROR(RANK(Ordenada!J25,Ordenada!J$5:J$203,0),\"\")","v":""},{"$f":"IFERROR(RANK(Ordenada!K25,Ordenada!K$5:K$203,0),\"\")","v":""},{"$f":"IFERROR(RANK(Ordenada!L25,Ordenada!L$5:L$203,0),\"\")","v":""},{"$f":"IFERROR(RANK(Ordenada!M25,Ordenada!M$5:M$203,0),\"\")","v":""},{"$f":"IFERROR(RANK(Ordenada!N25,Ordenada!N$5:N$203,0),\"\")","v":""},{"$f":"IFERROR(RANK(Ordenada!O25,Ordenada!O$5:O$203,0),\"\")","v":""},{"$f":"IFERROR(RANK(Ordenada!P25,Ordenada!P$5:P$203,0),\"\")","v":""},{"$f":"IFERROR(RANK(Ordenada!Q25,Ordenada!Q$5:Q$203,0),\"\")","v":""},{"$f":"IFERROR(RANK(Ordenada!O25,Ordenada!O$5:O$203,0),\"\")","v":""},{"$f":"IFERROR(RANK(Ordenada!S25,Ordenada!S$5:S$203,0),\"\")","v":""},{"$f":"IFERROR(RANK(Ordenada!T25,Ordenada!T$5:T$203,0),\"\")","v":""},{"$f":"IFERROR(RANK(Ordenada!U25,Ordenada!U$5:U$203,0),\"\")","v":""},{"$f":"IFERROR(RANK(Ordenada!V25,Ordenada!V$5:V$203,0),\"\")","v":""},{"$f":"IFERROR(RANK(Ordenada!W25,Ordenada!W$5:W$203,1),\"\")","v":""}]
[{"$f":"IF(Propostas!$C33=\"\",\"\",ROW(22:22))","v":""},{"$f":"IF(Propostas!$C33=\"\",\"\",VLOOKUP($A25,Pontuação!$A$5:$V$203,COLUMN(B:B),0))","v":""},{"$f":"IFERROR(RANK(Ordenada!C26,Ordenada!C$5:C$203,0),\"\")","v":""},{"$f":"IFERROR(RANK(Ordenada!D26,Ordenada!D$5:D$203,0),\"\")","v":""},{"$f":"IFERROR(RANK(Ordenada!E26,Ordenada!E$5:E$203,0),\"\")","v":""},{"$f":"IFERROR(RANK(Ordenada!F26,Ordenada!F$5:F$203,0),\"\")","v":""},{"$f":"IFERROR(RANK(Ordenada!G26,Ordenada!G$5:G$203,0),\"\")","v":""},{"$f":"IFERROR(RANK(Ordenada!H26,Ordenada!H$5:H$203,0),\"\")","v":""},{"$f":"IFERROR(RANK(Ordenada!I26,Ordenada!I$5:I$203,0),\"\")","v":""},{"$f":"IFERROR(RANK(Ordenada!J26,Ordenada!J$5:J$203,0),\"\")","v":""},{"$f":"IFERROR(RANK(Ordenada!K26,Ordenada!K$5:K$203,0),\"\")","v":""},{"$f":"IFERROR(RANK(Ordenada!L26,Ordenada!L$5:L$203,0),\"\")","v":""},{"$f":"IFERROR(RANK(Ordenada!M26,Ordenada!M$5:M$203,0),\"\")","v":""},{"$f":"IFERROR(RANK(Ordenada!N26,Ordenada!N$5:N$203,0),\"\")","v":""},{"$f":"IFERROR(RANK(Ordenada!O26,Ordenada!O$5:O$203,0),\"\")","v":""},{"$f":"IFERROR(RANK(Ordenada!P26,Ordenada!P$5:P$203,0),\"\")","v":""},{"$f":"IFERROR(RANK(Ordenada!Q26,Ordenada!Q$5:Q$203,0),\"\")","v":""},{"$f":"IFERROR(RANK(Ordenada!O26,Ordenada!O$5:O$203,0),\"\")","v":""},{"$f":"IFERROR(RANK(Ordenada!S26,Ordenada!S$5:S$203,0),\"\")","v":""},{"$f":"IFERROR(RANK(Ordenada!T26,Ordenada!T$5:T$203,0),\"\")","v":""},{"$f":"IFERROR(RANK(Ordenada!U26,Ordenada!U$5:U$203,0),\"\")","v":""},{"$f":"IFERROR(RANK(Ordenada!V26,Ordenada!V$5:V$203,0),\"\")","v":""},{"$f":"IFERROR(RANK(Ordenada!W26,Ordenada!W$5:W$203,1),\"\")","v":""}]
[{"$f":"IF(Propostas!$C34=\"\",\"\",ROW(23:23))","v":""},{"$f":"IF(Propostas!$C34=\"\",\"\",VLOOKUP($A26,Pontuação!$A$5:$V$203,COLUMN(B:B),0))","v":""},{"$f":"IFERROR(RANK(Ordenada!C27,Ordenada!C$5:C$203,0),\"\")","v":""},{"$f":"IFERROR(RANK(Ordenada!D27,Ordenada!D$5:D$203,0),\"\")","v":""},{"$f":"IFERROR(RANK(Ordenada!E27,Ordenada!E$5:E$203,0),\"\")","v":""},{"$f":"IFERROR(RANK(Ordenada!F27,Ordenada!F$5:F$203,0),\"\")","v":""},{"$f":"IFERROR(RANK(Ordenada!G27,Ordenada!G$5:G$203,0),\"\")","v":""},{"$f":"IFERROR(RANK(Ordenada!H27,Ordenada!H$5:H$203,0),\"\")","v":""},{"$f":"IFERROR(RANK(Ordenada!I27,Ordenada!I$5:I$203,0),\"\")","v":""},{"$f":"IFERROR(RANK(Ordenada!J27,Ordenada!J$5:J$203,0),\"\")","v":""},{"$f":"IFERROR(RANK(Ordenada!K27,Ordenada!K$5:K$203,0),\"\")","v":""},{"$f":"IFERROR(RANK(Ordenada!L27,Ordenada!L$5:L$203,0),\"\")","v":""},{"$f":"IFERROR(RANK(Ordenada!M27,Ordenada!M$5:M$203,0),\"\")","v":""},{"$f":"IFERROR(RANK(Ordenada!N27,Ordenada!N$5:N$203,0),\"\")","v":""},{"$f":"IFERROR(RANK(Ordenada!O27,Ordenada!O$5:O$203,0),\"\")","v":""},{"$f":"IFERROR(RANK(Ordenada!P27,Ordenada!P$5:P$203,0),\"\")","v":""},{"$f":"IFERROR(RANK(Ordenada!Q27,Ordenada!Q$5:Q$203,0),\"\")","v":""},{"$f":"IFERROR(RANK(Ordenada!O27,Ordenada!O$5:O$203,0),\"\")","v":""},{"$f":"IFERROR(RANK(Ordenada!S27,Ordenada!S$5:S$203,0),\"\")","v":""},{"$f":"IFERROR(RANK(Ordenada!T27,Ordenada!T$5:T$203,0),\"\")","v":""},{"$f":"IFERROR(RANK(Ordenada!U27,Ordenada!U$5:U$203,0),\"\")","v":""},{"$f":"IFERROR(RANK(Ordenada!V27,Ordenada!V$5:V$203,0),\"\")","v":""},{"$f":"IFERROR(RANK(Ordenada!W27,Ordenada!W$5:W$203,1),\"\")","v":""}]
[{"$f":"IF(Propostas!$C35=\"\",\"\",ROW(24:24))","v":""},{"$f":"IF(Propostas!$C35=\"\",\"\",VLOOKUP($A27,Pontuação!$A$5:$V$203,COLUMN(B:B),0))","v":""},{"$f":"IFERROR(RANK(Ordenada!C28,Ordenada!C$5:C$203,0),\"\")","v":""},{"$f":"IFERROR(RANK(Ordenada!D28,Ordenada!D$5:D$203,0),\"\")","v":""},{"$f":"IFERROR(RANK(Ordenada!E28,Ordenada!E$5:E$203,0),\"\")","v":""},{"$f":"IFERROR(RANK(Ordenada!F28,Ordenada!F$5:F$203,0),\"\")","v":""},{"$f":"IFERROR(RANK(Ordenada!G28,Ordenada!G$5:G$203,0),\"\")","v":""},{"$f":"IFERROR(RANK(Ordenada!H28,Ordenada!H$5:H$203,0),\"\")","v":""},{"$f":"IFERROR(RANK(Ordenada!I28,Ordenada!I$5:I$203,0),\"\")","v":""},{"$f":"IFERROR(RANK(Ordenada!J28,Ordenada!J$5:J$203,0),\"\")","v":""},{"$f":"IFERROR(RANK(Ordenada!K28,Ordenada!K$5:K$203,0),\"\")","v":""},{"$f":"IFERROR(RANK(Ordenada!L28,Ordenada!L$5:L$203,0),\"\")","v":""},{"$f":"IFERROR(RANK(Ordenada!M28,Ordenada!M$5:M$203,0),\"\")","v":""},{"$f":"IFERROR(RANK(Ordenada!N28,Ordenada!N$5:N$203,0),\"\")","v":""},{"$f":"IFERROR(RANK(Ordenada!O28,Ordenada!O$5:O$203,0),\"\")","v":""},{"$f":"IFERROR(RANK(Ordenada!P28,Ordenada!P$5:P$203,0),\"\")","v":""},{"$f":"IFERROR(RANK(Ordenada!Q28,Ordenada!Q$5:Q$203,0),\"\")","v":""},{"$f":"IFERROR(RANK(Ordenada!O28,Ordenada!O$5:O$203,0),\"\")","v":""},{"$f":"IFERROR(RANK(Ordenada!S28,Ordenada!S$5:S$203,0),\"\")","v":""},{"$f":"IFERROR(RANK(Ordenada!T28,Ordenada!T$5:T$203,0),\"\")","v":""},{"$f":"IFERROR(RANK(Ordenada!U28,Ordenada!U$5:U$203,0),\"\")","v":""},{"$f":"IFERROR(RANK(Ordenada!V28,Ordenada!V$5:V$203,0),\"\")","v":""},{"$f":"IFERROR(RANK(Ordenada!W28,Ordenada!W$5:W$203,1),\"\")","v":""}]
[{"$f":"IF(Propostas!$C36=\"\",\"\",ROW(25:25))","v":""},{"$f":"IF(Propostas!$C36=\"\",\"\",VLOOKUP($A28,Pontuação!$A$5:$V$203,COLUMN(B:B),0))","v":""},{"$f":"IFERROR(RANK(Ordenada!C29,Ordenada!C$5:C$203,0),\"\")","v":""},{"$f":"IFERROR(RANK(Ordenada!D29,Ordenada!D$5:D$203,0),\"\")","v":""},{"$f":"IFERROR(RANK(Ordenada!E29,Ordenada!E$5:E$203,0),\"\")","v":""},{"$f":"IFERROR(RANK(Ordenada!F29,Ordenada!F$5:F$203,0),\"\")","v":""},{"$f":"IFERROR(RANK(Ordenada!G29,Ordenada!G$5:G$203,0),\"\")","v":""},{"$f":"IFERROR(RANK(Ordenada!H29,Ordenada!H$5:H$203,0),\"\")","v":""},{"$f":"IFERROR(RANK(Ordenada!I29,Ordenada!I$5:I$203,0),\"\")","v":""},{"$f":"IFERROR(RANK(Ordenada!J29,Ordenada!J$5:J$203,0),\"\")","v":""},{"$f":"IFERROR(RANK(Ordenada!K29,Ordenada!K$5:K$203,0),\"\")","v":""},{"$f":"IFERROR(RANK(Ordenada!L29,Ordenada!L$5:L$203,0),\"\")","v":""},{"$f":"IFERROR(RANK(Ordenada!M29,Ordenada!M$5:M$203,0),\"\")","v":""},{"$f":"IFERROR(RANK(Ordenada!N29,Ordenada!N$5:N$203,0),\"\")","v":""},{"$f":"IFERROR(RANK(Ordenada!O29,Ordenada!O$5:O$203,0),\"\")","v":""},{"$f":"IFERROR(RANK(Ordenada!P29,Ordenada!P$5:P$203,0),\"\")","v":""},{"$f":"IFERROR(RANK(Ordenada!Q29,Ordenada!Q$5:Q$203,0),\"\")","v":""},{"$f":"IFERROR(RANK(Ordenada!O29,Ordenada!O$5:O$203,0),\"\")","v":""},{"$f":"IFERROR(RANK(Ordenada!S29,Ordenada!S$5:S$203,0),\"\")","v":""},{"$f":"IFERROR(RANK(Ordenada!T29,Ordenada!T$5:T$203,0),\"\")","v":""},{"$f":"IFERROR(RANK(Ordenada!U29,Ordenada!U$5:U$203,0),\"\")","v":""},{"$f":"IFERROR(RANK(Ordenada!V29,Ordenada!V$5:V$203,0),\"\")","v":""},{"$f":"IFERROR(RANK(Ordenada!W29,Ordenada!W$5:W$203,1),\"\")","v":""}]
[{"$f":"IF(Propostas!$C37=\"\",\"\",ROW(26:26))","v":""},{"$f":"IF(Propostas!$C37=\"\",\"\",VLOOKUP($A29,Pontuação!$A$5:$V$203,COLUMN(B:B),0))","v":""},{"$f":"IFERROR(RANK(Ordenada!C30,Ordenada!C$5:C$203,0),\"\")","v":""},{"$f":"IFERROR(RANK(Ordenada!D30,Ordenada!D$5:D$203,0),\"\")","v":""},{"$f":"IFERROR(RANK(Ordenada!E30,Ordenada!E$5:E$203,0),\"\")","v":""},{"$f":"IFERROR(RANK(Ordenada!F30,Ordenada!F$5:F$203,0),\"\")","v":""},{"$f":"IFERROR(RANK(Ordenada!G30,Ordenada!G$5:G$203,0),\"\")","v":""},{"$f":"IFERROR(RANK(Ordenada!H30,Ordenada!H$5:H$203,0),\"\")","v":""},{"$f":"IFERROR(RANK(Ordenada!I30,Ordenada!I$5:I$203,0),\"\")","v":""},{"$f":"IFERROR(RANK(Ordenada!J30,Ordenada!J$5:J$203,0),\"\")","v":""},{"$f":"IFERROR(RANK(Ordenada!K30,Ordenada!K$5:K$203,0),\"\")","v":""},{"$f":"IFERROR(RANK(Ordenada!L30,Ordenada!L$5:L$203,0),\"\")","v":""},{"$f":"IFERROR(RANK(Ordenada!M30,Ordenada!M$5:M$203,0),\"\")","v":""},{"$f":"IFERROR(RANK(Ordenada!N30,Ordenada!N$5:N$203,0),\"\")","v":""},{"$f":"IFERROR(RANK(Ordenada!O30,Ordenada!O$5:O$203,0),\"\")","v":""},{"$f":"IFERROR(RANK(Ordenada!P30,Ordenada!P$5:P$203,0),\"\")","v":""},{"$f":"IFERROR(RANK(Ordenada!Q30,Ordenada!Q$5:Q$203,0),\"\")","v":""},{"$f":"IFERROR(RANK(Ordenada!O30,Ordenada!O$5:O$203,0),\"\")","v":""},{"$f":"IFERROR(RANK(Ordenada!S30,Ordenada!S$5:S$203,0),\"\")","v":""},{"$f":"IFERROR(RANK(Ordenada!T30,Ordenada!T$5:T$203,0),\"\")","v":""},{"$f":"IFERROR(RANK(Ordenada!U30,Ordenada!U$5:U$203,0),\"\")","v":""},{"$f":"IFERROR(RANK(Ordenada!V30,Ordenada!V$5:V$203,0),\"\")","v":""},{"$f":"IFERROR(RANK(Ordenada!W30,Ordenada!W$5:W$203,1),\"\")","v":""}]
[{"$f":"IF(Propostas!$C38=\"\",\"\",ROW(27:27))","v":""},{"$f":"IF(Propostas!$C38=\"\",\"\",VLOOKUP($A30,Pontuação!$A$5:$V$203,COLUMN(B:B),0))","v":""},{"$f":"IFERROR(RANK(Ordenada!C31,Ordenada!C$5:C$203,0),\"\")","v":""},{"$f":"IFERROR(RANK(Ordenada!D31,Ordenada!D$5:D$203,0),\"\")","v":""},{"$f":"IFERROR(RANK(Ordenada!E31,Ordenada!E$5:E$203,0),\"\")","v":""},{"$f":"IFERROR(RANK(Ordenada!F31,Ordenada!F$5:F$203,0),\"\")","v":""},{"$f":"IFERROR(RANK(Ordenada!G31,Ordenada!G$5:G$203,0),\"\")","v":""},{"$f":"IFERROR(RANK(Ordenada!H31,Ordenada!H$5:H$203,0),\"\")","v":""},{"$f":"IFERROR(RANK(Ordenada!I31,Ordenada!I$5:I$203,0),\"\")","v":""},{"$f":"IFERROR(RANK(Ordenada!J31,Ordenada!J$5:J$203,0),\"\")","v":""},{"$f":"IFERROR(RANK(Ordenada!K31,Ordenada!K$5:K$203,0),\"\")","v":""},{"$f":"IFERROR(RANK(Ordenada!L31,Ordenada!L$5:L$203,0),\"\")","v":""},{"$f":"IFERROR(RANK(Ordenada!M31,Ordenada!M$5:M$203,0),\"\")","v":""},{"$f":"IFERROR(RANK(Ordenada!N31,Ordenada!N$5:N$203,0),\"\")","v":""},{"$f":"IFERROR(RANK(Ordenada!O31,Ordenada!O$5:O$203,0),\"\")","v":""},{"$f":"IFERROR(RANK(Ordenada!P31,Ordenada!P$5:P$203,0),\"\")","v":""},{"$f":"IFERROR(RANK(Ordenada!Q31,Ordenada!Q$5:Q$203,0),\"\")","v":""},{"$f":"IFERROR(RANK(Ordenada!O31,Ordenada!O$5:O$203,0),\"\")","v":""},{"$f":"IFERROR(RANK(Ordenada!S31,Ordenada!S$5:S$203,0),\"\")","v":""},{"$f":"IFERROR(RANK(Ordenada!T31,Ordenada!T$5:T$203,0),\"\")","v":""},{"$f":"IFERROR(RANK(Ordenada!U31,Ordenada!U$5:U$203,0),\"\")","v":""},{"$f":"IFERROR(RANK(Ordenada!V31,Ordenada!V$5:V$203,0),\"\")","v":""},{"$f":"IFERROR(RANK(Ordenada!W31,Ordenada!W$5:W$203,1),\"\")","v":""}]
[{"$f":"IF(Propostas!$C39=\"\",\"\",ROW(28:28))","v":""},{"$f":"IF(Propostas!$C39=\"\",\"\",VLOOKUP($A31,Pontuação!$A$5:$V$203,COLUMN(B:B),0))","v":""},{"$f":"IFERROR(RANK(Ordenada!C32,Ordenada!C$5:C$203,0),\"\")","v":""},{"$f":"IFERROR(RANK(Ordenada!D32,Ordenada!D$5:D$203,0),\"\")","v":""},{"$f":"IFERROR(RANK(Ordenada!E32,Ordenada!E$5:E$203,0),\"\")","v":""},{"$f":"IFERROR(RANK(Ordenada!F32,Ordenada!F$5:F$203,0),\"\")","v":""},{"$f":"IFERROR(RANK(Ordenada!G32,Ordenada!G$5:G$203,0),\"\")","v":""},{"$f":"IFERROR(RANK(Ordenada!H32,Ordenada!H$5:H$203,0),\"\")","v":""},{"$f":"IFERROR(RANK(Ordenada!I32,Ordenada!I$5:I$203,0),\"\")","v":""},{"$f":"IFERROR(RANK(Ordenada!J32,Ordenada!J$5:J$203,0),\"\")","v":""},{"$f":"IFERROR(RANK(Ordenada!K32,Ordenada!K$5:K$203,0),\"\")","v":""},{"$f":"IFERROR(RANK(Ordenada!L32,Ordenada!L$5:L$203,0),\"\")","v":""},{"$f":"IFERROR(RANK(Ordenada!M32,Ordenada!M$5:M$203,0),\"\")","v":""},{"$f":"IFERROR(RANK(Ordenada!N32,Ordenada!N$5:N$203,0),\"\")","v":""},{"$f":"IFERROR(RANK(Ordenada!O32,Ordenada!O$5:O$203,0),\"\")","v":""},{"$f":"IFERROR(RANK(Ordenada!P32,Ordenada!P$5:P$203,0),\"\")","v":""},{"$f":"IFERROR(RANK(Ordenada!Q32,Ordenada!Q$5:Q$203,0),\"\")","v":""},{"$f":"IFERROR(RANK(Ordenada!O32,Ordenada!O$5:O$203,0),\"\")","v":""},{"$f":"IFERROR(RANK(Ordenada!S32,Ordenada!S$5:S$203,0),\"\")","v":""},{"$f":"IFERROR(RANK(Ordenada!T32,Ordenada!T$5:T$203,0),\"\")","v":""},{"$f":"IFERROR(RANK(Ordenada!U32,Ordenada!U$5:U$203,0),\"\")","v":""},{"$f":"IFERROR(RANK(Ordenada!V32,Ordenada!V$5:V$203,0),\"\")","v":""},{"$f":"IFERROR(RANK(Ordenada!W32,Ordenada!W$5:W$203,1),\"\")","v":""}]
[{"$f":"IF(Propostas!$C40=\"\",\"\",ROW(29:29))","v":""},{"$f":"IF(Propostas!$C40=\"\",\"\",VLOOKUP($A32,Pontuação!$A$5:$V$203,COLUMN(B:B),0))","v":""},{"$f":"IFERROR(RANK(Ordenada!C33,Ordenada!C$5:C$203,0),\"\")","v":""},{"$f":"IFERROR(RANK(Ordenada!D33,Ordenada!D$5:D$203,0),\"\")","v":""},{"$f":"IFERROR(RANK(Ordenada!E33,Ordenada!E$5:E$203,0),\"\")","v":""},{"$f":"IFERROR(RANK(Ordenada!F33,Ordenada!F$5:F$203,0),\"\")","v":""},{"$f":"IFERROR(RANK(Ordenada!G33,Ordenada!G$5:G$203,0),\"\")","v":""},{"$f":"IFERROR(RANK(Ordenada!H33,Ordenada!H$5:H$203,0),\"\")","v":""},{"$f":"IFERROR(RANK(Ordenada!I33,Ordenada!I$5:I$203,0),\"\")","v":""},{"$f":"IFERROR(RANK(Ordenada!J33,Ordenada!J$5:J$203,0),\"\")","v":""},{"$f":"IFERROR(RANK(Ordenada!K33,Ordenada!K$5:K$203,0),\"\")","v":""},{"$f":"IFERROR(RANK(Ordenada!L33,Ordenada!L$5:L$203,0),\"\")","v":""},{"$f":"IFERROR(RANK(Ordenada!M33,Ordenada!M$5:M$203,0),\"\")","v":""},{"$f":"IFERROR(RANK(Ordenada!N33,Ordenada!N$5:N$203,0),\"\")","v":""},{"$f":"IFERROR(RANK(Ordenada!O33,Ordenada!O$5:O$203,0),\"\")","v":""},{"$f":"IFERROR(RANK(Ordenada!P33,Ordenada!P$5:P$203,0),\"\")","v":""},{"$f":"IFERROR(RANK(Ordenada!Q33,Ordenada!Q$5:Q$203,0),\"\")","v":""},{"$f":"IFERROR(RANK(Ordenada!O33,Ordenada!O$5:O$203,0),\"\")","v":""},{"$f":"IFERROR(RANK(Ordenada!S33,Ordenada!S$5:S$203,0),\"\")","v":""},{"$f":"IFERROR(RANK(Ordenada!T33,Ordenada!T$5:T$203,0),\"\")","v":""},{"$f":"IFERROR(RANK(Ordenada!U33,Ordenada!U$5:U$203,0),\"\")","v":""},{"$f":"IFERROR(RANK(Ordenada!V33,Ordenada!V$5:V$203,0),\"\")","v":""},{"$f":"IFERROR(RANK(Ordenada!W33,Ordenada!W$5:W$203,1),\"\")","v":""}]
[{"$f":"IF(Propostas!$C41=\"\",\"\",ROW(30:30))","v":""},{"$f":"IF(Propostas!$C41=\"\",\"\",VLOOKUP($A33,Pontuação!$A$5:$V$203,COLUMN(B:B),0))","v":""},{"$f":"IFERROR(RANK(Ordenada!C34,Ordenada!C$5:C$203,0),\"\")","v":""},{"$f":"IFERROR(RANK(Ordenada!D34,Ordenada!D$5:D$203,0),\"\")","v":""},{"$f":"IFERROR(RANK(Ordenada!E34,Ordenada!E$5:E$203,0),\"\")","v":""},{"$f":"IFERROR(RANK(Ordenada!F34,Ordenada!F$5:F$203,0),\"\")","v":""},{"$f":"IFERROR(RANK(Ordenada!G34,Ordenada!G$5:G$203,0),\"\")","v":""},{"$f":"IFERROR(RANK(Ordenada!H34,Ordenada!H$5:H$203,0),\"\")","v":""},{"$f":"IFERROR(RANK(Ordenada!I34,Ordenada!I$5:I$203,0),\"\")","v":""},{"$f":"IFERROR(RANK(Ordenada!J34,Ordenada!J$5:J$203,0),\"\")","v":""},{"$f":"IFERROR(RANK(Ordenada!K34,Ordenada!K$5:K$203,0),\"\")","v":""},{"$f":"IFERROR(RANK(Ordenada!L34,Ordenada!L$5:L$203,0),\"\")","v":""},{"$f":"IFERROR(RANK(Ordenada!M34,Ordenada!M$5:M$203,0),\"\")","v":""},{"$f":"IFERROR(RANK(Ordenada!N34,Ordenada!N$5:N$203,0),\"\")","v":""},{"$f":"IFERROR(RANK(Ordenada!O34,Ordenada!O$5:O$203,0),\"\")","v":""},{"$f":"IFERROR(RANK(Ordenada!P34,Ordenada!P$5:P$203,0),\"\")","v":""},{"$f":"IFERROR(RANK(Ordenada!Q34,Ordenada!Q$5:Q$203,0),\"\")","v":""},{"$f":"IFERROR(RANK(Ordenada!O34,Ordenada!O$5:O$203,0),\"\")","v":""},{"$f":"IFERROR(RANK(Ordenada!S34,Ordenada!S$5:S$203,0),\"\")","v":""},{"$f":"IFERROR(RANK(Ordenada!T34,Ordenada!T$5:T$203,0),\"\")","v":""},{"$f":"IFERROR(RANK(Ordenada!U34,Ordenada!U$5:U$203,0),\"\")","v":""},{"$f":"IFERROR(RANK(Ordenada!V34,Ordenada!V$5:V$203,0),\"\")","v":""},{"$f":"IFERROR(RANK(Ordenada!W34,Ordenada!W$5:W$203,1),\"\")","v":""}]
[{"$f":"IF(Propostas!$C42=\"\",\"\",ROW(31:31))","v":""},{"$f":"IF(Propostas!$C42=\"\",\"\",VLOOKUP($A34,Pontuação!$A$5:$V$203,COLUMN(B:B),0))","v":""},{"$f":"IFERROR(RANK(Ordenada!C35,Ordenada!C$5:C$203,0),\"\")","v":""},{"$f":"IFERROR(RANK(Ordenada!D35,Ordenada!D$5:D$203,0),\"\")","v":""},{"$f":"IFERROR(RANK(Ordenada!E35,Ordenada!E$5:E$203,0),\"\")","v":""},{"$f":"IFERROR(RANK(Ordenada!F35,Ordenada!F$5:F$203,0),\"\")","v":""},{"$f":"IFERROR(RANK(Ordenada!G35,Ordenada!G$5:G$203,0),\"\")","v":""},{"$f":"IFERROR(RANK(Ordenada!H35,Ordenada!H$5:H$203,0),\"\")","v":""},{"$f":"IFERROR(RANK(Ordenada!I35,Ordenada!I$5:I$203,0),\"\")","v":""},{"$f":"IFERROR(RANK(Ordenada!J35,Ordenada!J$5:J$203,0),\"\")","v":""},{"$f":"IFERROR(RANK(Ordenada!K35,Ordenada!K$5:K$203,0),\"\")","v":""},{"$f":"IFERROR(RANK(Ordenada!L35,Ordenada!L$5:L$203,0),\"\")","v":""},{"$f":"IFERROR(RANK(Ordenada!M35,Ordenada!M$5:M$203,0),\"\")","v":""},{"$f":"IFERROR(RANK(Ordenada!N35,Ordenada!N$5:N$203,0),\"\")","v":""},{"$f":"IFERROR(RANK(Ordenada!O35,Ordenada!O$5:O$203,0),\"\")","v":""},{"$f":"IFERROR(RANK(Ordenada!P35,Ordenada!P$5:P$203,0),\"\")","v":""},{"$f":"IFERROR(RANK(Ordenada!Q35,Ordenada!Q$5:Q$203,0),\"\")","v":""},{"$f":"IFERROR(RANK(Ordenada!O35,Ordenada!O$5:O$203,0),\"\")","v":""},{"$f":"IFERROR(RANK(Ordenada!S35,Ordenada!S$5:S$203,0),\"\")","v":""},{"$f":"IFERROR(RANK(Ordenada!T35,Ordenada!T$5:T$203,0),\"\")","v":""},{"$f":"IFERROR(RANK(Ordenada!U35,Ordenada!U$5:U$203,0),\"\")","v":""},{"$f":"IFERROR(RANK(Ordenada!V35,Ordenada!V$5:V$203,0),\"\")","v":""},{"$f":"IFERROR(RANK(Ordenada!W35,Ordenada!W$5:W$203,1),\"\")","v":""}]
[{"$f":"IF(Propostas!$C43=\"\",\"\",ROW(32:32))","v":""},{"$f":"IF(Propostas!$C43=\"\",\"\",VLOOKUP($A35,Pontuação!$A$5:$V$203,COLUMN(B:B),0))","v":""},{"$f":"IFERROR(RANK(Ordenada!C36,Ordenada!C$5:C$203,0),\"\")","v":""},{"$f":"IFERROR(RANK(Ordenada!D36,Ordenada!D$5:D$203,0),\"\")","v":""},{"$f":"IFERROR(RANK(Ordenada!E36,Ordenada!E$5:E$203,0),\"\")","v":""},{"$f":"IFERROR(RANK(Ordenada!F36,Ordenada!F$5:F$203,0),\"\")","v":""},{"$f":"IFERROR(RANK(Ordenada!G36,Ordenada!G$5:G$203,0),\"\")","v":""},{"$f":"IFERROR(RANK(Ordenada!H36,Ordenada!H$5:H$203,0),\"\")","v":""},{"$f":"IFERROR(RANK(Ordenada!I36,Ordenada!I$5:I$203,0),\"\")","v":""},{"$f":"IFERROR(RANK(Ordenada!J36,Ordenada!J$5:J$203,0),\"\")","v":""},{"$f":"IFERROR(RANK(Ordenada!K36,Ordenada!K$5:K$203,0),\"\")","v":""},{"$f":"IFERROR(RANK(Ordenada!L36,Ordenada!L$5:L$203,0),\"\")","v":""},{"$f":"IFERROR(RANK(Ordenada!M36,Ordenada!M$5:M$203,0),\"\")","v":""},{"$f":"IFERROR(RANK(Ordenada!N36,Ordenada!N$5:N$203,0),\"\")","v":""},{"$f":"IFERROR(RANK(Ordenada!O36,Ordenada!O$5:O$203,0),\"\")","v":""},{"$f":"IFERROR(RANK(Ordenada!P36,Ordenada!P$5:P$203,0),\"\")","v":""},{"$f":"IFERROR(RANK(Ordenada!Q36,Ordenada!Q$5:Q$203,0),\"\")","v":""},{"$f":"IFERROR(RANK(Ordenada!O36,Ordenada!O$5:O$203,0),\"\")","v":""},{"$f":"IFERROR(RANK(Ordenada!S36,Ordenada!S$5:S$203,0),\"\")","v":""},{"$f":"IFERROR(RANK(Ordenada!T36,Ordenada!T$5:T$203,0),\"\")","v":""},{"$f":"IFERROR(RANK(Ordenada!U36,Ordenada!U$5:U$203,0),\"\")","v":""},{"$f":"IFERROR(RANK(Ordenada!V36,Ordenada!V$5:V$203,0),\"\")","v":""},{"$f":"IFERROR(RANK(Ordenada!W36,Ordenada!W$5:W$203,1),\"\")","v":""}]
[{"$f":"IF(Propostas!$C44=\"\",\"\",ROW(33:33))","v":""},{"$f":"IF(Propostas!$C44=\"\",\"\",VLOOKUP($A36,Pontuação!$A$5:$V$203,COLUMN(B:B),0))","v":""},{"$f":"IFERROR(RANK(Ordenada!C37,Ordenada!C$5:C$203,0),\"\")","v":""},{"$f":"IFERROR(RANK(Ordenada!D37,Ordenada!D$5:D$203,0),\"\")","v":""},{"$f":"IFERROR(RANK(Ordenada!E37,Ordenada!E$5:E$203,0),\"\")","v":""},{"$f":"IFERROR(RANK(Ordenada!F37,Ordenada!F$5:F$203,0),\"\")","v":""},{"$f":"IFERROR(RANK(Ordenada!G37,Ordenada!G$5:G$203,0),\"\")","v":""},{"$f":"IFERROR(RANK(Ordenada!H37,Ordenada!H$5:H$203,0),\"\")","v":""},{"$f":"IFERROR(RANK(Ordenada!I37,Ordenada!I$5:I$203,0),\"\")","v":""},{"$f":"IFERROR(RANK(Ordenada!J37,Ordenada!J$5:J$203,0),\"\")","v":""},{"$f":"IFERROR(RANK(Ordenada!K37,Ordenada!K$5:K$203,0),\"\")","v":""},{"$f":"IFERROR(RANK(Ordenada!L37,Ordenada!L$5:L$203,0),\"\")","v":""},{"$f":"IFERROR(RANK(Ordenada!M37,Ordenada!M$5:M$203,0),\"\")","v":""},{"$f":"IFERROR(RANK(Ordenada!N37,Ordenada!N$5:N$203,0),\"\")","v":""},{"$f":"IFERROR(RANK(Ordenada!O37,Ordenada!O$5:O$203,0),\"\")","v":""},{"$f":"IFERROR(RANK(Ordenada!P37,Ordenada!P$5:P$203,0),\"\")","v":""},{"$f":"IFERROR(RANK(Ordenada!Q37,Ordenada!Q$5:Q$203,0),\"\")","v":""},{"$f":"IFERROR(RANK(Ordenada!O37,Ordenada!O$5:O$203,0),\"\")","v":""},{"$f":"IFERROR(RANK(Ordenada!S37,Ordenada!S$5:S$203,0),\"\")","v":""},{"$f":"IFERROR(RANK(Ordenada!T37,Ordenada!T$5:T$203,0),\"\")","v":""},{"$f":"IFERROR(RANK(Ordenada!U37,Ordenada!U$5:U$203,0),\"\")","v":""},{"$f":"IFERROR(RANK(Ordenada!V37,Ordenada!V$5:V$203,0),\"\")","v":""},{"$f":"IFERROR(RANK(Ordenada!W37,Ordenada!W$5:W$203,1),\"\")","v":""}]
[{"$f":"IF(Propostas!$C45=\"\",\"\",ROW(34:34))","v":""},{"$f":"IF(Propostas!$C45=\"\",\"\",VLOOKUP($A37,Pontuação!$A$5:$V$203,COLUMN(B:B),0))","v":""},{"$f":"IFERROR(RANK(Ordenada!C38,Ordenada!C$5:C$203,0),\"\")","v":""},{"$f":"IFERROR(RANK(Ordenada!D38,Ordenada!D$5:D$203,0),\"\")","v":""},{"$f":"IFERROR(RANK(Ordenada!E38,Ordenada!E$5:E$203,0),\"\")","v":""},{"$f":"IFERROR(RANK(Ordenada!F38,Ordenada!F$5:F$203,0),\"\")","v":""},{"$f":"IFERROR(RANK(Ordenada!G38,Ordenada!G$5:G$203,0),\"\")","v":""},{"$f":"IFERROR(RANK(Ordenada!H38,Ordenada!H$5:H$203,0),\"\")","v":""},{"$f":"IFERROR(RANK(Ordenada!I38,Ordenada!I$5:I$203,0),\"\")","v":""},{"$f":"IFERROR(RANK(Ordenada!J38,Ordenada!J$5:J$203,0),\"\")","v":""},{"$f":"IFERROR(RANK(Ordenada!K38,Ordenada!K$5:K$203,0),\"\")","v":""},{"$f":"IFERROR(RANK(Ordenada!L38,Ordenada!L$5:L$203,0),\"\")","v":""},{"$f":"IFERROR(RANK(Ordenada!M38,Ordenada!M$5:M$203,0),\"\")","v":""},{"$f":"IFERROR(RANK(Ordenada!N38,Ordenada!N$5:N$203,0),\"\")","v":""},{"$f":"IFERROR(RANK(Ordenada!O38,Ordenada!O$5:O$203,0),\"\")","v":""},{"$f":"IFERROR(RANK(Ordenada!P38,Ordenada!P$5:P$203,0),\"\")","v":""},{"$f":"IFERROR(RANK(Ordenada!Q38,Ordenada!Q$5:Q$203,0),\"\")","v":""},{"$f":"IFERROR(RANK(Ordenada!O38,Ordenada!O$5:O$203,0),\"\")","v":""},{"$f":"IFERROR(RANK(Ordenada!S38,Ordenada!S$5:S$203,0),\"\")","v":""},{"$f":"IFERROR(RANK(Ordenada!T38,Ordenada!T$5:T$203,0),\"\")","v":""},{"$f":"IFERROR(RANK(Ordenada!U38,Ordenada!U$5:U$203,0),\"\")","v":""},{"$f":"IFERROR(RANK(Ordenada!V38,Ordenada!V$5:V$203,0),\"\")","v":""},{"$f":"IFERROR(RANK(Ordenada!W38,Ordenada!W$5:W$203,1),\"\")","v":""}]
[{"$f":"IF(Propostas!$C46=\"\",\"\",ROW(35:35))","v":""},{"$f":"IF(Propostas!$C46=\"\",\"\",VLOOKUP($A38,Pontuação!$A$5:$V$203,COLUMN(B:B),0))","v":""},{"$f":"IFERROR(RANK(Ordenada!C39,Ordenada!C$5:C$203,0),\"\")","v":""},{"$f":"IFERROR(RANK(Ordenada!D39,Ordenada!D$5:D$203,0),\"\")","v":""},{"$f":"IFERROR(RANK(Ordenada!E39,Ordenada!E$5:E$203,0),\"\")","v":""},{"$f":"IFERROR(RANK(Ordenada!F39,Ordenada!F$5:F$203,0),\"\")","v":""},{"$f":"IFERROR(RANK(Ordenada!G39,Ordenada!G$5:G$203,0),\"\")","v":""},{"$f":"IFERROR(RANK(Ordenada!H39,Ordenada!H$5:H$203,0),\"\")","v":""},{"$f":"IFERROR(RANK(Ordenada!I39,Ordenada!I$5:I$203,0),\"\")","v":""},{"$f":"IFERROR(RANK(Ordenada!J39,Ordenada!J$5:J$203,0),\"\")","v":""},{"$f":"IFERROR(RANK(Ordenada!K39,Ordenada!K$5:K$203,0),\"\")","v":""},{"$f":"IFERROR(RANK(Ordenada!L39,Ordenada!L$5:L$203,0),\"\")","v":""},{"$f":"IFERROR(RANK(Ordenada!M39,Ordenada!M$5:M$203,0),\"\")","v":""},{"$f":"IFERROR(RANK(Ordenada!N39,Ordenada!N$5:N$203,0),\"\")","v":""},{"$f":"IFERROR(RANK(Ordenada!O39,Ordenada!O$5:O$203,0),\"\")","v":""},{"$f":"IFERROR(RANK(Ordenada!P39,Ordenada!P$5:P$203,0),\"\")","v":""},{"$f":"IFERROR(RANK(Ordenada!Q39,Ordenada!Q$5:Q$203,0),\"\")","v":""},{"$f":"IFERROR(RANK(Ordenada!O39,Ordenada!O$5:O$203,0),\"\")","v":""},{"$f":"IFERROR(RANK(Ordenada!S39,Ordenada!S$5:S$203,0),\"\")","v":""},{"$f":"IFERROR(RANK(Ordenada!T39,Ordenada!T$5:T$203,0),\"\")","v":""},{"$f":"IFERROR(RANK(Ordenada!U39,Ordenada!U$5:U$203,0),\"\")","v":""},{"$f":"IFERROR(RANK(Ordenada!V39,Ordenada!V$5:V$203,0),\"\")","v":""},{"$f":"IFERROR(RANK(Ordenada!W39,Ordenada!W$5:W$203,1),\"\")","v":""}]
[{"$f":"IF(Propostas!$C47=\"\",\"\",ROW(36:36))","v":""},{"$f":"IF(Propostas!$C47=\"\",\"\",VLOOKUP($A39,Pontuação!$A$5:$V$203,COLUMN(B:B),0))","v":""},{"$f":"IFERROR(RANK(Ordenada!C40,Ordenada!C$5:C$203,0),\"\")","v":""},{"$f":"IFERROR(RANK(Ordenada!D40,Ordenada!D$5:D$203,0),\"\")","v":""},{"$f":"IFERROR(RANK(Ordenada!E40,Ordenada!E$5:E$203,0),\"\")","v":""},{"$f":"IFERROR(RANK(Ordenada!F40,Ordenada!F$5:F$203,0),\"\")","v":""},{"$f":"IFERROR(RANK(Ordenada!G40,Ordenada!G$5:G$203,0),\"\")","v":""},{"$f":"IFERROR(RANK(Ordenada!H40,Ordenada!H$5:H$203,0),\"\")","v":""},{"$f":"IFERROR(RANK(Ordenada!I40,Ordenada!I$5:I$203,0),\"\")","v":""},{"$f":"IFERROR(RANK(Ordenada!J40,Ordenada!J$5:J$203,0),\"\")","v":""},{"$f":"IFERROR(RANK(Ordenada!K40,Ordenada!K$5:K$203,0),\"\")","v":""},{"$f":"IFERROR(RANK(Ordenada!L40,Ordenada!L$5:L$203,0),\"\")","v":""},{"$f":"IFERROR(RANK(Ordenada!M40,Ordenada!M$5:M$203,0),\"\")","v":""},{"$f":"IFERROR(RANK(Ordenada!N40,Ordenada!N$5:N$203,0),\"\")","v":""},{"$f":"IFERROR(RANK(Ordenada!O40,Ordenada!O$5:O$203,0),\"\")","v":""},{"$f":"IFERROR(RANK(Ordenada!P40,Ordenada!P$5:P$203,0),\"\")","v":""},{"$f":"IFERROR(RANK(Ordenada!Q40,Ordenada!Q$5:Q$203,0),\"\")","v":""},{"$f":"IFERROR(RANK(Ordenada!O40,Ordenada!O$5:O$203,0),\"\")","v":""},{"$f":"IFERROR(RANK(Ordenada!S40,Ordenada!S$5:S$203,0),\"\")","v":""},{"$f":"IFERROR(RANK(Ordenada!T40,Ordenada!T$5:T$203,0),\"\")","v":""},{"$f":"IFERROR(RANK(Ordenada!U40,Ordenada!U$5:U$203,0),\"\")","v":""},{"$f":"IFERROR(RANK(Ordenada!V40,Ordenada!V$5:V$203,0),\"\")","v":""},{"$f":"IFERROR(RANK(Ordenada!W40,Ordenada!W$5:W$203,1),\"\")","v":""}]
[{"$f":"IF(Propostas!$C48=\"\",\"\",ROW(37:37))","v":""},{"$f":"IF(Propostas!$C48=\"\",\"\",VLOOKUP($A40,Pontuação!$A$5:$V$203,COLUMN(B:B),0))","v":""},{"$f":"IFERROR(RANK(Ordenada!C41,Ordenada!C$5:C$203,0),\"\")","v":""},{"$f":"IFERROR(RANK(Ordenada!D41,Ordenada!D$5:D$203,0),\"\")","v":""},{"$f":"IFERROR(RANK(Ordenada!E41,Ordenada!E$5:E$203,0),\"\")","v":""},{"$f":"IFERROR(RANK(Ordenada!F41,Ordenada!F$5:F$203,0),\"\")","v":""},{"$f":"IFERROR(RANK(Ordenada!G41,Ordenada!G$5:G$203,0),\"\")","v":""},{"$f":"IFERROR(RANK(Ordenada!H41,Ordenada!H$5:H$203,0),\"\")","v":""},{"$f":"IFERROR(RANK(Ordenada!I41,Ordenada!I$5:I$203,0),\"\")","v":""},{"$f":"IFERROR(RANK(Ordenada!J41,Ordenada!J$5:J$203,0),\"\")","v":""},{"$f":"IFERROR(RANK(Ordenada!K41,Ordenada!K$5:K$203,0),\"\")","v":""},{"$f":"IFERROR(RANK(Ordenada!L41,Ordenada!L$5:L$203,0),\"\")","v":""},{"$f":"IFERROR(RANK(Ordenada!M41,Ordenada!M$5:M$203,0),\"\")","v":""},{"$f":"IFERROR(RANK(Ordenada!N41,Ordenada!N$5:N$203,0),\"\")","v":""},{"$f":"IFERROR(RANK(Ordenada!O41,Ordenada!O$5:O$203,0),\"\")","v":""},{"$f":"IFERROR(RANK(Ordenada!P41,Ordenada!P$5:P$203,0),\"\")","v":""},{"$f":"IFERROR(RANK(Ordenada!Q41,Ordenada!Q$5:Q$203,0),\"\")","v":""},{"$f":"IFERROR(RANK(Ordenada!O41,Ordenada!O$5:O$203,0),\"\")","v":""},{"$f":"IFERROR(RANK(Ordenada!S41,Ordenada!S$5:S$203,0),\"\")","v":""},{"$f":"IFERROR(RANK(Ordenada!T41,Ordenada!T$5:T$203,0),\"\")","v":""},{"$f":"IFERROR(RANK(Ordenada!U41,Ordenada!U$5:U$203,0),\"\")","v":""},{"$f":"IFERROR(RANK(Ordenada!V41,Ordenada!V$5:V$203,0),\"\")","v":""},{"$f":"IFERROR(RANK(Ordenada!W41,Ordenada!W$5:W$203,1),\"\")","v":""}]
[{"$f":"IF(Propostas!$C49=\"\",\"\",ROW(38:38))","v":""},{"$f":"IF(Propostas!$C49=\"\",\"\",VLOOKUP($A41,Pontuação!$A$5:$V$203,COLUMN(B:B),0))","v":""},{"$f":"IFERROR(RANK(Ordenada!C42,Ordenada!C$5:C$203,0),\"\")","v":""},{"$f":"IFERROR(RANK(Ordenada!D42,Ordenada!D$5:D$203,0),\"\")","v":""},{"$f":"IFERROR(RANK(Ordenada!E42,Ordenada!E$5:E$203,0),\"\")","v":""},{"$f":"IFERROR(RANK(Ordenada!F42,Ordenada!F$5:F$203,0),\"\")","v":""},{"$f":"IFERROR(RANK(Ordenada!G42,Ordenada!G$5:G$203,0),\"\")","v":""},{"$f":"IFERROR(RANK(Ordenada!H42,Ordenada!H$5:H$203,0),\"\")","v":""},{"$f":"IFERROR(RANK(Ordenada!I42,Ordenada!I$5:I$203,0),\"\")","v":""},{"$f":"IFERROR(RANK(Ordenada!J42,Ordenada!J$5:J$203,0),\"\")","v":""},{"$f":"IFERROR(RANK(Ordenada!K42,Ordenada!K$5:K$203,0),\"\")","v":""},{"$f":"IFERROR(RANK(Ordenada!L42,Ordenada!L$5:L$203,0),\"\")","v":""},{"$f":"IFERROR(RANK(Ordenada!M42,Ordenada!M$5:M$203,0),\"\")","v":""},{"$f":"IFERROR(RANK(Ordenada!N42,Ordenada!N$5:N$203,0),\"\")","v":""},{"$f":"IFERROR(RANK(Ordenada!O42,Ordenada!O$5:O$203,0),\"\")","v":""},{"$f":"IFERROR(RANK(Ordenada!P42,Ordenada!P$5:P$203,0),\"\")","v":""},{"$f":"IFERROR(RANK(Ordenada!Q42,Ordenada!Q$5:Q$203,0),\"\")","v":""},{"$f":"IFERROR(RANK(Ordenada!O42,Ordenada!O$5:O$203,0),\"\")","v":""},{"$f":"IFERROR(RANK(Ordenada!S42,Ordenada!S$5:S$203,0),\"\")","v":""},{"$f":"IFERROR(RANK(Ordenada!T42,Ordenada!T$5:T$203,0),\"\")","v":""},{"$f":"IFERROR(RANK(Ordenada!U42,Ordenada!U$5:U$203,0),\"\")","v":""},{"$f":"IFERROR(RANK(Ordenada!V42,Ordenada!V$5:V$203,0),\"\")","v":""},{"$f":"IFERROR(RANK(Ordenada!W42,Ordenada!W$5:W$203,1),\"\")","v":""}]
[{"$f":"IF(Propostas!$C50=\"\",\"\",ROW(39:39))","v":""},{"$f":"IF(Propostas!$C50=\"\",\"\",VLOOKUP($A42,Pontuação!$A$5:$V$203,COLUMN(B:B),0))","v":""},{"$f":"IFERROR(RANK(Ordenada!C43,Ordenada!C$5:C$203,0),\"\")","v":""},{"$f":"IFERROR(RANK(Ordenada!D43,Ordenada!D$5:D$203,0),\"\")","v":""},{"$f":"IFERROR(RANK(Ordenada!E43,Ordenada!E$5:E$203,0),\"\")","v":""},{"$f":"IFERROR(RANK(Ordenada!F43,Ordenada!F$5:F$203,0),\"\")","v":""},{"$f":"IFERROR(RANK(Ordenada!G43,Ordenada!G$5:G$203,0),\"\")","v":""},{"$f":"IFERROR(RANK(Ordenada!H43,Ordenada!H$5:H$203,0),\"\")","v":""},{"$f":"IFERROR(RANK(Ordenada!I43,Ordenada!I$5:I$203,0),\"\")","v":""},{"$f":"IFERROR(RANK(Ordenada!J43,Ordenada!J$5:J$203,0),\"\")","v":""},{"$f":"IFERROR(RANK(Ordenada!K43,Ordenada!K$5:K$203,0),\"\")","v":""},{"$f":"IFERROR(RANK(Ordenada!L43,Ordenada!L$5:L$203,0),\"\")","v":""},{"$f":"IFERROR(RANK(Ordenada!M43,Ordenada!M$5:M$203,0),\"\")","v":""},{"$f":"IFERROR(RANK(Ordenada!N43,Ordenada!N$5:N$203,0),\"\")","v":""},{"$f":"IFERROR(RANK(Ordenada!O43,Ordenada!O$5:O$203,0),\"\")","v":""},{"$f":"IFERROR(RANK(Ordenada!P43,Ordenada!P$5:P$203,0),\"\")","v":""},{"$f":"IFERROR(RANK(Ordenada!Q43,Ordenada!Q$5:Q$203,0),\"\")","v":""},{"$f":"IFERROR(RANK(Ordenada!O43,Ordenada!O$5:O$203,0),\"\")","v":""},{"$f":"IFERROR(RANK(Ordenada!S43,Ordenada!S$5:S$203,0),\"\")","v":""},{"$f":"IFERROR(RANK(Ordenada!T43,Ordenada!T$5:T$203,0),\"\")","v":""},{"$f":"IFERROR(RANK(Ordenada!U43,Ordenada!U$5:U$203,0),\"\")","v":""},{"$f":"IFERROR(RANK(Ordenada!V43,Ordenada!V$5:V$203,0),\"\")","v":""},{"$f":"IFERROR(RANK(Ordenada!W43,Ordenada!W$5:W$203,1),\"\")","v":""}]
[{"$f":"IF(Propostas!$C51=\"\",\"\",ROW(40:40))","v":""},{"$f":"IF(Propostas!$C51=\"\",\"\",VLOOKUP($A43,Pontuação!$A$5:$V$203,COLUMN(B:B),0))","v":""},{"$f":"IFERROR(RANK(Ordenada!C44,Ordenada!C$5:C$203,0),\"\")","v":""},{"$f":"IFERROR(RANK(Ordenada!D44,Ordenada!D$5:D$203,0),\"\")","v":""},{"$f":"IFERROR(RANK(Ordenada!E44,Ordenada!E$5:E$203,0),\"\")","v":""},{"$f":"IFERROR(RANK(Ordenada!F44,Ordenada!F$5:F$203,0),\"\")","v":""},{"$f":"IFERROR(RANK(Ordenada!G44,Ordenada!G$5:G$203,0),\"\")","v":""},{"$f":"IFERROR(RANK(Ordenada!H44,Ordenada!H$5:H$203,0),\"\")","v":""},{"$f":"IFERROR(RANK(Ordenada!I44,Ordenada!I$5:I$203,0),\"\")","v":""},{"$f":"IFERROR(RANK(Ordenada!J44,Ordenada!J$5:J$203,0),\"\")","v":""},{"$f":"IFERROR(RANK(Ordenada!K44,Ordenada!K$5:K$203,0),\"\")","v":""},{"$f":"IFERROR(RANK(Ordenada!L44,Ordenada!L$5:L$203,0),\"\")","v":""},{"$f":"IFERROR(RANK(Ordenada!M44,Ordenada!M$5:M$203,0),\"\")","v":""},{"$f":"IFERROR(RANK(Ordenada!N44,Ordenada!N$5:N$203,0),\"\")","v":""},{"$f":"IFERROR(RANK(Ordenada!O44,Ordenada!O$5:O$203,0),\"\")","v":""},{"$f":"IFERROR(RANK(Ordenada!P44,Ordenada!P$5:P$203,0),\"\")","v":""},{"$f":"IFERROR(RANK(Ordenada!Q44,Ordenada!Q$5:Q$203,0),\"\")","v":""},{"$f":"IFERROR(RANK(Ordenada!O44,Ordenada!O$5:O$203,0),\"\")","v":""},{"$f":"IFERROR(RANK(Ordenada!S44,Ordenada!S$5:S$203,0),\"\")","v":""},{"$f":"IFERROR(RANK(Ordenada!T44,Ordenada!T$5:T$203,0),\"\")","v":""},{"$f":"IFERROR(RANK(Ordenada!U44,Ordenada!U$5:U$203,0),\"\")","v":""},{"$f":"IFERROR(RANK(Ordenada!V44,Ordenada!V$5:V$203,0),\"\")","v":""},{"$f":"IFERROR(RANK(Ordenada!W44,Ordenada!W$5:W$203,1),\"\")","v":""}]
[{"$f":"IF(Propostas!$C52=\"\",\"\",ROW(41:41))","v":""},{"$f":"IF(Propostas!$C52=\"\",\"\",VLOOKUP($A44,Pontuação!$A$5:$V$203,COLUMN(B:B),0))","v":""},{"$f":"IFERROR(RANK(Ordenada!C45,Ordenada!C$5:C$203,0),\"\")","v":""},{"$f":"IFERROR(RANK(Ordenada!D45,Ordenada!D$5:D$203,0),\"\")","v":""},{"$f":"IFERROR(RANK(Ordenada!E45,Ordenada!E$5:E$203,0),\"\")","v":""},{"$f":"IFERROR(RANK(Ordenada!F45,Ordenada!F$5:F$203,0),\"\")","v":""},{"$f":"IFERROR(RANK(Ordenada!G45,Ordenada!G$5:G$203,0),\"\")","v":""},{"$f":"IFERROR(RANK(Ordenada!H45,Ordenada!H$5:H$203,0),\"\")","v":""},{"$f":"IFERROR(RANK(Ordenada!I45,Ordenada!I$5:I$203,0),\"\")","v":""},{"$f":"IFERROR(RANK(Ordenada!J45,Ordenada!J$5:J$203,0),\"\")","v":""},{"$f":"IFERROR(RANK(Ordenada!K45,Ordenada!K$5:K$203,0),\"\")","v":""},{"$f":"IFERROR(RANK(Ordenada!L45,Ordenada!L$5:L$203,0),\"\")","v":""},{"$f":"IFERROR(RANK(Ordenada!M45,Ordenada!M$5:M$203,0),\"\")","v":""},{"$f":"IFERROR(RANK(Ordenada!N45,Ordenada!N$5:N$203,0),\"\")","v":""},{"$f":"IFERROR(RANK(Ordenada!O45,Ordenada!O$5:O$203,0),\"\")","v":""},{"$f":"IFERROR(RANK(Ordenada!P45,Ordenada!P$5:P$203,0),\"\")","v":""},{"$f":"IFERROR(RANK(Ordenada!Q45,Ordenada!Q$5:Q$203,0),\"\")","v":""},{"$f":"IFERROR(RANK(Ordenada!O45,Ordenada!O$5:O$203,0),\"\")","v":""},{"$f":"IFERROR(RANK(Ordenada!S45,Ordenada!S$5:S$203,0),\"\")","v":""},{"$f":"IFERROR(RANK(Ordenada!T45,Ordenada!T$5:T$203,0),\"\")","v":""},{"$f":"IFERROR(RANK(Ordenada!U45,Ordenada!U$5:U$203,0),\"\")","v":""},{"$f":"IFERROR(RANK(Ordenada!V45,Ordenada!V$5:V$203,0),\"\")","v":""},{"$f":"IFERROR(RANK(Ordenada!W45,Ordenada!W$5:W$203,1),\"\")","v":""}]
[{"$f":"IF(Propostas!$C53=\"\",\"\",ROW(42:42))","v":""},{"$f":"IF(Propostas!$C53=\"\",\"\",VLOOKUP($A45,Pontuação!$A$5:$V$203,COLUMN(B:B),0))","v":""},{"$f":"IFERROR(RANK(Ordenada!C46,Ordenada!C$5:C$203,0),\"\")","v":""},{"$f":"IFERROR(RANK(Ordenada!D46,Ordenada!D$5:D$203,0),\"\")","v":""},{"$f":"IFERROR(RANK(Ordenada!E46,Ordenada!E$5:E$203,0),\"\")","v":""},{"$f":"IFERROR(RANK(Ordenada!F46,Ordenada!F$5:F$203,0),\"\")","v":""},{"$f":"IFERROR(RANK(Ordenada!G46,Ordenada!G$5:G$203,0),\"\")","v":""},{"$f":"IFERROR(RANK(Ordenada!H46,Ordenada!H$5:H$203,0),\"\")","v":""},{"$f":"IFERROR(RANK(Ordenada!I46,Ordenada!I$5:I$203,0),\"\")","v":""},{"$f":"IFERROR(RANK(Ordenada!J46,Ordenada!J$5:J$203,0),\"\")","v":""},{"$f":"IFERROR(RANK(Ordenada!K46,Ordenada!K$5:K$203,0),\"\")","v":""},{"$f":"IFERROR(RANK(Ordenada!L46,Ordenada!L$5:L$203,0),\"\")","v":""},{"$f":"IFERROR(RANK(Ordenada!M46,Ordenada!M$5:M$203,0),\"\")","v":""},{"$f":"IFERROR(RANK(Ordenada!N46,Ordenada!N$5:N$203,0),\"\")","v":""},{"$f":"IFERROR(RANK(Ordenada!O46,Ordenada!O$5:O$203,0),\"\")","v":""},{"$f":"IFERROR(RANK(Ordenada!P46,Ordenada!P$5:P$203,0),\"\")","v":""},{"$f":"IFERROR(RANK(Ordenada!Q46,Ordenada!Q$5:Q$203,0),\"\")","v":""},{"$f":"IFERROR(RANK(Ordenada!O46,Ordenada!O$5:O$203,0),\"\")","v":""},{"$f":"IFERROR(RANK(Ordenada!S46,Ordenada!S$5:S$203,0),\"\")","v":""},{"$f":"IFERROR(RANK(Ordenada!T46,Ordenada!T$5:T$203,0),\"\")","v":""},{"$f":"IFERROR(RANK(Ordenada!U46,Ordenada!U$5:U$203,0),\"\")","v":""},{"$f":"IFERROR(RANK(Ordenada!V46,Ordenada!V$5:V$203,0),\"\")","v":""},{"$f":"IFERROR(RANK(Ordenada!W46,Ordenada!W$5:W$203,1),\"\")","v":""}]
[{"$f":"IF(Propostas!$C54=\"\",\"\",ROW(43:43))","v":""},{"$f":"IF(Propostas!$C54=\"\",\"\",VLOOKUP($A46,Pontuação!$A$5:$V$203,COLUMN(B:B),0))","v":""},{"$f":"IFERROR(RANK(Ordenada!C47,Ordenada!C$5:C$203,0),\"\")","v":""},{"$f":"IFERROR(RANK(Ordenada!D47,Ordenada!D$5:D$203,0),\"\")","v":""},{"$f":"IFERROR(RANK(Ordenada!E47,Ordenada!E$5:E$203,0),\"\")","v":""},{"$f":"IFERROR(RANK(Ordenada!F47,Ordenada!F$5:F$203,0),\"\")","v":""},{"$f":"IFERROR(RANK(Ordenada!G47,Ordenada!G$5:G$203,0),\"\")","v":""},{"$f":"IFERROR(RANK(Ordenada!H47,Ordenada!H$5:H$203,0),\"\")","v":""},{"$f":"IFERROR(RANK(Ordenada!I47,Ordenada!I$5:I$203,0),\"\")","v":""},{"$f":"IFERROR(RANK(Ordenada!J47,Ordenada!J$5:J$203,0),\"\")","v":""},{"$f":"IFERROR(RANK(Ordenada!K47,Ordenada!K$5:K$203,0),\"\")","v":""},{"$f":"IFERROR(RANK(Ordenada!L47,Ordenada!L$5:L$203,0),\"\")","v":""},{"$f":"IFERROR(RANK(Ordenada!M47,Ordenada!M$5:M$203,0),\"\")","v":""},{"$f":"IFERROR(RANK(Ordenada!N47,Ordenada!N$5:N$203,0),\"\")","v":""},{"$f":"IFERROR(RANK(Ordenada!O47,Ordenada!O$5:O$203,0),\"\")","v":""},{"$f":"IFERROR(RANK(Ordenada!P47,Ordenada!P$5:P$203,0),\"\")","v":""},{"$f":"IFERROR(RANK(Ordenada!Q47,Ordenada!Q$5:Q$203,0),\"\")","v":""},{"$f":"IFERROR(RANK(Ordenada!O47,Ordenada!O$5:O$203,0),\"\")","v":""},{"$f":"IFERROR(RANK(Ordenada!S47,Ordenada!S$5:S$203,0),\"\")","v":""},{"$f":"IFERROR(RANK(Ordenada!T47,Ordenada!T$5:T$203,0),\"\")","v":""},{"$f":"IFERROR(RANK(Ordenada!U47,Ordenada!U$5:U$203,0),\"\")","v":""},{"$f":"IFERROR(RANK(Ordenada!V47,Ordenada!V$5:V$203,0),\"\")","v":""},{"$f":"IFERROR(RANK(Ordenada!W47,Ordenada!W$5:W$203,1),\"\")","v":""}]
[{"$f":"IF(Propostas!$C55=\"\",\"\",ROW(44:44))","v":""},{"$f":"IF(Propostas!$C55=\"\",\"\",VLOOKUP($A47,Pontuação!$A$5:$V$203,COLUMN(B:B),0))","v":""},{"$f":"IFERROR(RANK(Ordenada!C48,Ordenada!C$5:C$203,0),\"\")","v":""},{"$f":"IFERROR(RANK(Ordenada!D48,Ordenada!D$5:D$203,0),\"\")","v":""},{"$f":"IFERROR(RANK(Ordenada!E48,Ordenada!E$5:E$203,0),\"\")","v":""},{"$f":"IFERROR(RANK(Ordenada!F48,Ordenada!F$5:F$203,0),\"\")","v":""},{"$f":"IFERROR(RANK(Ordenada!G48,Ordenada!G$5:G$203,0),\"\")","v":""},{"$f":"IFERROR(RANK(Ordenada!H48,Ordenada!H$5:H$203,0),\"\")","v":""},{"$f":"IFERROR(RANK(Ordenada!I48,Ordenada!I$5:I$203,0),\"\")","v":""},{"$f":"IFERROR(RANK(Ordenada!J48,Ordenada!J$5:J$203,0),\"\")","v":""},{"$f":"IFERROR(RANK(Ordenada!K48,Ordenada!K$5:K$203,0),\"\")","v":""},{"$f":"IFERROR(RANK(Ordenada!L48,Ordenada!L$5:L$203,0),\"\")","v":""},{"$f":"IFERROR(RANK(Ordenada!M48,Ordenada!M$5:M$203,0),\"\")","v":""},{"$f":"IFERROR(RANK(Ordenada!N48,Ordenada!N$5:N$203,0),\"\")","v":""},{"$f":"IFERROR(RANK(Ordenada!O48,Ordenada!O$5:O$203,0),\"\")","v":""},{"$f":"IFERROR(RANK(Ordenada!P48,Ordenada!P$5:P$203,0),\"\")","v":""},{"$f":"IFERROR(RANK(Ordenada!Q48,Ordenada!Q$5:Q$203,0),\"\")","v":""},{"$f":"IFERROR(RANK(Ordenada!O48,Ordenada!O$5:O$203,0),\"\")","v":""},{"$f":"IFERROR(RANK(Ordenada!S48,Ordenada!S$5:S$203,0),\"\")","v":""},{"$f":"IFERROR(RANK(Ordenada!T48,Ordenada!T$5:T$203,0),\"\")","v":""},{"$f":"IFERROR(RANK(Ordenada!U48,Ordenada!U$5:U$203,0),\"\")","v":""},{"$f":"IFERROR(RANK(Ordenada!V48,Ordenada!V$5:V$203,0),\"\")","v":""},{"$f":"IFERROR(RANK(Ordenada!W48,Ordenada!W$5:W$203,1),\"\")","v":""}]
[{"$f":"IF(Propostas!$C56=\"\",\"\",ROW(45:45))","v":""},{"$f":"IF(Propostas!$C56=\"\",\"\",VLOOKUP($A48,Pontuação!$A$5:$V$203,COLUMN(B:B),0))","v":""},{"$f":"IFERROR(RANK(Ordenada!C49,Ordenada!C$5:C$203,0),\"\")","v":""},{"$f":"IFERROR(RANK(Ordenada!D49,Ordenada!D$5:D$203,0),\"\")","v":""},{"$f":"IFERROR(RANK(Ordenada!E49,Ordenada!E$5:E$203,0),\"\")","v":""},{"$f":"IFERROR(RANK(Ordenada!F49,Ordenada!F$5:F$203,0),\"\")","v":""},{"$f":"IFERROR(RANK(Ordenada!G49,Ordenada!G$5:G$203,0),\"\")","v":""},{"$f":"IFERROR(RANK(Ordenada!H49,Ordenada!H$5:H$203,0),\"\")","v":""},{"$f":"IFERROR(RANK(Ordenada!I49,Ordenada!I$5:I$203,0),\"\")","v":""},{"$f":"IFERROR(RANK(Ordenada!J49,Ordenada!J$5:J$203,0),\"\")","v":""},{"$f":"IFERROR(RANK(Ordenada!K49,Ordenada!K$5:K$203,0),\"\")","v":""},{"$f":"IFERROR(RANK(Ordenada!L49,Ordenada!L$5:L$203,0),\"\")","v":""},{"$f":"IFERROR(RANK(Ordenada!M49,Ordenada!M$5:M$203,0),\"\")","v":""},{"$f":"IFERROR(RANK(Ordenada!N49,Ordenada!N$5:N$203,0),\"\")","v":""},{"$f":"IFERROR(RANK(Ordenada!O49,Ordenada!O$5:O$203,0),\"\")","v":""},{"$f":"IFERROR(RANK(Ordenada!P49,Ordenada!P$5:P$203,0),\"\")","v":""},{"$f":"IFERROR(RANK(Ordenada!Q49,Ordenada!Q$5:Q$203,0),\"\")","v":""},{"$f":"IFERROR(RANK(Ordenada!O49,Ordenada!O$5:O$203,0),\"\")","v":""},{"$f":"IFERROR(RANK(Ordenada!S49,Ordenada!S$5:S$203,0),\"\")","v":""},{"$f":"IFERROR(RANK(Ordenada!T49,Ordenada!T$5:T$203,0),\"\")","v":""},{"$f":"IFERROR(RANK(Ordenada!U49,Ordenada!U$5:U$203,0),\"\")","v":""},{"$f":"IFERROR(RANK(Ordenada!V49,Ordenada!V$5:V$203,0),\"\")","v":""},{"$f":"IFERROR(RANK(Ordenada!W49,Ordenada!W$5:W$203,1),\"\")","v":""}]
[{"$f":"IF(Propostas!$C57=\"\",\"\",ROW(46:46))","v":""},{"$f":"IF(Propostas!$C57=\"\",\"\",VLOOKUP($A49,Pontuação!$A$5:$V$203,COLUMN(B:B),0))","v":""},{"$f":"IFERROR(RANK(Ordenada!C50,Ordenada!C$5:C$203,0),\"\")","v":""},{"$f":"IFERROR(RANK(Ordenada!D50,Ordenada!D$5:D$203,0),\"\")","v":""},{"$f":"IFERROR(RANK(Ordenada!E50,Ordenada!E$5:E$203,0),\"\")","v":""},{"$f":"IFERROR(RANK(Ordenada!F50,Ordenada!F$5:F$203,0),\"\")","v":""},{"$f":"IFERROR(RANK(Ordenada!G50,Ordenada!G$5:G$203,0),\"\")","v":""},{"$f":"IFERROR(RANK(Ordenada!H50,Ordenada!H$5:H$203,0),\"\")","v":""},{"$f":"IFERROR(RANK(Ordenada!I50,Ordenada!I$5:I$203,0),\"\")","v":""},{"$f":"IFERROR(RANK(Ordenada!J50,Ordenada!J$5:J$203,0),\"\")","v":""},{"$f":"IFERROR(RANK(Ordenada!K50,Ordenada!K$5:K$203,0),\"\")","v":""},{"$f":"IFERROR(RANK(Ordenada!L50,Ordenada!L$5:L$203,0),\"\")","v":""},{"$f":"IFERROR(RANK(Ordenada!M50,Ordenada!M$5:M$203,0),\"\")","v":""},{"$f":"IFERROR(RANK(Ordenada!N50,Ordenada!N$5:N$203,0),\"\")","v":""},{"$f":"IFERROR(RANK(Ordenada!O50,Ordenada!O$5:O$203,0),\"\")","v":""},{"$f":"IFERROR(RANK(Ordenada!P50,Ordenada!P$5:P$203,0),\"\")","v":""},{"$f":"IFERROR(RANK(Ordenada!Q50,Ordenada!Q$5:Q$203,0),\"\")","v":""},{"$f":"IFERROR(RANK(Ordenada!O50,Ordenada!O$5:O$203,0),\"\")","v":""},{"$f":"IFERROR(RANK(Ordenada!S50,Ordenada!S$5:S$203,0),\"\")","v":""},{"$f":"IFERROR(RANK(Ordenada!T50,Ordenada!T$5:T$203,0),\"\")","v":""},{"$f":"IFERROR(RANK(Ordenada!U50,Ordenada!U$5:U$203,0),\"\")","v":""},{"$f":"IFERROR(RANK(Ordenada!V50,Ordenada!V$5:V$203,0),\"\")","v":""},{"$f":"IFERROR(RANK(Ordenada!W50,Ordenada!W$5:W$203,1),\"\")","v":""}]
[{"$f":"IF(Propostas!$C58=\"\",\"\",ROW(47:47))","v":""},{"$f":"IF(Propostas!$C58=\"\",\"\",VLOOKUP($A50,Pontuação!$A$5:$V$203,COLUMN(B:B),0))","v":""},{"$f":"IFERROR(RANK(Ordenada!C51,Ordenada!C$5:C$203,0),\"\")","v":""},{"$f":"IFERROR(RANK(Ordenada!D51,Ordenada!D$5:D$203,0),\"\")","v":""},{"$f":"IFERROR(RANK(Ordenada!E51,Ordenada!E$5:E$203,0),\"\")","v":""},{"$f":"IFERROR(RANK(Ordenada!F51,Ordenada!F$5:F$203,0),\"\")","v":""},{"$f":"IFERROR(RANK(Ordenada!G51,Ordenada!G$5:G$203,0),\"\")","v":""},{"$f":"IFERROR(RANK(Ordenada!H51,Ordenada!H$5:H$203,0),\"\")","v":""},{"$f":"IFERROR(RANK(Ordenada!I51,Ordenada!I$5:I$203,0),\"\")","v":""},{"$f":"IFERROR(RANK(Ordenada!J51,Ordenada!J$5:J$203,0),\"\")","v":""},{"$f":"IFERROR(RANK(Ordenada!K51,Ordenada!K$5:K$203,0),\"\")","v":""},{"$f":"IFERROR(RANK(Ordenada!L51,Ordenada!L$5:L$203,0),\"\")","v":""},{"$f":"IFERROR(RANK(Ordenada!M51,Ordenada!M$5:M$203,0),\"\")","v":""},{"$f":"IFERROR(RANK(Ordenada!N51,Ordenada!N$5:N$203,0),\"\")","v":""},{"$f":"IFERROR(RANK(Ordenada!O51,Ordenada!O$5:O$203,0),\"\")","v":""},{"$f":"IFERROR(RANK(Ordenada!P51,Ordenada!P$5:P$203,0),\"\")","v":""},{"$f":"IFERROR(RANK(Ordenada!Q51,Ordenada!Q$5:Q$203,0),\"\")","v":""},{"$f":"IFERROR(RANK(Ordenada!O51,Ordenada!O$5:O$203,0),\"\")","v":""},{"$f":"IFERROR(RANK(Ordenada!S51,Ordenada!S$5:S$203,0),\"\")","v":""},{"$f":"IFERROR(RANK(Ordenada!T51,Ordenada!T$5:T$203,0),\"\")","v":""},{"$f":"IFERROR(RANK(Ordenada!U51,Ordenada!U$5:U$203,0),\"\")","v":""},{"$f":"IFERROR(RANK(Ordenada!V51,Ordenada!V$5:V$203,0),\"\")","v":""},{"$f":"IFERROR(RANK(Ordenada!W51,Ordenada!W$5:W$203,1),\"\")","v":""}]
[{"$f":"IF(Propostas!$C59=\"\",\"\",ROW(48:48))","v":""},{"$f":"IF(Propostas!$C59=\"\",\"\",VLOOKUP($A51,Pontuação!$A$5:$V$203,COLUMN(B:B),0))","v":""},{"$f":"IFERROR(RANK(Ordenada!C52,Ordenada!C$5:C$203,0),\"\")","v":""},{"$f":"IFERROR(RANK(Ordenada!D52,Ordenada!D$5:D$203,0),\"\")","v":""},{"$f":"IFERROR(RANK(Ordenada!E52,Ordenada!E$5:E$203,0),\"\")","v":""},{"$f":"IFERROR(RANK(Ordenada!F52,Ordenada!F$5:F$203,0),\"\")","v":""},{"$f":"IFERROR(RANK(Ordenada!G52,Ordenada!G$5:G$203,0),\"\")","v":""},{"$f":"IFERROR(RANK(Ordenada!H52,Ordenada!H$5:H$203,0),\"\")","v":""},{"$f":"IFERROR(RANK(Ordenada!I52,Ordenada!I$5:I$203,0),\"\")","v":""},{"$f":"IFERROR(RANK(Ordenada!J52,Ordenada!J$5:J$203,0),\"\")","v":""},{"$f":"IFERROR(RANK(Ordenada!K52,Ordenada!K$5:K$203,0),\"\")","v":""},{"$f":"IFERROR(RANK(Ordenada!L52,Ordenada!L$5:L$203,0),\"\")","v":""},{"$f":"IFERROR(RANK(Ordenada!M52,Ordenada!M$5:M$203,0),\"\")","v":""},{"$f":"IFERROR(RANK(Ordenada!N52,Ordenada!N$5:N$203,0),\"\")","v":""},{"$f":"IFERROR(RANK(Ordenada!O52,Ordenada!O$5:O$203,0),\"\")","v":""},{"$f":"IFERROR(RANK(Ordenada!P52,Ordenada!P$5:P$203,0),\"\")","v":""},{"$f":"IFERROR(RANK(Ordenada!Q52,Ordenada!Q$5:Q$203,0),\"\")","v":""},{"$f":"IFERROR(RANK(Ordenada!O52,Ordenada!O$5:O$203,0),\"\")","v":""},{"$f":"IFERROR(RANK(Ordenada!S52,Ordenada!S$5:S$203,0),\"\")","v":""},{"$f":"IFERROR(RANK(Ordenada!T52,Ordenada!T$5:T$203,0),\"\")","v":""},{"$f":"IFERROR(RANK(Ordenada!U52,Ordenada!U$5:U$203,0),\"\")","v":""},{"$f":"IFERROR(RANK(Ordenada!V52,Ordenada!V$5:V$203,0),\"\")","v":""},{"$f":"IFERROR(RANK(Ordenada!W52,Ordenada!W$5:W$203,1),\"\")","v":""}]
[{"$f":"IF(Propostas!$C60=\"\",\"\",ROW(49:49))","v":""},{"$f":"IF(Propostas!$C60=\"\",\"\",VLOOKUP($A52,Pontuação!$A$5:$V$203,COLUMN(B:B),0))","v":""},{"$f":"IFERROR(RANK(Ordenada!C53,Ordenada!C$5:C$203,0),\"\")","v":""},{"$f":"IFERROR(RANK(Ordenada!D53,Ordenada!D$5:D$203,0),\"\")","v":""},{"$f":"IFERROR(RANK(Ordenada!E53,Ordenada!E$5:E$203,0),\"\")","v":""},{"$f":"IFERROR(RANK(Ordenada!F53,Ordenada!F$5:F$203,0),\"\")","v":""},{"$f":"IFERROR(RANK(Ordenada!G53,Ordenada!G$5:G$203,0),\"\")","v":""},{"$f":"IFERROR(RANK(Ordenada!H53,Ordenada!H$5:H$203,0),\"\")","v":""},{"$f":"IFERROR(RANK(Ordenada!I53,Ordenada!I$5:I$203,0),\"\")","v":""},{"$f":"IFERROR(RANK(Ordenada!J53,Ordenada!J$5:J$203,0),\"\")","v":""},{"$f":"IFERROR(RANK(Ordenada!K53,Ordenada!K$5:K$203,0),\"\")","v":""},{"$f":"IFERROR(RANK(Ordenada!L53,Ordenada!L$5:L$203,0),\"\")","v":""},{"$f":"IFERROR(RANK(Ordenada!M53,Ordenada!M$5:M$203,0),\"\")","v":""},{"$f":"IFERROR(RANK(Ordenada!N53,Ordenada!N$5:N$203,0),\"\")","v":""},{"$f":"IFERROR(RANK(Ordenada!O53,Ordenada!O$5:O$203,0),\"\")","v":""},{"$f":"IFERROR(RANK(Ordenada!P53,Ordenada!P$5:P$203,0),\"\")","v":""},{"$f":"IFERROR(RANK(Ordenada!Q53,Ordenada!Q$5:Q$203,0),\"\")","v":""},{"$f":"IFERROR(RANK(Ordenada!O53,Ordenada!O$5:O$203,0),\"\")","v":""},{"$f":"IFERROR(RANK(Ordenada!S53,Ordenada!S$5:S$203,0),\"\")","v":""},{"$f":"IFERROR(RANK(Ordenada!T53,Ordenada!T$5:T$203,0),\"\")","v":""},{"$f":"IFERROR(RANK(Ordenada!U53,Ordenada!U$5:U$203,0),\"\")","v":""},{"$f":"IFERROR(RANK(Ordenada!V53,Ordenada!V$5:V$203,0),\"\")","v":""},{"$f":"IFERROR(RANK(Ordenada!W53,Ordenada!W$5:W$203,1),\"\")","v":""}]
[{"$f":"IF(Propostas!$C61=\"\",\"\",ROW(50:50))","v":""},{"$f":"IF(Propostas!$C61=\"\",\"\",VLOOKUP($A53,Pontuação!$A$5:$V$203,COLUMN(B:B),0))","v":""},{"$f":"IFERROR(RANK(Ordenada!C54,Ordenada!C$5:C$203,0),\"\")","v":""},{"$f":"IFERROR(RANK(Ordenada!D54,Ordenada!D$5:D$203,0),\"\")","v":""},{"$f":"IFERROR(RANK(Ordenada!E54,Ordenada!E$5:E$203,0),\"\")","v":""},{"$f":"IFERROR(RANK(Ordenada!F54,Ordenada!F$5:F$203,0),\"\")","v":""},{"$f":"IFERROR(RANK(Ordenada!G54,Ordenada!G$5:G$203,0),\"\")","v":""},{"$f":"IFERROR(RANK(Ordenada!H54,Ordenada!H$5:H$203,0),\"\")","v":""},{"$f":"IFERROR(RANK(Ordenada!I54,Ordenada!I$5:I$203,0),\"\")","v":""},{"$f":"IFERROR(RANK(Ordenada!J54,Ordenada!J$5:J$203,0),\"\")","v":""},{"$f":"IFERROR(RANK(Ordenada!K54,Ordenada!K$5:K$203,0),\"\")","v":""},{"$f":"IFERROR(RANK(Ordenada!L54,Ordenada!L$5:L$203,0),\"\")","v":""},{"$f":"IFERROR(RANK(Ordenada!M54,Ordenada!M$5:M$203,0),\"\")","v":""},{"$f":"IFERROR(RANK(Ordenada!N54,Ordenada!N$5:N$203,0),\"\")","v":""},{"$f":"IFERROR(RANK(Ordenada!O54,Ordenada!O$5:O$203,0),\"\")","v":""},{"$f":"IFERROR(RANK(Ordenada!P54,Ordenada!P$5:P$203,0),\"\")","v":""},{"$f":"IFERROR(RANK(Ordenada!Q54,Ordenada!Q$5:Q$203,0),\"\")","v":""},{"$f":"IFERROR(RANK(Ordenada!O54,Ordenada!O$5:O$203,0),\"\")","v":""},{"$f":"IFERROR(RANK(Ordenada!S54,Ordenada!S$5:S$203,0),\"\")","v":""},{"$f":"IFERROR(RANK(Ordenada!T54,Ordenada!T$5:T$203,0),\"\")","v":""},{"$f":"IFERROR(RANK(Ordenada!U54,Ordenada!U$5:U$203,0),\"\")","v":""},{"$f":"IFERROR(RANK(Ordenada!V54,Ordenada!V$5:V$203,0),\"\")","v":""},{"$f":"IFERROR(RANK(Ordenada!W54,Ordenada!W$5:W$203,1),\"\")","v":""}]
[{"$f":"IF(Propostas!$C62=\"\",\"\",ROW(51:51))","v":""},{"$f":"IF(Propostas!$C62=\"\",\"\",VLOOKUP($A54,Pontuação!$A$5:$V$203,COLUMN(B:B),0))","v":""},{"$f":"IFERROR(RANK(Ordenada!C55,Ordenada!C$5:C$203,0),\"\")","v":""},{"$f":"IFERROR(RANK(Ordenada!D55,Ordenada!D$5:D$203,0),\"\")","v":""},{"$f":"IFERROR(RANK(Ordenada!E55,Ordenada!E$5:E$203,0),\"\")","v":""},{"$f":"IFERROR(RANK(Ordenada!F55,Ordenada!F$5:F$203,0),\"\")","v":""},{"$f":"IFERROR(RANK(Ordenada!G55,Ordenada!G$5:G$203,0),\"\")","v":""},{"$f":"IFERROR(RANK(Ordenada!H55,Ordenada!H$5:H$203,0),\"\")","v":""},{"$f":"IFERROR(RANK(Ordenada!I55,Ordenada!I$5:I$203,0),\"\")","v":""},{"$f":"IFERROR(RANK(Ordenada!J55,Ordenada!J$5:J$203,0),\"\")","v":""},{"$f":"IFERROR(RANK(Ordenada!K55,Ordenada!K$5:K$203,0),\"\")","v":""},{"$f":"IFERROR(RANK(Ordenada!L55,Ordenada!L$5:L$203,0),\"\")","v":""},{"$f":"IFERROR(RANK(Ordenada!M55,Ordenada!M$5:M$203,0),\"\")","v":""},{"$f":"IFERROR(RANK(Ordenada!N55,Ordenada!N$5:N$203,0),\"\")","v":""},{"$f":"IFERROR(RANK(Ordenada!O55,Ordenada!O$5:O$203,0),\"\")","v":""},{"$f":"IFERROR(RANK(Ordenada!P55,Ordenada!P$5:P$203,0),\"\")","v":""},{"$f":"IFERROR(RANK(Ordenada!Q55,Ordenada!Q$5:Q$203,0),\"\")","v":""},{"$f":"IFERROR(RANK(Ordenada!O55,Ordenada!O$5:O$203,0),\"\")","v":""},{"$f":"IFERROR(RANK(Ordenada!S55,Ordenada!S$5:S$203,0),\"\")","v":""},{"$f":"IFERROR(RANK(Ordenada!T55,Ordenada!T$5:T$203,0),\"\")","v":""},{"$f":"IFERROR(RANK(Ordenada!U55,Ordenada!U$5:U$203,0),\"\")","v":""},{"$f":"IFERROR(RANK(Ordenada!V55,Ordenada!V$5:V$203,0),\"\")","v":""},{"$f":"IFERROR(RANK(Ordenada!W55,Ordenada!W$5:W$203,1),\"\")","v":""}]
[{"$f":"IF(Propostas!$C63=\"\",\"\",ROW(52:52))","v":""},{"$f":"IF(Propostas!$C63=\"\",\"\",VLOOKUP($A55,Pontuação!$A$5:$V$203,COLUMN(B:B),0))","v":""},{"$f":"IFERROR(RANK(Ordenada!C56,Ordenada!C$5:C$203,0),\"\")","v":""},{"$f":"IFERROR(RANK(Ordenada!D56,Ordenada!D$5:D$203,0),\"\")","v":""},{"$f":"IFERROR(RANK(Ordenada!E56,Ordenada!E$5:E$203,0),\"\")","v":""},{"$f":"IFERROR(RANK(Ordenada!F56,Ordenada!F$5:F$203,0),\"\")","v":""},{"$f":"IFERROR(RANK(Ordenada!G56,Ordenada!G$5:G$203,0),\"\")","v":""},{"$f":"IFERROR(RANK(Ordenada!H56,Ordenada!H$5:H$203,0),\"\")","v":""},{"$f":"IFERROR(RANK(Ordenada!I56,Ordenada!I$5:I$203,0),\"\")","v":""},{"$f":"IFERROR(RANK(Ordenada!J56,Ordenada!J$5:J$203,0),\"\")","v":""},{"$f":"IFERROR(RANK(Ordenada!K56,Ordenada!K$5:K$203,0),\"\")","v":""},{"$f":"IFERROR(RANK(Ordenada!L56,Ordenada!L$5:L$203,0),\"\")","v":""},{"$f":"IFERROR(RANK(Ordenada!M56,Ordenada!M$5:M$203,0),\"\")","v":""},{"$f":"IFERROR(RANK(Ordenada!N56,Ordenada!N$5:N$203,0),\"\")","v":""},{"$f":"IFERROR(RANK(Ordenada!O56,Ordenada!O$5:O$203,0),\"\")","v":""},{"$f":"IFERROR(RANK(Ordenada!P56,Ordenada!P$5:P$203,0),\"\")","v":""},{"$f":"IFERROR(RANK(Ordenada!Q56,Ordenada!Q$5:Q$203,0),\"\")","v":""},{"$f":"IFERROR(RANK(Ordenada!O56,Ordenada!O$5:O$203,0),\"\")","v":""},{"$f":"IFERROR(RANK(Ordenada!S56,Ordenada!S$5:S$203,0),\"\")","v":""},{"$f":"IFERROR(RANK(Ordenada!T56,Ordenada!T$5:T$203,0),\"\")","v":""},{"$f":"IFERROR(RANK(Ordenada!U56,Ordenada!U$5:U$203,0),\"\")","v":""},{"$f":"IFERROR(RANK(Ordenada!V56,Ordenada!V$5:V$203,0),\"\")","v":""},{"$f":"IFERROR(RANK(Ordenada!W56,Ordenada!W$5:W$203,1),\"\")","v":""}]
[{"$f":"IF(Propostas!$C64=\"\",\"\",ROW(53:53))","v":""},{"$f":"IF(Propostas!$C64=\"\",\"\",VLOOKUP($A56,Pontuação!$A$5:$V$203,COLUMN(B:B),0))","v":""},{"$f":"IFERROR(RANK(Ordenada!C57,Ordenada!C$5:C$203,0),\"\")","v":""},{"$f":"IFERROR(RANK(Ordenada!D57,Ordenada!D$5:D$203,0),\"\")","v":""},{"$f":"IFERROR(RANK(Ordenada!E57,Ordenada!E$5:E$203,0),\"\")","v":""},{"$f":"IFERROR(RANK(Ordenada!F57,Ordenada!F$5:F$203,0),\"\")","v":""},{"$f":"IFERROR(RANK(Ordenada!G57,Ordenada!G$5:G$203,0),\"\")","v":""},{"$f":"IFERROR(RANK(Ordenada!H57,Ordenada!H$5:H$203,0),\"\")","v":""},{"$f":"IFERROR(RANK(Ordenada!I57,Ordenada!I$5:I$203,0),\"\")","v":""},{"$f":"IFERROR(RANK(Ordenada!J57,Ordenada!J$5:J$203,0),\"\")","v":""},{"$f":"IFERROR(RANK(Ordenada!K57,Ordenada!K$5:K$203,0),\"\")","v":""},{"$f":"IFERROR(RANK(Ordenada!L57,Ordenada!L$5:L$203,0),\"\")","v":""},{"$f":"IFERROR(RANK(Ordenada!M57,Ordenada!M$5:M$203,0),\"\")","v":""},{"$f":"IFERROR(RANK(Ordenada!N57,Ordenada!N$5:N$203,0),\"\")","v":""},{"$f":"IFERROR(RANK(Ordenada!O57,Ordenada!O$5:O$203,0),\"\")","v":""},{"$f":"IFERROR(RANK(Ordenada!P57,Ordenada!P$5:P$203,0),\"\")","v":""},{"$f":"IFERROR(RANK(Ordenada!Q57,Ordenada!Q$5:Q$203,0),\"\")","v":""},{"$f":"IFERROR(RANK(Ordenada!O57,Ordenada!O$5:O$203,0),\"\")","v":""},{"$f":"IFERROR(RANK(Ordenada!S57,Ordenada!S$5:S$203,0),\"\")","v":""},{"$f":"IFERROR(RANK(Ordenada!T57,Ordenada!T$5:T$203,0),\"\")","v":""},{"$f":"IFERROR(RANK(Ordenada!U57,Ordenada!U$5:U$203,0),\"\")","v":""},{"$f":"IFERROR(RANK(Ordenada!V57,Ordenada!V$5:V$203,0),\"\")","v":""},{"$f":"IFERROR(RANK(Ordenada!W57,Ordenada!W$5:W$203,1),\"\")","v":""}]
[{"$f":"IF(Propostas!$C65=\"\",\"\",ROW(54:54))","v":""},{"$f":"IF(Propostas!$C65=\"\",\"\",VLOOKUP($A57,Pontuação!$A$5:$V$203,COLUMN(B:B),0))","v":""},{"$f":"IFERROR(RANK(Ordenada!C58,Ordenada!C$5:C$203,0),\"\")","v":""},{"$f":"IFERROR(RANK(Ordenada!D58,Ordenada!D$5:D$203,0),\"\")","v":""},{"$f":"IFERROR(RANK(Ordenada!E58,Ordenada!E$5:E$203,0),\"\")","v":""},{"$f":"IFERROR(RANK(Ordenada!F58,Ordenada!F$5:F$203,0),\"\")","v":""},{"$f":"IFERROR(RANK(Ordenada!G58,Ordenada!G$5:G$203,0),\"\")","v":""},{"$f":"IFERROR(RANK(Ordenada!H58,Ordenada!H$5:H$203,0),\"\")","v":""},{"$f":"IFERROR(RANK(Ordenada!I58,Ordenada!I$5:I$203,0),\"\")","v":""},{"$f":"IFERROR(RANK(Ordenada!J58,Ordenada!J$5:J$203,0),\"\")","v":""},{"$f":"IFERROR(RANK(Ordenada!K58,Ordenada!K$5:K$203,0),\"\")","v":""},{"$f":"IFERROR(RANK(Ordenada!L58,Ordenada!L$5:L$203,0),\"\")","v":""},{"$f":"IFERROR(RANK(Ordenada!M58,Ordenada!M$5:M$203,0),\"\")","v":""},{"$f":"IFERROR(RANK(Ordenada!N58,Ordenada!N$5:N$203,0),\"\")","v":""},{"$f":"IFERROR(RANK(Ordenada!O58,Ordenada!O$5:O$203,0),\"\")","v":""},{"$f":"IFERROR(RANK(Ordenada!P58,Ordenada!P$5:P$203,0),\"\")","v":""},{"$f":"IFERROR(RANK(Ordenada!Q58,Ordenada!Q$5:Q$203,0),\"\")","v":""},{"$f":"IFERROR(RANK(Ordenada!O58,Ordenada!O$5:O$203,0),\"\")","v":""},{"$f":"IFERROR(RANK(Ordenada!S58,Ordenada!S$5:S$203,0),\"\")","v":""},{"$f":"IFERROR(RANK(Ordenada!T58,Ordenada!T$5:T$203,0),\"\")","v":""},{"$f":"IFERROR(RANK(Ordenada!U58,Ordenada!U$5:U$203,0),\"\")","v":""},{"$f":"IFERROR(RANK(Ordenada!V58,Ordenada!V$5:V$203,0),\"\")","v":""},{"$f":"IFERROR(RANK(Ordenada!W58,Ordenada!W$5:W$203,1),\"\")","v":""}]
[{"$f":"IF(Propostas!$C66=\"\",\"\",ROW(55:55))","v":""},{"$f":"IF(Propostas!$C66=\"\",\"\",VLOOKUP($A58,Pontuação!$A$5:$V$203,COLUMN(B:B),0))","v":""},{"$f":"IFERROR(RANK(Ordenada!C59,Ordenada!C$5:C$203,0),\"\")","v":""},{"$f":"IFERROR(RANK(Ordenada!D59,Ordenada!D$5:D$203,0),\"\")","v":""},{"$f":"IFERROR(RANK(Ordenada!E59,Ordenada!E$5:E$203,0),\"\")","v":""},{"$f":"IFERROR(RANK(Ordenada!F59,Ordenada!F$5:F$203,0),\"\")","v":""},{"$f":"IFERROR(RANK(Ordenada!G59,Ordenada!G$5:G$203,0),\"\")","v":""},{"$f":"IFERROR(RANK(Ordenada!H59,Ordenada!H$5:H$203,0),\"\")","v":""},{"$f":"IFERROR(RANK(Ordenada!I59,Ordenada!I$5:I$203,0),\"\")","v":""},{"$f":"IFERROR(RANK(Ordenada!J59,Ordenada!J$5:J$203,0),\"\")","v":""},{"$f":"IFERROR(RANK(Ordenada!K59,Ordenada!K$5:K$203,0),\"\")","v":""},{"$f":"IFERROR(RANK(Ordenada!L59,Ordenada!L$5:L$203,0),\"\")","v":""},{"$f":"IFERROR(RANK(Ordenada!M59,Ordenada!M$5:M$203,0),\"\")","v":""},{"$f":"IFERROR(RANK(Ordenada!N59,Ordenada!N$5:N$203,0),\"\")","v":""},{"$f":"IFERROR(RANK(Ordenada!O59,Ordenada!O$5:O$203,0),\"\")","v":""},{"$f":"IFERROR(RANK(Ordenada!P59,Ordenada!P$5:P$203,0),\"\")","v":""},{"$f":"IFERROR(RANK(Ordenada!Q59,Ordenada!Q$5:Q$203,0),\"\")","v":""},{"$f":"IFERROR(RANK(Ordenada!O59,Ordenada!O$5:O$203,0),\"\")","v":""},{"$f":"IFERROR(RANK(Ordenada!S59,Ordenada!S$5:S$203,0),\"\")","v":""},{"$f":"IFERROR(RANK(Ordenada!T59,Ordenada!T$5:T$203,0),\"\")","v":""},{"$f":"IFERROR(RANK(Ordenada!U59,Ordenada!U$5:U$203,0),\"\")","v":""},{"$f":"IFERROR(RANK(Ordenada!V59,Ordenada!V$5:V$203,0),\"\")","v":""},{"$f":"IFERROR(RANK(Ordenada!W59,Ordenada!W$5:W$203,1),\"\")","v":""}]
[{"$f":"IF(Propostas!$C67=\"\",\"\",ROW(56:56))","v":""},{"$f":"IF(Propostas!$C67=\"\",\"\",VLOOKUP($A59,Pontuação!$A$5:$V$203,COLUMN(B:B),0))","v":""},{"$f":"IFERROR(RANK(Ordenada!C60,Ordenada!C$5:C$203,0),\"\")","v":""},{"$f":"IFERROR(RANK(Ordenada!D60,Ordenada!D$5:D$203,0),\"\")","v":""},{"$f":"IFERROR(RANK(Ordenada!E60,Ordenada!E$5:E$203,0),\"\")","v":""},{"$f":"IFERROR(RANK(Ordenada!F60,Ordenada!F$5:F$203,0),\"\")","v":""},{"$f":"IFERROR(RANK(Ordenada!G60,Ordenada!G$5:G$203,0),\"\")","v":""},{"$f":"IFERROR(RANK(Ordenada!H60,Ordenada!H$5:H$203,0),\"\")","v":""},{"$f":"IFERROR(RANK(Ordenada!I60,Ordenada!I$5:I$203,0),\"\")","v":""},{"$f":"IFERROR(RANK(Ordenada!J60,Ordenada!J$5:J$203,0),\"\")","v":""},{"$f":"IFERROR(RANK(Ordenada!K60,Ordenada!K$5:K$203,0),\"\")","v":""},{"$f":"IFERROR(RANK(Ordenada!L60,Ordenada!L$5:L$203,0),\"\")","v":""},{"$f":"IFERROR(RANK(Ordenada!M60,Ordenada!M$5:M$203,0),\"\")","v":""},{"$f":"IFERROR(RANK(Ordenada!N60,Ordenada!N$5:N$203,0),\"\")","v":""},{"$f":"IFERROR(RANK(Ordenada!O60,Ordenada!O$5:O$203,0),\"\")","v":""},{"$f":"IFERROR(RANK(Ordenada!P60,Ordenada!P$5:P$203,0),\"\")","v":""},{"$f":"IFERROR(RANK(Ordenada!Q60,Ordenada!Q$5:Q$203,0),\"\")","v":""},{"$f":"IFERROR(RANK(Ordenada!O60,Ordenada!O$5:O$203,0),\"\")","v":""},{"$f":"IFERROR(RANK(Ordenada!S60,Ordenada!S$5:S$203,0),\"\")","v":""},{"$f":"IFERROR(RANK(Ordenada!T60,Ordenada!T$5:T$203,0),\"\")","v":""},{"$f":"IFERROR(RANK(Ordenada!U60,Ordenada!U$5:U$203,0),\"\")","v":""},{"$f":"IFERROR(RANK(Ordenada!V60,Ordenada!V$5:V$203,0),\"\")","v":""},{"$f":"IFERROR(RANK(Ordenada!W60,Ordenada!W$5:W$203,1),\"\")","v":""}]
[{"$f":"IF(Propostas!$C68=\"\",\"\",ROW(57:57))","v":""},{"$f":"IF(Propostas!$C68=\"\",\"\",VLOOKUP($A60,Pontuação!$A$5:$V$203,COLUMN(B:B),0))","v":""},{"$f":"IFERROR(RANK(Ordenada!C61,Ordenada!C$5:C$203,0),\"\")","v":""},{"$f":"IFERROR(RANK(Ordenada!D61,Ordenada!D$5:D$203,0),\"\")","v":""},{"$f":"IFERROR(RANK(Ordenada!E61,Ordenada!E$5:E$203,0),\"\")","v":""},{"$f":"IFERROR(RANK(Ordenada!F61,Ordenada!F$5:F$203,0),\"\")","v":""},{"$f":"IFERROR(RANK(Ordenada!G61,Ordenada!G$5:G$203,0),\"\")","v":""},{"$f":"IFERROR(RANK(Ordenada!H61,Ordenada!H$5:H$203,0),\"\")","v":""},{"$f":"IFERROR(RANK(Ordenada!I61,Ordenada!I$5:I$203,0),\"\")","v":""},{"$f":"IFERROR(RANK(Ordenada!J61,Ordenada!J$5:J$203,0),\"\")","v":""},{"$f":"IFERROR(RANK(Ordenada!K61,Ordenada!K$5:K$203,0),\"\")","v":""},{"$f":"IFERROR(RANK(Ordenada!L61,Ordenada!L$5:L$203,0),\"\")","v":""},{"$f":"IFERROR(RANK(Ordenada!M61,Ordenada!M$5:M$203,0),\"\")","v":""},{"$f":"IFERROR(RANK(Ordenada!N61,Ordenada!N$5:N$203,0),\"\")","v":""},{"$f":"IFERROR(RANK(Ordenada!O61,Ordenada!O$5:O$203,0),\"\")","v":""},{"$f":"IFERROR(RANK(Ordenada!P61,Ordenada!P$5:P$203,0),\"\")","v":""},{"$f":"IFERROR(RANK(Ordenada!Q61,Ordenada!Q$5:Q$203,0),\"\")","v":""},{"$f":"IFERROR(RANK(Ordenada!O61,Ordenada!O$5:O$203,0),\"\")","v":""},{"$f":"IFERROR(RANK(Ordenada!S61,Ordenada!S$5:S$203,0),\"\")","v":""},{"$f":"IFERROR(RANK(Ordenada!T61,Ordenada!T$5:T$203,0),\"\")","v":""},{"$f":"IFERROR(RANK(Ordenada!U61,Ordenada!U$5:U$203,0),\"\")","v":""},{"$f":"IFERROR(RANK(Ordenada!V61,Ordenada!V$5:V$203,0),\"\")","v":""},{"$f":"IFERROR(RANK(Ordenada!W61,Ordenada!W$5:W$203,1),\"\")","v":""}]
[{"$f":"IF(Propostas!$C69=\"\",\"\",ROW(58:58))","v":""},{"$f":"IF(Propostas!$C69=\"\",\"\",VLOOKUP($A61,Pontuação!$A$5:$V$203,COLUMN(B:B),0))","v":""},{"$f":"IFERROR(RANK(Ordenada!C62,Ordenada!C$5:C$203,0),\"\")","v":""},{"$f":"IFERROR(RANK(Ordenada!D62,Ordenada!D$5:D$203,0),\"\")","v":""},{"$f":"IFERROR(RANK(Ordenada!E62,Ordenada!E$5:E$203,0),\"\")","v":""},{"$f":"IFERROR(RANK(Ordenada!F62,Ordenada!F$5:F$203,0),\"\")","v":""},{"$f":"IFERROR(RANK(Ordenada!G62,Ordenada!G$5:G$203,0),\"\")","v":""},{"$f":"IFERROR(RANK(Ordenada!H62,Ordenada!H$5:H$203,0),\"\")","v":""},{"$f":"IFERROR(RANK(Ordenada!I62,Ordenada!I$5:I$203,0),\"\")","v":""},{"$f":"IFERROR(RANK(Ordenada!J62,Ordenada!J$5:J$203,0),\"\")","v":""},{"$f":"IFERROR(RANK(Ordenada!K62,Ordenada!K$5:K$203,0),\"\")","v":""},{"$f":"IFERROR(RANK(Ordenada!L62,Ordenada!L$5:L$203,0),\"\")","v":""},{"$f":"IFERROR(RANK(Ordenada!M62,Ordenada!M$5:M$203,0),\"\")","v":""},{"$f":"IFERROR(RANK(Ordenada!N62,Ordenada!N$5:N$203,0),\"\")","v":""},{"$f":"IFERROR(RANK(Ordenada!O62,Ordenada!O$5:O$203,0),\"\")","v":""},{"$f":"IFERROR(RANK(Ordenada!P62,Ordenada!P$5:P$203,0),\"\")","v":""},{"$f":"IFERROR(RANK(Ordenada!Q62,Ordenada!Q$5:Q$203,0),\"\")","v":""},{"$f":"IFERROR(RANK(Ordenada!O62,Ordenada!O$5:O$203,0),\"\")","v":""},{"$f":"IFERROR(RANK(Ordenada!S62,Ordenada!S$5:S$203,0),\"\")","v":""},{"$f":"IFERROR(RANK(Ordenada!T62,Ordenada!T$5:T$203,0),\"\")","v":""},{"$f":"IFERROR(RANK(Ordenada!U62,Ordenada!U$5:U$203,0),\"\")","v":""},{"$f":"IFERROR(RANK(Ordenada!V62,Ordenada!V$5:V$203,0),\"\")","v":""},{"$f":"IFERROR(RANK(Ordenada!W62,Ordenada!W$5:W$203,1),\"\")","v":""}]
[{"$f":"IF(Propostas!$C70=\"\",\"\",ROW(59:59))","v":""},{"$f":"IF(Propostas!$C70=\"\",\"\",VLOOKUP($A62,Pontuação!$A$5:$V$203,COLUMN(B:B),0))","v":""},{"$f":"IFERROR(RANK(Ordenada!C63,Ordenada!C$5:C$203,0),\"\")","v":""},{"$f":"IFERROR(RANK(Ordenada!D63,Ordenada!D$5:D$203,0),\"\")","v":""},{"$f":"IFERROR(RANK(Ordenada!E63,Ordenada!E$5:E$203,0),\"\")","v":""},{"$f":"IFERROR(RANK(Ordenada!F63,Ordenada!F$5:F$203,0),\"\")","v":""},{"$f":"IFERROR(RANK(Ordenada!G63,Ordenada!G$5:G$203,0),\"\")","v":""},{"$f":"IFERROR(RANK(Ordenada!H63,Ordenada!H$5:H$203,0),\"\")","v":""},{"$f":"IFERROR(RANK(Ordenada!I63,Ordenada!I$5:I$203,0),\"\")","v":""},{"$f":"IFERROR(RANK(Ordenada!J63,Ordenada!J$5:J$203,0),\"\")","v":""},{"$f":"IFERROR(RANK(Ordenada!K63,Ordenada!K$5:K$203,0),\"\")","v":""},{"$f":"IFERROR(RANK(Ordenada!L63,Ordenada!L$5:L$203,0),\"\")","v":""},{"$f":"IFERROR(RANK(Ordenada!M63,Ordenada!M$5:M$203,0),\"\")","v":""},{"$f":"IFERROR(RANK(Ordenada!N63,Ordenada!N$5:N$203,0),\"\")","v":""},{"$f":"IFERROR(RANK(Ordenada!O63,Ordenada!O$5:O$203,0),\"\")","v":""},{"$f":"IFERROR(RANK(Ordenada!P63,Ordenada!P$5:P$203,0),\"\")","v":""},{"$f":"IFERROR(RANK(Ordenada!Q63,Ordenada!Q$5:Q$203,0),\"\")","v":""},{"$f":"IFERROR(RANK(Ordenada!O63,Ordenada!O$5:O$203,0),\"\")","v":""},{"$f":"IFERROR(RANK(Ordenada!S63,Ordenada!S$5:S$203,0),\"\")","v":""},{"$f":"IFERROR(RANK(Ordenada!T63,Ordenada!T$5:T$203,0),\"\")","v":""},{"$f":"IFERROR(RANK(Ordenada!U63,Ordenada!U$5:U$203,0),\"\")","v":""},{"$f":"IFERROR(RANK(Ordenada!V63,Ordenada!V$5:V$203,0),\"\")","v":""},{"$f":"IFERROR(RANK(Ordenada!W63,Ordenada!W$5:W$203,1),\"\")","v":""}]
[{"$f":"IF(Propostas!$C71=\"\",\"\",ROW(60:60))","v":""},{"$f":"IF(Propostas!$C71=\"\",\"\",VLOOKUP($A63,Pontuação!$A$5:$V$203,COLUMN(B:B),0))","v":""},{"$f":"IFERROR(RANK(Ordenada!C64,Ordenada!C$5:C$203,0),\"\")","v":""},{"$f":"IFERROR(RANK(Ordenada!D64,Ordenada!D$5:D$203,0),\"\")","v":""},{"$f":"IFERROR(RANK(Ordenada!E64,Ordenada!E$5:E$203,0),\"\")","v":""},{"$f":"IFERROR(RANK(Ordenada!F64,Ordenada!F$5:F$203,0),\"\")","v":""},{"$f":"IFERROR(RANK(Ordenada!G64,Ordenada!G$5:G$203,0),\"\")","v":""},{"$f":"IFERROR(RANK(Ordenada!H64,Ordenada!H$5:H$203,0),\"\")","v":""},{"$f":"IFERROR(RANK(Ordenada!I64,Ordenada!I$5:I$203,0),\"\")","v":""},{"$f":"IFERROR(RANK(Ordenada!J64,Ordenada!J$5:J$203,0),\"\")","v":""},{"$f":"IFERROR(RANK(Ordenada!K64,Ordenada!K$5:K$203,0),\"\")","v":""},{"$f":"IFERROR(RANK(Ordenada!L64,Ordenada!L$5:L$203,0),\"\")","v":""},{"$f":"IFERROR(RANK(Ordenada!M64,Ordenada!M$5:M$203,0),\"\")","v":""},{"$f":"IFERROR(RANK(Ordenada!N64,Ordenada!N$5:N$203,0),\"\")","v":""},{"$f":"IFERROR(RANK(Ordenada!O64,Ordenada!O$5:O$203,0),\"\")","v":""},{"$f":"IFERROR(RANK(Ordenada!P64,Ordenada!P$5:P$203,0),\"\")","v":""},{"$f":"IFERROR(RANK(Ordenada!Q64,Ordenada!Q$5:Q$203,0),\"\")","v":""},{"$f":"IFERROR(RANK(Ordenada!O64,Ordenada!O$5:O$203,0),\"\")","v":""},{"$f":"IFERROR(RANK(Ordenada!S64,Ordenada!S$5:S$203,0),\"\")","v":""},{"$f":"IFERROR(RANK(Ordenada!T64,Ordenada!T$5:T$203,0),\"\")","v":""},{"$f":"IFERROR(RANK(Ordenada!U64,Ordenada!U$5:U$203,0),\"\")","v":""},{"$f":"IFERROR(RANK(Ordenada!V64,Ordenada!V$5:V$203,0),\"\")","v":""},{"$f":"IFERROR(RANK(Ordenada!W64,Ordenada!W$5:W$203,1),\"\")","v":""}]
[{"$f":"IF(Propostas!$C72=\"\",\"\",ROW(61:61))","v":""},{"$f":"IF(Propostas!$C72=\"\",\"\",VLOOKUP($A64,Pontuação!$A$5:$V$203,COLUMN(B:B),0))","v":""},{"$f":"IFERROR(RANK(Ordenada!C65,Ordenada!C$5:C$203,0),\"\")","v":""},{"$f":"IFERROR(RANK(Ordenada!D65,Ordenada!D$5:D$203,0),\"\")","v":""},{"$f":"IFERROR(RANK(Ordenada!E65,Ordenada!E$5:E$203,0),\"\")","v":""},{"$f":"IFERROR(RANK(Ordenada!F65,Ordenada!F$5:F$203,0),\"\")","v":""},{"$f":"IFERROR(RANK(Ordenada!G65,Ordenada!G$5:G$203,0),\"\")","v":""},{"$f":"IFERROR(RANK(Ordenada!H65,Ordenada!H$5:H$203,0),\"\")","v":""},{"$f":"IFERROR(RANK(Ordenada!I65,Ordenada!I$5:I$203,0),\"\")","v":""},{"$f":"IFERROR(RANK(Ordenada!J65,Ordenada!J$5:J$203,0),\"\")","v":""},{"$f":"IFERROR(RANK(Ordenada!K65,Ordenada!K$5:K$203,0),\"\")","v":""},{"$f":"IFERROR(RANK(Ordenada!L65,Ordenada!L$5:L$203,0),\"\")","v":""},{"$f":"IFERROR(RANK(Ordenada!M65,Ordenada!M$5:M$203,0),\"\")","v":""},{"$f":"IFERROR(RANK(Ordenada!N65,Ordenada!N$5:N$203,0),\"\")","v":""},{"$f":"IFERROR(RANK(Ordenada!O65,Ordenada!O$5:O$203,0),\"\")","v":""},{"$f":"IFERROR(RANK(Ordenada!P65,Ordenada!P$5:P$203,0),\"\")","v":""},{"$f":"IFERROR(RANK(Ordenada!Q65,Ordenada!Q$5:Q$203,0),\"\")","v":""},{"$f":"IFERROR(RANK(Ordenada!O65,Ordenada!O$5:O$203,0),\"\")","v":""},{"$f":"IFERROR(RANK(Ordenada!S65,Ordenada!S$5:S$203,0),\"\")","v":""},{"$f":"IFERROR(RANK(Ordenada!T65,Ordenada!T$5:T$203,0),\"\")","v":""},{"$f":"IFERROR(RANK(Ordenada!U65,Ordenada!U$5:U$203,0),\"\")","v":""},{"$f":"IFERROR(RANK(Ordenada!V65,Ordenada!V$5:V$203,0),\"\")","v":""},{"$f":"IFERROR(RANK(Ordenada!W65,Ordenada!W$5:W$203,1),\"\")","v":""}]
[{"$f":"IF(Propostas!$C73=\"\",\"\",ROW(62:62))","v":""},{"$f":"IF(Propostas!$C73=\"\",\"\",VLOOKUP($A65,Pontuação!$A$5:$V$203,COLUMN(B:B),0))","v":""},{"$f":"IFERROR(RANK(Ordenada!C66,Ordenada!C$5:C$203,0),\"\")","v":""},{"$f":"IFERROR(RANK(Ordenada!D66,Ordenada!D$5:D$203,0),\"\")","v":""},{"$f":"IFERROR(RANK(Ordenada!E66,Ordenada!E$5:E$203,0),\"\")","v":""},{"$f":"IFERROR(RANK(Ordenada!F66,Ordenada!F$5:F$203,0),\"\")","v":""},{"$f":"IFERROR(RANK(Ordenada!G66,Ordenada!G$5:G$203,0),\"\")","v":""},{"$f":"IFERROR(RANK(Ordenada!H66,Ordenada!H$5:H$203,0),\"\")","v":""},{"$f":"IFERROR(RANK(Ordenada!I66,Ordenada!I$5:I$203,0),\"\")","v":""},{"$f":"IFERROR(RANK(Ordenada!J66,Ordenada!J$5:J$203,0),\"\")","v":""},{"$f":"IFERROR(RANK(Ordenada!K66,Ordenada!K$5:K$203,0),\"\")","v":""},{"$f":"IFERROR(RANK(Ordenada!L66,Ordenada!L$5:L$203,0),\"\")","v":""},{"$f":"IFERROR(RANK(Ordenada!M66,Ordenada!M$5:M$203,0),\"\")","v":""},{"$f":"IFERROR(RANK(Ordenada!N66,Ordenada!N$5:N$203,0),\"\")","v":""},{"$f":"IFERROR(RANK(Ordenada!O66,Ordenada!O$5:O$203,0),\"\")","v":""},{"$f":"IFERROR(RANK(Ordenada!P66,Ordenada!P$5:P$203,0),\"\")","v":""},{"$f":"IFERROR(RANK(Ordenada!Q66,Ordenada!Q$5:Q$203,0),\"\")","v":""},{"$f":"IFERROR(RANK(Ordenada!O66,Ordenada!O$5:O$203,0),\"\")","v":""},{"$f":"IFERROR(RANK(Ordenada!S66,Ordenada!S$5:S$203,0),\"\")","v":""},{"$f":"IFERROR(RANK(Ordenada!T66,Ordenada!T$5:T$203,0),\"\")","v":""},{"$f":"IFERROR(RANK(Ordenada!U66,Ordenada!U$5:U$203,0),\"\")","v":""},{"$f":"IFERROR(RANK(Ordenada!V66,Ordenada!V$5:V$203,0),\"\")","v":""},{"$f":"IFERROR(RANK(Ordenada!W66,Ordenada!W$5:W$203,1),\"\")","v":""}]
[{"$f":"IF(Propostas!$C74=\"\",\"\",ROW(63:63))","v":""},{"$f":"IF(Propostas!$C74=\"\",\"\",VLOOKUP($A66,Pontuação!$A$5:$V$203,COLUMN(B:B),0))","v":""},{"$f":"IFERROR(RANK(Ordenada!C67,Ordenada!C$5:C$203,0),\"\")","v":""},{"$f":"IFERROR(RANK(Ordenada!D67,Ordenada!D$5:D$203,0),\"\")","v":""},{"$f":"IFERROR(RANK(Ordenada!E67,Ordenada!E$5:E$203,0),\"\")","v":""},{"$f":"IFERROR(RANK(Ordenada!F67,Ordenada!F$5:F$203,0),\"\")","v":""},{"$f":"IFERROR(RANK(Ordenada!G67,Ordenada!G$5:G$203,0),\"\")","v":""},{"$f":"IFERROR(RANK(Ordenada!H67,Ordenada!H$5:H$203,0),\"\")","v":""},{"$f":"IFERROR(RANK(Ordenada!I67,Ordenada!I$5:I$203,0),\"\")","v":""},{"$f":"IFERROR(RANK(Ordenada!J67,Ordenada!J$5:J$203,0),\"\")","v":""},{"$f":"IFERROR(RANK(Ordenada!K67,Ordenada!K$5:K$203,0),\"\")","v":""},{"$f":"IFERROR(RANK(Ordenada!L67,Ordenada!L$5:L$203,0),\"\")","v":""},{"$f":"IFERROR(RANK(Ordenada!M67,Ordenada!M$5:M$203,0),\"\")","v":""},{"$f":"IFERROR(RANK(Ordenada!N67,Ordenada!N$5:N$203,0),\"\")","v":""},{"$f":"IFERROR(RANK(Ordenada!O67,Ordenada!O$5:O$203,0),\"\")","v":""},{"$f":"IFERROR(RANK(Ordenada!P67,Ordenada!P$5:P$203,0),\"\")","v":""},{"$f":"IFERROR(RANK(Ordenada!Q67,Ordenada!Q$5:Q$203,0),\"\")","v":""},{"$f":"IFERROR(RANK(Ordenada!O67,Ordenada!O$5:O$203,0),\"\")","v":""},{"$f":"IFERROR(RANK(Ordenada!S67,Ordenada!S$5:S$203,0),\"\")","v":""},{"$f":"IFERROR(RANK(Ordenada!T67,Ordenada!T$5:T$203,0),\"\")","v":""},{"$f":"IFERROR(RANK(Ordenada!U67,Ordenada!U$5:U$203,0),\"\")","v":""},{"$f":"IFERROR(RANK(Ordenada!V67,Ordenada!V$5:V$203,0),\"\")","v":""},{"$f":"IFERROR(RANK(Ordenada!W67,Ordenada!W$5:W$203,1),\"\")","v":""}]
[{"$f":"IF(Propostas!$C75=\"\",\"\",ROW(64:64))","v":""},{"$f":"IF(Propostas!$C75=\"\",\"\",VLOOKUP($A67,Pontuação!$A$5:$V$203,COLUMN(B:B),0))","v":""},{"$f":"IFERROR(RANK(Ordenada!C68,Ordenada!C$5:C$203,0),\"\")","v":""},{"$f":"IFERROR(RANK(Ordenada!D68,Ordenada!D$5:D$203,0),\"\")","v":""},{"$f":"IFERROR(RANK(Ordenada!E68,Ordenada!E$5:E$203,0),\"\")","v":""},{"$f":"IFERROR(RANK(Ordenada!F68,Ordenada!F$5:F$203,0),\"\")","v":""},{"$f":"IFERROR(RANK(Ordenada!G68,Ordenada!G$5:G$203,0),\"\")","v":""},{"$f":"IFERROR(RANK(Ordenada!H68,Ordenada!H$5:H$203,0),\"\")","v":""},{"$f":"IFERROR(RANK(Ordenada!I68,Ordenada!I$5:I$203,0),\"\")","v":""},{"$f":"IFERROR(RANK(Ordenada!J68,Ordenada!J$5:J$203,0),\"\")","v":""},{"$f":"IFERROR(RANK(Ordenada!K68,Ordenada!K$5:K$203,0),\"\")","v":""},{"$f":"IFERROR(RANK(Ordenada!L68,Ordenada!L$5:L$203,0),\"\")","v":""},{"$f":"IFERROR(RANK(Ordenada!M68,Ordenada!M$5:M$203,0),\"\")","v":""},{"$f":"IFERROR(RANK(Ordenada!N68,Ordenada!N$5:N$203,0),\"\")","v":""},{"$f":"IFERROR(RANK(Ordenada!O68,Ordenada!O$5:O$203,0),\"\")","v":""},{"$f":"IFERROR(RANK(Ordenada!P68,Ordenada!P$5:P$203,0),\"\")","v":""},{"$f":"IFERROR(RANK(Ordenada!Q68,Ordenada!Q$5:Q$203,0),\"\")","v":""},{"$f":"IFERROR(RANK(Ordenada!O68,Ordenada!O$5:O$203,0),\"\")","v":""},{"$f":"IFERROR(RANK(Ordenada!S68,Ordenada!S$5:S$203,0),\"\")","v":""},{"$f":"IFERROR(RANK(Ordenada!T68,Ordenada!T$5:T$203,0),\"\")","v":""},{"$f":"IFERROR(RANK(Ordenada!U68,Ordenada!U$5:U$203,0),\"\")","v":""},{"$f":"IFERROR(RANK(Ordenada!V68,Ordenada!V$5:V$203,0),\"\")","v":""},{"$f":"IFERROR(RANK(Ordenada!W68,Ordenada!W$5:W$203,1),\"\")","v":""}]
[{"$f":"IF(Propostas!$C76=\"\",\"\",ROW(65:65))","v":""},{"$f":"IF(Propostas!$C76=\"\",\"\",VLOOKUP($A68,Pontuação!$A$5:$V$203,COLUMN(B:B),0))","v":""},{"$f":"IFERROR(RANK(Ordenada!C69,Ordenada!C$5:C$203,0),\"\")","v":""},{"$f":"IFERROR(RANK(Ordenada!D69,Ordenada!D$5:D$203,0),\"\")","v":""},{"$f":"IFERROR(RANK(Ordenada!E69,Ordenada!E$5:E$203,0),\"\")","v":""},{"$f":"IFERROR(RANK(Ordenada!F69,Ordenada!F$5:F$203,0),\"\")","v":""},{"$f":"IFERROR(RANK(Ordenada!G69,Ordenada!G$5:G$203,0),\"\")","v":""},{"$f":"IFERROR(RANK(Ordenada!H69,Ordenada!H$5:H$203,0),\"\")","v":""},{"$f":"IFERROR(RANK(Ordenada!I69,Ordenada!I$5:I$203,0),\"\")","v":""},{"$f":"IFERROR(RANK(Ordenada!J69,Ordenada!J$5:J$203,0),\"\")","v":""},{"$f":"IFERROR(RANK(Ordenada!K69,Ordenada!K$5:K$203,0),\"\")","v":""},{"$f":"IFERROR(RANK(Ordenada!L69,Ordenada!L$5:L$203,0),\"\")","v":""},{"$f":"IFERROR(RANK(Ordenada!M69,Ordenada!M$5:M$203,0),\"\")","v":""},{"$f":"IFERROR(RANK(Ordenada!N69,Ordenada!N$5:N$203,0),\"\")","v":""},{"$f":"IFERROR(RANK(Ordenada!O69,Ordenada!O$5:O$203,0),\"\")","v":""},{"$f":"IFERROR(RANK(Ordenada!P69,Ordenada!P$5:P$203,0),\"\")","v":""},{"$f":"IFERROR(RANK(Ordenada!Q69,Ordenada!Q$5:Q$203,0),\"\")","v":""},{"$f":"IFERROR(RANK(Ordenada!O69,Ordenada!O$5:O$203,0),\"\")","v":""},{"$f":"IFERROR(RANK(Ordenada!S69,Ordenada!S$5:S$203,0),\"\")","v":""},{"$f":"IFERROR(RANK(Ordenada!T69,Ordenada!T$5:T$203,0),\"\")","v":""},{"$f":"IFERROR(RANK(Ordenada!U69,Ordenada!U$5:U$203,0),\"\")","v":""},{"$f":"IFERROR(RANK(Ordenada!V69,Ordenada!V$5:V$203,0),\"\")","v":""},{"$f":"IFERROR(RANK(Ordenada!W69,Ordenada!W$5:W$203,1),\"\")","v":""}]
[{"$f":"IF(Propostas!$C77=\"\",\"\",ROW(66:66))","v":""},{"$f":"IF(Propostas!$C77=\"\",\"\",VLOOKUP($A69,Pontuação!$A$5:$V$203,COLUMN(B:B),0))","v":""},{"$f":"IFERROR(RANK(Ordenada!C70,Ordenada!C$5:C$203,0),\"\")","v":""},{"$f":"IFERROR(RANK(Ordenada!D70,Ordenada!D$5:D$203,0),\"\")","v":""},{"$f":"IFERROR(RANK(Ordenada!E70,Ordenada!E$5:E$203,0),\"\")","v":""},{"$f":"IFERROR(RANK(Ordenada!F70,Ordenada!F$5:F$203,0),\"\")","v":""},{"$f":"IFERROR(RANK(Ordenada!G70,Ordenada!G$5:G$203,0),\"\")","v":""},{"$f":"IFERROR(RANK(Ordenada!H70,Ordenada!H$5:H$203,0),\"\")","v":""},{"$f":"IFERROR(RANK(Ordenada!I70,Ordenada!I$5:I$203,0),\"\")","v":""},{"$f":"IFERROR(RANK(Ordenada!J70,Ordenada!J$5:J$203,0),\"\")","v":""},{"$f":"IFERROR(RANK(Ordenada!K70,Ordenada!K$5:K$203,0),\"\")","v":""},{"$f":"IFERROR(RANK(Ordenada!L70,Ordenada!L$5:L$203,0),\"\")","v":""},{"$f":"IFERROR(RANK(Ordenada!M70,Ordenada!M$5:M$203,0),\"\")","v":""},{"$f":"IFERROR(RANK(Ordenada!N70,Ordenada!N$5:N$203,0),\"\")","v":""},{"$f":"IFERROR(RANK(Ordenada!O70,Ordenada!O$5:O$203,0),\"\")","v":""},{"$f":"IFERROR(RANK(Ordenada!P70,Ordenada!P$5:P$203,0),\"\")","v":""},{"$f":"IFERROR(RANK(Ordenada!Q70,Ordenada!Q$5:Q$203,0),\"\")","v":""},{"$f":"IFERROR(RANK(Ordenada!O70,Ordenada!O$5:O$203,0),\"\")","v":""},{"$f":"IFERROR(RANK(Ordenada!S70,Ordenada!S$5:S$203,0),\"\")","v":""},{"$f":"IFERROR(RANK(Ordenada!T70,Ordenada!T$5:T$203,0),\"\")","v":""},{"$f":"IFERROR(RANK(Ordenada!U70,Ordenada!U$5:U$203,0),\"\")","v":""},{"$f":"IFERROR(RANK(Ordenada!V70,Ordenada!V$5:V$203,0),\"\")","v":""},{"$f":"IFERROR(RANK(Ordenada!W70,Ordenada!W$5:W$203,1),\"\")","v":""}]
[{"$f":"IF(Propostas!$C78=\"\",\"\",ROW(67:67))","v":""},{"$f":"IF(Propostas!$C78=\"\",\"\",VLOOKUP($A70,Pontuação!$A$5:$V$203,COLUMN(B:B),0))","v":""},{"$f":"IFERROR(RANK(Ordenada!C71,Ordenada!C$5:C$203,0),\"\")","v":""},{"$f":"IFERROR(RANK(Ordenada!D71,Ordenada!D$5:D$203,0),\"\")","v":""},{"$f":"IFERROR(RANK(Ordenada!E71,Ordenada!E$5:E$203,0),\"\")","v":""},{"$f":"IFERROR(RANK(Ordenada!F71,Ordenada!F$5:F$203,0),\"\")","v":""},{"$f":"IFERROR(RANK(Ordenada!G71,Ordenada!G$5:G$203,0),\"\")","v":""},{"$f":"IFERROR(RANK(Ordenada!H71,Ordenada!H$5:H$203,0),\"\")","v":""},{"$f":"IFERROR(RANK(Ordenada!I71,Ordenada!I$5:I$203,0),\"\")","v":""},{"$f":"IFERROR(RANK(Ordenada!J71,Ordenada!J$5:J$203,0),\"\")","v":""},{"$f":"IFERROR(RANK(Ordenada!K71,Ordenada!K$5:K$203,0),\"\")","v":""},{"$f":"IFERROR(RANK(Ordenada!L71,Ordenada!L$5:L$203,0),\"\")","v":""},{"$f":"IFERROR(RANK(Ordenada!M71,Ordenada!M$5:M$203,0),\"\")","v":""},{"$f":"IFERROR(RANK(Ordenada!N71,Ordenada!N$5:N$203,0),\"\")","v":""},{"$f":"IFERROR(RANK(Ordenada!O71,Ordenada!O$5:O$203,0),\"\")","v":""},{"$f":"IFERROR(RANK(Ordenada!P71,Ordenada!P$5:P$203,0),\"\")","v":""},{"$f":"IFERROR(RANK(Ordenada!Q71,Ordenada!Q$5:Q$203,0),\"\")","v":""},{"$f":"IFERROR(RANK(Ordenada!O71,Ordenada!O$5:O$203,0),\"\")","v":""},{"$f":"IFERROR(RANK(Ordenada!S71,Ordenada!S$5:S$203,0),\"\")","v":""},{"$f":"IFERROR(RANK(Ordenada!T71,Ordenada!T$5:T$203,0),\"\")","v":""},{"$f":"IFERROR(RANK(Ordenada!U71,Ordenada!U$5:U$203,0),\"\")","v":""},{"$f":"IFERROR(RANK(Ordenada!V71,Ordenada!V$5:V$203,0),\"\")","v":""},{"$f":"IFERROR(RANK(Ordenada!W71,Ordenada!W$5:W$203,1),\"\")","v":""}]
[{"$f":"IF(Propostas!$C79=\"\",\"\",ROW(68:68))","v":""},{"$f":"IF(Propostas!$C79=\"\",\"\",VLOOKUP($A71,Pontuação!$A$5:$V$203,COLUMN(B:B),0))","v":""},{"$f":"IFERROR(RANK(Ordenada!C72,Ordenada!C$5:C$203,0),\"\")","v":""},{"$f":"IFERROR(RANK(Ordenada!D72,Ordenada!D$5:D$203,0),\"\")","v":""},{"$f":"IFERROR(RANK(Ordenada!E72,Ordenada!E$5:E$203,0),\"\")","v":""},{"$f":"IFERROR(RANK(Ordenada!F72,Ordenada!F$5:F$203,0),\"\")","v":""},{"$f":"IFERROR(RANK(Ordenada!G72,Ordenada!G$5:G$203,0),\"\")","v":""},{"$f":"IFERROR(RANK(Ordenada!H72,Ordenada!H$5:H$203,0),\"\")","v":""},{"$f":"IFERROR(RANK(Ordenada!I72,Ordenada!I$5:I$203,0),\"\")","v":""},{"$f":"IFERROR(RANK(Ordenada!J72,Ordenada!J$5:J$203,0),\"\")","v":""},{"$f":"IFERROR(RANK(Ordenada!K72,Ordenada!K$5:K$203,0),\"\")","v":""},{"$f":"IFERROR(RANK(Ordenada!L72,Ordenada!L$5:L$203,0),\"\")","v":""},{"$f":"IFERROR(RANK(Ordenada!M72,Ordenada!M$5:M$203,0),\"\")","v":""},{"$f":"IFERROR(RANK(Ordenada!N72,Ordenada!N$5:N$203,0),\"\")","v":""},{"$f":"IFERROR(RANK(Ordenada!O72,Ordenada!O$5:O$203,0),\"\")","v":""},{"$f":"IFERROR(RANK(Ordenada!P72,Ordenada!P$5:P$203,0),\"\")","v":""},{"$f":"IFERROR(RANK(Ordenada!Q72,Ordenada!Q$5:Q$203,0),\"\")","v":""},{"$f":"IFERROR(RANK(Ordenada!O72,Ordenada!O$5:O$203,0),\"\")","v":""},{"$f":"IFERROR(RANK(Ordenada!S72,Ordenada!S$5:S$203,0),\"\")","v":""},{"$f":"IFERROR(RANK(Ordenada!T72,Ordenada!T$5:T$203,0),\"\")","v":""},{"$f":"IFERROR(RANK(Ordenada!U72,Ordenada!U$5:U$203,0),\"\")","v":""},{"$f":"IFERROR(RANK(Ordenada!V72,Ordenada!V$5:V$203,0),\"\")","v":""},{"$f":"IFERROR(RANK(Ordenada!W72,Ordenada!W$5:W$203,1),\"\")","v":""}]
[{"$f":"IF(Propostas!$C80=\"\",\"\",ROW(69:69))","v":""},{"$f":"IF(Propostas!$C80=\"\",\"\",VLOOKUP($A72,Pontuação!$A$5:$V$203,COLUMN(B:B),0))","v":""},{"$f":"IFERROR(RANK(Ordenada!C73,Ordenada!C$5:C$203,0),\"\")","v":""},{"$f":"IFERROR(RANK(Ordenada!D73,Ordenada!D$5:D$203,0),\"\")","v":""},{"$f":"IFERROR(RANK(Ordenada!E73,Ordenada!E$5:E$203,0),\"\")","v":""},{"$f":"IFERROR(RANK(Ordenada!F73,Ordenada!F$5:F$203,0),\"\")","v":""},{"$f":"IFERROR(RANK(Ordenada!G73,Ordenada!G$5:G$203,0),\"\")","v":""},{"$f":"IFERROR(RANK(Ordenada!H73,Ordenada!H$5:H$203,0),\"\")","v":""},{"$f":"IFERROR(RANK(Ordenada!I73,Ordenada!I$5:I$203,0),\"\")","v":""},{"$f":"IFERROR(RANK(Ordenada!J73,Ordenada!J$5:J$203,0),\"\")","v":""},{"$f":"IFERROR(RANK(Ordenada!K73,Ordenada!K$5:K$203,0),\"\")","v":""},{"$f":"IFERROR(RANK(Ordenada!L73,Ordenada!L$5:L$203,0),\"\")","v":""},{"$f":"IFERROR(RANK(Ordenada!M73,Ordenada!M$5:M$203,0),\"\")","v":""},{"$f":"IFERROR(RANK(Ordenada!N73,Ordenada!N$5:N$203,0),\"\")","v":""},{"$f":"IFERROR(RANK(Ordenada!O73,Ordenada!O$5:O$203,0),\"\")","v":""},{"$f":"IFERROR(RANK(Ordenada!P73,Ordenada!P$5:P$203,0),\"\")","v":""},{"$f":"IFERROR(RANK(Ordenada!Q73,Ordenada!Q$5:Q$203,0),\"\")","v":""},{"$f":"IFERROR(RANK(Ordenada!O73,Ordenada!O$5:O$203,0),\"\")","v":""},{"$f":"IFERROR(RANK(Ordenada!S73,Ordenada!S$5:S$203,0),\"\")","v":""},{"$f":"IFERROR(RANK(Ordenada!T73,Ordenada!T$5:T$203,0),\"\")","v":""},{"$f":"IFERROR(RANK(Ordenada!U73,Ordenada!U$5:U$203,0),\"\")","v":""},{"$f":"IFERROR(RANK(Ordenada!V73,Ordenada!V$5:V$203,0),\"\")","v":""},{"$f":"IFERROR(RANK(Ordenada!W73,Ordenada!W$5:W$203,1),\"\")","v":""}]
[{"$f":"IF(Propostas!$C81=\"\",\"\",ROW(70:70))","v":""},{"$f":"IF(Propostas!$C81=\"\",\"\",VLOOKUP($A73,Pontuação!$A$5:$V$203,COLUMN(B:B),0))","v":""},{"$f":"IFERROR(RANK(Ordenada!C74,Ordenada!C$5:C$203,0),\"\")","v":""},{"$f":"IFERROR(RANK(Ordenada!D74,Ordenada!D$5:D$203,0),\"\")","v":""},{"$f":"IFERROR(RANK(Ordenada!E74,Ordenada!E$5:E$203,0),\"\")","v":""},{"$f":"IFERROR(RANK(Ordenada!F74,Ordenada!F$5:F$203,0),\"\")","v":""},{"$f":"IFERROR(RANK(Ordenada!G74,Ordenada!G$5:G$203,0),\"\")","v":""},{"$f":"IFERROR(RANK(Ordenada!H74,Ordenada!H$5:H$203,0),\"\")","v":""},{"$f":"IFERROR(RANK(Ordenada!I74,Ordenada!I$5:I$203,0),\"\")","v":""},{"$f":"IFERROR(RANK(Ordenada!J74,Ordenada!J$5:J$203,0),\"\")","v":""},{"$f":"IFERROR(RANK(Ordenada!K74,Ordenada!K$5:K$203,0),\"\")","v":""},{"$f":"IFERROR(RANK(Ordenada!L74,Ordenada!L$5:L$203,0),\"\")","v":""},{"$f":"IFERROR(RANK(Ordenada!M74,Ordenada!M$5:M$203,0),\"\")","v":""},{"$f":"IFERROR(RANK(Ordenada!N74,Ordenada!N$5:N$203,0),\"\")","v":""},{"$f":"IFERROR(RANK(Ordenada!O74,Ordenada!O$5:O$203,0),\"\")","v":""},{"$f":"IFERROR(RANK(Ordenada!P74,Ordenada!P$5:P$203,0),\"\")","v":""},{"$f":"IFERROR(RANK(Ordenada!Q74,Ordenada!Q$5:Q$203,0),\"\")","v":""},{"$f":"IFERROR(RANK(Ordenada!O74,Ordenada!O$5:O$203,0),\"\")","v":""},{"$f":"IFERROR(RANK(Ordenada!S74,Ordenada!S$5:S$203,0),\"\")","v":""},{"$f":"IFERROR(RANK(Ordenada!T74,Ordenada!T$5:T$203,0),\"\")","v":""},{"$f":"IFERROR(RANK(Ordenada!U74,Ordenada!U$5:U$203,0),\"\")","v":""},{"$f":"IFERROR(RANK(Ordenada!V74,Ordenada!V$5:V$203,0),\"\")","v":""},{"$f":"IFERROR(RANK(Ordenada!W74,Ordenada!W$5:W$203,1),\"\")","v":""}]
[{"$f":"IF(Propostas!$C82=\"\",\"\",ROW(71:71))","v":""},{"$f":"IF(Propostas!$C82=\"\",\"\",VLOOKUP($A74,Pontuação!$A$5:$V$203,COLUMN(B:B),0))","v":""},{"$f":"IFERROR(RANK(Ordenada!C75,Ordenada!C$5:C$203,0),\"\")","v":""},{"$f":"IFERROR(RANK(Ordenada!D75,Ordenada!D$5:D$203,0),\"\")","v":""},{"$f":"IFERROR(RANK(Ordenada!E75,Ordenada!E$5:E$203,0),\"\")","v":""},{"$f":"IFERROR(RANK(Ordenada!F75,Ordenada!F$5:F$203,0),\"\")","v":""},{"$f":"IFERROR(RANK(Ordenada!G75,Ordenada!G$5:G$203,0),\"\")","v":""},{"$f":"IFERROR(RANK(Ordenada!H75,Ordenada!H$5:H$203,0),\"\")","v":""},{"$f":"IFERROR(RANK(Ordenada!I75,Ordenada!I$5:I$203,0),\"\")","v":""},{"$f":"IFERROR(RANK(Ordenada!J75,Ordenada!J$5:J$203,0),\"\")","v":""},{"$f":"IFERROR(RANK(Ordenada!K75,Ordenada!K$5:K$203,0),\"\")","v":""},{"$f":"IFERROR(RANK(Ordenada!L75,Ordenada!L$5:L$203,0),\"\")","v":""},{"$f":"IFERROR(RANK(Ordenada!M75,Ordenada!M$5:M$203,0),\"\")","v":""},{"$f":"IFERROR(RANK(Ordenada!N75,Ordenada!N$5:N$203,0),\"\")","v":""},{"$f":"IFERROR(RANK(Ordenada!O75,Ordenada!O$5:O$203,0),\"\")","v":""},{"$f":"IFERROR(RANK(Ordenada!P75,Ordenada!P$5:P$203,0),\"\")","v":""},{"$f":"IFERROR(RANK(Ordenada!Q75,Ordenada!Q$5:Q$203,0),\"\")","v":""},{"$f":"IFERROR(RANK(Ordenada!O75,Ordenada!O$5:O$203,0),\"\")","v":""},{"$f":"IFERROR(RANK(Ordenada!S75,Ordenada!S$5:S$203,0),\"\")","v":""},{"$f":"IFERROR(RANK(Ordenada!T75,Ordenada!T$5:T$203,0),\"\")","v":""},{"$f":"IFERROR(RANK(Ordenada!U75,Ordenada!U$5:U$203,0),\"\")","v":""},{"$f":"IFERROR(RANK(Ordenada!V75,Ordenada!V$5:V$203,0),\"\")","v":""},{"$f":"IFERROR(RANK(Ordenada!W75,Ordenada!W$5:W$203,1),\"\")","v":""}]
[{"$f":"IF(Propostas!$C83=\"\",\"\",ROW(72:72))","v":""},{"$f":"IF(Propostas!$C83=\"\",\"\",VLOOKUP($A75,Pontuação!$A$5:$V$203,COLUMN(B:B),0))","v":""},{"$f":"IFERROR(RANK(Ordenada!C76,Ordenada!C$5:C$203,0),\"\")","v":""},{"$f":"IFERROR(RANK(Ordenada!D76,Ordenada!D$5:D$203,0),\"\")","v":""},{"$f":"IFERROR(RANK(Ordenada!E76,Ordenada!E$5:E$203,0),\"\")","v":""},{"$f":"IFERROR(RANK(Ordenada!F76,Ordenada!F$5:F$203,0),\"\")","v":""},{"$f":"IFERROR(RANK(Ordenada!G76,Ordenada!G$5:G$203,0),\"\")","v":""},{"$f":"IFERROR(RANK(Ordenada!H76,Ordenada!H$5:H$203,0),\"\")","v":""},{"$f":"IFERROR(RANK(Ordenada!I76,Ordenada!I$5:I$203,0),\"\")","v":""},{"$f":"IFERROR(RANK(Ordenada!J76,Ordenada!J$5:J$203,0),\"\")","v":""},{"$f":"IFERROR(RANK(Ordenada!K76,Ordenada!K$5:K$203,0),\"\")","v":""},{"$f":"IFERROR(RANK(Ordenada!L76,Ordenada!L$5:L$203,0),\"\")","v":""},{"$f":"IFERROR(RANK(Ordenada!M76,Ordenada!M$5:M$203,0),\"\")","v":""},{"$f":"IFERROR(RANK(Ordenada!N76,Ordenada!N$5:N$203,0),\"\")","v":""},{"$f":"IFERROR(RANK(Ordenada!O76,Ordenada!O$5:O$203,0),\"\")","v":""},{"$f":"IFERROR(RANK(Ordenada!P76,Ordenada!P$5:P$203,0),\"\")","v":""},{"$f":"IFERROR(RANK(Ordenada!Q76,Ordenada!Q$5:Q$203,0),\"\")","v":""},{"$f":"IFERROR(RANK(Ordenada!O76,Ordenada!O$5:O$203,0),\"\")","v":""},{"$f":"IFERROR(RANK(Ordenada!S76,Ordenada!S$5:S$203,0),\"\")","v":""},{"$f":"IFERROR(RANK(Ordenada!T76,Ordenada!T$5:T$203,0),\"\")","v":""},{"$f":"IFERROR(RANK(Ordenada!U76,Ordenada!U$5:U$203,0),\"\")","v":""},{"$f":"IFERROR(RANK(Ordenada!V76,Ordenada!V$5:V$203,0),\"\")","v":""},{"$f":"IFERROR(RANK(Ordenada!W76,Ordenada!W$5:W$203,1),\"\")","v":""}]
[{"$f":"IF(Propostas!$C84=\"\",\"\",ROW(73:73))","v":""},{"$f":"IF(Propostas!$C84=\"\",\"\",VLOOKUP($A76,Pontuação!$A$5:$V$203,COLUMN(B:B),0))","v":""},{"$f":"IFERROR(RANK(Ordenada!C77,Ordenada!C$5:C$203,0),\"\")","v":""},{"$f":"IFERROR(RANK(Ordenada!D77,Ordenada!D$5:D$203,0),\"\")","v":""},{"$f":"IFERROR(RANK(Ordenada!E77,Ordenada!E$5:E$203,0),\"\")","v":""},{"$f":"IFERROR(RANK(Ordenada!F77,Ordenada!F$5:F$203,0),\"\")","v":""},{"$f":"IFERROR(RANK(Ordenada!G77,Ordenada!G$5:G$203,0),\"\")","v":""},{"$f":"IFERROR(RANK(Ordenada!H77,Ordenada!H$5:H$203,0),\"\")","v":""},{"$f":"IFERROR(RANK(Ordenada!I77,Ordenada!I$5:I$203,0),\"\")","v":""},{"$f":"IFERROR(RANK(Ordenada!J77,Ordenada!J$5:J$203,0),\"\")","v":""},{"$f":"IFERROR(RANK(Ordenada!K77,Ordenada!K$5:K$203,0),\"\")","v":""},{"$f":"IFERROR(RANK(Ordenada!L77,Ordenada!L$5:L$203,0),\"\")","v":""},{"$f":"IFERROR(RANK(Ordenada!M77,Ordenada!M$5:M$203,0),\"\")","v":""},{"$f":"IFERROR(RANK(Ordenada!N77,Ordenada!N$5:N$203,0),\"\")","v":""},{"$f":"IFERROR(RANK(Ordenada!O77,Ordenada!O$5:O$203,0),\"\")","v":""},{"$f":"IFERROR(RANK(Ordenada!P77,Ordenada!P$5:P$203,0),\"\")","v":""},{"$f":"IFERROR(RANK(Ordenada!Q77,Ordenada!Q$5:Q$203,0),\"\")","v":""},{"$f":"IFERROR(RANK(Ordenada!O77,Ordenada!O$5:O$203,0),\"\")","v":""},{"$f":"IFERROR(RANK(Ordenada!S77,Ordenada!S$5:S$203,0),\"\")","v":""},{"$f":"IFERROR(RANK(Ordenada!T77,Ordenada!T$5:T$203,0),\"\")","v":""},{"$f":"IFERROR(RANK(Ordenada!U77,Ordenada!U$5:U$203,0),\"\")","v":""},{"$f":"IFERROR(RANK(Ordenada!V77,Ordenada!V$5:V$203,0),\"\")","v":""},{"$f":"IFERROR(RANK(Ordenada!W77,Ordenada!W$5:W$203,1),\"\")","v":""}]
[{"$f":"IF(Propostas!$C85=\"\",\"\",ROW(74:74))","v":""},{"$f":"IF(Propostas!$C85=\"\",\"\",VLOOKUP($A77,Pontuação!$A$5:$V$203,COLUMN(B:B),0))","v":""},{"$f":"IFERROR(RANK(Ordenada!C78,Ordenada!C$5:C$203,0),\"\")","v":""},{"$f":"IFERROR(RANK(Ordenada!D78,Ordenada!D$5:D$203,0),\"\")","v":""},{"$f":"IFERROR(RANK(Ordenada!E78,Ordenada!E$5:E$203,0),\"\")","v":""},{"$f":"IFERROR(RANK(Ordenada!F78,Ordenada!F$5:F$203,0),\"\")","v":""},{"$f":"IFERROR(RANK(Ordenada!G78,Ordenada!G$5:G$203,0),\"\")","v":""},{"$f":"IFERROR(RANK(Ordenada!H78,Ordenada!H$5:H$203,0),\"\")","v":""},{"$f":"IFERROR(RANK(Ordenada!I78,Ordenada!I$5:I$203,0),\"\")","v":""},{"$f":"IFERROR(RANK(Ordenada!J78,Ordenada!J$5:J$203,0),\"\")","v":""},{"$f":"IFERROR(RANK(Ordenada!K78,Ordenada!K$5:K$203,0),\"\")","v":""},{"$f":"IFERROR(RANK(Ordenada!L78,Ordenada!L$5:L$203,0),\"\")","v":""},{"$f":"IFERROR(RANK(Ordenada!M78,Ordenada!M$5:M$203,0),\"\")","v":""},{"$f":"IFERROR(RANK(Ordenada!N78,Ordenada!N$5:N$203,0),\"\")","v":""},{"$f":"IFERROR(RANK(Ordenada!O78,Ordenada!O$5:O$203,0),\"\")","v":""},{"$f":"IFERROR(RANK(Ordenada!P78,Ordenada!P$5:P$203,0),\"\")","v":""},{"$f":"IFERROR(RANK(Ordenada!Q78,Ordenada!Q$5:Q$203,0),\"\")","v":""},{"$f":"IFERROR(RANK(Ordenada!O78,Ordenada!O$5:O$203,0),\"\")","v":""},{"$f":"IFERROR(RANK(Ordenada!S78,Ordenada!S$5:S$203,0),\"\")","v":""},{"$f":"IFERROR(RANK(Ordenada!T78,Ordenada!T$5:T$203,0),\"\")","v":""},{"$f":"IFERROR(RANK(Ordenada!U78,Ordenada!U$5:U$203,0),\"\")","v":""},{"$f":"IFERROR(RANK(Ordenada!V78,Ordenada!V$5:V$203,0),\"\")","v":""},{"$f":"IFERROR(RANK(Ordenada!W78,Ordenada!W$5:W$203,1),\"\")","v":""}]
[{"$f":"IF(Propostas!$C86=\"\",\"\",ROW(75:75))","v":""},{"$f":"IF(Propostas!$C86=\"\",\"\",VLOOKUP($A78,Pontuação!$A$5:$V$203,COLUMN(B:B),0))","v":""},{"$f":"IFERROR(RANK(Ordenada!C79,Ordenada!C$5:C$203,0),\"\")","v":""},{"$f":"IFERROR(RANK(Ordenada!D79,Ordenada!D$5:D$203,0),\"\")","v":""},{"$f":"IFERROR(RANK(Ordenada!E79,Ordenada!E$5:E$203,0),\"\")","v":""},{"$f":"IFERROR(RANK(Ordenada!F79,Ordenada!F$5:F$203,0),\"\")","v":""},{"$f":"IFERROR(RANK(Ordenada!G79,Ordenada!G$5:G$203,0),\"\")","v":""},{"$f":"IFERROR(RANK(Ordenada!H79,Ordenada!H$5:H$203,0),\"\")","v":""},{"$f":"IFERROR(RANK(Ordenada!I79,Ordenada!I$5:I$203,0),\"\")","v":""},{"$f":"IFERROR(RANK(Ordenada!J79,Ordenada!J$5:J$203,0),\"\")","v":""},{"$f":"IFERROR(RANK(Ordenada!K79,Ordenada!K$5:K$203,0),\"\")","v":""},{"$f":"IFERROR(RANK(Ordenada!L79,Ordenada!L$5:L$203,0),\"\")","v":""},{"$f":"IFERROR(RANK(Ordenada!M79,Ordenada!M$5:M$203,0),\"\")","v":""},{"$f":"IFERROR(RANK(Ordenada!N79,Ordenada!N$5:N$203,0),\"\")","v":""},{"$f":"IFERROR(RANK(Ordenada!O79,Ordenada!O$5:O$203,0),\"\")","v":""},{"$f":"IFERROR(RANK(Ordenada!P79,Ordenada!P$5:P$203,0),\"\")","v":""},{"$f":"IFERROR(RANK(Ordenada!Q79,Ordenada!Q$5:Q$203,0),\"\")","v":""},{"$f":"IFERROR(RANK(Ordenada!O79,Ordenada!O$5:O$203,0),\"\")","v":""},{"$f":"IFERROR(RANK(Ordenada!S79,Ordenada!S$5:S$203,0),\"\")","v":""},{"$f":"IFERROR(RANK(Ordenada!T79,Ordenada!T$5:T$203,0),\"\")","v":""},{"$f":"IFERROR(RANK(Ordenada!U79,Ordenada!U$5:U$203,0),\"\")","v":""},{"$f":"IFERROR(RANK(Ordenada!V79,Ordenada!V$5:V$203,0),\"\")","v":""},{"$f":"IFERROR(RANK(Ordenada!W79,Ordenada!W$5:W$203,1),\"\")","v":""}]
[{"$f":"IF(Propostas!$C87=\"\",\"\",ROW(76:76))","v":""},{"$f":"IF(Propostas!$C87=\"\",\"\",VLOOKUP($A79,Pontuação!$A$5:$V$203,COLUMN(B:B),0))","v":""},{"$f":"IFERROR(RANK(Ordenada!C80,Ordenada!C$5:C$203,0),\"\")","v":""},{"$f":"IFERROR(RANK(Ordenada!D80,Ordenada!D$5:D$203,0),\"\")","v":""},{"$f":"IFERROR(RANK(Ordenada!E80,Ordenada!E$5:E$203,0),\"\")","v":""},{"$f":"IFERROR(RANK(Ordenada!F80,Ordenada!F$5:F$203,0),\"\")","v":""},{"$f":"IFERROR(RANK(Ordenada!G80,Ordenada!G$5:G$203,0),\"\")","v":""},{"$f":"IFERROR(RANK(Ordenada!H80,Ordenada!H$5:H$203,0),\"\")","v":""},{"$f":"IFERROR(RANK(Ordenada!I80,Ordenada!I$5:I$203,0),\"\")","v":""},{"$f":"IFERROR(RANK(Ordenada!J80,Ordenada!J$5:J$203,0),\"\")","v":""},{"$f":"IFERROR(RANK(Ordenada!K80,Ordenada!K$5:K$203,0),\"\")","v":""},{"$f":"IFERROR(RANK(Ordenada!L80,Ordenada!L$5:L$203,0),\"\")","v":""},{"$f":"IFERROR(RANK(Ordenada!M80,Ordenada!M$5:M$203,0),\"\")","v":""},{"$f":"IFERROR(RANK(Ordenada!N80,Ordenada!N$5:N$203,0),\"\")","v":""},{"$f":"IFERROR(RANK(Ordenada!O80,Ordenada!O$5:O$203,0),\"\")","v":""},{"$f":"IFERROR(RANK(Ordenada!P80,Ordenada!P$5:P$203,0),\"\")","v":""},{"$f":"IFERROR(RANK(Ordenada!Q80,Ordenada!Q$5:Q$203,0),\"\")","v":""},{"$f":"IFERROR(RANK(Ordenada!O80,Ordenada!O$5:O$203,0),\"\")","v":""},{"$f":"IFERROR(RANK(Ordenada!S80,Ordenada!S$5:S$203,0),\"\")","v":""},{"$f":"IFERROR(RANK(Ordenada!T80,Ordenada!T$5:T$203,0),\"\")","v":""},{"$f":"IFERROR(RANK(Ordenada!U80,Ordenada!U$5:U$203,0),\"\")","v":""},{"$f":"IFERROR(RANK(Ordenada!V80,Ordenada!V$5:V$203,0),\"\")","v":""},{"$f":"IFERROR(RANK(Ordenada!W80,Ordenada!W$5:W$203,1),\"\")","v":""}]
[{"$f":"IF(Propostas!$C88=\"\",\"\",ROW(77:77))","v":""},{"$f":"IF(Propostas!$C88=\"\",\"\",VLOOKUP($A80,Pontuação!$A$5:$V$203,COLUMN(B:B),0))","v":""},{"$f":"IFERROR(RANK(Ordenada!C81,Ordenada!C$5:C$203,0),\"\")","v":""},{"$f":"IFERROR(RANK(Ordenada!D81,Ordenada!D$5:D$203,0),\"\")","v":""},{"$f":"IFERROR(RANK(Ordenada!E81,Ordenada!E$5:E$203,0),\"\")","v":""},{"$f":"IFERROR(RANK(Ordenada!F81,Ordenada!F$5:F$203,0),\"\")","v":""},{"$f":"IFERROR(RANK(Ordenada!G81,Ordenada!G$5:G$203,0),\"\")","v":""},{"$f":"IFERROR(RANK(Ordenada!H81,Ordenada!H$5:H$203,0),\"\")","v":""},{"$f":"IFERROR(RANK(Ordenada!I81,Ordenada!I$5:I$203,0),\"\")","v":""},{"$f":"IFERROR(RANK(Ordenada!J81,Ordenada!J$5:J$203,0),\"\")","v":""},{"$f":"IFERROR(RANK(Ordenada!K81,Ordenada!K$5:K$203,0),\"\")","v":""},{"$f":"IFERROR(RANK(Ordenada!L81,Ordenada!L$5:L$203,0),\"\")","v":""},{"$f":"IFERROR(RANK(Ordenada!M81,Ordenada!M$5:M$203,0),\"\")","v":""},{"$f":"IFERROR(RANK(Ordenada!N81,Ordenada!N$5:N$203,0),\"\")","v":""},{"$f":"IFERROR(RANK(Ordenada!O81,Ordenada!O$5:O$203,0),\"\")","v":""},{"$f":"IFERROR(RANK(Ordenada!P81,Ordenada!P$5:P$203,0),\"\")","v":""},{"$f":"IFERROR(RANK(Ordenada!Q81,Ordenada!Q$5:Q$203,0),\"\")","v":""},{"$f":"IFERROR(RANK(Ordenada!O81,Ordenada!O$5:O$203,0),\"\")","v":""},{"$f":"IFERROR(RANK(Ordenada!S81,Ordenada!S$5:S$203,0),\"\")","v":""},{"$f":"IFERROR(RANK(Ordenada!T81,Ordenada!T$5:T$203,0),\"\")","v":""},{"$f":"IFERROR(RANK(Ordenada!U81,Ordenada!U$5:U$203,0),\"\")","v":""},{"$f":"IFERROR(RANK(Ordenada!V81,Ordenada!V$5:V$203,0),\"\")","v":""},{"$f":"IFERROR(RANK(Ordenada!W81,Ordenada!W$5:W$203,1),\"\")","v":""}]
[{"$f":"IF(Propostas!$C89=\"\",\"\",ROW(78:78))","v":""},{"$f":"IF(Propostas!$C89=\"\",\"\",VLOOKUP($A81,Pontuação!$A$5:$V$203,COLUMN(B:B),0))","v":""},{"$f":"IFERROR(RANK(Ordenada!C82,Ordenada!C$5:C$203,0),\"\")","v":""},{"$f":"IFERROR(RANK(Ordenada!D82,Ordenada!D$5:D$203,0),\"\")","v":""},{"$f":"IFERROR(RANK(Ordenada!E82,Ordenada!E$5:E$203,0),\"\")","v":""},{"$f":"IFERROR(RANK(Ordenada!F82,Ordenada!F$5:F$203,0),\"\")","v":""},{"$f":"IFERROR(RANK(Ordenada!G82,Ordenada!G$5:G$203,0),\"\")","v":""},{"$f":"IFERROR(RANK(Ordenada!H82,Ordenada!H$5:H$203,0),\"\")","v":""},{"$f":"IFERROR(RANK(Ordenada!I82,Ordenada!I$5:I$203,0),\"\")","v":""},{"$f":"IFERROR(RANK(Ordenada!J82,Ordenada!J$5:J$203,0),\"\")","v":""},{"$f":"IFERROR(RANK(Ordenada!K82,Ordenada!K$5:K$203,0),\"\")","v":""},{"$f":"IFERROR(RANK(Ordenada!L82,Ordenada!L$5:L$203,0),\"\")","v":""},{"$f":"IFERROR(RANK(Ordenada!M82,Ordenada!M$5:M$203,0),\"\")","v":""},{"$f":"IFERROR(RANK(Ordenada!N82,Ordenada!N$5:N$203,0),\"\")","v":""},{"$f":"IFERROR(RANK(Ordenada!O82,Ordenada!O$5:O$203,0),\"\")","v":""},{"$f":"IFERROR(RANK(Ordenada!P82,Ordenada!P$5:P$203,0),\"\")","v":""},{"$f":"IFERROR(RANK(Ordenada!Q82,Ordenada!Q$5:Q$203,0),\"\")","v":""},{"$f":"IFERROR(RANK(Ordenada!O82,Ordenada!O$5:O$203,0),\"\")","v":""},{"$f":"IFERROR(RANK(Ordenada!S82,Ordenada!S$5:S$203,0),\"\")","v":""},{"$f":"IFERROR(RANK(Ordenada!T82,Ordenada!T$5:T$203,0),\"\")","v":""},{"$f":"IFERROR(RANK(Ordenada!U82,Ordenada!U$5:U$203,0),\"\")","v":""},{"$f":"IFERROR(RANK(Ordenada!V82,Ordenada!V$5:V$203,0),\"\")","v":""},{"$f":"IFERROR(RANK(Ordenada!W82,Ordenada!W$5:W$203,1),\"\")","v":""}]
[{"$f":"IF(Propostas!$C90=\"\",\"\",ROW(79:79))","v":""},{"$f":"IF(Propostas!$C90=\"\",\"\",VLOOKUP($A82,Pontuação!$A$5:$V$203,COLUMN(B:B),0))","v":""},{"$f":"IFERROR(RANK(Ordenada!C83,Ordenada!C$5:C$203,0),\"\")","v":""},{"$f":"IFERROR(RANK(Ordenada!D83,Ordenada!D$5:D$203,0),\"\")","v":""},{"$f":"IFERROR(RANK(Ordenada!E83,Ordenada!E$5:E$203,0),\"\")","v":""},{"$f":"IFERROR(RANK(Ordenada!F83,Ordenada!F$5:F$203,0),\"\")","v":""},{"$f":"IFERROR(RANK(Ordenada!G83,Ordenada!G$5:G$203,0),\"\")","v":""},{"$f":"IFERROR(RANK(Ordenada!H83,Ordenada!H$5:H$203,0),\"\")","v":""},{"$f":"IFERROR(RANK(Ordenada!I83,Ordenada!I$5:I$203,0),\"\")","v":""},{"$f":"IFERROR(RANK(Ordenada!J83,Ordenada!J$5:J$203,0),\"\")","v":""},{"$f":"IFERROR(RANK(Ordenada!K83,Ordenada!K$5:K$203,0),\"\")","v":""},{"$f":"IFERROR(RANK(Ordenada!L83,Ordenada!L$5:L$203,0),\"\")","v":""},{"$f":"IFERROR(RANK(Ordenada!M83,Ordenada!M$5:M$203,0),\"\")","v":""},{"$f":"IFERROR(RANK(Ordenada!N83,Ordenada!N$5:N$203,0),\"\")","v":""},{"$f":"IFERROR(RANK(Ordenada!O83,Ordenada!O$5:O$203,0),\"\")","v":""},{"$f":"IFERROR(RANK(Ordenada!P83,Ordenada!P$5:P$203,0),\"\")","v":""},{"$f":"IFERROR(RANK(Ordenada!Q83,Ordenada!Q$5:Q$203,0),\"\")","v":""},{"$f":"IFERROR(RANK(Ordenada!O83,Ordenada!O$5:O$203,0),\"\")","v":""},{"$f":"IFERROR(RANK(Ordenada!S83,Ordenada!S$5:S$203,0),\"\")","v":""},{"$f":"IFERROR(RANK(Ordenada!T83,Ordenada!T$5:T$203,0),\"\")","v":""},{"$f":"IFERROR(RANK(Ordenada!U83,Ordenada!U$5:U$203,0),\"\")","v":""},{"$f":"IFERROR(RANK(Ordenada!V83,Ordenada!V$5:V$203,0),\"\")","v":""},{"$f":"IFERROR(RANK(Ordenada!W83,Ordenada!W$5:W$203,1),\"\")","v":""}]
[{"$f":"IF(Propostas!$C91=\"\",\"\",ROW(80:80))","v":""},{"$f":"IF(Propostas!$C91=\"\",\"\",VLOOKUP($A83,Pontuação!$A$5:$V$203,COLUMN(B:B),0))","v":""},{"$f":"IFERROR(RANK(Ordenada!C84,Ordenada!C$5:C$203,0),\"\")","v":""},{"$f":"IFERROR(RANK(Ordenada!D84,Ordenada!D$5:D$203,0),\"\")","v":""},{"$f":"IFERROR(RANK(Ordenada!E84,Ordenada!E$5:E$203,0),\"\")","v":""},{"$f":"IFERROR(RANK(Ordenada!F84,Ordenada!F$5:F$203,0),\"\")","v":""},{"$f":"IFERROR(RANK(Ordenada!G84,Ordenada!G$5:G$203,0),\"\")","v":""},{"$f":"IFERROR(RANK(Ordenada!H84,Ordenada!H$5:H$203,0),\"\")","v":""},{"$f":"IFERROR(RANK(Ordenada!I84,Ordenada!I$5:I$203,0),\"\")","v":""},{"$f":"IFERROR(RANK(Ordenada!J84,Ordenada!J$5:J$203,0),\"\")","v":""},{"$f":"IFERROR(RANK(Ordenada!K84,Ordenada!K$5:K$203,0),\"\")","v":""},{"$f":"IFERROR(RANK(Ordenada!L84,Ordenada!L$5:L$203,0),\"\")","v":""},{"$f":"IFERROR(RANK(Ordenada!M84,Ordenada!M$5:M$203,0),\"\")","v":""},{"$f":"IFERROR(RANK(Ordenada!N84,Ordenada!N$5:N$203,0),\"\")","v":""},{"$f":"IFERROR(RANK(Ordenada!O84,Ordenada!O$5:O$203,0),\"\")","v":""},{"$f":"IFERROR(RANK(Ordenada!P84,Ordenada!P$5:P$203,0),\"\")","v":""},{"$f":"IFERROR(RANK(Ordenada!Q84,Ordenada!Q$5:Q$203,0),\"\")","v":""},{"$f":"IFERROR(RANK(Ordenada!O84,Ordenada!O$5:O$203,0),\"\")","v":""},{"$f":"IFERROR(RANK(Ordenada!S84,Ordenada!S$5:S$203,0),\"\")","v":""},{"$f":"IFERROR(RANK(Ordenada!T84,Ordenada!T$5:T$203,0),\"\")","v":""},{"$f":"IFERROR(RANK(Ordenada!U84,Ordenada!U$5:U$203,0),\"\")","v":""},{"$f":"IFERROR(RANK(Ordenada!V84,Ordenada!V$5:V$203,0),\"\")","v":""},{"$f":"IFERROR(RANK(Ordenada!W84,Ordenada!W$5:W$203,1),\"\")","v":""}]
[{"$f":"IF(Propostas!$C92=\"\",\"\",ROW(81:81))","v":""},{"$f":"IF(Propostas!$C92=\"\",\"\",VLOOKUP($A84,Pontuação!$A$5:$V$203,COLUMN(B:B),0))","v":""},{"$f":"IFERROR(RANK(Ordenada!C85,Ordenada!C$5:C$203,0),\"\")","v":""},{"$f":"IFERROR(RANK(Ordenada!D85,Ordenada!D$5:D$203,0),\"\")","v":""},{"$f":"IFERROR(RANK(Ordenada!E85,Ordenada!E$5:E$203,0),\"\")","v":""},{"$f":"IFERROR(RANK(Ordenada!F85,Ordenada!F$5:F$203,0),\"\")","v":""},{"$f":"IFERROR(RANK(Ordenada!G85,Ordenada!G$5:G$203,0),\"\")","v":""},{"$f":"IFERROR(RANK(Ordenada!H85,Ordenada!H$5:H$203,0),\"\")","v":""},{"$f":"IFERROR(RANK(Ordenada!I85,Ordenada!I$5:I$203,0),\"\")","v":""},{"$f":"IFERROR(RANK(Ordenada!J85,Ordenada!J$5:J$203,0),\"\")","v":""},{"$f":"IFERROR(RANK(Ordenada!K85,Ordenada!K$5:K$203,0),\"\")","v":""},{"$f":"IFERROR(RANK(Ordenada!L85,Ordenada!L$5:L$203,0),\"\")","v":""},{"$f":"IFERROR(RANK(Ordenada!M85,Ordenada!M$5:M$203,0),\"\")","v":""},{"$f":"IFERROR(RANK(Ordenada!N85,Ordenada!N$5:N$203,0),\"\")","v":""},{"$f":"IFERROR(RANK(Ordenada!O85,Ordenada!O$5:O$203,0),\"\")","v":""},{"$f":"IFERROR(RANK(Ordenada!P85,Ordenada!P$5:P$203,0),\"\")","v":""},{"$f":"IFERROR(RANK(Ordenada!Q85,Ordenada!Q$5:Q$203,0),\"\")","v":""},{"$f":"IFERROR(RANK(Ordenada!O85,Ordenada!O$5:O$203,0),\"\")","v":""},{"$f":"IFERROR(RANK(Ordenada!S85,Ordenada!S$5:S$203,0),\"\")","v":""},{"$f":"IFERROR(RANK(Ordenada!T85,Ordenada!T$5:T$203,0),\"\")","v":""},{"$f":"IFERROR(RANK(Ordenada!U85,Ordenada!U$5:U$203,0),\"\")","v":""},{"$f":"IFERROR(RANK(Ordenada!V85,Ordenada!V$5:V$203,0),\"\")","v":""},{"$f":"IFERROR(RANK(Ordenada!W85,Ordenada!W$5:W$203,1),\"\")","v":""}]
[{"$f":"IF(Propostas!$C93=\"\",\"\",ROW(82:82))","v":""},{"$f":"IF(Propostas!$C93=\"\",\"\",VLOOKUP($A85,Pontuação!$A$5:$V$203,COLUMN(B:B),0))","v":""},{"$f":"IFERROR(RANK(Ordenada!C86,Ordenada!C$5:C$203,0),\"\")","v":""},{"$f":"IFERROR(RANK(Ordenada!D86,Ordenada!D$5:D$203,0),\"\")","v":""},{"$f":"IFERROR(RANK(Ordenada!E86,Ordenada!E$5:E$203,0),\"\")","v":""},{"$f":"IFERROR(RANK(Ordenada!F86,Ordenada!F$5:F$203,0),\"\")","v":""},{"$f":"IFERROR(RANK(Ordenada!G86,Ordenada!G$5:G$203,0),\"\")","v":""},{"$f":"IFERROR(RANK(Ordenada!H86,Ordenada!H$5:H$203,0),\"\")","v":""},{"$f":"IFERROR(RANK(Ordenada!I86,Ordenada!I$5:I$203,0),\"\")","v":""},{"$f":"IFERROR(RANK(Ordenada!J86,Ordenada!J$5:J$203,0),\"\")","v":""},{"$f":"IFERROR(RANK(Ordenada!K86,Ordenada!K$5:K$203,0),\"\")","v":""},{"$f":"IFERROR(RANK(Ordenada!L86,Ordenada!L$5:L$203,0),\"\")","v":""},{"$f":"IFERROR(RANK(Ordenada!M86,Ordenada!M$5:M$203,0),\"\")","v":""},{"$f":"IFERROR(RANK(Ordenada!N86,Ordenada!N$5:N$203,0),\"\")","v":""},{"$f":"IFERROR(RANK(Ordenada!O86,Ordenada!O$5:O$203,0),\"\")","v":""},{"$f":"IFERROR(RANK(Ordenada!P86,Ordenada!P$5:P$203,0),\"\")","v":""},{"$f":"IFERROR(RANK(Ordenada!Q86,Ordenada!Q$5:Q$203,0),\"\")","v":""},{"$f":"IFERROR(RANK(Ordenada!O86,Ordenada!O$5:O$203,0),\"\")","v":""},{"$f":"IFERROR(RANK(Ordenada!S86,Ordenada!S$5:S$203,0),\"\")","v":""},{"$f":"IFERROR(RANK(Ordenada!T86,Ordenada!T$5:T$203,0),\"\")","v":""},{"$f":"IFERROR(RANK(Ordenada!U86,Ordenada!U$5:U$203,0),\"\")","v":""},{"$f":"IFERROR(RANK(Ordenada!V86,Ordenada!V$5:V$203,0),\"\")","v":""},{"$f":"IFERROR(RANK(Ordenada!W86,Ordenada!W$5:W$203,1),\"\")","v":""}]
[{"$f":"IF(Propostas!$C94=\"\",\"\",ROW(83:83))","v":""},{"$f":"IF(Propostas!$C94=\"\",\"\",VLOOKUP($A86,Pontuação!$A$5:$V$203,COLUMN(B:B),0))","v":""},{"$f":"IFERROR(RANK(Ordenada!C87,Ordenada!C$5:C$203,0),\"\")","v":""},{"$f":"IFERROR(RANK(Ordenada!D87,Ordenada!D$5:D$203,0),\"\")","v":""},{"$f":"IFERROR(RANK(Ordenada!E87,Ordenada!E$5:E$203,0),\"\")","v":""},{"$f":"IFERROR(RANK(Ordenada!F87,Ordenada!F$5:F$203,0),\"\")","v":""},{"$f":"IFERROR(RANK(Ordenada!G87,Ordenada!G$5:G$203,0),\"\")","v":""},{"$f":"IFERROR(RANK(Ordenada!H87,Ordenada!H$5:H$203,0),\"\")","v":""},{"$f":"IFERROR(RANK(Ordenada!I87,Ordenada!I$5:I$203,0),\"\")","v":""},{"$f":"IFERROR(RANK(Ordenada!J87,Ordenada!J$5:J$203,0),\"\")","v":""},{"$f":"IFERROR(RANK(Ordenada!K87,Ordenada!K$5:K$203,0),\"\")","v":""},{"$f":"IFERROR(RANK(Ordenada!L87,Ordenada!L$5:L$203,0),\"\")","v":""},{"$f":"IFERROR(RANK(Ordenada!M87,Ordenada!M$5:M$203,0),\"\")","v":""},{"$f":"IFERROR(RANK(Ordenada!N87,Ordenada!N$5:N$203,0),\"\")","v":""},{"$f":"IFERROR(RANK(Ordenada!O87,Ordenada!O$5:O$203,0),\"\")","v":""},{"$f":"IFERROR(RANK(Ordenada!P87,Ordenada!P$5:P$203,0),\"\")","v":""},{"$f":"IFERROR(RANK(Ordenada!Q87,Ordenada!Q$5:Q$203,0),\"\")","v":""},{"$f":"IFERROR(RANK(Ordenada!O87,Ordenada!O$5:O$203,0),\"\")","v":""},{"$f":"IFERROR(RANK(Ordenada!S87,Ordenada!S$5:S$203,0),\"\")","v":""},{"$f":"IFERROR(RANK(Ordenada!T87,Ordenada!T$5:T$203,0),\"\")","v":""},{"$f":"IFERROR(RANK(Ordenada!U87,Ordenada!U$5:U$203,0),\"\")","v":""},{"$f":"IFERROR(RANK(Ordenada!V87,Ordenada!V$5:V$203,0),\"\")","v":""},{"$f":"IFERROR(RANK(Ordenada!W87,Ordenada!W$5:W$203,1),\"\")","v":""}]
[{"$f":"IF(Propostas!$C95=\"\",\"\",ROW(84:84))","v":""},{"$f":"IF(Propostas!$C95=\"\",\"\",VLOOKUP($A87,Pontuação!$A$5:$V$203,COLUMN(B:B),0))","v":""},{"$f":"IFERROR(RANK(Ordenada!C88,Ordenada!C$5:C$203,0),\"\")","v":""},{"$f":"IFERROR(RANK(Ordenada!D88,Ordenada!D$5:D$203,0),\"\")","v":""},{"$f":"IFERROR(RANK(Ordenada!E88,Ordenada!E$5:E$203,0),\"\")","v":""},{"$f":"IFERROR(RANK(Ordenada!F88,Ordenada!F$5:F$203,0),\"\")","v":""},{"$f":"IFERROR(RANK(Ordenada!G88,Ordenada!G$5:G$203,0),\"\")","v":""},{"$f":"IFERROR(RANK(Ordenada!H88,Ordenada!H$5:H$203,0),\"\")","v":""},{"$f":"IFERROR(RANK(Ordenada!I88,Ordenada!I$5:I$203,0),\"\")","v":""},{"$f":"IFERROR(RANK(Ordenada!J88,Ordenada!J$5:J$203,0),\"\")","v":""},{"$f":"IFERROR(RANK(Ordenada!K88,Ordenada!K$5:K$203,0),\"\")","v":""},{"$f":"IFERROR(RANK(Ordenada!L88,Ordenada!L$5:L$203,0),\"\")","v":""},{"$f":"IFERROR(RANK(Ordenada!M88,Ordenada!M$5:M$203,0),\"\")","v":""},{"$f":"IFERROR(RANK(Ordenada!N88,Ordenada!N$5:N$203,0),\"\")","v":""},{"$f":"IFERROR(RANK(Ordenada!O88,Ordenada!O$5:O$203,0),\"\")","v":""},{"$f":"IFERROR(RANK(Ordenada!P88,Ordenada!P$5:P$203,0),\"\")","v":""},{"$f":"IFERROR(RANK(Ordenada!Q88,Ordenada!Q$5:Q$203,0),\"\")","v":""},{"$f":"IFERROR(RANK(Ordenada!O88,Ordenada!O$5:O$203,0),\"\")","v":""},{"$f":"IFERROR(RANK(Ordenada!S88,Ordenada!S$5:S$203,0),\"\")","v":""},{"$f":"IFERROR(RANK(Ordenada!T88,Ordenada!T$5:T$203,0),\"\")","v":""},{"$f":"IFERROR(RANK(Ordenada!U88,Ordenada!U$5:U$203,0),\"\")","v":""},{"$f":"IFERROR(RANK(Ordenada!V88,Ordenada!V$5:V$203,0),\"\")","v":""},{"$f":"IFERROR(RANK(Ordenada!W88,Ordenada!W$5:W$203,1),\"\")","v":""}]
[{"$f":"IF(Propostas!$C96=\"\",\"\",ROW(85:85))","v":""},{"$f":"IF(Propostas!$C96=\"\",\"\",VLOOKUP($A88,Pontuação!$A$5:$V$203,COLUMN(B:B),0))","v":""},{"$f":"IFERROR(RANK(Ordenada!C89,Ordenada!C$5:C$203,0),\"\")","v":""},{"$f":"IFERROR(RANK(Ordenada!D89,Ordenada!D$5:D$203,0),\"\")","v":""},{"$f":"IFERROR(RANK(Ordenada!E89,Ordenada!E$5:E$203,0),\"\")","v":""},{"$f":"IFERROR(RANK(Ordenada!F89,Ordenada!F$5:F$203,0),\"\")","v":""},{"$f":"IFERROR(RANK(Ordenada!G89,Ordenada!G$5:G$203,0),\"\")","v":""},{"$f":"IFERROR(RANK(Ordenada!H89,Ordenada!H$5:H$203,0),\"\")","v":""},{"$f":"IFERROR(RANK(Ordenada!I89,Ordenada!I$5:I$203,0),\"\")","v":""},{"$f":"IFERROR(RANK(Ordenada!J89,Ordenada!J$5:J$203,0),\"\")","v":""},{"$f":"IFERROR(RANK(Ordenada!K89,Ordenada!K$5:K$203,0),\"\")","v":""},{"$f":"IFERROR(RANK(Ordenada!L89,Ordenada!L$5:L$203,0),\"\")","v":""},{"$f":"IFERROR(RANK(Ordenada!M89,Ordenada!M$5:M$203,0),\"\")","v":""},{"$f":"IFERROR(RANK(Ordenada!N89,Ordenada!N$5:N$203,0),\"\")","v":""},{"$f":"IFERROR(RANK(Ordenada!O89,Ordenada!O$5:O$203,0),\"\")","v":""},{"$f":"IFERROR(RANK(Ordenada!P89,Ordenada!P$5:P$203,0),\"\")","v":""},{"$f":"IFERROR(RANK(Ordenada!Q89,Ordenada!Q$5:Q$203,0),\"\")","v":""},{"$f":"IFERROR(RANK(Ordenada!O89,Ordenada!O$5:O$203,0),\"\")","v":""},{"$f":"IFERROR(RANK(Ordenada!S89,Ordenada!S$5:S$203,0),\"\")","v":""},{"$f":"IFERROR(RANK(Ordenada!T89,Ordenada!T$5:T$203,0),\"\")","v":""},{"$f":"IFERROR(RANK(Ordenada!U89,Ordenada!U$5:U$203,0),\"\")","v":""},{"$f":"IFERROR(RANK(Ordenada!V89,Ordenada!V$5:V$203,0),\"\")","v":""},{"$f":"IFERROR(RANK(Ordenada!W89,Ordenada!W$5:W$203,1),\"\")","v":""}]
[{"$f":"IF(Propostas!$C97=\"\",\"\",ROW(86:86))","v":""},{"$f":"IF(Propostas!$C97=\"\",\"\",VLOOKUP($A89,Pontuação!$A$5:$V$203,COLUMN(B:B),0))","v":""},{"$f":"IFERROR(RANK(Ordenada!C90,Ordenada!C$5:C$203,0),\"\")","v":""},{"$f":"IFERROR(RANK(Ordenada!D90,Ordenada!D$5:D$203,0),\"\")","v":""},{"$f":"IFERROR(RANK(Ordenada!E90,Ordenada!E$5:E$203,0),\"\")","v":""},{"$f":"IFERROR(RANK(Ordenada!F90,Ordenada!F$5:F$203,0),\"\")","v":""},{"$f":"IFERROR(RANK(Ordenada!G90,Ordenada!G$5:G$203,0),\"\")","v":""},{"$f":"IFERROR(RANK(Ordenada!H90,Ordenada!H$5:H$203,0),\"\")","v":""},{"$f":"IFERROR(RANK(Ordenada!I90,Ordenada!I$5:I$203,0),\"\")","v":""},{"$f":"IFERROR(RANK(Ordenada!J90,Ordenada!J$5:J$203,0),\"\")","v":""},{"$f":"IFERROR(RANK(Ordenada!K90,Ordenada!K$5:K$203,0),\"\")","v":""},{"$f":"IFERROR(RANK(Ordenada!L90,Ordenada!L$5:L$203,0),\"\")","v":""},{"$f":"IFERROR(RANK(Ordenada!M90,Ordenada!M$5:M$203,0),\"\")","v":""},{"$f":"IFERROR(RANK(Ordenada!N90,Ordenada!N$5:N$203,0),\"\")","v":""},{"$f":"IFERROR(RANK(Ordenada!O90,Ordenada!O$5:O$203,0),\"\")","v":""},{"$f":"IFERROR(RANK(Ordenada!P90,Ordenada!P$5:P$203,0),\"\")","v":""},{"$f":"IFERROR(RANK(Ordenada!Q90,Ordenada!Q$5:Q$203,0),\"\")","v":""},{"$f":"IFERROR(RANK(Ordenada!O90,Ordenada!O$5:O$203,0),\"\")","v":""},{"$f":"IFERROR(RANK(Ordenada!S90,Ordenada!S$5:S$203,0),\"\")","v":""},{"$f":"IFERROR(RANK(Ordenada!T90,Ordenada!T$5:T$203,0),\"\")","v":""},{"$f":"IFERROR(RANK(Ordenada!U90,Ordenada!U$5:U$203,0),\"\")","v":""},{"$f":"IFERROR(RANK(Ordenada!V90,Ordenada!V$5:V$203,0),\"\")","v":""},{"$f":"IFERROR(RANK(Ordenada!W90,Ordenada!W$5:W$203,1),\"\")","v":""}]
[{"$f":"IF(Propostas!$C98=\"\",\"\",ROW(87:87))","v":""},{"$f":"IF(Propostas!$C98=\"\",\"\",VLOOKUP($A90,Pontuação!$A$5:$V$203,COLUMN(B:B),0))","v":""},{"$f":"IFERROR(RANK(Ordenada!C91,Ordenada!C$5:C$203,0),\"\")","v":""},{"$f":"IFERROR(RANK(Ordenada!D91,Ordenada!D$5:D$203,0),\"\")","v":""},{"$f":"IFERROR(RANK(Ordenada!E91,Ordenada!E$5:E$203,0),\"\")","v":""},{"$f":"IFERROR(RANK(Ordenada!F91,Ordenada!F$5:F$203,0),\"\")","v":""},{"$f":"IFERROR(RANK(Ordenada!G91,Ordenada!G$5:G$203,0),\"\")","v":""},{"$f":"IFERROR(RANK(Ordenada!H91,Ordenada!H$5:H$203,0),\"\")","v":""},{"$f":"IFERROR(RANK(Ordenada!I91,Ordenada!I$5:I$203,0),\"\")","v":""},{"$f":"IFERROR(RANK(Ordenada!J91,Ordenada!J$5:J$203,0),\"\")","v":""},{"$f":"IFERROR(RANK(Ordenada!K91,Ordenada!K$5:K$203,0),\"\")","v":""},{"$f":"IFERROR(RANK(Ordenada!L91,Ordenada!L$5:L$203,0),\"\")","v":""},{"$f":"IFERROR(RANK(Ordenada!M91,Ordenada!M$5:M$203,0),\"\")","v":""},{"$f":"IFERROR(RANK(Ordenada!N91,Ordenada!N$5:N$203,0),\"\")","v":""},{"$f":"IFERROR(RANK(Ordenada!O91,Ordenada!O$5:O$203,0),\"\")","v":""},{"$f":"IFERROR(RANK(Ordenada!P91,Ordenada!P$5:P$203,0),\"\")","v":""},{"$f":"IFERROR(RANK(Ordenada!Q91,Ordenada!Q$5:Q$203,0),\"\")","v":""},{"$f":"IFERROR(RANK(Ordenada!O91,Ordenada!O$5:O$203,0),\"\")","v":""},{"$f":"IFERROR(RANK(Ordenada!S91,Ordenada!S$5:S$203,0),\"\")","v":""},{"$f":"IFERROR(RANK(Ordenada!T91,Ordenada!T$5:T$203,0),\"\")","v":""},{"$f":"IFERROR(RANK(Ordenada!U91,Ordenada!U$5:U$203,0),\"\")","v":""},{"$f":"IFERROR(RANK(Ordenada!V91,Ordenada!V$5:V$203,0),\"\")","v":""},{"$f":"IFERROR(RANK(Ordenada!W91,Ordenada!W$5:W$203,1),\"\")","v":""}]
[{"$f":"IF(Propostas!$C99=\"\",\"\",ROW(88:88))","v":""},{"$f":"IF(Propostas!$C99=\"\",\"\",VLOOKUP($A91,Pontuação!$A$5:$V$203,COLUMN(B:B),0))","v":""},{"$f":"IFERROR(RANK(Ordenada!C92,Ordenada!C$5:C$203,0),\"\")","v":""},{"$f":"IFERROR(RANK(Ordenada!D92,Ordenada!D$5:D$203,0),\"\")","v":""},{"$f":"IFERROR(RANK(Ordenada!E92,Ordenada!E$5:E$203,0),\"\")","v":""},{"$f":"IFERROR(RANK(Ordenada!F92,Ordenada!F$5:F$203,0),\"\")","v":""},{"$f":"IFERROR(RANK(Ordenada!G92,Ordenada!G$5:G$203,0),\"\")","v":""},{"$f":"IFERROR(RANK(Ordenada!H92,Ordenada!H$5:H$203,0),\"\")","v":""},{"$f":"IFERROR(RANK(Ordenada!I92,Ordenada!I$5:I$203,0),\"\")","v":""},{"$f":"IFERROR(RANK(Ordenada!J92,Ordenada!J$5:J$203,0),\"\")","v":""},{"$f":"IFERROR(RANK(Ordenada!K92,Ordenada!K$5:K$203,0),\"\")","v":""},{"$f":"IFERROR(RANK(Ordenada!L92,Ordenada!L$5:L$203,0),\"\")","v":""},{"$f":"IFERROR(RANK(Ordenada!M92,Ordenada!M$5:M$203,0),\"\")","v":""},{"$f":"IFERROR(RANK(Ordenada!N92,Ordenada!N$5:N$203,0),\"\")","v":""},{"$f":"IFERROR(RANK(Ordenada!O92,Ordenada!O$5:O$203,0),\"\")","v":""},{"$f":"IFERROR(RANK(Ordenada!P92,Ordenada!P$5:P$203,0),\"\")","v":""},{"$f":"IFERROR(RANK(Ordenada!Q92,Ordenada!Q$5:Q$203,0),\"\")","v":""},{"$f":"IFERROR(RANK(Ordenada!O92,Ordenada!O$5:O$203,0),\"\")","v":""},{"$f":"IFERROR(RANK(Ordenada!S92,Ordenada!S$5:S$203,0),\"\")","v":""},{"$f":"IFERROR(RANK(Ordenada!T92,Ordenada!T$5:T$203,0),\"\")","v":""},{"$f":"IFERROR(RANK(Ordenada!U92,Ordenada!U$5:U$203,0),\"\")","v":""},{"$f":"IFERROR(RANK(Ordenada!V92,Ordenada!V$5:V$203,0),\"\")","v":""},{"$f":"IFERROR(RANK(Ordenada!W92,Ordenada!W$5:W$203,1),\"\")","v":""}]
[{"$f":"IF(Propostas!$C100=\"\",\"\",ROW(89:89))","v":""},{"$f":"IF(Propostas!$C100=\"\",\"\",VLOOKUP($A92,Pontuação!$A$5:$V$203,COLUMN(B:B),0))","v":""},{"$f":"IFERROR(RANK(Ordenada!C93,Ordenada!C$5:C$203,0),\"\")","v":""},{"$f":"IFERROR(RANK(Ordenada!D93,Ordenada!D$5:D$203,0),\"\")","v":""},{"$f":"IFERROR(RANK(Ordenada!E93,Ordenada!E$5:E$203,0),\"\")","v":""},{"$f":"IFERROR(RANK(Ordenada!F93,Ordenada!F$5:F$203,0),\"\")","v":""},{"$f":"IFERROR(RANK(Ordenada!G93,Ordenada!G$5:G$203,0),\"\")","v":""},{"$f":"IFERROR(RANK(Ordenada!H93,Ordenada!H$5:H$203,0),\"\")","v":""},{"$f":"IFERROR(RANK(Ordenada!I93,Ordenada!I$5:I$203,0),\"\")","v":""},{"$f":"IFERROR(RANK(Ordenada!J93,Ordenada!J$5:J$203,0),\"\")","v":""},{"$f":"IFERROR(RANK(Ordenada!K93,Ordenada!K$5:K$203,0),\"\")","v":""},{"$f":"IFERROR(RANK(Ordenada!L93,Ordenada!L$5:L$203,0),\"\")","v":""},{"$f":"IFERROR(RANK(Ordenada!M93,Ordenada!M$5:M$203,0),\"\")","v":""},{"$f":"IFERROR(RANK(Ordenada!N93,Ordenada!N$5:N$203,0),\"\")","v":""},{"$f":"IFERROR(RANK(Ordenada!O93,Ordenada!O$5:O$203,0),\"\")","v":""},{"$f":"IFERROR(RANK(Ordenada!P93,Ordenada!P$5:P$203,0),\"\")","v":""},{"$f":"IFERROR(RANK(Ordenada!Q93,Ordenada!Q$5:Q$203,0),\"\")","v":""},{"$f":"IFERROR(RANK(Ordenada!O93,Ordenada!O$5:O$203,0),\"\")","v":""},{"$f":"IFERROR(RANK(Ordenada!S93,Ordenada!S$5:S$203,0),\"\")","v":""},{"$f":"IFERROR(RANK(Ordenada!T93,Ordenada!T$5:T$203,0),\"\")","v":""},{"$f":"IFERROR(RANK(Ordenada!U93,Ordenada!U$5:U$203,0),\"\")","v":""},{"$f":"IFERROR(RANK(Ordenada!V93,Ordenada!V$5:V$203,0),\"\")","v":""},{"$f":"IFERROR(RANK(Ordenada!W93,Ordenada!W$5:W$203,1),\"\")","v":""}]
[{"$f":"IF(Propostas!$C101=\"\",\"\",ROW(90:90))","v":""},{"$f":"IF(Propostas!$C101=\"\",\"\",VLOOKUP($A93,Pontuação!$A$5:$V$203,COLUMN(B:B),0))","v":""},{"$f":"IFERROR(RANK(Ordenada!C94,Ordenada!C$5:C$203,0),\"\")","v":""},{"$f":"IFERROR(RANK(Ordenada!D94,Ordenada!D$5:D$203,0),\"\")","v":""},{"$f":"IFERROR(RANK(Ordenada!E94,Ordenada!E$5:E$203,0),\"\")","v":""},{"$f":"IFERROR(RANK(Ordenada!F94,Ordenada!F$5:F$203,0),\"\")","v":""},{"$f":"IFERROR(RANK(Ordenada!G94,Ordenada!G$5:G$203,0),\"\")","v":""},{"$f":"IFERROR(RANK(Ordenada!H94,Ordenada!H$5:H$203,0),\"\")","v":""},{"$f":"IFERROR(RANK(Ordenada!I94,Ordenada!I$5:I$203,0),\"\")","v":""},{"$f":"IFERROR(RANK(Ordenada!J94,Ordenada!J$5:J$203,0),\"\")","v":""},{"$f":"IFERROR(RANK(Ordenada!K94,Ordenada!K$5:K$203,0),\"\")","v":""},{"$f":"IFERROR(RANK(Ordenada!L94,Ordenada!L$5:L$203,0),\"\")","v":""},{"$f":"IFERROR(RANK(Ordenada!M94,Ordenada!M$5:M$203,0),\"\")","v":""},{"$f":"IFERROR(RANK(Ordenada!N94,Ordenada!N$5:N$203,0),\"\")","v":""},{"$f":"IFERROR(RANK(Ordenada!O94,Ordenada!O$5:O$203,0),\"\")","v":""},{"$f":"IFERROR(RANK(Ordenada!P94,Ordenada!P$5:P$203,0),\"\")","v":""},{"$f":"IFERROR(RANK(Ordenada!Q94,Ordenada!Q$5:Q$203,0),\"\")","v":""},{"$f":"IFERROR(RANK(Ordenada!O94,Ordenada!O$5:O$203,0),\"\")","v":""},{"$f":"IFERROR(RANK(Ordenada!S94,Ordenada!S$5:S$203,0),\"\")","v":""},{"$f":"IFERROR(RANK(Ordenada!T94,Ordenada!T$5:T$203,0),\"\")","v":""},{"$f":"IFERROR(RANK(Ordenada!U94,Ordenada!U$5:U$203,0),\"\")","v":""},{"$f":"IFERROR(RANK(Ordenada!V94,Ordenada!V$5:V$203,0),\"\")","v":""},{"$f":"IFERROR(RANK(Ordenada!W94,Ordenada!W$5:W$203,1),\"\")","v":""}]
[{"$f":"IF(Propostas!$C102=\"\",\"\",ROW(91:91))","v":""},{"$f":"IF(Propostas!$C102=\"\",\"\",VLOOKUP($A94,Pontuação!$A$5:$V$203,COLUMN(B:B),0))","v":""},{"$f":"IFERROR(RANK(Ordenada!C95,Ordenada!C$5:C$203,0),\"\")","v":""},{"$f":"IFERROR(RANK(Ordenada!D95,Ordenada!D$5:D$203,0),\"\")","v":""},{"$f":"IFERROR(RANK(Ordenada!E95,Ordenada!E$5:E$203,0),\"\")","v":""},{"$f":"IFERROR(RANK(Ordenada!F95,Ordenada!F$5:F$203,0),\"\")","v":""},{"$f":"IFERROR(RANK(Ordenada!G95,Ordenada!G$5:G$203,0),\"\")","v":""},{"$f":"IFERROR(RANK(Ordenada!H95,Ordenada!H$5:H$203,0),\"\")","v":""},{"$f":"IFERROR(RANK(Ordenada!I95,Ordenada!I$5:I$203,0),\"\")","v":""},{"$f":"IFERROR(RANK(Ordenada!J95,Ordenada!J$5:J$203,0),\"\")","v":""},{"$f":"IFERROR(RANK(Ordenada!K95,Ordenada!K$5:K$203,0),\"\")","v":""},{"$f":"IFERROR(RANK(Ordenada!L95,Ordenada!L$5:L$203,0),\"\")","v":""},{"$f":"IFERROR(RANK(Ordenada!M95,Ordenada!M$5:M$203,0),\"\")","v":""},{"$f":"IFERROR(RANK(Ordenada!N95,Ordenada!N$5:N$203,0),\"\")","v":""},{"$f":"IFERROR(RANK(Ordenada!O95,Ordenada!O$5:O$203,0),\"\")","v":""},{"$f":"IFERROR(RANK(Ordenada!P95,Ordenada!P$5:P$203,0),\"\")","v":""},{"$f":"IFERROR(RANK(Ordenada!Q95,Ordenada!Q$5:Q$203,0),\"\")","v":""},{"$f":"IFERROR(RANK(Ordenada!O95,Ordenada!O$5:O$203,0),\"\")","v":""},{"$f":"IFERROR(RANK(Ordenada!S95,Ordenada!S$5:S$203,0),\"\")","v":""},{"$f":"IFERROR(RANK(Ordenada!T95,Ordenada!T$5:T$203,0),\"\")","v":""},{"$f":"IFERROR(RANK(Ordenada!U95,Ordenada!U$5:U$203,0),\"\")","v":""},{"$f":"IFERROR(RANK(Ordenada!V95,Ordenada!V$5:V$203,0),\"\")","v":""},{"$f":"IFERROR(RANK(Ordenada!W95,Ordenada!W$5:W$203,1),\"\")","v":""}]
[{"$f":"IF(Propostas!$C103=\"\",\"\",ROW(92:92))","v":""},{"$f":"IF(Propostas!$C103=\"\",\"\",VLOOKUP($A95,Pontuação!$A$5:$V$203,COLUMN(B:B),0))","v":""},{"$f":"IFERROR(RANK(Ordenada!C96,Ordenada!C$5:C$203,0),\"\")","v":""},{"$f":"IFERROR(RANK(Ordenada!D96,Ordenada!D$5:D$203,0),\"\")","v":""},{"$f":"IFERROR(RANK(Ordenada!E96,Ordenada!E$5:E$203,0),\"\")","v":""},{"$f":"IFERROR(RANK(Ordenada!F96,Ordenada!F$5:F$203,0),\"\")","v":""},{"$f":"IFERROR(RANK(Ordenada!G96,Ordenada!G$5:G$203,0),\"\")","v":""},{"$f":"IFERROR(RANK(Ordenada!H96,Ordenada!H$5:H$203,0),\"\")","v":""},{"$f":"IFERROR(RANK(Ordenada!I96,Ordenada!I$5:I$203,0),\"\")","v":""},{"$f":"IFERROR(RANK(Ordenada!J96,Ordenada!J$5:J$203,0),\"\")","v":""},{"$f":"IFERROR(RANK(Ordenada!K96,Ordenada!K$5:K$203,0),\"\")","v":""},{"$f":"IFERROR(RANK(Ordenada!L96,Ordenada!L$5:L$203,0),\"\")","v":""},{"$f":"IFERROR(RANK(Ordenada!M96,Ordenada!M$5:M$203,0),\"\")","v":""},{"$f":"IFERROR(RANK(Ordenada!N96,Ordenada!N$5:N$203,0),\"\")","v":""},{"$f":"IFERROR(RANK(Ordenada!O96,Ordenada!O$5:O$203,0),\"\")","v":""},{"$f":"IFERROR(RANK(Ordenada!P96,Ordenada!P$5:P$203,0),\"\")","v":""},{"$f":"IFERROR(RANK(Ordenada!Q96,Ordenada!Q$5:Q$203,0),\"\")","v":""},{"$f":"IFERROR(RANK(Ordenada!O96,Ordenada!O$5:O$203,0),\"\")","v":""},{"$f":"IFERROR(RANK(Ordenada!S96,Ordenada!S$5:S$203,0),\"\")","v":""},{"$f":"IFERROR(RANK(Ordenada!T96,Ordenada!T$5:T$203,0),\"\")","v":""},{"$f":"IFERROR(RANK(Ordenada!U96,Ordenada!U$5:U$203,0),\"\")","v":""},{"$f":"IFERROR(RANK(Ordenada!V96,Ordenada!V$5:V$203,0),\"\")","v":""},{"$f":"IFERROR(RANK(Ordenada!W96,Ordenada!W$5:W$203,1),\"\")","v":""}]
[{"$f":"IF(Propostas!$C104=\"\",\"\",ROW(93:93))","v":""},{"$f":"IF(Propostas!$C104=\"\",\"\",VLOOKUP($A96,Pontuação!$A$5:$V$203,COLUMN(B:B),0))","v":""},{"$f":"IFERROR(RANK(Ordenada!C97,Ordenada!C$5:C$203,0),\"\")","v":""},{"$f":"IFERROR(RANK(Ordenada!D97,Ordenada!D$5:D$203,0),\"\")","v":""},{"$f":"IFERROR(RANK(Ordenada!E97,Ordenada!E$5:E$203,0),\"\")","v":""},{"$f":"IFERROR(RANK(Ordenada!F97,Ordenada!F$5:F$203,0),\"\")","v":""},{"$f":"IFERROR(RANK(Ordenada!G97,Ordenada!G$5:G$203,0),\"\")","v":""},{"$f":"IFERROR(RANK(Ordenada!H97,Ordenada!H$5:H$203,0),\"\")","v":""},{"$f":"IFERROR(RANK(Ordenada!I97,Ordenada!I$5:I$203,0),\"\")","v":""},{"$f":"IFERROR(RANK(Ordenada!J97,Ordenada!J$5:J$203,0),\"\")","v":""},{"$f":"IFERROR(RANK(Ordenada!K97,Ordenada!K$5:K$203,0),\"\")","v":""},{"$f":"IFERROR(RANK(Ordenada!L97,Ordenada!L$5:L$203,0),\"\")","v":""},{"$f":"IFERROR(RANK(Ordenada!M97,Ordenada!M$5:M$203,0),\"\")","v":""},{"$f":"IFERROR(RANK(Ordenada!N97,Ordenada!N$5:N$203,0),\"\")","v":""},{"$f":"IFERROR(RANK(Ordenada!O97,Ordenada!O$5:O$203,0),\"\")","v":""},{"$f":"IFERROR(RANK(Ordenada!P97,Ordenada!P$5:P$203,0),\"\")","v":""},{"$f":"IFERROR(RANK(Ordenada!Q97,Ordenada!Q$5:Q$203,0),\"\")","v":""},{"$f":"IFERROR(RANK(Ordenada!O97,Ordenada!O$5:O$203,0),\"\")","v":""},{"$f":"IFERROR(RANK(Ordenada!S97,Ordenada!S$5:S$203,0),\"\")","v":""},{"$f":"IFERROR(RANK(Ordenada!T97,Ordenada!T$5:T$203,0),\"\")","v":""},{"$f":"IFERROR(RANK(Ordenada!U97,Ordenada!U$5:U$203,0),\"\")","v":""},{"$f":"IFERROR(RANK(Ordenada!V97,Ordenada!V$5:V$203,0),\"\")","v":""},{"$f":"IFERROR(RANK(Ordenada!W97,Ordenada!W$5:W$203,1),\"\")","v":""}]
[{"$f":"IF(Propostas!$C105=\"\",\"\",ROW(94:94))","v":""},{"$f":"IF(Propostas!$C105=\"\",\"\",VLOOKUP($A97,Pontuação!$A$5:$V$203,COLUMN(B:B),0))","v":""},{"$f":"IFERROR(RANK(Ordenada!C98,Ordenada!C$5:C$203,0),\"\")","v":""},{"$f":"IFERROR(RANK(Ordenada!D98,Ordenada!D$5:D$203,0),\"\")","v":""},{"$f":"IFERROR(RANK(Ordenada!E98,Ordenada!E$5:E$203,0),\"\")","v":""},{"$f":"IFERROR(RANK(Ordenada!F98,Ordenada!F$5:F$203,0),\"\")","v":""},{"$f":"IFERROR(RANK(Ordenada!G98,Ordenada!G$5:G$203,0),\"\")","v":""},{"$f":"IFERROR(RANK(Ordenada!H98,Ordenada!H$5:H$203,0),\"\")","v":""},{"$f":"IFERROR(RANK(Ordenada!I98,Ordenada!I$5:I$203,0),\"\")","v":""},{"$f":"IFERROR(RANK(Ordenada!J98,Ordenada!J$5:J$203,0),\"\")","v":""},{"$f":"IFERROR(RANK(Ordenada!K98,Ordenada!K$5:K$203,0),\"\")","v":""},{"$f":"IFERROR(RANK(Ordenada!L98,Ordenada!L$5:L$203,0),\"\")","v":""},{"$f":"IFERROR(RANK(Ordenada!M98,Ordenada!M$5:M$203,0),\"\")","v":""},{"$f":"IFERROR(RANK(Ordenada!N98,Ordenada!N$5:N$203,0),\"\")","v":""},{"$f":"IFERROR(RANK(Ordenada!O98,Ordenada!O$5:O$203,0),\"\")","v":""},{"$f":"IFERROR(RANK(Ordenada!P98,Ordenada!P$5:P$203,0),\"\")","v":""},{"$f":"IFERROR(RANK(Ordenada!Q98,Ordenada!Q$5:Q$203,0),\"\")","v":""},{"$f":"IFERROR(RANK(Ordenada!O98,Ordenada!O$5:O$203,0),\"\")","v":""},{"$f":"IFERROR(RANK(Ordenada!S98,Ordenada!S$5:S$203,0),\"\")","v":""},{"$f":"IFERROR(RANK(Ordenada!T98,Ordenada!T$5:T$203,0),\"\")","v":""},{"$f":"IFERROR(RANK(Ordenada!U98,Ordenada!U$5:U$203,0),\"\")","v":""},{"$f":"IFERROR(RANK(Ordenada!V98,Ordenada!V$5:V$203,0),\"\")","v":""},{"$f":"IFERROR(RANK(Ordenada!W98,Ordenada!W$5:W$203,1),\"\")","v":""}]
[{"$f":"IF(Propostas!$C106=\"\",\"\",ROW(95:95))","v":""},{"$f":"IF(Propostas!$C106=\"\",\"\",VLOOKUP($A98,Pontuação!$A$5:$V$203,COLUMN(B:B),0))","v":""},{"$f":"IFERROR(RANK(Ordenada!C99,Ordenada!C$5:C$203,0),\"\")","v":""},{"$f":"IFERROR(RANK(Ordenada!D99,Ordenada!D$5:D$203,0),\"\")","v":""},{"$f":"IFERROR(RANK(Ordenada!E99,Ordenada!E$5:E$203,0),\"\")","v":""},{"$f":"IFERROR(RANK(Ordenada!F99,Ordenada!F$5:F$203,0),\"\")","v":""},{"$f":"IFERROR(RANK(Ordenada!G99,Ordenada!G$5:G$203,0),\"\")","v":""},{"$f":"IFERROR(RANK(Ordenada!H99,Ordenada!H$5:H$203,0),\"\")","v":""},{"$f":"IFERROR(RANK(Ordenada!I99,Ordenada!I$5:I$203,0),\"\")","v":""},{"$f":"IFERROR(RANK(Ordenada!J99,Ordenada!J$5:J$203,0),\"\")","v":""},{"$f":"IFERROR(RANK(Ordenada!K99,Ordenada!K$5:K$203,0),\"\")","v":""},{"$f":"IFERROR(RANK(Ordenada!L99,Ordenada!L$5:L$203,0),\"\")","v":""},{"$f":"IFERROR(RANK(Ordenada!M99,Ordenada!M$5:M$203,0),\"\")","v":""},{"$f":"IFERROR(RANK(Ordenada!N99,Ordenada!N$5:N$203,0),\"\")","v":""},{"$f":"IFERROR(RANK(Ordenada!O99,Ordenada!O$5:O$203,0),\"\")","v":""},{"$f":"IFERROR(RANK(Ordenada!P99,Ordenada!P$5:P$203,0),\"\")","v":""},{"$f":"IFERROR(RANK(Ordenada!Q99,Ordenada!Q$5:Q$203,0),\"\")","v":""},{"$f":"IFERROR(RANK(Ordenada!O99,Ordenada!O$5:O$203,0),\"\")","v":""},{"$f":"IFERROR(RANK(Ordenada!S99,Ordenada!S$5:S$203,0),\"\")","v":""},{"$f":"IFERROR(RANK(Ordenada!T99,Ordenada!T$5:T$203,0),\"\")","v":""},{"$f":"IFERROR(RANK(Ordenada!U99,Ordenada!U$5:U$203,0),\"\")","v":""},{"$f":"IFERROR(RANK(Ordenada!V99,Ordenada!V$5:V$203,0),\"\")","v":""},{"$f":"IFERROR(RANK(Ordenada!W99,Ordenada!W$5:W$203,1),\"\")","v":""}]
[{"$f":"IF(Propostas!$C107=\"\",\"\",ROW(96:96))","v":""},{"$f":"IF(Propostas!$C107=\"\",\"\",VLOOKUP($A99,Pontuação!$A$5:$V$203,COLUMN(B:B),0))","v":""},{"$f":"IFERROR(RANK(Ordenada!C100,Ordenada!C$5:C$203,0),\"\")","v":""},{"$f":"IFERROR(RANK(Ordenada!D100,Ordenada!D$5:D$203,0),\"\")","v":""},{"$f":"IFERROR(RANK(Ordenada!E100,Ordenada!E$5:E$203,0),\"\")","v":""},{"$f":"IFERROR(RANK(Ordenada!F100,Ordenada!F$5:F$203,0),\"\")","v":""},{"$f":"IFERROR(RANK(Ordenada!G100,Ordenada!G$5:G$203,0),\"\")","v":""},{"$f":"IFERROR(RANK(Ordenada!H100,Ordenada!H$5:H$203,0),\"\")","v":""},{"$f":"IFERROR(RANK(Ordenada!I100,Ordenada!I$5:I$203,0),\"\")","v":""},{"$f":"IFERROR(RANK(Ordenada!J100,Ordenada!J$5:J$203,0),\"\")","v":""},{"$f":"IFERROR(RANK(Ordenada!K100,Ordenada!K$5:K$203,0),\"\")","v":""},{"$f":"IFERROR(RANK(Ordenada!L100,Ordenada!L$5:L$203,0),\"\")","v":""},{"$f":"IFERROR(RANK(Ordenada!M100,Ordenada!M$5:M$203,0),\"\")","v":""},{"$f":"IFERROR(RANK(Ordenada!N100,Ordenada!N$5:N$203,0),\"\")","v":""},{"$f":"IFERROR(RANK(Ordenada!O100,Ordenada!O$5:O$203,0),\"\")","v":""},{"$f":"IFERROR(RANK(Ordenada!P100,Ordenada!P$5:P$203,0),\"\")","v":""},{"$f":"IFERROR(RANK(Ordenada!Q100,Ordenada!Q$5:Q$203,0),\"\")","v":""},{"$f":"IFERROR(RANK(Ordenada!O100,Ordenada!O$5:O$203,0),\"\")","v":""},{"$f":"IFERROR(RANK(Ordenada!S100,Ordenada!S$5:S$203,0),\"\")","v":""},{"$f":"IFERROR(RANK(Ordenada!T100,Ordenada!T$5:T$203,0),\"\")","v":""},{"$f":"IFERROR(RANK(Ordenada!U100,Ordenada!U$5:U$203,0),\"\")","v":""},{"$f":"IFERROR(RANK(Ordenada!V100,Ordenada!V$5:V$203,0),\"\")","v":""},{"$f":"IFERROR(RANK(Ordenada!W100,Ordenada!W$5:W$203,1),\"\")","v":""}]
[{"$f":"IF(Propostas!$C108=\"\",\"\",ROW(97:97))","v":""},{"$f":"IF(Propostas!$C108=\"\",\"\",VLOOKUP($A100,Pontuação!$A$5:$V$203,COLUMN(B:B),0))","v":""},{"$f":"IFERROR(RANK(Ordenada!C101,Ordenada!C$5:C$203,0),\"\")","v":""},{"$f":"IFERROR(RANK(Ordenada!D101,Ordenada!D$5:D$203,0),\"\")","v":""},{"$f":"IFERROR(RANK(Ordenada!E101,Ordenada!E$5:E$203,0),\"\")","v":""},{"$f":"IFERROR(RANK(Ordenada!F101,Ordenada!F$5:F$203,0),\"\")","v":""},{"$f":"IFERROR(RANK(Ordenada!G101,Ordenada!G$5:G$203,0),\"\")","v":""},{"$f":"IFERROR(RANK(Ordenada!H101,Ordenada!H$5:H$203,0),\"\")","v":""},{"$f":"IFERROR(RANK(Ordenada!I101,Ordenada!I$5:I$203,0),\"\")","v":""},{"$f":"IFERROR(RANK(Ordenada!J101,Ordenada!J$5:J$203,0),\"\")","v":""},{"$f":"IFERROR(RANK(Ordenada!K101,Ordenada!K$5:K$203,0),\"\")","v":""},{"$f":"IFERROR(RANK(Ordenada!L101,Ordenada!L$5:L$203,0),\"\")","v":""},{"$f":"IFERROR(RANK(Ordenada!M101,Ordenada!M$5:M$203,0),\"\")","v":""},{"$f":"IFERROR(RANK(Ordenada!N101,Ordenada!N$5:N$203,0),\"\")","v":""},{"$f":"IFERROR(RANK(Ordenada!O101,Ordenada!O$5:O$203,0),\"\")","v":""},{"$f":"IFERROR(RANK(Ordenada!P101,Ordenada!P$5:P$203,0),\"\")","v":""},{"$f":"IFERROR(RANK(Ordenada!Q101,Ordenada!Q$5:Q$203,0),\"\")","v":""},{"$f":"IFERROR(RANK(Ordenada!O101,Ordenada!O$5:O$203,0),\"\")","v":""},{"$f":"IFERROR(RANK(Ordenada!S101,Ordenada!S$5:S$203,0),\"\")","v":""},{"$f":"IFERROR(RANK(Ordenada!T101,Ordenada!T$5:T$203,0),\"\")","v":""},{"$f":"IFERROR(RANK(Ordenada!U101,Ordenada!U$5:U$203,0),\"\")","v":""},{"$f":"IFERROR(RANK(Ordenada!V101,Ordenada!V$5:V$203,0),\"\")","v":""},{"$f":"IFERROR(RANK(Ordenada!W101,Ordenada!W$5:W$203,1),\"\")","v":""}]
[{"$f":"IF(Propostas!$C109=\"\",\"\",ROW(98:98))","v":""},{"$f":"IF(Propostas!$C109=\"\",\"\",VLOOKUP($A101,Pontuação!$A$5:$V$203,COLUMN(B:B),0))","v":""},{"$f":"IFERROR(RANK(Ordenada!C102,Ordenada!C$5:C$203,0),\"\")","v":""},{"$f":"IFERROR(RANK(Ordenada!D102,Ordenada!D$5:D$203,0),\"\")","v":""},{"$f":"IFERROR(RANK(Ordenada!E102,Ordenada!E$5:E$203,0),\"\")","v":""},{"$f":"IFERROR(RANK(Ordenada!F102,Ordenada!F$5:F$203,0),\"\")","v":""},{"$f":"IFERROR(RANK(Ordenada!G102,Ordenada!G$5:G$203,0),\"\")","v":""},{"$f":"IFERROR(RANK(Ordenada!H102,Ordenada!H$5:H$203,0),\"\")","v":""},{"$f":"IFERROR(RANK(Ordenada!I102,Ordenada!I$5:I$203,0),\"\")","v":""},{"$f":"IFERROR(RANK(Ordenada!J102,Ordenada!J$5:J$203,0),\"\")","v":""},{"$f":"IFERROR(RANK(Ordenada!K102,Ordenada!K$5:K$203,0),\"\")","v":""},{"$f":"IFERROR(RANK(Ordenada!L102,Ordenada!L$5:L$203,0),\"\")","v":""},{"$f":"IFERROR(RANK(Ordenada!M102,Ordenada!M$5:M$203,0),\"\")","v":""},{"$f":"IFERROR(RANK(Ordenada!N102,Ordenada!N$5:N$203,0),\"\")","v":""},{"$f":"IFERROR(RANK(Ordenada!O102,Ordenada!O$5:O$203,0),\"\")","v":""},{"$f":"IFERROR(RANK(Ordenada!P102,Ordenada!P$5:P$203,0),\"\")","v":""},{"$f":"IFERROR(RANK(Ordenada!Q102,Ordenada!Q$5:Q$203,0),\"\")","v":""},{"$f":"IFERROR(RANK(Ordenada!O102,Ordenada!O$5:O$203,0),\"\")","v":""},{"$f":"IFERROR(RANK(Ordenada!S102,Ordenada!S$5:S$203,0),\"\")","v":""},{"$f":"IFERROR(RANK(Ordenada!T102,Ordenada!T$5:T$203,0),\"\")","v":""},{"$f":"IFERROR(RANK(Ordenada!U102,Ordenada!U$5:U$203,0),\"\")","v":""},{"$f":"IFERROR(RANK(Ordenada!V102,Ordenada!V$5:V$203,0),\"\")","v":""},{"$f":"IFERROR(RANK(Ordenada!W102,Ordenada!W$5:W$203,1),\"\")","v":""}]
[{"$f":"IF(Propostas!$C110=\"\",\"\",ROW(99:99))","v":""},{"$f":"IF(Propostas!$C110=\"\",\"\",VLOOKUP($A102,Pontuação!$A$5:$V$203,COLUMN(B:B),0))","v":""},{"$f":"IFERROR(RANK(Ordenada!C103,Ordenada!C$5:C$203,0),\"\")","v":""},{"$f":"IFERROR(RANK(Ordenada!D103,Ordenada!D$5:D$203,0),\"\")","v":""},{"$f":"IFERROR(RANK(Ordenada!E103,Ordenada!E$5:E$203,0),\"\")","v":""},{"$f":"IFERROR(RANK(Ordenada!F103,Ordenada!F$5:F$203,0),\"\")","v":""},{"$f":"IFERROR(RANK(Ordenada!G103,Ordenada!G$5:G$203,0),\"\")","v":""},{"$f":"IFERROR(RANK(Ordenada!H103,Ordenada!H$5:H$203,0),\"\")","v":""},{"$f":"IFERROR(RANK(Ordenada!I103,Ordenada!I$5:I$203,0),\"\")","v":""},{"$f":"IFERROR(RANK(Ordenada!J103,Ordenada!J$5:J$203,0),\"\")","v":""},{"$f":"IFERROR(RANK(Ordenada!K103,Ordenada!K$5:K$203,0),\"\")","v":""},{"$f":"IFERROR(RANK(Ordenada!L103,Ordenada!L$5:L$203,0),\"\")","v":""},{"$f":"IFERROR(RANK(Ordenada!M103,Ordenada!M$5:M$203,0),\"\")","v":""},{"$f":"IFERROR(RANK(Ordenada!N103,Ordenada!N$5:N$203,0),\"\")","v":""},{"$f":"IFERROR(RANK(Ordenada!O103,Ordenada!O$5:O$203,0),\"\")","v":""},{"$f":"IFERROR(RANK(Ordenada!P103,Ordenada!P$5:P$203,0),\"\")","v":""},{"$f":"IFERROR(RANK(Ordenada!Q103,Ordenada!Q$5:Q$203,0),\"\")","v":""},{"$f":"IFERROR(RANK(Ordenada!O103,Ordenada!O$5:O$203,0),\"\")","v":""},{"$f":"IFERROR(RANK(Ordenada!S103,Ordenada!S$5:S$203,0),\"\")","v":""},{"$f":"IFERROR(RANK(Ordenada!T103,Ordenada!T$5:T$203,0),\"\")","v":""},{"$f":"IFERROR(RANK(Ordenada!U103,Ordenada!U$5:U$203,0),\"\")","v":""},{"$f":"IFERROR(RANK(Ordenada!V103,Ordenada!V$5:V$203,0),\"\")","v":""},{"$f":"IFERROR(RANK(Ordenada!W103,Ordenada!W$5:W$203,1),\"\")","v":""}]
[{"$f":"IF(Propostas!$C111=\"\",\"\",ROW(100:100))","v":""},{"$f":"IF(Propostas!$C111=\"\",\"\",VLOOKUP($A103,Pontuação!$A$5:$V$203,COLUMN(B:B),0))","v":""},{"$f":"IFERROR(RANK(Ordenada!C104,Ordenada!C$5:C$203,0),\"\")","v":""},{"$f":"IFERROR(RANK(Ordenada!D104,Ordenada!D$5:D$203,0),\"\")","v":""},{"$f":"IFERROR(RANK(Ordenada!E104,Ordenada!E$5:E$203,0),\"\")","v":""},{"$f":"IFERROR(RANK(Ordenada!F104,Ordenada!F$5:F$203,0),\"\")","v":""},{"$f":"IFERROR(RANK(Ordenada!G104,Ordenada!G$5:G$203,0),\"\")","v":""},{"$f":"IFERROR(RANK(Ordenada!H104,Ordenada!H$5:H$203,0),\"\")","v":""},{"$f":"IFERROR(RANK(Ordenada!I104,Ordenada!I$5:I$203,0),\"\")","v":""},{"$f":"IFERROR(RANK(Ordenada!J104,Ordenada!J$5:J$203,0),\"\")","v":""},{"$f":"IFERROR(RANK(Ordenada!K104,Ordenada!K$5:K$203,0),\"\")","v":""},{"$f":"IFERROR(RANK(Ordenada!L104,Ordenada!L$5:L$203,0),\"\")","v":""},{"$f":"IFERROR(RANK(Ordenada!M104,Ordenada!M$5:M$203,0),\"\")","v":""},{"$f":"IFERROR(RANK(Ordenada!N104,Ordenada!N$5:N$203,0),\"\")","v":""},{"$f":"IFERROR(RANK(Ordenada!O104,Ordenada!O$5:O$203,0),\"\")","v":""},{"$f":"IFERROR(RANK(Ordenada!P104,Ordenada!P$5:P$203,0),\"\")","v":""},{"$f":"IFERROR(RANK(Ordenada!Q104,Ordenada!Q$5:Q$203,0),\"\")","v":""},{"$f":"IFERROR(RANK(Ordenada!O104,Ordenada!O$5:O$203,0),\"\")","v":""},{"$f":"IFERROR(RANK(Ordenada!S104,Ordenada!S$5:S$203,0),\"\")","v":""},{"$f":"IFERROR(RANK(Ordenada!T104,Ordenada!T$5:T$203,0),\"\")","v":""},{"$f":"IFERROR(RANK(Ordenada!U104,Ordenada!U$5:U$203,0),\"\")","v":""},{"$f":"IFERROR(RANK(Ordenada!V104,Ordenada!V$5:V$203,0),\"\")","v":""},{"$f":"IFERROR(RANK(Ordenada!W104,Ordenada!W$5:W$203,1),\"\")","v":""}]
[{"$f":"IF(Propostas!$C112=\"\",\"\",ROW(101:101))","v":""},{"$f":"IF(Propostas!$C112=\"\",\"\",VLOOKUP($A104,Pontuação!$A$5:$V$203,COLUMN(B:B),0))","v":""},{"$f":"IFERROR(RANK(Ordenada!C105,Ordenada!C$5:C$203,0),\"\")","v":""},{"$f":"IFERROR(RANK(Ordenada!D105,Ordenada!D$5:D$203,0),\"\")","v":""},{"$f":"IFERROR(RANK(Ordenada!E105,Ordenada!E$5:E$203,0),\"\")","v":""},{"$f":"IFERROR(RANK(Ordenada!F105,Ordenada!F$5:F$203,0),\"\")","v":""},{"$f":"IFERROR(RANK(Ordenada!G105,Ordenada!G$5:G$203,0),\"\")","v":""},{"$f":"IFERROR(RANK(Ordenada!H105,Ordenada!H$5:H$203,0),\"\")","v":""},{"$f":"IFERROR(RANK(Ordenada!I105,Ordenada!I$5:I$203,0),\"\")","v":""},{"$f":"IFERROR(RANK(Ordenada!J105,Ordenada!J$5:J$203,0),\"\")","v":""},{"$f":"IFERROR(RANK(Ordenada!K105,Ordenada!K$5:K$203,0),\"\")","v":""},{"$f":"IFERROR(RANK(Ordenada!L105,Ordenada!L$5:L$203,0),\"\")","v":""},{"$f":"IFERROR(RANK(Ordenada!M105,Ordenada!M$5:M$203,0),\"\")","v":""},{"$f":"IFERROR(RANK(Ordenada!N105,Ordenada!N$5:N$203,0),\"\")","v":""},{"$f":"IFERROR(RANK(Ordenada!O105,Ordenada!O$5:O$203,0),\"\")","v":""},{"$f":"IFERROR(RANK(Ordenada!P105,Ordenada!P$5:P$203,0),\"\")","v":""},{"$f":"IFERROR(RANK(Ordenada!Q105,Ordenada!Q$5:Q$203,0),\"\")","v":""},{"$f":"IFERROR(RANK(Ordenada!O105,Ordenada!O$5:O$203,0),\"\")","v":""},{"$f":"IFERROR(RANK(Ordenada!S105,Ordenada!S$5:S$203,0),\"\")","v":""},{"$f":"IFERROR(RANK(Ordenada!T105,Ordenada!T$5:T$203,0),\"\")","v":""},{"$f":"IFERROR(RANK(Ordenada!U105,Ordenada!U$5:U$203,0),\"\")","v":""},{"$f":"IFERROR(RANK(Ordenada!V105,Ordenada!V$5:V$203,0),\"\")","v":""},{"$f":"IFERROR(RANK(Ordenada!W105,Ordenada!W$5:W$203,1),\"\")","v":""}]
[{"$f":"IF(Propostas!$C113=\"\",\"\",ROW(102:102))","v":""},{"$f":"IF(Propostas!$C113=\"\",\"\",VLOOKUP($A105,Pontuação!$A$5:$V$203,COLUMN(B:B),0))","v":""},{"$f":"IFERROR(RANK(Ordenada!C106,Ordenada!C$5:C$203,0),\"\")","v":""},{"$f":"IFERROR(RANK(Ordenada!D106,Ordenada!D$5:D$203,0),\"\")","v":""},{"$f":"IFERROR(RANK(Ordenada!E106,Ordenada!E$5:E$203,0),\"\")","v":""},{"$f":"IFERROR(RANK(Ordenada!F106,Ordenada!F$5:F$203,0),\"\")","v":""},{"$f":"IFERROR(RANK(Ordenada!G106,Ordenada!G$5:G$203,0),\"\")","v":""},{"$f":"IFERROR(RANK(Ordenada!H106,Ordenada!H$5:H$203,0),\"\")","v":""},{"$f":"IFERROR(RANK(Ordenada!I106,Ordenada!I$5:I$203,0),\"\")","v":""},{"$f":"IFERROR(RANK(Ordenada!J106,Ordenada!J$5:J$203,0),\"\")","v":""},{"$f":"IFERROR(RANK(Ordenada!K106,Ordenada!K$5:K$203,0),\"\")","v":""},{"$f":"IFERROR(RANK(Ordenada!L106,Ordenada!L$5:L$203,0),\"\")","v":""},{"$f":"IFERROR(RANK(Ordenada!M106,Ordenada!M$5:M$203,0),\"\")","v":""},{"$f":"IFERROR(RANK(Ordenada!N106,Ordenada!N$5:N$203,0),\"\")","v":""},{"$f":"IFERROR(RANK(Ordenada!O106,Ordenada!O$5:O$203,0),\"\")","v":""},{"$f":"IFERROR(RANK(Ordenada!P106,Ordenada!P$5:P$203,0),\"\")","v":""},{"$f":"IFERROR(RANK(Ordenada!Q106,Ordenada!Q$5:Q$203,0),\"\")","v":""},{"$f":"IFERROR(RANK(Ordenada!O106,Ordenada!O$5:O$203,0),\"\")","v":""},{"$f":"IFERROR(RANK(Ordenada!S106,Ordenada!S$5:S$203,0),\"\")","v":""},{"$f":"IFERROR(RANK(Ordenada!T106,Ordenada!T$5:T$203,0),\"\")","v":""},{"$f":"IFERROR(RANK(Ordenada!U106,Ordenada!U$5:U$203,0),\"\")","v":""},{"$f":"IFERROR(RANK(Ordenada!V106,Ordenada!V$5:V$203,0),\"\")","v":""},{"$f":"IFERROR(RANK(Ordenada!W106,Ordenada!W$5:W$203,1),\"\")","v":""}]
[{"$f":"IF(Propostas!$C114=\"\",\"\",ROW(103:103))","v":""},{"$f":"IF(Propostas!$C114=\"\",\"\",VLOOKUP($A106,Pontuação!$A$5:$V$203,COLUMN(B:B),0))","v":""},{"$f":"IFERROR(RANK(Ordenada!C107,Ordenada!C$5:C$203,0),\"\")","v":""},{"$f":"IFERROR(RANK(Ordenada!D107,Ordenada!D$5:D$203,0),\"\")","v":""},{"$f":"IFERROR(RANK(Ordenada!E107,Ordenada!E$5:E$203,0),\"\")","v":""},{"$f":"IFERROR(RANK(Ordenada!F107,Ordenada!F$5:F$203,0),\"\")","v":""},{"$f":"IFERROR(RANK(Ordenada!G107,Ordenada!G$5:G$203,0),\"\")","v":""},{"$f":"IFERROR(RANK(Ordenada!H107,Ordenada!H$5:H$203,0),\"\")","v":""},{"$f":"IFERROR(RANK(Ordenada!I107,Ordenada!I$5:I$203,0),\"\")","v":""},{"$f":"IFERROR(RANK(Ordenada!J107,Ordenada!J$5:J$203,0),\"\")","v":""},{"$f":"IFERROR(RANK(Ordenada!K107,Ordenada!K$5:K$203,0),\"\")","v":""},{"$f":"IFERROR(RANK(Ordenada!L107,Ordenada!L$5:L$203,0),\"\")","v":""},{"$f":"IFERROR(RANK(Ordenada!M107,Ordenada!M$5:M$203,0),\"\")","v":""},{"$f":"IFERROR(RANK(Ordenada!N107,Ordenada!N$5:N$203,0),\"\")","v":""},{"$f":"IFERROR(RANK(Ordenada!O107,Ordenada!O$5:O$203,0),\"\")","v":""},{"$f":"IFERROR(RANK(Ordenada!P107,Ordenada!P$5:P$203,0),\"\")","v":""},{"$f":"IFERROR(RANK(Ordenada!Q107,Ordenada!Q$5:Q$203,0),\"\")","v":""},{"$f":"IFERROR(RANK(Ordenada!O107,Ordenada!O$5:O$203,0),\"\")","v":""},{"$f":"IFERROR(RANK(Ordenada!S107,Ordenada!S$5:S$203,0),\"\")","v":""},{"$f":"IFERROR(RANK(Ordenada!T107,Ordenada!T$5:T$203,0),\"\")","v":""},{"$f":"IFERROR(RANK(Ordenada!U107,Ordenada!U$5:U$203,0),\"\")","v":""},{"$f":"IFERROR(RANK(Ordenada!V107,Ordenada!V$5:V$203,0),\"\")","v":""},{"$f":"IFERROR(RANK(Ordenada!W107,Ordenada!W$5:W$203,1),\"\")","v":""}]
[{"$f":"IF(Propostas!$C115=\"\",\"\",ROW(104:104))","v":""},{"$f":"IF(Propostas!$C115=\"\",\"\",VLOOKUP($A107,Pontuação!$A$5:$V$203,COLUMN(B:B),0))","v":""},{"$f":"IFERROR(RANK(Ordenada!C108,Ordenada!C$5:C$203,0),\"\")","v":""},{"$f":"IFERROR(RANK(Ordenada!D108,Ordenada!D$5:D$203,0),\"\")","v":""},{"$f":"IFERROR(RANK(Ordenada!E108,Ordenada!E$5:E$203,0),\"\")","v":""},{"$f":"IFERROR(RANK(Ordenada!F108,Ordenada!F$5:F$203,0),\"\")","v":""},{"$f":"IFERROR(RANK(Ordenada!G108,Ordenada!G$5:G$203,0),\"\")","v":""},{"$f":"IFERROR(RANK(Ordenada!H108,Ordenada!H$5:H$203,0),\"\")","v":""},{"$f":"IFERROR(RANK(Ordenada!I108,Ordenada!I$5:I$203,0),\"\")","v":""},{"$f":"IFERROR(RANK(Ordenada!J108,Ordenada!J$5:J$203,0),\"\")","v":""},{"$f":"IFERROR(RANK(Ordenada!K108,Ordenada!K$5:K$203,0),\"\")","v":""},{"$f":"IFERROR(RANK(Ordenada!L108,Ordenada!L$5:L$203,0),\"\")","v":""},{"$f":"IFERROR(RANK(Ordenada!M108,Ordenada!M$5:M$203,0),\"\")","v":""},{"$f":"IFERROR(RANK(Ordenada!N108,Ordenada!N$5:N$203,0),\"\")","v":""},{"$f":"IFERROR(RANK(Ordenada!O108,Ordenada!O$5:O$203,0),\"\")","v":""},{"$f":"IFERROR(RANK(Ordenada!P108,Ordenada!P$5:P$203,0),\"\")","v":""},{"$f":"IFERROR(RANK(Ordenada!Q108,Ordenada!Q$5:Q$203,0),\"\")","v":""},{"$f":"IFERROR(RANK(Ordenada!O108,Ordenada!O$5:O$203,0),\"\")","v":""},{"$f":"IFERROR(RANK(Ordenada!S108,Ordenada!S$5:S$203,0),\"\")","v":""},{"$f":"IFERROR(RANK(Ordenada!T108,Ordenada!T$5:T$203,0),\"\")","v":""},{"$f":"IFERROR(RANK(Ordenada!U108,Ordenada!U$5:U$203,0),\"\")","v":""},{"$f":"IFERROR(RANK(Ordenada!V108,Ordenada!V$5:V$203,0),\"\")","v":""},{"$f":"IFERROR(RANK(Ordenada!W108,Ordenada!W$5:W$203,1),\"\")","v":""}]
[{"$f":"IF(Propostas!$C116=\"\",\"\",ROW(105:105))","v":""},{"$f":"IF(Propostas!$C116=\"\",\"\",VLOOKUP($A108,Pontuação!$A$5:$V$203,COLUMN(B:B),0))","v":""},{"$f":"IFERROR(RANK(Ordenada!C109,Ordenada!C$5:C$203,0),\"\")","v":""},{"$f":"IFERROR(RANK(Ordenada!D109,Ordenada!D$5:D$203,0),\"\")","v":""},{"$f":"IFERROR(RANK(Ordenada!E109,Ordenada!E$5:E$203,0),\"\")","v":""},{"$f":"IFERROR(RANK(Ordenada!F109,Ordenada!F$5:F$203,0),\"\")","v":""},{"$f":"IFERROR(RANK(Ordenada!G109,Ordenada!G$5:G$203,0),\"\")","v":""},{"$f":"IFERROR(RANK(Ordenada!H109,Ordenada!H$5:H$203,0),\"\")","v":""},{"$f":"IFERROR(RANK(Ordenada!I109,Ordenada!I$5:I$203,0),\"\")","v":""},{"$f":"IFERROR(RANK(Ordenada!J109,Ordenada!J$5:J$203,0),\"\")","v":""},{"$f":"IFERROR(RANK(Ordenada!K109,Ordenada!K$5:K$203,0),\"\")","v":""},{"$f":"IFERROR(RANK(Ordenada!L109,Ordenada!L$5:L$203,0),\"\")","v":""},{"$f":"IFERROR(RANK(Ordenada!M109,Ordenada!M$5:M$203,0),\"\")","v":""},{"$f":"IFERROR(RANK(Ordenada!N109,Ordenada!N$5:N$203,0),\"\")","v":""},{"$f":"IFERROR(RANK(Ordenada!O109,Ordenada!O$5:O$203,0),\"\")","v":""},{"$f":"IFERROR(RANK(Ordenada!P109,Ordenada!P$5:P$203,0),\"\")","v":""},{"$f":"IFERROR(RANK(Ordenada!Q109,Ordenada!Q$5:Q$203,0),\"\")","v":""},{"$f":"IFERROR(RANK(Ordenada!O109,Ordenada!O$5:O$203,0),\"\")","v":""},{"$f":"IFERROR(RANK(Ordenada!S109,Ordenada!S$5:S$203,0),\"\")","v":""},{"$f":"IFERROR(RANK(Ordenada!T109,Ordenada!T$5:T$203,0),\"\")","v":""},{"$f":"IFERROR(RANK(Ordenada!U109,Ordenada!U$5:U$203,0),\"\")","v":""},{"$f":"IFERROR(RANK(Ordenada!V109,Ordenada!V$5:V$203,0),\"\")","v":""},{"$f":"IFERROR(RANK(Ordenada!W109,Ordenada!W$5:W$203,1),\"\")","v":""}]
[{"$f":"IF(Propostas!$C117=\"\",\"\",ROW(106:106))","v":""},{"$f":"IF(Propostas!$C117=\"\",\"\",VLOOKUP($A109,Pontuação!$A$5:$V$203,COLUMN(B:B),0))","v":""},{"$f":"IFERROR(RANK(Ordenada!C110,Ordenada!C$5:C$203,0),\"\")","v":""},{"$f":"IFERROR(RANK(Ordenada!D110,Ordenada!D$5:D$203,0),\"\")","v":""},{"$f":"IFERROR(RANK(Ordenada!E110,Ordenada!E$5:E$203,0),\"\")","v":""},{"$f":"IFERROR(RANK(Ordenada!F110,Ordenada!F$5:F$203,0),\"\")","v":""},{"$f":"IFERROR(RANK(Ordenada!G110,Ordenada!G$5:G$203,0),\"\")","v":""},{"$f":"IFERROR(RANK(Ordenada!H110,Ordenada!H$5:H$203,0),\"\")","v":""},{"$f":"IFERROR(RANK(Ordenada!I110,Ordenada!I$5:I$203,0),\"\")","v":""},{"$f":"IFERROR(RANK(Ordenada!J110,Ordenada!J$5:J$203,0),\"\")","v":""},{"$f":"IFERROR(RANK(Ordenada!K110,Ordenada!K$5:K$203,0),\"\")","v":""},{"$f":"IFERROR(RANK(Ordenada!L110,Ordenada!L$5:L$203,0),\"\")","v":""},{"$f":"IFERROR(RANK(Ordenada!M110,Ordenada!M$5:M$203,0),\"\")","v":""},{"$f":"IFERROR(RANK(Ordenada!N110,Ordenada!N$5:N$203,0),\"\")","v":""},{"$f":"IFERROR(RANK(Ordenada!O110,Ordenada!O$5:O$203,0),\"\")","v":""},{"$f":"IFERROR(RANK(Ordenada!P110,Ordenada!P$5:P$203,0),\"\")","v":""},{"$f":"IFERROR(RANK(Ordenada!Q110,Ordenada!Q$5:Q$203,0),\"\")","v":""},{"$f":"IFERROR(RANK(Ordenada!O110,Ordenada!O$5:O$203,0),\"\")","v":""},{"$f":"IFERROR(RANK(Ordenada!S110,Ordenada!S$5:S$203,0),\"\")","v":""},{"$f":"IFERROR(RANK(Ordenada!T110,Ordenada!T$5:T$203,0),\"\")","v":""},{"$f":"IFERROR(RANK(Ordenada!U110,Ordenada!U$5:U$203,0),\"\")","v":""},{"$f":"IFERROR(RANK(Ordenada!V110,Ordenada!V$5:V$203,0),\"\")","v":""},{"$f":"IFERROR(RANK(Ordenada!W110,Ordenada!W$5:W$203,1),\"\")","v":""}]
[{"$f":"IF(Propostas!$C118=\"\",\"\",ROW(107:107))","v":""},{"$f":"IF(Propostas!$C118=\"\",\"\",VLOOKUP($A110,Pontuação!$A$5:$V$203,COLUMN(B:B),0))","v":""},{"$f":"IFERROR(RANK(Ordenada!C111,Ordenada!C$5:C$203,0),\"\")","v":""},{"$f":"IFERROR(RANK(Ordenada!D111,Ordenada!D$5:D$203,0),\"\")","v":""},{"$f":"IFERROR(RANK(Ordenada!E111,Ordenada!E$5:E$203,0),\"\")","v":""},{"$f":"IFERROR(RANK(Ordenada!F111,Ordenada!F$5:F$203,0),\"\")","v":""},{"$f":"IFERROR(RANK(Ordenada!G111,Ordenada!G$5:G$203,0),\"\")","v":""},{"$f":"IFERROR(RANK(Ordenada!H111,Ordenada!H$5:H$203,0),\"\")","v":""},{"$f":"IFERROR(RANK(Ordenada!I111,Ordenada!I$5:I$203,0),\"\")","v":""},{"$f":"IFERROR(RANK(Ordenada!J111,Ordenada!J$5:J$203,0),\"\")","v":""},{"$f":"IFERROR(RANK(Ordenada!K111,Ordenada!K$5:K$203,0),\"\")","v":""},{"$f":"IFERROR(RANK(Ordenada!L111,Ordenada!L$5:L$203,0),\"\")","v":""},{"$f":"IFERROR(RANK(Ordenada!M111,Ordenada!M$5:M$203,0),\"\")","v":""},{"$f":"IFERROR(RANK(Ordenada!N111,Ordenada!N$5:N$203,0),\"\")","v":""},{"$f":"IFERROR(RANK(Ordenada!O111,Ordenada!O$5:O$203,0),\"\")","v":""},{"$f":"IFERROR(RANK(Ordenada!P111,Ordenada!P$5:P$203,0),\"\")","v":""},{"$f":"IFERROR(RANK(Ordenada!Q111,Ordenada!Q$5:Q$203,0),\"\")","v":""},{"$f":"IFERROR(RANK(Ordenada!O111,Ordenada!O$5:O$203,0),\"\")","v":""},{"$f":"IFERROR(RANK(Ordenada!S111,Ordenada!S$5:S$203,0),\"\")","v":""},{"$f":"IFERROR(RANK(Ordenada!T111,Ordenada!T$5:T$203,0),\"\")","v":""},{"$f":"IFERROR(RANK(Ordenada!U111,Ordenada!U$5:U$203,0),\"\")","v":""},{"$f":"IFERROR(RANK(Ordenada!V111,Ordenada!V$5:V$203,0),\"\")","v":""},{"$f":"IFERROR(RANK(Ordenada!W111,Ordenada!W$5:W$203,1),\"\")","v":""}]
[{"$f":"IF(Propostas!$C119=\"\",\"\",ROW(108:108))","v":""},{"$f":"IF(Propostas!$C119=\"\",\"\",VLOOKUP($A111,Pontuação!$A$5:$V$203,COLUMN(B:B),0))","v":""},{"$f":"IFERROR(RANK(Ordenada!C112,Ordenada!C$5:C$203,0),\"\")","v":""},{"$f":"IFERROR(RANK(Ordenada!D112,Ordenada!D$5:D$203,0),\"\")","v":""},{"$f":"IFERROR(RANK(Ordenada!E112,Ordenada!E$5:E$203,0),\"\")","v":""},{"$f":"IFERROR(RANK(Ordenada!F112,Ordenada!F$5:F$203,0),\"\")","v":""},{"$f":"IFERROR(RANK(Ordenada!G112,Ordenada!G$5:G$203,0),\"\")","v":""},{"$f":"IFERROR(RANK(Ordenada!H112,Ordenada!H$5:H$203,0),\"\")","v":""},{"$f":"IFERROR(RANK(Ordenada!I112,Ordenada!I$5:I$203,0),\"\")","v":""},{"$f":"IFERROR(RANK(Ordenada!J112,Ordenada!J$5:J$203,0),\"\")","v":""},{"$f":"IFERROR(RANK(Ordenada!K112,Ordenada!K$5:K$203,0),\"\")","v":""},{"$f":"IFERROR(RANK(Ordenada!L112,Ordenada!L$5:L$203,0),\"\")","v":""},{"$f":"IFERROR(RANK(Ordenada!M112,Ordenada!M$5:M$203,0),\"\")","v":""},{"$f":"IFERROR(RANK(Ordenada!N112,Ordenada!N$5:N$203,0),\"\")","v":""},{"$f":"IFERROR(RANK(Ordenada!O112,Ordenada!O$5:O$203,0),\"\")","v":""},{"$f":"IFERROR(RANK(Ordenada!P112,Ordenada!P$5:P$203,0),\"\")","v":""},{"$f":"IFERROR(RANK(Ordenada!Q112,Ordenada!Q$5:Q$203,0),\"\")","v":""},{"$f":"IFERROR(RANK(Ordenada!O112,Ordenada!O$5:O$203,0),\"\")","v":""},{"$f":"IFERROR(RANK(Ordenada!S112,Ordenada!S$5:S$203,0),\"\")","v":""},{"$f":"IFERROR(RANK(Ordenada!T112,Ordenada!T$5:T$203,0),\"\")","v":""},{"$f":"IFERROR(RANK(Ordenada!U112,Ordenada!U$5:U$203,0),\"\")","v":""},{"$f":"IFERROR(RANK(Ordenada!V112,Ordenada!V$5:V$203,0),\"\")","v":""},{"$f":"IFERROR(RANK(Ordenada!W112,Ordenada!W$5:W$203,1),\"\")","v":""}]
[{"$f":"IF(Propostas!$C120=\"\",\"\",ROW(109:109))","v":""},{"$f":"IF(Propostas!$C120=\"\",\"\",VLOOKUP($A112,Pontuação!$A$5:$V$203,COLUMN(B:B),0))","v":""},{"$f":"IFERROR(RANK(Ordenada!C113,Ordenada!C$5:C$203,0),\"\")","v":""},{"$f":"IFERROR(RANK(Ordenada!D113,Ordenada!D$5:D$203,0),\"\")","v":""},{"$f":"IFERROR(RANK(Ordenada!E113,Ordenada!E$5:E$203,0),\"\")","v":""},{"$f":"IFERROR(RANK(Ordenada!F113,Ordenada!F$5:F$203,0),\"\")","v":""},{"$f":"IFERROR(RANK(Ordenada!G113,Ordenada!G$5:G$203,0),\"\")","v":""},{"$f":"IFERROR(RANK(Ordenada!H113,Ordenada!H$5:H$203,0),\"\")","v":""},{"$f":"IFERROR(RANK(Ordenada!I113,Ordenada!I$5:I$203,0),\"\")","v":""},{"$f":"IFERROR(RANK(Ordenada!J113,Ordenada!J$5:J$203,0),\"\")","v":""},{"$f":"IFERROR(RANK(Ordenada!K113,Ordenada!K$5:K$203,0),\"\")","v":""},{"$f":"IFERROR(RANK(Ordenada!L113,Ordenada!L$5:L$203,0),\"\")","v":""},{"$f":"IFERROR(RANK(Ordenada!M113,Ordenada!M$5:M$203,0),\"\")","v":""},{"$f":"IFERROR(RANK(Ordenada!N113,Ordenada!N$5:N$203,0),\"\")","v":""},{"$f":"IFERROR(RANK(Ordenada!O113,Ordenada!O$5:O$203,0),\"\")","v":""},{"$f":"IFERROR(RANK(Ordenada!P113,Ordenada!P$5:P$203,0),\"\")","v":""},{"$f":"IFERROR(RANK(Ordenada!Q113,Ordenada!Q$5:Q$203,0),\"\")","v":""},{"$f":"IFERROR(RANK(Ordenada!O113,Ordenada!O$5:O$203,0),\"\")","v":""},{"$f":"IFERROR(RANK(Ordenada!S113,Ordenada!S$5:S$203,0),\"\")","v":""},{"$f":"IFERROR(RANK(Ordenada!T113,Ordenada!T$5:T$203,0),\"\")","v":""},{"$f":"IFERROR(RANK(Ordenada!U113,Ordenada!U$5:U$203,0),\"\")","v":""},{"$f":"IFERROR(RANK(Ordenada!V113,Ordenada!V$5:V$203,0),\"\")","v":""},{"$f":"IFERROR(RANK(Ordenada!W113,Ordenada!W$5:W$203,1),\"\")","v":""}]
[{"$f":"IF(Propostas!$C121=\"\",\"\",ROW(110:110))","v":""},{"$f":"IF(Propostas!$C121=\"\",\"\",VLOOKUP($A113,Pontuação!$A$5:$V$203,COLUMN(B:B),0))","v":""},{"$f":"IFERROR(RANK(Ordenada!C114,Ordenada!C$5:C$203,0),\"\")","v":""},{"$f":"IFERROR(RANK(Ordenada!D114,Ordenada!D$5:D$203,0),\"\")","v":""},{"$f":"IFERROR(RANK(Ordenada!E114,Ordenada!E$5:E$203,0),\"\")","v":""},{"$f":"IFERROR(RANK(Ordenada!F114,Ordenada!F$5:F$203,0),\"\")","v":""},{"$f":"IFERROR(RANK(Ordenada!G114,Ordenada!G$5:G$203,0),\"\")","v":""},{"$f":"IFERROR(RANK(Ordenada!H114,Ordenada!H$5:H$203,0),\"\")","v":""},{"$f":"IFERROR(RANK(Ordenada!I114,Ordenada!I$5:I$203,0),\"\")","v":""},{"$f":"IFERROR(RANK(Ordenada!J114,Ordenada!J$5:J$203,0),\"\")","v":""},{"$f":"IFERROR(RANK(Ordenada!K114,Ordenada!K$5:K$203,0),\"\")","v":""},{"$f":"IFERROR(RANK(Ordenada!L114,Ordenada!L$5:L$203,0),\"\")","v":""},{"$f":"IFERROR(RANK(Ordenada!M114,Ordenada!M$5:M$203,0),\"\")","v":""},{"$f":"IFERROR(RANK(Ordenada!N114,Ordenada!N$5:N$203,0),\"\")","v":""},{"$f":"IFERROR(RANK(Ordenada!O114,Ordenada!O$5:O$203,0),\"\")","v":""},{"$f":"IFERROR(RANK(Ordenada!P114,Ordenada!P$5:P$203,0),\"\")","v":""},{"$f":"IFERROR(RANK(Ordenada!Q114,Ordenada!Q$5:Q$203,0),\"\")","v":""},{"$f":"IFERROR(RANK(Ordenada!O114,Ordenada!O$5:O$203,0),\"\")","v":""},{"$f":"IFERROR(RANK(Ordenada!S114,Ordenada!S$5:S$203,0),\"\")","v":""},{"$f":"IFERROR(RANK(Ordenada!T114,Ordenada!T$5:T$203,0),\"\")","v":""},{"$f":"IFERROR(RANK(Ordenada!U114,Ordenada!U$5:U$203,0),\"\")","v":""},{"$f":"IFERROR(RANK(Ordenada!V114,Ordenada!V$5:V$203,0),\"\")","v":""},{"$f":"IFERROR(RANK(Ordenada!W114,Ordenada!W$5:W$203,1),\"\")","v":""}]
[{"$f":"IF(Propostas!$C122=\"\",\"\",ROW(111:111))","v":""},{"$f":"IF(Propostas!$C122=\"\",\"\",VLOOKUP($A114,Pontuação!$A$5:$V$203,COLUMN(B:B),0))","v":""},{"$f":"IFERROR(RANK(Ordenada!C115,Ordenada!C$5:C$203,0),\"\")","v":""},{"$f":"IFERROR(RANK(Ordenada!D115,Ordenada!D$5:D$203,0),\"\")","v":""},{"$f":"IFERROR(RANK(Ordenada!E115,Ordenada!E$5:E$203,0),\"\")","v":""},{"$f":"IFERROR(RANK(Ordenada!F115,Ordenada!F$5:F$203,0),\"\")","v":""},{"$f":"IFERROR(RANK(Ordenada!G115,Ordenada!G$5:G$203,0),\"\")","v":""},{"$f":"IFERROR(RANK(Ordenada!H115,Ordenada!H$5:H$203,0),\"\")","v":""},{"$f":"IFERROR(RANK(Ordenada!I115,Ordenada!I$5:I$203,0),\"\")","v":""},{"$f":"IFERROR(RANK(Ordenada!J115,Ordenada!J$5:J$203,0),\"\")","v":""},{"$f":"IFERROR(RANK(Ordenada!K115,Ordenada!K$5:K$203,0),\"\")","v":""},{"$f":"IFERROR(RANK(Ordenada!L115,Ordenada!L$5:L$203,0),\"\")","v":""},{"$f":"IFERROR(RANK(Ordenada!M115,Ordenada!M$5:M$203,0),\"\")","v":""},{"$f":"IFERROR(RANK(Ordenada!N115,Ordenada!N$5:N$203,0),\"\")","v":""},{"$f":"IFERROR(RANK(Ordenada!O115,Ordenada!O$5:O$203,0),\"\")","v":""},{"$f":"IFERROR(RANK(Ordenada!P115,Ordenada!P$5:P$203,0),\"\")","v":""},{"$f":"IFERROR(RANK(Ordenada!Q115,Ordenada!Q$5:Q$203,0),\"\")","v":""},{"$f":"IFERROR(RANK(Ordenada!O115,Ordenada!O$5:O$203,0),\"\")","v":""},{"$f":"IFERROR(RANK(Ordenada!S115,Ordenada!S$5:S$203,0),\"\")","v":""},{"$f":"IFERROR(RANK(Ordenada!T115,Ordenada!T$5:T$203,0),\"\")","v":""},{"$f":"IFERROR(RANK(Ordenada!U115,Ordenada!U$5:U$203,0),\"\")","v":""},{"$f":"IFERROR(RANK(Ordenada!V115,Ordenada!V$5:V$203,0),\"\")","v":""},{"$f":"IFERROR(RANK(Ordenada!W115,Ordenada!W$5:W$203,1),\"\")","v":""}]